Workbook
Name GradPcntMjrs: #REF!
Name GradPcntMjrs: #REF!
Name GradPcntSCH: #REF!
Name GradPcntSCH: #REF!
Name GSPcntMjrs: #REF!
Name GSPcntMjrs: #REF!
Name GSPcntSCH: #REF!
Name GSPcntSCH: #REF!
Name Tax: #REF!
Name Tax: #REF!
Name UGPcntDegs: #REF!
Name UGPcntDegs: #REF!
Name UGPcntSCH: #REF!
Name UGPcntSCH: #REF!

Sheet Beginning Balances
A2: Coll Code | B2: Units/Campuses | C2: FY18 Beginning Permanent GOF/DOF Budget | D2: Effect of FY18 ABB Table Allocations | F2: Central Support & Returns, Supplemental Budget & Other In Year Adjustments | G2: 2018 (June) Permanent GOF/DOF Budget | H2: 2018 (June) CF GOF/DOF Budget | I2: 2018 (June) Permanent + CF GOF/DOF Budget
E3: Check Cell - Match to ABB Table FY18 Ending
C5: SQL Query - All FY18 BGT Perm Revisions by User "BEGIN" | D5: FY2018 ABB Table Incremental Changes (All Categories) | E5: Check Cell to FY18 ABB Table | F5: YTD FY18 Perm Revisions, by user other than "Begin" | G5: SQL Query - Perm GOF/DOF Budgets Excluding Budget Family DOF4 (STF) | H5: CF GOF/DOF Budgets Excluding Budget Family DOF4 (STF) | I5: SQL Query - CF+Perm GOF/DOF Budgets Excluding Budget Family DOF4 (STF)
C6: A | D6: B | E6: C | F6: D | G6: E | H6: F | I6: G = E+F
B7: Seattle Academic Units | C7: =SUM(C8:C22) -> 651671939 | D7: =SUM(D8:D22) -> 12885581 | E7: =SUM(E8:E22) -> 6.6455752e+08 | F7: =SUM(F8:F22) -> 1840800.5 | G7: =SUM(G8:G22) -> 666622124 | H7: =SUM(H8:H22) -> -223804 | I7: =SUM(I8:I22) -> 666398320
A8: 252 | B8: College of Built Environments | C8: 12060809 | D8: -281995.66 | E8: =+C8+D8 -> 11778813 | F8: =+I8-E8 -> 40346.661 | G8: 11818535 | H8: 625 | I8: =+G8+H8 -> 11819160
A9: 254 | B9: College of Arts & Sciences | C9: 195833233 | D9: -310062.16 | E9: =+C9+D9 -> 1.9552317e+08 | F9: =+I9-E9 -> 775404.16 | G9: 196297433 | H9: 1142 | I9: =+G9+H9 -> 196298575
A10: 256 | B10: Foster School of Business | C10: 33653521 | D10: -221780.56 | E10: =+C10+D10 -> 33431740 | F10: =+I10-E10 -> 70968.561 | G10: 33501165 | H10: 1544 | I10: =+G10+H10 -> 33502709
A11: 258 | B11: College of Education | C11: 16682373 | D11: 402282.32 | E11: =+C11+D11 -> 17084655 | F11: =+I11-E11 -> 52965.676 | G11: 17136729 | H11: 892 | I11: =+G11+H11 -> 17137621
A12: 260 | B12: College of Engineering | C12: 90531793 | D12: 1369127.4 | E12: =+C12+D12 -> 91900920 | F12: =+I12-E12 -> 245484.6 | G12: 92145074 | H12: 1331 | I12: =+G12+H12 -> 92146405
A13: 263 | B13: College of the Environment | C13: 45321932 | D13: 636481.44 | E13: =+C13+D13 -> 45958413 | F13: =+I13-E13 -> 440097.56 | G13: 46397257 | H13: 1254 | I13: =+G13+H13 -> 46398511
A14: 267 | B14: The Information School | C14: 7529114 | D14: 854117.96 | E14: =+C14+D14 -> 8383232 | F14: =+I14-E14 -> 54505.036 | G14: 8326650 | H14: 111087 | I14: =+G14+H14 -> 8437737
A15: 268 | B15: School of Law | C15: 16054634 | D15: 293918.77 | E15: =+C15+D15 -> 16348553 | F15: =+I15-E15 -> -389137.77 | G15: 15959415 | H15: 0 | I15: =+G15+H15 -> 15959415
A16: 270 | B16: Evans School of Public Policy & Governance | C16: 6228025 | D16: 759587.99 | E16: =+C16+D16 -> 6987613 | F16: =+I16-E16 -> -44431.993 | G16: 6942089 | H16: 1092 | I16: =+G16+H16 -> 6943181
A17: 272 | B17: School of Social Work | C17: 9221389 | D17: 229088.91 | E17: =+C17+D17 -> 9450477.9 | F17: =+I17-E17 -> 82215.087 | G17: 9506202 | H17: 26491 | I17: =+G17+H17 -> 9532693
A18: 302 | B18: School of Dentistry | C18: 18432681 | D18: 51931.557 | E18: =+C18+D18 -> 18484613 | F18: =+I18-E18 -> -189782.56 | G18: 18419322 | H18: -124492 | I18: =+G18+H18 -> 18294830
A19: 304 | B19: School of Medicine (Includes 303) | C19: 154451489 | D19: 6247593.5 | E19: =+C19+D19 -> 1.6069908e+08 | F19: =+I19-E19 -> 791688.55 | G19: 161489607 | H19: 1164 | I19: =+G19+H19 -> 161490771
... A22: 310 | B22: School of Public Health | C22: 20521676 | D22: 2030287.5 | E22: =+C22+D22 -> 22551964 | F22: =+I22-E22 -> -102354.55 | G22: 22780910 | H22: -331301 | I22: =+G22+H22 -> 22449609
B23: Seattle Administrative Units | C23: =+C24+C32+C38 -> 380672195 | D23: =+D24+D32+D38 -> -394206.24 | E23: =+E24+E32+E38 -> 3.8027799e+08 | F23: =+F24+F32+F38 -> 15168427 | G23: =+G24+G32+G38 -> 394834540 | H23: =+H24+H32+H38 -> 611876 | I23: =+I24+I32+I38 -> 395446416
B24: Institutional Infrastructure | C24: =SUM(C25:C31) -> 266591559 | D24: =SUM(D25:D31) -> 251240.57 | E24: =SUM(E25:E31) -> 2.668428e+08 | F24: =SUM(F25:F31) -> 11442967 | G24: =SUM(G25:G31) -> 277870887 | H24: =SUM(H25:H31) -> 414880 | I24: =SUM(I25:I31) -> 278285767
A25: 200 | B25: President | C25: 3447377 | D25: 0 | E25: =+C25+D25 -> 3447377 | F25: =+I25-E25 -> -137042 | G25: 3301716 | H25: 8619 | I25: =+G25+H25 -> 3310335
A26: 201 | B26: Attorney General | C26: 4068424 | D26: 0 | E26: =+C26+D26 -> 4068424 | F26: =+I26-E26 -> 331418 | G26: 4399187 | H26: 655 | I26: =+G26+H26 -> 4399842
A27: 202 | B27: Provost | C27: 37229121 | D27: 488441.82 | E27: =+C27+D27 -> 37717563 | F27: =+I27-E27 -> 2009444.2 | G27: 39666222 | H27: 60785 | I27: =+G27+H27 -> 39727007
A28: 205 | B28: Finance and Administration | C28: 190129490 | D28: 15836.751 | E28: =+C28+D28 -> 1.9014533e+08 | F28: =+I28-E28 -> 8654451.2 | G28: 198511791 | H28: 287987 | I28: =+G28+H28 -> 198799778
A29: 214 | B29: External Affairs | C29: 2658672 | D29: 0 | E29: =+C29+D29 -> 2658672 | F29: =+I29-E29 -> 41082 | G29: 2693122 | H29: 6632 | I29: =+G29+H29 -> 2699754
A30: 215 | B30: Advancement | C30: 16019778 | D30: -253038 | E30: =+C30+D30 -> 15766740 | F30: =+I30-E30 -> 543614 | G30: 16260152 | H30: 50202 | I30: =+G30+H30 -> 16310354
A31: 312 | B31: Medical Centers Administration | C31: 13038697 | D31: 0 | E31: =+C31+D31 -> 13038697 | F31: =+I31-E31 -> 0 | G31: 13038697 | H31: 0 | I31: =+G31+H31 -> 13038697
B32: Instructional & Student Support | C32: =SUM(C33:C37) -> 42379749 | D32: =SUM(D33:D37) -> 399214.27 | E32: =SUM(E33:E37) -> 42778963 | F32: =SUM(F33:F37) -> 1340284.7 | G32: =SUM(G33:G37) -> 44042106 | H32: =SUM(H33:H37) -> 77142 | I32: =SUM(I33:I37) -> 44119248
A33: 206 | B33: Office of Minority Affairs & Diversity | C33: 8189445 | D33: 6260.602 | E33: =+C33+D33 -> 8195705.6 | F33: =+I33-E33 -> 161921.4 | G33: 8337832 | H33: 19795 | I33: =+G33+H33 -> 8357627
A34: 212 | B34: Student Life | C34: 14266015 | D34: 148995.96 | E34: =+C34+D34 -> 14415011 | F34: =+I34-E34 -> 1118478 | G34: 15509666 | H34: 23823 | I34: =+G34+H34 -> 15533489
A35: 255 | B35: Continuum College | C35: 2416329 | D35: 805.669 | E35: =+C35+D35 -> 2417134.7 | F35: =+I35-E35 -> -599999.67 | G35: 1817135 | H35: 0 | I35: =+G35+H35 -> 1817135
A36: 266 | B36: Graduate School | C36: 9621322 | D36: 230450.49 | E36: =+C36+D36 -> 9851772.5 | F36: =+I36-E36 -> 500577.51 | G36: 10333872 | H36: 18478 | I36: =+G36+H36 -> 10352350
A37: 282 | B37: Undergraduate Academic Affairs | C37: 7886638 | D37: 12701.556 | E37: =+C37+D37 -> 7899339.6 | F37: =+I37-E37 -> 159307.44 | G37: 8043601 | H37: 15046 | I37: =+G37+H37 -> 8058647
B38: Research & Innovation | C38: =SUM(C39:C42) -> 71700887 | D38: =SUM(D39:D42) -> -1044661.1 | E38: =SUM(E39:E42) -> 70656226 | F38: =SUM(F39:F42) -> 2385175.1 | G38: =SUM(G39:G42) -> 72921547 | H38: =SUM(H39:H42) -> 119854 | I38: =SUM(I39:I42) -> 73041401
A39: 207 | B39: Libraries | C39: 39180624 | D39: -49216.468 | E39: =+C39+D39 -> 39131408 | F39: =+I39-E39 -> 1082347.5 | G39: 40158250 | H39: 55505 | I39: =+G39+H39 -> 40213755
A40: 216 | B40: Research | C40: 15045909 | D40: -386521.01 | E40: =+C40+D40 -> 14659388 | F40: =+I40-E40 -> 1242767 | G40: 15867044 | H40: 35111 | I40: =+G40+H40 -> 15902155
A41: 217 | B41: CoMotion | C41: 679357 | D41: 104.093 | E41: =+C41+D41 -> 679461.09 | F41: =+I41-E41 -> 16603.907 | G41: 694243 | H41: 1822 | I41: =+G41+H41 -> 696065
A42: 301 | B42: Health Sciences Administration | C42: 16794997 | D42: -609027.7 | E42: =+C42+D42 -> 16185969 | F42: =+I42-E42 -> 43456.697 | G42: 16202010 | H42: 27416 | I42: =+G42+H42 -> 16229426
B43: Central Resources | C43: =SUM(C44:C45) -> 133843750 | D43: =SUM(D44:D45) -> 14018512 | E43: =SUM(E44:E45) -> 1.4786226e+08 | F43: =SUM(F44:F45) -> -7692072.3 | G43: =SUM(G44:G45) -> 140558262 | H43: =SUM(H44:H45) -> -388072 | I43: =SUM(I44:I45) -> 140170190
A44: 400 | B44: Central | C44: 45694899 | D44: 14018512 | E44: =+C44+D44 -> 59713411 | F44: =+I44-E44 -> -7692072.3 | G44: 52409411 | H44: -388072 | I44: =+G44+H44 -> 52021339
...

Sheet Tuition
A1: Coll Code | B1: Units/Campuses | C1: Tuition
C2: FY18 Base | D2: Prior Period Adjustments | E2: FY17 True Up of True Up | F2: FY18TrueUp of True Up | G2: FY18 Base Adjusted | H2: FY18 Actuals | I2: FY18 True-Up | J2: Projected FY19 Revenue | K2: Incremental FY19 Revenue | L2: FY19 Base
B3: Seattle Academic Units | C3: 3.614247e+08 | D3: =SUM(D4:D18) -> 0 | E3: =SUM(E4:E18) -> 0 | F3: =SUM(F4:F18) -> 0 | G3: =SUM(G4:G18) -> 3.614247e+08 | H3: =SUM(H4:H18) -> 3.7384922e+08 | I3: =SUM(I4:I18) -> 12424517 | J3: =SUM(J4:J18) -> 3.8242723e+08 | K3: =SUM(K4:K18) -> 8578010 | L3: =SUM(L4:L18) -> 3.8242723e+08
A4: 252 | B4: College of Built Environments | C4: 9882708.6 | G4: =C4+D4+E4+F4 -> 9882708.6 | H4: 10880360 | I4: =H4-G4 -> 997651.01 | J4: 11094096 | K4: =J4-H4 -> 213736.65 | L4: =C4+D4+I4+K4 -> 11094096
A5: 254 | B5: College of Arts & Sciences | C5: 1.7373941e+08 | G5: =C5+D5+E5+F5 -> 1.7373941e+08 | H5: 1.7877185e+08 | I5: =H5-G5 -> 5032446.9 | J5: 1.8277097e+08 | K5: =J5-H5 -> 3999114.9 | L5: =C5+D5+I5+K5 -> 1.8277097e+08
A6: 256 | B6: Foster School of Business | C6: 24776004 | G6: =C6+D6+E6+F6 -> 24776004 | H6: 24382847 | I6: =H6-G6 -> -393157.29 | J6: 24906705 | K6: =J6-H6 -> 523858.4 | L6: =C6+D6+I6+K6 -> 24906705
A7: 258 | B7: College of Education | C7: 9456948 | G7: =C7+D7+E7+F7 -> 9456948 | H7: 10397967 | I7: =H7-G7 -> 941019.23 | J7: 10601479 | K7: =J7-H7 -> 203512.12 | L7: =C7+D7+I7+K7 -> 10601479
A8: 260 | B8: College of Engineering | C8: 38471385 | G8: =C8+D8+E8+F8 -> 38471385 | H8: 41175749 | I8: =H8-G8 -> 2704364.2 | J8: 41947663 | K8: =J8-H8 -> 771914.17 | L8: =C8+D8+I8+K8 -> 41947663
A9: 263 | B9: College of the Environment | C9: 18003232 | G9: =C9+D9+E9+F9 -> 18003232 | H9: 18051952 | I9: =H9-G9 -> 48719.899 | J9: 18418844 | K9: =J9-H9 -> 366891.57 | L9: =C9+D9+I9+K9 -> 18418844
A10: 267 | B10: The Information School | C10: 5839862.9 | G10: =C10+D10+E10+F10 -> 5839862.9 | H10: 6936399.9 | I10: =H10-G10 -> 1096537 | J10: 7093699 | K10: =J10-H10 -> 157299.11 | L10: =C10+D10+I10+K10 -> 7093699
A11: 268 | B11: School of Law | C11: 11451988 | G11: =C11+D11+E11+F11 -> 11451988 | H11: 11234985 | I11: =H11-G11 -> -217003.28 | J11: 11540698 | K11: =J11-H11 -> 305713.47 | L11: =C11+D11+I11+K11 -> 11540698
A12: 270 | B12: Evans School of Public Policy & Governance | C12: 5073244.7 | G12: =C12+D12+E12+F12 -> 5073244.7 | H12: 5058739.6 | I12: =H12-G12 -> -14505.163 | J12: 5297192.3 | K12: =J12-H12 -> 238452.7 | L12: =C12+D12+I12+K12 -> 5297192.3
A13: 272 | B13: School of Social Work | C13: 4543047.1 | G13: =C13+D13+E13+F13 -> 4543047.1 | H13: 4768809.8 | I13: =H13-G13 -> 225762.77 | J13: 5128114.7 | K13: =J13-H13 -> 359304.92 | L13: =C13+D13+I13+K13 -> 5128114.7
A14: 302 | B14: School of Dentistry | C14: 7792678.5 | G14: =C14+D14+E14+F14 -> 7792678.5 | H14: 7831738.9 | I14: =H14-G14 -> 39060.39 | J14: 7733850.5 | K14: =J14-H14 -> -97888.39 | L14: =C14+D14+I14+K14 -> 7733850.5
A15: 304 | B15: School of Medicine (Includes 303) | C15: 29505346 | G15: =C15+D15+E15+F15 -> 29505346 | H15: 29819099 | I15: =H15-G15 -> 313752.76 | J15: 30892520 | K15: =J15-H15 -> 1073421.8 | L15: =C15+D15+I15+K15 -> 30892520
... A18: 310 | B18: School of Public Health | C18: 11496641 | G18: =C18+D18+E18+F18 -> 11496641 | H18: 12602738 | I18: =H18-G18 -> 1106097.2 | J18: 12808004 | K18: =J18-H18 -> 205265.92 | L18: =C18+D18+I18+K18 -> 12808004
B19: Seattle Administrative Units | C19: 5000282 | D19: 0 | E19: 0 | F19: 0 | G19: =C19+D19+E19+F19 -> 5000282 | H19: =H20+H28+H34 -> 5025661.4 | I19: =I20+I28+I34 -> 25379.332 | J19: =J20+J28+J34 -> 5114057.8 | K19: =K20+K28+K34 -> 88396.387 | L19: =L20+L28+L34 -> 5114057.8
B20: Institutional Infrastructure | C20: 321179.08 | D20: 0 | E20: 0 | F20: 0 | G20: =C20+D20+E20+F20 -> 321179.08 | H20: =SUM(H21:H27) -> 367215.41 | I20: =SUM(I21:I27) -> 46036.331 | J20: =SUM(J21:J27) -> 375785.12 | K20: =SUM(K21:K27) -> 8569.7152 | L20: =SUM(L21:L27) -> 375785.12
A21: 200 | B21: President | C21: 0 | G21: =C21+D21+E21+F21 -> 0 | I21: =H21-C21 -> 0 | K21: =J21-H21 -> 0 | L21: =C21+D21+I21+K21 -> 0
A22: 201 | B22: Attorney General | C22: 0 | G22: =C22+D22+E22+F22 -> 0 | I22: =H22-C22 -> 0 | K22: =J22-H22 -> 0 | L22: =C22+D22+I22+K22 -> 0
A23: 202 | B23: Provost | C23: 321179.08 | G23: =C23+D23+E23+F23 -> 321179.08 | H23: 367215.41 | I23: =H23-G23 -> 46036.331 | J23: 375785.12 | K23: =J23-H23 -> 8569.7152 | L23: =C23+D23+I23+K23 -> 375785.12
A24: 205 | B24: Finance and Administration | C24: 0 | G24: =C24+D24+E24+F24 -> 0 | I24: =H24-C24 -> 0 | K24: =J24-H24 -> 0 | L24: =C24+D24+I24+K24 -> 0
A25: 214 | B25: External Affairs | C25: 0 | G25: =C25+D25+E25+F25 -> 0 | I25: =H25-C25 -> 0 | K25: =J25-H25 -> 0 | L25: =C25+D25+I25+K25 -> 0
A26: 215 | B26: Advancement | C26: 0 | G26: =C26+D26+E26+F26 -> 0 | I26: =H26-C26 -> 0 | K26: =J26-H26 -> 0 | L26: =C26+D26+I26+K26 -> 0
A27: 312 | B27: Medical Centers Administration | C27: 0 | G27: =C27+D27+E27+F27 -> 0 | I27: =H27-C27 -> 0 | K27: =J27-H27 -> 0 | L27: =C27+D27+I27+K27 -> 0
B28: Instructional & Student Support | C28: 4679103 | D28: 0 | E28: 0 | F28: 0 | G28: =C28+D28+E28+F28 -> 4679103 | H28: =SUM(H29:H33) -> 4658446 | I28: =SUM(I29:I33) -> -20656.999 | J28: =SUM(J29:J33) -> 4738272.6 | K28: =SUM(K29:K33) -> 79826.672 | L28: =SUM(L29:L33) -> 4738272.6
A29: 206 | B29: Office of Minority Affairs & Diversity | C29: 0 | G29: =C29+D29+E29+F29 -> 0 | I29: =H29-C29 -> 0 | K29: =J29-H29 -> 0 | L29: =C29+D29+I29+K29 -> 0
A30: 212 | B30: Student Life | C30: 0 | G30: =C30+D30+E30+F30 -> 0 | I30: =H30-C30 -> 0 | K30: =J30-H30 -> 0 | L30: =C30+D30+I30+K30 -> 0
A31: 255 | B31: Continuum College | C31: 0 | G31: =C31+D31+E31+F31 -> 0 | I31: =H31-C31 -> 0 | K31: =J31-H31 -> 0 | L31: =C31+D31+I31+K31 -> 0
A32: 266 | B32: Graduate School | C32: 1635486.8 | G32: =C32+D32+E32+F32 -> 1635486.8 | H32: 1706111.5 | I32: =H32-G32 -> 70624.745 | J32: 1716976 | K32: =J32-H32 -> 10864.509 | L32: =C32+D32+I32+K32 -> 1716976
A33: 282 | B33: Undergraduate Academic Affairs | C33: 3043616.2 | G33: =C33+D33+E33+F33 -> 3043616.2 | H33: 2952334.5 | I33: =H33-G33 -> -91281.744 | J33: 3021296.6 | K33: =J33-H33 -> 68962.163 | L33: =C33+D33+I33+K33 -> 3021296.6
B34: Research & Innovation | C34: 0 | D34: 0 | E34: 0 | F34: 0 | G34: =C34+D34+E34+F34 -> 0 | H34: =SUM(H35:H38) -> 0 | I34: =SUM(I35:I38) -> 0 | J34: =SUM(J35:J38) -> 0 | K34: =SUM(K35:K38) -> 0 | L34: =SUM(L35:L38) -> 0
A35: 207 | B35: Libraries | C35: 0 | G35: =C35+D35+E35+F35 -> 0 | I35: =H35-C35 -> 0 | K35: =J35-H35 -> 0 | L35: =C35+D35+I35+K35 -> 0
A36: 216 | B36: Research | C36: 0 | G36: =C36+D36+E36+F36 -> 0 | I36: =H36-C36 -> 0 | K36: =J36-H36 -> 0 | L36: =C36+D36+I36+K36 -> 0
A37: 217 | B37: CoMotion | C37: 0 | G37: =C37+D37+E37+F37 -> 0 | I37: =H37-C37 -> 0 | K37: =J37-H37 -> 0 | L37: =C37+D37+I37+K37 -> 0
A38: 301 | B38: Health Sciences Administration | C38: 0 | G38: =C38+D38+E38+F38 -> 0 | I38: =H38-C38 -> 0 | K38: =J38-H38 -> 0 | L38: =C38+D38+I38+K38 -> 0
B39: Central Resources | C39: 3058643.3 | D39: 0 | E39: 0 | F39: 0 | G39: =C39+D39+E39+F39 -> 3058643.3 | H39: =SUM(H40:H41) -> 8394313.3 | I39: =SUM(I40:I41) -> 5335670 | J39: =SUM(J40:J41) -> 12108487 | K39: =SUM(K40:K41) -> 3714174.1 | L39: =SUM(L40:L41) -> 12108487
A40: 400 | B40: Central | C40: 3058643.3 | G40: =C40+D40+E40+F40 -> 3058643.3 | H40: =C40+0.3*(I3+I19)/0.7 -> 8394313.3 | I40: =H40-C40 -> 5335670 | J40: =H40+0.3*(K3+K19)/0.7 -> 12108487 | K40: =J40-H40 -> 3714174.1 | L40: =C40+D40+I40+K40 -> 12108487
B41: Debt Service & Transfers | G41: =C41+D41+E41+F41 -> 0 | I41: =H41-C41 -> 0 | K41: =J41-H41 -> 0 | L41: =C41+D41+I41+K41 -> 0
B42: Seattle Total | C42: 3.6948363e+08 | D42: =D19+D3+D39 -> 0 | E42: 0 | F42: 0 | G42: =C42+D42+E42+F42 -> 3.6948363e+08 | H42: =H19+H3+H39 -> 3.8726919e+08 | I42: =I19+I3+I39 -> 17785567 | J42: =J19+J3+J39 -> 3.9964978e+08 | K42: =K19+K3+K39 -> 12380580 | L42: =L19+L3+L39 -> 3.9964978e+08
...

Sheet Summer Quarter
C1: Supplement
C2: Revised FY18 Base | D2: Incremental Increases to Offset Prior Period Funding Gap | E2: FY19 Projected Incremental Summer Tuition | F2: FY19 Total Increment | G2: FY19 Base
B3: Calculation Type | C3: Direct Copy from FY18 Table | D3: Central DOF Allocation for cumulative prior period funding gap | E3: FY19 Projected Incremental Summer Tuition | F3: Incremental DOF Increase + Proj Summer Q18 Tuition | G3: FY18 Base + FY19 Total Increment
B4: Seattle Academic Units | C4: =SUM(C5:C19) -> 500000 | D4: =SUM(D5:D19) -> 1000000 | E4: =SUM(E5:E19) -> 337037 | F4: =+D4+E4 -> 1337037 | G4: =+C4+F4 -> 1837037
A5: 252 | B5: College of Built Environments | F5: =+D5+E5 -> 0 | G5: =+C5+F5 -> 0
A6: 254 | B6: College of Arts & Sciences | F6: =+D6+E6 -> 0 | G6: =+C6+F6 -> 0
A7: 256 | B7: Foster School of Business | F7: =+D7+E7 -> 0 | G7: =+C7+F7 -> 0
A8: 258 | B8: College of Education | F8: =+D8+E8 -> 0 | G8: =+C8+F8 -> 0
A9: 260 | B9: College of Engineering | F9: =+D9+E9 -> 0 | G9: =+C9+F9 -> 0
A10: 263 | B10: College of the Environment | F10: =+D10+E10 -> 0 | G10: =+C10+F10 -> 0
A11: 267 | B11: The Information School | F11: =+D11+E11 -> 0 | G11: =+C11+F11 -> 0
A12: 268 | B12: School of Law | F12: =+D12+E12 -> 0 | G12: =+C12+F12 -> 0
A13: 270 | B13: Evans School of Public Policy & Governance | F13: =+D13+E13 -> 0 | G13: =+C13+F13 -> 0
A14: 272 | B14: School of Social Work | F14: =+D14+E14 -> 0 | G14: =+C14+F14 -> 0
A15: 302 | B15: School of Dentistry | C15: 180000 | D15: 541642 | E15: 0 | F15: =+D15+E15 -> 541642 | G15: =+C15+F15 -> 721642
A16: 304 | B16: School of Medicine (Includes 303) | C16: 320000 | D16: 458358 | E16: 337037 | F16: =+D16+E16 -> 795395 | G16: =+C16+F16 -> 1115395
A17: 306 | B17: School of Nursing | F17: =+D17+E17 -> 0 | G17: =+C17+F17 -> 0
A18: 308 | B18: School of Pharmacy | F18: =+D18+E18 -> 0 | G18: =+C18+F18 -> 0
A19: 310 | B19: School of Public Health | F19: =+D19+E19 -> 0 | G19: =+C19+F19 -> 0
B20: Seattle Administrative Units | C20: =+C21+C29+C35+C40 -> -500000 | D20: =D21+D29+D35 -> 0 | E20: =E21+E29+E35 -> 0 | F20: =+D20+E20 -> 0 | G20: =+C20+F20 -> -500000
B21: Institutional Infrastructure | C21: =SUM(C22:C28) -> 0 | D21: =SUM(D22:D28) -> 0 | E21: =SUM(E22:E28) -> 0 | F21: =+D21+E21 -> 0 | G21: =+C21+F21 -> 0
A22: 200 | B22: President | F22: =+D22+E22 -> 0 | G22: =+C22+F22 -> 0
A23: 201 | B23: Attorney General | F23: =+D23+E23 -> 0 | G23: =+C23+F23 -> 0
A24: 202 | B24: Provost | F24: =+D24+E24 -> 0 | G24: =+C24+F24 -> 0
A25: 205 | B25: Finance and Administration | F25: =+D25+E25 -> 0 | G25: =+C25+F25 -> 0
A26: 214 | B26: External Affairs | F26: =+D26+E26 -> 0 | G26: =+C26+F26 -> 0
A27: 215 | B27: Advancement | F27: =+D27+E27 -> 0 | G27: =+C27+F27 -> 0
A28: 312 | B28: Medical Centers Administration | F28: =+D28+E28 -> 0 | G28: =+C28+F28 -> 0
B29: Instructional & Student Support | C29: =SUM(C30:C34) -> 0 | D29: =SUM(D30:D34) -> 0 | E29: =SUM(E30:E34) -> 0 | F29: =+D29+E29 -> 0 | G29: =+C29+F29 -> 0
A30: 206 | B30: Office of Minority Affairs & Diversity | F30: =+D30+E30 -> 0 | G30: =+C30+F30 -> 0
A31: 212 | B31: Student Life | F31: =+D31+E31 -> 0 | G31: =+C31+F31 -> 0
A32: 255 | B32: Continuum College | F32: =+D32+E32 -> 0 | G32: =+C32+F32 -> 0
A33: 266 | B33: Graduate School | F33: =+D33+E33 -> 0 | G33: =+C33+F33 -> 0
A34: 282 | B34: Undergraduate Academic Affairs | F34: =+D34+E34 -> 0 | G34: =+C34+F34 -> 0
B35: Research & Innovation | C35: =SUM(C36:C39) -> 0 | D35: =SUM(D36:D39) -> 0 | E35: =SUM(E36:E39) -> 0 | F35: =+D35+E35 -> 0 | G35: =+C35+F35 -> 0
A36: 207 | B36: Libraries | F36: =+D36+E36 -> 0 | G36: =+C36+F36 -> 0
A37: 216 | B37: Research | F37: =+D37+E37 -> 0 | G37: =+C37+F37 -> 0
A38: 217 | B38: CoMotion | F38: =+D38+E38 -> 0 | G38: =+C38+F38 -> 0
A39: 301 | B39: Health Sciences Administration | F39: =+D39+E39 -> 0 | G39: =+C39+F39 -> 0
B40: Central Resources | C40: =+C41+C42 -> -500000 | D40: =SUM(D41:D42) -> -1000000 | E40: =SUM(E41:E42) -> -337037 | F40: =+D40+E40 -> -1337037 | G40: =+C40+F40 -> -1837037
...

Sheet ICR
A1: Coll Code | B1: Units/Campuses | C1: ICR
C2: FY18 Base | D2: FY19 Base | E2: Increment | F2: Adjustment to FY19 | G2: Increment FY19 | H2: FY19 Base
C3: "AY18 Allocation Table" | D3: "ICR" | E3: calculated | F3: Hardcoded based on BO notes (also captured in CTDB) | G3: calculated | H3: calculated
B4: Seattle Academic Units | C4: =SUM(C5:C19) -> 83385589 | D4: =SUM(D5:D19) -> 86911539 | E4: =SUM(E5:E19) -> 3525950 | F4: =SUM(F5:F19) -> 0 | G4: =SUM(G5:G19) -> 3525950 | H4: =SUM(H5:H19) -> 86911539
A5: 252 | B5: College of Built Environments | C5: 113488 | D5: 121968 | E5: =+D5-C5 -> 8480 | G5: =+E5+F5 -> 8480 | H5: =+C5+G5 -> 121968
A6: 254 | B6: College of Arts & Sciences | C6: 7518738 | D6: 7394147 | E6: =+D6-C6 -> -124591 | G6: =+E6+F6 -> -124591 | H6: =+C6+G6 -> 7394147
A7: 256 | B7: Foster School of Business | C7: 38337 | D7: 47859 | E7: =+D7-C7 -> 9522 | G7: =+E7+F7 -> 9522 | H7: =+C7+G7 -> 47859
A8: 258 | B8: College of Education | C8: 1330478 | D8: 1251890 | E8: =+D8-C8 -> -78588 | G8: =+E8+F8 -> -78588 | H8: =+C8+G8 -> 1251890
A9: 260 | B9: College of Engineering | C9: 9376901 | D9: 9510651 | E9: =+D9-C9 -> 133750 | G9: =+E9+F9 -> 133750 | H9: =+C9+G9 -> 9510651
A10: 263 | B10: College of the Environment | C10: 5598495 | D10: 5746693 | E10: =+D10-C10 -> 148198 | G10: =+E10+F10 -> 148198 | H10: =+C10+G10 -> 5746693
A11: 267 | B11: The Information School | C11: 337978 | D11: 369190 | E11: =+D11-C11 -> 31212 | G11: =+E11+F11 -> 31212 | H11: =+C11+G11 -> 369190
A12: 268 | B12: School of Law | C12: 283619 | D12: 188319 | E12: =+D12-C12 -> -95300 | G12: =+E12+F12 -> -95300 | H12: =+C12+G12 -> 188319
A13: 270 | B13: Evans School of Public Policy & Governance | C13: 240363 | D13: 264951 | E13: =+D13-C13 -> 24588 | G13: =+E13+F13 -> 24588 | H13: =+C13+G13 -> 264951
A14: 272 | B14: School of Social Work | C14: 877352 | D14: 740580 | E14: =+D14-C14 -> -136772 | G14: =+E14+F14 -> -136772 | H14: =+C14+G14 -> 740580
A15: 302 | B15: School of Dentistry | C15: 362901 | D15: 270611 | E15: =+D15-C15 -> -92290 | G15: =+E15+F15 -> -92290 | H15: =+C15+G15 -> 270611
A16: 304 | B16: School of Medicine (Includes 303) | C16: 48391270 | D16: 50923983 | E16: =+D16-C16 -> 2532713 | G16: =+E16+F16 -> 2532713 | H16: =+C16+G16 -> 50923983
... A19: 310 | B19: School of Public Health | C19: 5964238 | D19: 6669830 | E19: =+D19-C19 -> 705592 | G19: =+E19+F19 -> 705592 | H19: =+C19+G19 -> 6669830
B20: Seattle Administrative Units | C20: =+C21+C29+C35 -> 4543313 | D20: =+D21+D29+D35 -> 5126386 | E20: =+E21+E29+E35 -> 583073 | F20: =+F21+F29+F35 -> 0 | G20: =+G21+G29+G35 -> 583073 | H20: =+H21+H29+H35 -> 5126386
B21: Institutional Infrastructure | C21: =SUM(C22:C28) -> 26735 | D21: =SUM(D22:D28) -> 25106 | E21: =SUM(E22:E28) -> -1629 | F21: =SUM(F22:F28) -> 0 | G21: =SUM(G22:G28) -> -1629 | H21: =SUM(H22:H28) -> 25106
A22: 200 | B22: President | C22: 0 | D22: 0 | E22: =+D22-C22 -> 0 | G22: =+E22+F22 -> 0 | H22: =+C22+G22 -> 0
A23: 201 | B23: Attorney General | C23: 0 | D23: 0 | E23: =+D23-C23 -> 0 | G23: =+E23+F23 -> 0 | H23: =+C23+G23 -> 0
A24: 202 | B24: Provost | C24: 2084 | D24: 2751 | E24: =+D24-C24 -> 667 | G24: =+E24+F24 -> 667 | H24: =+C24+G24 -> 2751
A25: 205 | B25: Finance and Administration | C25: 24651 | D25: 22355 | E25: =+D25-C25 -> -2296 | G25: =+E25+F25 -> -2296 | H25: =+C25+G25 -> 22355
A26: 214 | B26: External Affairs | C26: 0 | D26: 0 | E26: =+D26-C26 -> 0 | G26: =+E26+F26 -> 0 | H26: =+C26+G26 -> 0
A27: 215 | B27: Advancement | C27: 0 | D27: 0 | E27: =+D27-C27 -> 0 | G27: =+E27+F27 -> 0 | H27: =+C27+G27 -> 0
A28: 312 | B28: Medical Centers Administration | C28: 0 | D28: 0 | E28: =+D28-C28 -> 0 | G28: =+E28+F28 -> 0 | H28: =+C28+G28 -> 0
B29: Instructional & Student Support | C29: =SUM(C30:C34) -> 220175 | D29: =SUM(D30:D34) -> 211400 | E29: =SUM(E30:E34) -> -8775 | F29: =SUM(F30:F34) -> 0 | G29: =SUM(G30:G34) -> -8775 | H29: =SUM(H30:H34) -> 211400
A30: 206 | B30: Office of Minority Affairs & Diversity | C30: 145895 | D30: 140368 | E30: =+D30-C30 -> -5527 | G30: =+E30+F30 -> -5527 | H30: =+C30+G30 -> 140368
A31: 212 | B31: Student Life | C31: 2290 | D31: 3486 | E31: =+D31-C31 -> 1196 | G31: =+E31+F31 -> 1196 | H31: =+C31+G31 -> 3486
A32: 255 | B32: Continuum College | C32: 5017 | D32: 2920 | E32: =+D32-C32 -> -2097 | G32: =+E32+F32 -> -2097 | H32: =+C32+G32 -> 2920
A33: 266 | B33: Graduate School | C33: 47951 | D33: 36368 | E33: =+D33-C33 -> -11583 | G33: =+E33+F33 -> -11583 | H33: =+C33+G33 -> 36368
A34: 282 | B34: Undergraduate Academic Affairs | C34: 19022 | D34: 28258 | E34: =+D34-C34 -> 9236 | G34: =+E34+F34 -> 9236 | H34: =+C34+G34 -> 28258
B35: Research & Innovation | C35: =SUM(C36:C39) -> 4296403 | D35: =SUM(D36:D39) -> 4889880 | E35: =SUM(E36:E39) -> 593477 | F35: =SUM(F36:F39) -> 0 | G35: =SUM(G36:G39) -> 593477 | H35: =SUM(H36:H39) -> 4889880
A36: 207 | B36: Libraries | C36: 139896 | D36: 143037 | E36: =+D36-C36 -> 3141 | G36: =+E36+F36 -> 3141 | H36: =+C36+G36 -> 143037
A37: 216 | B37: Research | C37: 2242021 | D37: 2590390 | E37: =+D37-C37 -> 348369 | G37: =+E37+F37 -> 348369 | H37: =+C37+G37 -> 2590390
A38: 217 | B38: CoMotion | C38: 345 | D38: 1755 | E38: =+D38-C38 -> 1410 | G38: =+E38+F38 -> 1410 | H38: =+C38+G38 -> 1755
A39: 301 | B39: Health Sciences Administration | C39: 1914141 | D39: 2154698 | E39: =+D39-C39 -> 240557 | G39: =+E39+F39 -> 240557 | H39: =+C39+G39 -> 2154698
B40: Central Resources | C40: =SUM(C41:C42) -> -1008256 | D40: =SUM(D41:D42) -> -1008256 | E40: =SUM(E41:E42) -> 0 | F40: =SUM(F41:F42) -> 0 | G40: =SUM(G41:G42) -> 0 | H40: =SUM(H41:H42) -> -1008256
A41: 400 | B41: Central | C41: -1008256 | D41: -1008256 | E41: =+D41-C41 -> 0 | G41: =+E41+F41 -> 0 | H41: =+C41+G41 -> -1008256
B42: Debt Service & Transfers
...

Sheet MiscFees
C1: Miscellaneous Fees
C2: FY18 Base | D2: FY18 Adj to Actual (Rounding Issue) | E2: FY18 Adj Base | F2: True-Up | G2: FY19 Base
B3: Source Document | C3: "AY18 Allocation Table" | D3: Accounts for rounding error applied in FY18 Table | E3: A+B | F3: E-C | G3: "Misc Fees" actuals, distributed via ABB mechanisms
B4: Seattle Academic Units | C4: =SUM(C5:C19) -> 268800 | D4: =SUM(D5:D19) -> 263 | E4: =SUM(E5:E19) -> 269063 | F4: =SUM(F5:F19) -> 22814 | G4: =SUM(G5:G19) -> 291877
A5: 252 | B5: College of Built Environments | C5: 0 | D5: =+E5-C5 -> 0 | E5: 0 | F5: =+G5-E5 -> 0 | G5: 0
A6: 254 | B6: College of Arts & Sciences | C6: 0 | D6: =+E6-C6 -> 0 | E6: 0 | F6: =+G6-E6 -> 0 | G6: 0
A7: 256 | B7: Foster School of Business | C7: 0 | D7: =+E7-C7 -> 0 | E7: 0 | F7: =+G7-E7 -> 0 | G7: 0
A8: 258 | B8: College of Education | C8: 0 | D8: =+E8-C8 -> 0 | E8: 0 | F8: =+G8-E8 -> 0 | G8: 0
A9: 260 | B9: College of Engineering | C9: 0 | D9: =+E9-C9 -> 0 | E9: 0 | F9: =+G9-E9 -> 0 | G9: 0
A10: 263 | B10: College of the Environment | C10: 0 | D10: =+E10-C10 -> 0 | E10: 0 | F10: =+G10-E10 -> 0 | G10: 0
A11: 267 | B11: The Information School | C11: 0 | D11: =+E11-C11 -> 0 | E11: 0 | F11: =+G11-E11 -> 0 | G11: 0
A12: 268 | B12: School of Law | C12: 72100 | D12: =+E12-C12 -> 211 | E12: 72311 | F12: =+G12-E12 -> 10406 | G12: 82717
A13: 270 | B13: Evans School of Public Policy & Governance | C13: 0 | D13: =+E13-C13 -> 0 | E13: 0 | F13: =+G13-E13 -> 0 | G13: 0
A14: 272 | B14: School of Social Work | C14: 0 | D14: =+E14-C14 -> 0 | E14: 0 | F14: =+G14-E14 -> 0 | G14: 0
A15: 302 | B15: School of Dentistry | C15: 122360 | D15: =+E15-C15 -> 225.4 | E15: 122585.4 | F15: =+G15-E15 -> 24541.92 | G15: 147127.32
A16: 304 | B16: School of Medicine (Includes 303) | C16: 51100 | D16: =+E16-C16 -> -369 | E16: 50731 | F16: =+G16-E16 -> -1492 | G16: 49239
... A19: 310 | B19: School of Public Health | C19: 0 | D19: =+E19-C19 -> 0 | E19: 0 | F19: =+G19-E19 -> 0 | G19: 0
B20: Seattle Administrative Units | C20: =+C21+C29+C35 -> 5329100 | D20: =+D21+D29+D35 -> -317 | E20: =+E21+E29+E35 -> 5328783 | F20: =+F21+F29+F35 -> 606334 | G20: =+G21+G29+G35 -> 5935117
B21: Institutional Infrastructure | C21: =SUM(C22:C28) -> 2482970 | D21: =SUM(D22:D28) -> 224 | E21: =SUM(E22:E28) -> 2483194 | F21: =SUM(F22:F28) -> 475141.6 | G21: =SUM(G22:G28) -> 2958335.6
A22: 200 | B22: President | C22: 0 | D22: =+E22-C22 -> 0 | E22: 0 | F22: =+G22-E22 -> 0 | G22: 0
A23: 201 | B23: Attorney General | C23: 0 | D23: =+E23-C23 -> 0 | E23: 0 | F23: =+G23-E23 -> 0 | G23: 0
A24: 202 | B24: Provost | C24: 2191070 | D24: =+E24-C24 -> 259 | E24: 2191329 | F24: =+G24-E24 -> 402114.6 | G24: 2593443.6
A25: 205 | B25: Finance and Administration | C25: 291900 | D25: =+E25-C25 -> -35 | E25: 291865 | F25: =+G25-E25 -> 73027 | G25: 364892
A26: 214 | B26: External Affairs | C26: 0 | D26: =+E26-C26 -> 0 | E26: 0 | F26: =+G26-E26 -> 0 | G26: 0
A27: 215 | B27: Advancement | C27: 0 | D27: =+E27-C27 -> 0 | E27: 0 | F27: =+G27-E27 -> 0 | G27: 0
A28: 312 | B28: Medical Centers Administration | C28: 0 | D28: =+E28-C28 -> 0 | E28: 0 | F28: =+G28-E28 -> 0 | G28: 0
B29: Instructional & Student Support | C29: =SUM(C30:C34) -> 2797130 | D29: =SUM(D30:D34) -> -292 | E29: =SUM(E30:E34) -> 2796838 | F29: =SUM(F30:F34) -> 137467.4 | G29: =SUM(G30:G34) -> 2934305.4
A30: 206 | B30: Office of Minority Affairs & Diversity | C30: 0 | D30: =+E30-C30 -> 0 | E30: 0 | F30: =+G30-E30 -> 0 | G30: 0
A31: 212 | B31: Student Life | C31: 632730 | D31: =+E31-C31 -> 6 | E31: 632736 | F31: =+G31-E31 -> 118319.4 | G31: 751055.4
A32: 255 | B32: Continuum College | C32: 0 | D32: =+E32-C32 -> 0 | E32: 0 | F32: =+G32-E32 -> 0 | G32: 0
A33: 266 | B33: Graduate School | C33: 2164400 | D33: =+E33-C33 -> -298 | E33: 2164102 | F33: =+G33-E33 -> 19148 | G33: 2183250
A34: 282 | B34: Undergraduate Academic Affairs | C34: 0 | D34: =+E34-C34 -> 0 | E34: 0 | F34: =+G34-E34 -> 0 | G34: 0
B35: Research & Innovation | C35: =SUM(C36:C39) -> 49000 | D35: =SUM(D36:D39) -> -249 | E35: =SUM(E36:E39) -> 48751 | F35: =SUM(F36:F39) -> -6275 | G35: =SUM(G36:G39) -> 42476
A36: 207 | B36: Libraries | C36: 49000 | D36: =+E36-C36 -> -249 | E36: 48751 | F36: =+G36-E36 -> -6275 | G36: 42476
A37: 216 | B37: Research | C37: 0 | D37: =+E37-C37 -> 0 | E37: 0 | F37: =+G37-E37 -> 0 | G37: 0
A38: 217 | B38: CoMotion | C38: 0 | D38: =+E38-C38 -> 0 | E38: 0 | F38: =+G38-E38 -> 0 | G38: 0
A39: 301 | B39: Health Sciences Administration | C39: 0 | D39: =+E39-C39 -> 0 | E39: 0 | F39: =+G39-E39 -> 0 | G39: 0
B40: Central Resources | C40: =SUM(C41:C42) -> 0 | D40: =SUM(D41:D42) -> 0 | E40: =SUM(E41:E42) -> 0 | F40: =SUM(F41:F42) -> 0 | G40: =SUM(G41:G42) -> 0
A41: 400 | B41: Central | C41: 0 | D41: =+E41-C41 -> 0 | E41: 0 | F41: =+G41-C41 -> 0 | G41: 0
B42: Debt Service & Transfers | C42: 0 | D42: =+E42-C42 -> 0 | E42: 0 | F42: =+G42-C42 -> 0 | G42: 0
...

Sheet Supplement
C1: Supplement
C2: Revised FY18 Base | D2: Inflation Adjustment for Backfill | E2: ABB Tuition Parameter and Mapping Changes | F2: State-Funded Benefit Changes | G2: State Funded Merit Increases | H2: State-Funded Compensation Changes | I2: Provisos | J2: State and local funds not yet allocated for use | K2: Legislative Directives | L2: Centrally Funded Initiatives/Returns to Central | M2: FY19 Supplement
B3: Calculation Type | C3: Direct Copy from FY18 Table | D3: UG Revenue Share, by College/Campus X Backfill Inflation Allocation from State | E3: calculated | F3: Campus share of Budgeted GOF positions x Benefit Allocation from State | G3: Campus share of Budgeted GOF positions x Salary Allocation from State | H3: Benefit+Merit | I3: Incremental Change to Perm Provisos Allocated to Units | J3: M&O Allocation from State | K3: Provisos + Unallocated | L3: Sum of Perm Allocations to(From) Units | M3: FY18 Base + Backfill + Mapping Changes + Comp Changes + Leg Directives + Centrally Funded Initatives
B4: Source Document | C4: FY18 ABB Allocation Table | D4: SQL Query | E4: calculated | F4: Calculate using position download + other values | G4: Calculate using position download + other values | H4: calculated | I4: From Becka | J4: From Becka | K4: calculated | L4: CTDB Perm FY19 Allocations | M4: calculated
B5: Seattle Academic Units | C5: =SUM(C6:C20) -> 2.2081897e+08 | D5: =SUM(D6:D20) -> 579126 | E5: =SUM(E6:E20) -> 0 | F5: =SUM(F6:F20) -> 0 | G5: =SUM(G6:G20) -> 0 | H5: =+F5+G5 -> 0 | I5: =SUM(I6:I20) -> 4077000 | J5: =SUM(J6:J20) -> 0 | K5: =+I5+J5 -> 4077000 | L5: =SUM(L6:L20) -> 5709067 | M5: =+C5+D5+E5+H5+K5+L5 -> 2.3118416e+08
A6: 252 | B6: College of Built Environments | C6: =+'Beginning Balances'!I8-Tuition!G4-'Summer Quarter'!C5-ICR!C5-MiscFees!E5 -> 1822963.4 | D6: 12990 | F6: 0 | G6: 0 | H6: =+F6+G6 -> 0 | I6: 0 | J6: 0 | K6: =+I6+J6 -> 0 | L6: 205609.36 | M6: =+C6+D6+E6+H6+K6+L6 -> 2041562.8
A7: 254 | B7: College of Arts & Sciences | C7: =+'Beginning Balances'!I9-Tuition!G5-'Summer Quarter'!C6-ICR!C6-MiscFees!E6 -> 15040431 | D7: 358953 | F7: 0 | G7: 0 | H7: =+F7+G7 -> 0 | I7: 0 | J7: 0 | K7: =+I7+J7 -> 0 | L7: 1506665.5 | M7: =+C7+D7+E7+H7+K7+L7 -> 16906049
A8: 256 | B8: Foster School of Business | C8: =+'Beginning Balances'!I10-Tuition!G6-'Summer Quarter'!C7-ICR!C7-MiscFees!E7 -> 8688367.9 | D8: 41140 | F8: 0 | G8: 0 | H8: =+F8+G8 -> 0 | I8: 0 | J8: 0 | K8: =+I8+J8 -> 0 | L8: 356184.58 | M8: =+C8+D8+E8+H8+K8+L8 -> 9085692.5
A9: 258 | B9: College of Education | C9: =+'Beginning Balances'!I11-Tuition!G7-'Summer Quarter'!C8-ICR!C8-MiscFees!E8 -> 6350195 | D9: 12609 | F9: 0 | G9: 0 | H9: =+F9+G9 -> 0 | I9: 0 | J9: 0 | K9: =+I9+J9 -> 0 | L9: 135074.54 | M9: =+C9+D9+E9+H9+K9+L9 -> 6497878.5
A10: 260 | B10: College of Engineering | C10: =+'Beginning Balances'!I12-Tuition!G8-'Summer Quarter'!C9-ICR!C9-MiscFees!E9 -> 44298119 | D10: 65677 | F10: 0 | G10: 0 | H10: =+F10+G10 -> 0 | I10: 3000000 | J10: 0 | K10: =+I10+J10 -> 3000000 | L10: 649412.48 | M10: =+C10+D10+E10+H10+K10+L10 -> 48013208
A11: 263 | B11: College of the Environment | C11: =+'Beginning Balances'!I13-Tuition!G9-'Summer Quarter'!C10-ICR!C10-MiscFees!E10 -> 22796784 | D11: 31278 | F11: 0 | G11: 0 | H11: =+F11+G11 -> 0 | I11: 77000 | J11: 0 | K11: =+I11+J11 -> 77000 | L11: 354977.87 | M11: =+C11+D11+E11+H11+K11+L11 -> 23260040
A12: 267 | B12: The Information School | C12: =+'Beginning Balances'!I14-Tuition!G10-'Summer Quarter'!C11-ICR!C11-MiscFees!E11 -> 2259896.1 | D12: 14146 | F12: 0 | G12: 0 | H12: =+F12+G12 -> 0 | I12: 0 | J12: 0 | K12: =+I12+J12 -> 0 | L12: 60294.715 | M12: =+C12+D12+E12+H12+K12+L12 -> 2334336.8
A13: 268 | B13: School of Law | C13: =+'Beginning Balances'!I15-Tuition!G11-'Summer Quarter'!C12-ICR!C12-MiscFees!E12 -> 4151497.1 | D13: 217 | F13: 0 | G13: 0 | H13: =+F13+G13 -> 0 | I13: 0 | J13: 0 | K13: =+I13+J13 -> 0 | L13: 541646.18 | M13: =+C13+D13+E13+H13+K13+L13 -> 4693360.3
A14: 270 | B14: Evans School of Public Policy & Governance | C14: =+'Beginning Balances'!I16-Tuition!G12-'Summer Quarter'!C13-ICR!C13-MiscFees!E13 -> 1629573.3 | D14: 285 | F14: 0 | G14: 0 | H14: =+F14+G14 -> 0 | I14: 0 | J14: 0 | K14: =+I14+J14 -> 0 | L14: 67772.445 | M14: =+C14+D14+E14+H14+K14+L14 -> 1697630.7
A15: 272 | B15: School of Social Work | C15: =+'Beginning Balances'!I17-Tuition!G13-'Summer Quarter'!C14-ICR!C14-MiscFees!E14 -> 4112293.9 | D15: 1810 | F15: 0 | G15: 0 | H15: =+F15+G15 -> 0 | I15: 0 | J15: 0 | K15: =+I15+J15 -> 0 | L15: 67602.21 | M15: =+C15+D15+E15+H15+K15+L15 -> 4181706.2
A16: 302 | B16: School of Dentistry | C16: =+'Beginning Balances'!I18-Tuition!G14-'Summer Quarter'!C15-ICR!C15-MiscFees!E15 -> 9836665.1 | D16: 19 | F16: 0 | G16: 0 | H16: =+F16+G16 -> 0 | I16: 0 | J16: 0 | K16: =+I16+J16 -> 0 | L16: 86054.423 | M16: =+C16+D16+E16+H16+K16+L16 -> 9922738.5
A17: 304 | B17: School of Medicine (Includes 303) | C17: =+'Beginning Balances'!I19-Tuition!G15-'Summer Quarter'!C16-ICR!C16-MiscFees!E16 -> 83223424 | D17: 16986 | F17: 0 | G17: 0 | H17: =+F17+G17 -> 0 | I17: 1000000 | J17: 0 | K17: =+I17+J17 -> 1000000 | L17: 1280110.3 | M17: =+C17+D17+E17+H17+K17+L17 -> 85520520
... A20: 310 | B20: School of Public Health | C20: =+'Beginning Balances'!I22-Tuition!G18-'Summer Quarter'!C19-ICR!C19-MiscFees!E19 -> 4988730.5 | D20: 16515 | F20: 0 | G20: 0 | H20: =+F20+G20 -> 0 | I20: 0 | J20: 0 | K20: =+I20+J20 -> 0 | L20: 202943.86 | M20: =+C20+D20+E20+H20+K20+L20 -> 5208189.3
B21: Seattle Administrative Units | C21: =+C22+C30+C36 -> 3.8057404e+08 | D21: =+D22+D30+D36 -> 7153 | E21: =+E22+E30+E36 -> 0 | F21: =+F22+F30+F36 -> 0 | G21: =+G22+G30+G36 -> 0 | H21: =+H22+H30+H36 -> 0 | I21: =+I22+I30+I36 -> 11000 | J21: =+J22+J30+J36 -> 0 | ... M21: =+M22+M30+M36 -> 3.7982567e+08
B22: Institutional Infrastructure | C22: =SUM(C23:C29) -> 2.7545466e+08 | D22: =SUM(D23:D29) -> 764 | E22: =SUM(E23:E29) -> 0 | F22: =SUM(F23:F29) -> 0 | G22: =SUM(G23:G29) -> 0 | H22: =+F22+G22 -> 0 | I22: =SUM(I23:I29) -> 11000 | J22: =SUM(J23:J29) -> 0 | K22: =+I22+J22 -> 11000 | L22: =SUM(L23:L29) -> -3597021 | M22: =+C22+D22+E22+H22+K22+L22 -> 2.718694e+08
A23: 200 | B23: President | C23: =+'Beginning Balances'!I25-Tuition!G21-'Summer Quarter'!C22-ICR!C22-MiscFees!E22 -> 3310335 | D23: 0 | F23: 0 | G23: 0 | H23: =+F23+G23 -> 0 | I23: 0 | J23: 0 | K23: =+I23+J23 -> 0 | L23: 0 | M23: =+C23+D23+E23+H23+K23+L23 -> 3310335
A24: 201 | B24: Attorney General | C24: =+'Beginning Balances'!I26-Tuition!G22-'Summer Quarter'!C23-ICR!C23-MiscFees!E23 -> 4399842 | D24: 0 | F24: 0 | G24: 0 | H24: =+F24+G24 -> 0 | I24: 0 | J24: 0 | K24: =+I24+J24 -> 0 | L24: 238000 | M24: =+C24+D24+E24+H24+K24+L24 -> 4637842
A25: 202 | B25: Provost | C25: =+'Beginning Balances'!I27-Tuition!G23-'Summer Quarter'!C24-ICR!C24-MiscFees!E24 -> 37212415 | D25: 764 | F25: 0 | G25: 0 | H25: =+F25+G25 -> 0 | I25: 11000 | J25: 0 | K25: =+I25+J25 -> 11000 | L25: 110764 | M25: =+C25+D25+E25+H25+K25+L25 -> 37334943
A26: 205 | B26: Finance and Administration | C26: =+'Beginning Balances'!I28-Tuition!G24-'Summer Quarter'!C25-ICR!C25-MiscFees!E25 -> 198483262 | D26: 0 | F26: 0 | G26: 0 | H26: =+F26+G26 -> 0 | I26: 0 | J26: 0 | K26: =+I26+J26 -> 0 | L26: -3945785 | M26: =+C26+D26+E26+H26+K26+L26 -> 194537477
A27: 214 | B27: External Affairs | C27: =+'Beginning Balances'!I29-Tuition!G25-'Summer Quarter'!C26-ICR!C26-MiscFees!E26 -> 2699754 | D27: 0 | F27: 0 | G27: 0 | H27: =+F27+G27 -> 0 | I27: 0 | J27: 0 | K27: =+I27+J27 -> 0 | L27: 0 | M27: =+C27+D27+E27+H27+K27+L27 -> 2699754
A28: 215 | B28: Advancement | C28: =+'Beginning Balances'!I30-Tuition!G26-'Summer Quarter'!C27-ICR!C27-MiscFees!E27 -> 16310354 | D28: 0 | F28: 0 | G28: 0 | H28: =+F28+G28 -> 0 | I28: 0 | J28: 0 | K28: =+I28+J28 -> 0 | L28: 0 | M28: =+C28+D28+E28+H28+K28+L28 -> 16310354
A29: 312 | B29: Medical Centers Administration | C29: =+'Beginning Balances'!I31-Tuition!G27-'Summer Quarter'!C28-ICR!C28-MiscFees!E28 -> 13038697 | D29: 0 | F29: 0 | G29: 0 | H29: =+F29+G29 -> 0 | I29: 0 | J29: 0 | K29: =+I29+J29 -> 0 | L29: 0 | M29: =+C29+D29+E29+H29+K29+L29 -> 13038697
B30: Instructional & Student Support | C30: =SUM(C31:C35) -> 36423132 | D30: =SUM(D31:D35) -> 6389 | E30: =SUM(E31:E35) -> 0 | F30: =SUM(F31:F35) -> 0 | G30: =SUM(G31:G35) -> 0 | H30: =+F30+G30 -> 0 | I30: =SUM(I31:I35) -> 0 | J30: =SUM(J31:J35) -> 0 | K30: =+I30+J30 -> 0 | L30: =SUM(L31:L35) -> 347499 | M30: =+C30+D30+E30+H30+K30+L30 -> 36777020
A31: 206 | B31: Office of Minority Affairs & Diversity | C31: =+'Beginning Balances'!I33-Tuition!G29-'Summer Quarter'!C30-ICR!C30-MiscFees!E30 -> 8211732 | D31: 0 | F31: 0 | G31: 0 | H31: =+F31+G31 -> 0 | I31: 0 | J31: 0 | K31: =+I31+J31 -> 0 | L31: 100000 | M31: =+C31+D31+E31+H31+K31+L31 -> 8311732
A32: 212 | B32: Student Life | C32: =+'Beginning Balances'!I34-Tuition!G30-'Summer Quarter'!C31-ICR!C31-MiscFees!E31 -> 14898463 | D32: 0 | F32: 0 | G32: 0 | H32: =+F32+G32 -> 0 | I32: 0 | J32: 0 | K32: =+I32+J32 -> 0 | L32: 747499 | M32: =+C32+D32+E32+H32+K32+L32 -> 15645962
A33: 255 | B33: Continuum College | C33: =+'Beginning Balances'!I35-Tuition!G31-'Summer Quarter'!C32-ICR!C32-MiscFees!E32 -> 1812118 | D33: 0 | F33: 0 | G33: 0 | H33: =+F33+G33 -> 0 | I33: 0 | J33: 0 | K33: =+I33+J33 -> 0 | L33: -600000 | M33: =+C33+D33+E33+H33+K33+L33 -> 1212118
A34: 266 | B34: Graduate School | C34: =+'Beginning Balances'!I36-Tuition!G32-'Summer Quarter'!C33-ICR!C33-MiscFees!E33 -> 6504810.2 | D34: 116 | F34: 0 | G34: 0 | H34: =+F34+G34 -> 0 | I34: 0 | J34: 0 | K34: =+I34+J34 -> 0 | L34: 0 | M34: =+C34+D34+E34+H34+K34+L34 -> 6504926.2
A35: 282 | B35: Undergraduate Academic Affairs | C35: =+'Beginning Balances'!I37-Tuition!G33-'Summer Quarter'!C34-ICR!C34-MiscFees!E34 -> 4996008.8 | D35: 6273 | F35: 0 | G35: 0 | H35: =+F35+G35 -> 0 | I35: 0 | J35: 0 | K35: =+I35+J35 -> 0 | L35: 100000 | M35: =+C35+D35+E35+H35+K35+L35 -> 5102281.8
B36: Research & Innovation | C36: =SUM(C37:C40) -> 68696247 | D36: =SUM(D37:D40) -> 0 | E36: =SUM(E37:E40) -> 0 | F36: =SUM(F37:F40) -> 0 | G36: =SUM(G37:G40) -> 0 | H36: =+F36+G36 -> 0 | I36: =SUM(I37:I40) -> 0 | J36: =SUM(J37:J40) -> 0 | K36: =+I36+J36 -> 0 | L36: =SUM(L37:L40) -> 2483000 | M36: =+C36+D36+E36+H36+K36+L36 -> 71179247
A37: 207 | B37: Libraries | C37: =+'Beginning Balances'!I39-Tuition!G35-'Summer Quarter'!C36-ICR!C36-MiscFees!E36 -> 40025108 | D37: 0 | F37: 0 | G37: 0 | H37: =+F37+G37 -> 0 | I37: 0 | J37: 0 | K37: =+I37+J37 -> 0 | L37: 632000 | M37: =+C37+D37+E37+H37+K37+L37 -> 40657108
A38: 216 | B38: Research | C38: =+'Beginning Balances'!I40-Tuition!G36-'Summer Quarter'!C37-ICR!C37-MiscFees!E37 -> 13660134 | D38: 0 | F38: 0 | G38: 0 | H38: =+F38+G38 -> 0 | I38: 0 | J38: 0 | K38: =+I38+J38 -> 0 | L38: 851000 | M38: =+C38+D38+E38+H38+K38+L38 -> 14511134
A39: 217 | B39: CoMotion | C39: =+'Beginning Balances'!I41-Tuition!G37-'Summer Quarter'!C38-ICR!C38-MiscFees!E38 -> 695720 | D39: 0 | F39: 0 | G39: 0 | H39: =+F39+G39 -> 0 | I39: 0 | J39: 0 | K39: =+I39+J39 -> 0 | L39: 1000000 | M39: =+C39+D39+E39+H39+K39+L39 -> 1695720
A40: 301 | B40: Health Sciences Administration | C40: =+'Beginning Balances'!I42-Tuition!G38-'Summer Quarter'!C39-ICR!C39-MiscFees!E39 -> 14315285 | D40: 0 | F40: 0 | G40: 0 | H40: =+F40+G40 -> 0 | I40: 0 | J40: 0 | K40: =+I40+J40 -> 0 | L40: 0 | M40: =+C40+D40+E40+H40+K40+L40 -> 14315285
B41: Central Resources | C41: =+C42+C43 -> 1.386198e+08 | D41: =+D42+D43 -> 251264 | E41: =+E42+E43 -> 0 | F41: =+F42+F43 -> 190948.87 | G41: =+G42+G43 -> 5893800.4 | H41: =+F41+G41 -> 6084749.3 | I41: =+I42+I43 -> 0 | J41: =+J42+J43 -> 1555000 | K41: =+I41+J41 -> 1555000 | L41: =+L42+L43 -> -9884736.4 | M41: =+C41+D41+E41+H41+K41+L41 -> 1.3662608e+08
A42: 400 | B42: Central | C42: =+'Beginning Balances'!I44-Tuition!G40-'Summer Quarter'!C41-ICR!C41-MiscFees!E41 -> 50470952 | D42: 251264 | F42: 190948.87 | G42: 5893800.4 | H42: =+F42+G42 -> 6084749.3 | I42: 0 | J42: 1555000 | K42: =+I42+J42 -> 1555000 | L42: -4942545 | M42: =+C42+D42+E42+H42+K42+L42 -> 53419420
...

Sheet FY19 ABB Alloc TBL FINAL
B1: FY19 ABB Allocation Table - as of June 30, 2018 - Final
A2: Coll Code | B2: Units/Campuses | C2: 2018 (June) Permanent + CF GOF/DOF Budget | D2: Tuition | J2: Summer Quarter | M2: ICR | S2: Miscellaneous Fees | V2: Supplement | AF2: FY19 Total ABB Budget (P+C) | AG2: FY19 Temporary State Provisos | AH2: FY19 Total Permanent ABB Budget + Temporary Provisos
D3: FY18 Adjusted Base | E3: FY18 Actuals | F3: FY18 True-Up | G3: Projected FY19 Revenue | H3: Incremental FY19 Revenue | I3: FY19 Base | J3: FY18 Summer Quarter Distribution Base | K3: FY19 Summer Quarter Incremental Allocation | L3: FY19 Summer Quarter Distribution Base | M3: FY18 Base | N3: FY19 Base | O3: Increment | P3: Adjustment to FY18 | Q3: Increment FY19 | R3: FY19 Base | S3: FY18 Adj Base | T3: True-Up | U3: FY19 Base | V3: Revised FY18 Base | W3: Inflation Adjustment for Backfill | X3: State-Funded Benefit Changes | Y3: State Funded Merit Increases | Z3: State-Funded Compensation Changes | AA3: Provisos | AB3: State and local funds not yet allocated for use | AC3: Legislative Directives | AD3: Permanent Central Support, Including Fixed Costs | AE3: FY19 Supplement
C4: A | D4: B | E4: C | F4: D = C-B | H4: E = F-C | I4: F = B+D+E | J4: G | K4: H = I-G | L4: I | M4: J | Q4: K | R4: L | S4: M | T4: N | U4: O | V4: P | W4: Q | Z4: R | AC4: S | AD4: T | AE4: U | AF4: V
M5: AM | N5: AN | O5: AN-AM | P5: AO | Q5: AQ=AP-AM | R5: AP=AN+AO | W5: BA | X5: BC | Y5: BD | Z5: BE=BC+BD
E6: From True Up and Incremental Doc | F6: calculated | G6: From True Up and Incremental Doc | H6: calculated | I6: calculated | M6: "AY17 Allocation Table" | N6: "ICR" | O6: calculated | P6: Hardcoded based on BO notes (also captured in CTDB) | Q6: calculated | R6: calculated | T6: calculated | U6: "Misc Fees" | V6: calculated | W6: SQL | X6: Calculate using position download + other values | Y6: Calculate using position download + other values | Z6: calculated | AA6: From Becka | AB6: From Becka | AC6: calculated | AD6: CTDB Perm FY19 Allocations (PRF) | AE6: calculated | AF6: calculated
B7: Seattle Academic Units | C7: =SUM(C8:C22) -> 666398320 | D7: =SUM(D8:D22) -> 3.614247e+08 | E7: =SUM(E8:E22) -> 3.7384922e+08 | F7: =SUM(F8:F22) -> 12424517 | G7: =SUM(G8:G22) -> 3.8242723e+08 | H7: =SUM(H8:H22) -> 8578010 | I7: =SUM(I8:I22) -> 3.8242723e+08 | J7: =SUM(J8:J22) -> 500000 | ... AH7: =SUM(AH8:AH22) -> 7.0309284e+08
A8: 252 | B8: College of Built Environments | C8: =SUMIF('Beginning Balances'!A:A,'FY19 ABB Alloc TBL FINAL'!A8,'Beginning Balances'!I:I) -> 11819160 | D8: =SUMIF(Tuition!A:A,'FY19 ABB Alloc TBL FINAL'!A8,Tuition!G:G) -> 9882708.6 | E8: =Tuition!H4 -> 10880360 | F8: =Tuition!I4 -> 997651.01 | G8: =Tuition!J4 -> 11094096 | H8: =Tuition!K4 -> 213736.65 | I8: =Tuition!L4 -> 11094096 | J8: =SUMIF('Summer Quarter'!$A:$A,'FY19 ABB Alloc TBL FINAL'!$A8,'Summer Quarter'!C:C) -> 0 | K8: =SUMIF('Summer Quarter'!$A:$A,'FY19 ABB Alloc TBL FINAL'!$A8,'Summer Quarter'!D:D) -> 0 | L8: =+J8+K8 -> 0 | M8: =+ICR!C5 -> 113488 | N8: =+ICR!D5 -> 121968 | O8: =+N8-M8 -> 8480 | Q8: =+O8+P8 -> 8480 | R8: =+M8+Q8 -> 121968 | S8: =+MiscFees!E5 -> 0 | T8: =+U8-S8 -> 0 | U8: =+MiscFees!G5 -> 0 | V8: =+C8-D8-J8-M8-S8 -> 1822963.4 | W8: =+Supplement!D6 -> 12990 | X8: =+Supplement!F6 -> 0 | Y8: =+Supplement!G6 -> 0 | Z8: =+X8+Y8 -> 0 | AA8: =+Supplement!I6 -> 0 | AB8: =+Supplement!J6 -> 0 | AC8: =AB8+AA8 -> 0 | AD8: =SUMIF(Supplement!A:A,'FY19 ABB Alloc TBL FINAL'!A8,Supplement!L:L) -> 205609.36 | AE8: =+V8+W8+Z8+AC8+AD8 -> 2041562.8 | AF8: =+I8+L8+R8+U8+AE8 -> 13257627 | AG8: 0 | AH8: =+AG8+AF8 -> 13257627
A9: 254 | B9: College of Arts & Sciences | C9: =SUMIF('Beginning Balances'!A:A,'FY19 ABB Alloc TBL FINAL'!A9,'Beginning Balances'!I:I) -> 196298575 | D9: =SUMIF(Tuition!A:A,'FY19 ABB Alloc TBL FINAL'!A9,Tuition!G:G) -> 1.7373941e+08 | E9: =Tuition!H5 -> 1.7877185e+08 | F9: =Tuition!I5 -> 5032446.9 | G9: =Tuition!J5 -> 1.8277097e+08 | H9: =Tuition!K5 -> 3999114.9 | I9: =Tuition!L5 -> 1.8277097e+08 | J9: =SUMIF('Summer Quarter'!$A:$A,'FY19 ABB Alloc TBL FINAL'!$A9,'Summer Quarter'!C:C) -> 0 | K9: =SUMIF('Summer Quarter'!$A:$A,'FY19 ABB Alloc TBL FINAL'!$A9,'Summer Quarter'!D:D) -> 0 | L9: =+J9+K9 -> 0 | M9: =+ICR!C6 -> 7518738 | N9: =+ICR!D6 -> 7394147 | O9: =+N9-M9 -> -124591 | Q9: =+O9+P9 -> -124591 | R9: =+M9+Q9 -> 7394147 | S9: =+MiscFees!E6 -> 0 | T9: =+U9-S9 -> 0 | U9: =+MiscFees!G6 -> 0 | V9: =+C9-D9-J9-M9-S9 -> 15040431 | W9: =+Supplement!D7 -> 358953 | X9: =+Supplement!F7 -> 0 | Y9: =+Supplement!G7 -> 0 | Z9: =+X9+Y9 -> 0 | AA9: =+Supplement!I7 -> 0 | AB9: =+Supplement!J7 -> 0 | AC9: =AB9+AA9 -> 0 | AD9: =SUMIF(Supplement!A:A,'FY19 ABB Alloc TBL FINAL'!A9,Supplement!L:L) -> 1506665.5 | AE9: =+V9+W9+Z9+AC9+AD9 -> 16906049 | AF9: =+I9+L9+R9+U9+AE9 -> 2.0707116e+08 | AG9: 172000 | AH9: =+AG9+AF9 -> 2.0724316e+08
A10: 256 | B10: Foster School of Business | C10: =SUMIF('Beginning Balances'!A:A,'FY19 ABB Alloc TBL FINAL'!A10,'Beginning Balances'!I:I) -> 33502709 | D10: =SUMIF(Tuition!A:A,'FY19 ABB Alloc TBL FINAL'!A10,Tuition!G:G) -> 24776004 | E10: =Tuition!H6 -> 24382847 | F10: =Tuition!I6 -> -393157.29 | G10: =Tuition!J6 -> 24906705 | H10: =Tuition!K6 -> 523858.4 | I10: =Tuition!L6 -> 24906705 | J10: =SUMIF('Summer Quarter'!$A:$A,'FY19 ABB Alloc TBL FINAL'!$A10,'Summer Quarter'!C:C) -> 0 | K10: =SUMIF('Summer Quarter'!$A:$A,'FY19 ABB Alloc TBL FINAL'!$A10,'Summer Quarter'!D:D) -> 0 | L10: =+J10+K10 -> 0 | M10: =+ICR!C7 -> 38337 | N10: =+ICR!D7 -> 47859 | O10: =+N10-M10 -> 9522 | Q10: =+O10+P10 -> 9522 | R10: =+M10+Q10 -> 47859 | S10: =+MiscFees!E7 -> 0 | T10: =+U10-S10 -> 0 | U10: =+MiscFees!G7 -> 0 | V10: =+C10-D10-J10-M10-S10 -> 8688367.9 | W10: =+Supplement!D8 -> 41140 | X10: =+Supplement!F8 -> 0 | Y10: =+Supplement!G8 -> 0 | Z10: =+X10+Y10 -> 0 | AA10: =+Supplement!I8 -> 0 | AB10: =+Supplement!J8 -> 0 | AC10: =AB10+AA10 -> 0 | AD10: =SUMIF(Supplement!A:A,'FY19 ABB Alloc TBL FINAL'!A10,Supplement!L:L) -> 356184.58 | AE10: =+V10+W10+Z10+AC10+AD10 -> 9085692.5 | AF10: =+I10+L10+R10+U10+AE10 -> 34040257 | AG10: 0 | AH10: =+AG10+AF10 -> 34040257
A11: 258 | B11: College of Education | C11: =SUMIF('Beginning Balances'!A:A,'FY19 ABB Alloc TBL FINAL'!A11,'Beginning Balances'!I:I) -> 17137621 | D11: =SUMIF(Tuition!A:A,'FY19 ABB Alloc TBL FINAL'!A11,Tuition!G:G) -> 9456948 | E11: =Tuition!H7 -> 10397967 | F11: =Tuition!I7 -> 941019.23 | G11: =Tuition!J7 -> 10601479 | H11: =Tuition!K7 -> 203512.12 | I11: =Tuition!L7 -> 10601479 | J11: =SUMIF('Summer Quarter'!$A:$A,'FY19 ABB Alloc TBL FINAL'!$A11,'Summer Quarter'!C:C) -> 0 | K11: =SUMIF('Summer Quarter'!$A:$A,'FY19 ABB Alloc TBL FINAL'!$A11,'Summer Quarter'!D:D) -> 0 | L11: =+J11+K11 -> 0 | M11: =+ICR!C8 -> 1330478 | N11: =+ICR!D8 -> 1251890 | O11: =+N11-M11 -> -78588 | Q11: =+O11+P11 -> -78588 | R11: =+M11+Q11 -> 1251890 | S11: =+MiscFees!E8 -> 0 | T11: =+U11-S11 -> 0 | U11: =+MiscFees!G8 -> 0 | V11: =+C11-D11-J11-M11-S11 -> 6350195 | W11: =+Supplement!D9 -> 12609 | X11: =+Supplement!F9 -> 0 | Y11: =+Supplement!G9 -> 0 | Z11: =+X11+Y11 -> 0 | AA11: =+Supplement!I9 -> 0 | AB11: =+Supplement!J9 -> 0 | AC11: =AB11+AA11 -> 0 | AD11: =SUMIF(Supplement!A:A,'FY19 ABB Alloc TBL FINAL'!A11,Supplement!L:L) -> 135074.54 | AE11: =+V11+W11+Z11+AC11+AD11 -> 6497878.5 | AF11: =+I11+L11+R11+U11+AE11 -> 18351248 | AG11: 29000 | AH11: =+AG11+AF11 -> 18380248
A12: 260 | B12: College of Engineering | C12: =SUMIF('Beginning Balances'!A:A,'FY19 ABB Alloc TBL FINAL'!A12,'Beginning Balances'!I:I) -> 92146405 | D12: =SUMIF(Tuition!A:A,'FY19 ABB Alloc TBL FINAL'!A12,Tuition!G:G) -> 38471385 | E12: =Tuition!H8 -> 41175749 | F12: =Tuition!I8 -> 2704364.2 | G12: =Tuition!J8 -> 41947663 | H12: =Tuition!K8 -> 771914.17 | I12: =Tuition!L8 -> 41947663 | J12: =SUMIF('Summer Quarter'!$A:$A,'FY19 ABB Alloc TBL FINAL'!$A12,'Summer Quarter'!C:C) -> 0 | K12: =SUMIF('Summer Quarter'!$A:$A,'FY19 ABB Alloc TBL FINAL'!$A12,'Summer Quarter'!D:D) -> 0 | L12: =+J12+K12 -> 0 | M12: =+ICR!C9 -> 9376901 | N12: =+ICR!D9 -> 9510651 | O12: =+N12-M12 -> 133750 | Q12: =+O12+P12 -> 133750 | R12: =+M12+Q12 -> 9510651 | S12: =+MiscFees!E9 -> 0 | T12: =+U12-S12 -> 0 | U12: =+MiscFees!G9 -> 0 | V12: =+C12-D12-J12-M12-S12 -> 44298119 | W12: =+Supplement!D10 -> 65677 | X12: =+Supplement!F10 -> 0 | Y12: =+Supplement!G10 -> 0 | Z12: =+X12+Y12 -> 0 | AA12: =+Supplement!I10 -> 3000000 | AB12: =+Supplement!J10 -> 0 | AC12: =AB12+AA12 -> 3000000 | AD12: =SUMIF(Supplement!A:A,'FY19 ABB Alloc TBL FINAL'!A12,Supplement!L:L) -> 649412.48 | AE12: =+V12+W12+Z12+AC12+AD12 -> 48013208 | AF12: =+I12+L12+R12+U12+AE12 -> 99471523 | AG12: 0 | AH12: =+AG12+AF12 -> 99471523
A13: 263 | B13: College of the Environment | C13: =SUMIF('Beginning Balances'!A:A,'FY19 ABB Alloc TBL FINAL'!A13,'Beginning Balances'!I:I) -> 46398511 | D13: =SUMIF(Tuition!A:A,'FY19 ABB Alloc TBL FINAL'!A13,Tuition!G:G) -> 18003232 | E13: =Tuition!H9 -> 18051952 | F13: =Tuition!I9 -> 48719.899 | G13: =Tuition!J9 -> 18418844 | H13: =Tuition!K9 -> 366891.57 | I13: =Tuition!L9 -> 18418844 | J13: =SUMIF('Summer Quarter'!$A:$A,'FY19 ABB Alloc TBL FINAL'!$A13,'Summer Quarter'!C:C) -> 0 | K13: =SUMIF('Summer Quarter'!$A:$A,'FY19 ABB Alloc TBL FINAL'!$A13,'Summer Quarter'!D:D) -> 0 | L13: =+J13+K13 -> 0 | M13: =+ICR!C10 -> 5598495 | N13: =+ICR!D10 -> 5746693 | O13: =+N13-M13 -> 148198 | Q13: =+O13+P13 -> 148198 | R13: =+M13+Q13 -> 5746693 | S13: =+MiscFees!E10 -> 0 | T13: =+U13-S13 -> 0 | U13: =+MiscFees!G10 -> 0 | V13: =+C13-D13-J13-M13-S13 -> 22796784 | W13: =+Supplement!D11 -> 31278 | X13: =+Supplement!F11 -> 0 | Y13: =+Supplement!G11 -> 0 | Z13: =+X13+Y13 -> 0 | AA13: =+Supplement!I11 -> 77000 | AB13: =+Supplement!J11 -> 0 | AC13: =AB13+AA13 -> 77000 | AD13: =SUMIF(Supplement!A:A,'FY19 ABB Alloc TBL FINAL'!A13,Supplement!L:L) -> 354977.87 | AE13: =+V13+W13+Z13+AC13+AD13 -> 23260040 | AF13: =+I13+L13+R13+U13+AE13 -> 47425576 | AG13: 10000 | AH13: =+AG13+AF13 -> 47435576
A14: 267 | B14: The Information School | C14: =SUMIF('Beginning Balances'!A:A,'FY19 ABB Alloc TBL FINAL'!A14,'Beginning Balances'!I:I) -> 8437737 | D14: =SUMIF(Tuition!A:A,'FY19 ABB Alloc TBL FINAL'!A14,Tuition!G:G) -> 5839862.9 | E14: =Tuition!H10 -> 6936399.9 | F14: =Tuition!I10 -> 1096537 | G14: =Tuition!J10 -> 7093699 | H14: =Tuition!K10 -> 157299.11 | I14: =Tuition!L10 -> 7093699 | J14: =SUMIF('Summer Quarter'!$A:$A,'FY19 ABB Alloc TBL FINAL'!$A14,'Summer Quarter'!C:C) -> 0 | K14: =SUMIF('Summer Quarter'!$A:$A,'FY19 ABB Alloc TBL FINAL'!$A14,'Summer Quarter'!D:D) -> 0 | L14: =+J14+K14 -> 0 | M14: =+ICR!C11 -> 337978 | N14: =+ICR!D11 -> 369190 | O14: =+N14-M14 -> 31212 | Q14: =+O14+P14 -> 31212 | R14: =+M14+Q14 -> 369190 | S14: =+MiscFees!E11 -> 0 | T14: =+U14-S14 -> 0 | U14: =+MiscFees!G11 -> 0 | V14: =+C14-D14-J14-M14-S14 -> 2259896.1 | W14: =+Supplement!D12 -> 14146 | X14: =+Supplement!F12 -> 0 | Y14: =+Supplement!G12 -> 0 | Z14: =+X14+Y14 -> 0 | AA14: =+Supplement!I12 -> 0 | AB14: =+Supplement!J12 -> 0 | AC14: =AB14+AA14 -> 0 | AD14: =SUMIF(Supplement!A:A,'FY19 ABB Alloc TBL FINAL'!A14,Supplement!L:L) -> 60294.715 | AE14: =+V14+W14+Z14+AC14+AD14 -> 2334336.8 | AF14: =+I14+L14+R14+U14+AE14 -> 9797225.8 | AG14: 0 | AH14: =+AG14+AF14 -> 9797225.8
A15: 268 | B15: School of Law | C15: =SUMIF('Beginning Balances'!A:A,'FY19 ABB Alloc TBL FINAL'!A15,'Beginning Balances'!I:I) -> 15959415 | D15: =SUMIF(Tuition!A:A,'FY19 ABB Alloc TBL FINAL'!A15,Tuition!G:G) -> 11451988 | E15: =Tuition!H11 -> 11234985 | F15: =Tuition!I11 -> -217003.28 | G15: =Tuition!J11 -> 11540698 | H15: =Tuition!K11 -> 305713.47 | I15: =Tuition!L11 -> 11540698 | J15: =SUMIF('Summer Quarter'!$A:$A,'FY19 ABB Alloc TBL FINAL'!$A15,'Summer Quarter'!C:C) -> 0 | K15: =SUMIF('Summer Quarter'!$A:$A,'FY19 ABB Alloc TBL FINAL'!$A15,'Summer Quarter'!D:D) -> 0 | L15: =+J15+K15 -> 0 | M15: =+ICR!C12 -> 283619 | N15: =+ICR!D12 -> 188319 | O15: =+N15-M15 -> -95300 | Q15: =+O15+P15 -> -95300 | R15: =+M15+Q15 -> 188319 | S15: =+MiscFees!E12 -> 72311 | T15: =+U15-S15 -> 10406 | U15: =+MiscFees!G12 -> 82717 | V15: =+C15-D15-J15-M15-S15 -> 4151497.1 | W15: =+Supplement!D13 -> 217 | X15: =+Supplement!F13 -> 0 | Y15: =+Supplement!G13 -> 0 | Z15: =+X15+Y15 -> 0 | AA15: =+Supplement!I13 -> 0 | AB15: =+Supplement!J13 -> 0 | AC15: =AB15+AA15 -> 0 | AD15: =SUMIF(Supplement!A:A,'FY19 ABB Alloc TBL FINAL'!A15,Supplement!L:L) -> 541646.18 | AE15: =+V15+W15+Z15+AC15+AD15 -> 4693360.3 | AF15: =+I15+L15+R15+U15+AE15 -> 16505094 | AG15: 0 | AH15: =+AG15+AF15 -> 16505094
A16: 270 | B16: Evans School of Public Policy & Governance | C16: =SUMIF('Beginning Balances'!A:A,'FY19 ABB Alloc TBL FINAL'!A16,'Beginning Balances'!I:I) -> 6943181 | D16: =SUMIF(Tuition!A:A,'FY19 ABB Alloc TBL FINAL'!A16,Tuition!G:G) -> 5073244.7 | E16: =Tuition!H12 -> 5058739.6 | F16: =Tuition!I12 -> -14505.163 | G16: =Tuition!J12 -> 5297192.3 | H16: =Tuition!K12 -> 238452.7 | I16: =Tuition!L12 -> 5297192.3 | J16: =SUMIF('Summer Quarter'!$A:$A,'FY19 ABB Alloc TBL FINAL'!$A16,'Summer Quarter'!C:C) -> 0 | K16: =SUMIF('Summer Quarter'!$A:$A,'FY19 ABB Alloc TBL FINAL'!$A16,'Summer Quarter'!F:F) -> 0 | L16: =+J16+K16 -> 0 | M16: =+ICR!C13 -> 240363 | N16: =+ICR!D13 -> 264951 | O16: =+N16-M16 -> 24588 | Q16: =+O16+P16 -> 24588 | R16: =+M16+Q16 -> 264951 | S16: =+MiscFees!E13 -> 0 | T16: =+U16-S16 -> 0 | U16: =+MiscFees!G13 -> 0 | V16: =+C16-D16-J16-M16-S16 -> 1629573.3 | W16: =+Supplement!D14 -> 285 | X16: =+Supplement!F14 -> 0 | Y16: =+Supplement!G14 -> 0 | Z16: =+X16+Y16 -> 0 | AA16: =+Supplement!I14 -> 0 | AB16: =+Supplement!J14 -> 0 | AC16: =AB16+AA16 -> 0 | AD16: =SUMIF(Supplement!A:A,'FY19 ABB Alloc TBL FINAL'!A16,Supplement!L:L) -> 67772.445 | AE16: =+V16+W16+Z16+AC16+AD16 -> 1697630.7 | AF16: =+I16+L16+R16+U16+AE16 -> 7259774 | AG16: 0 | AH16: =+AG16+AF16 -> 7259774
A17: 272 | B17: School of Social Work | C17: =SUMIF('Beginning Balances'!A:A,'FY19 ABB Alloc TBL FINAL'!A17,'Beginning Balances'!I:I) -> 9532693 | D17: =SUMIF(Tuition!A:A,'FY19 ABB Alloc TBL FINAL'!A17,Tuition!G:G) -> 4543047.1 | E17: =Tuition!H13 -> 4768809.8 | F17: =Tuition!I13 -> 225762.77 | G17: =Tuition!J13 -> 5128114.7 | H17: =Tuition!K13 -> 359304.92 | I17: =Tuition!L13 -> 5128114.7 | J17: =SUMIF('Summer Quarter'!$A:$A,'FY19 ABB Alloc TBL FINAL'!$A17,'Summer Quarter'!C:C) -> 0 | K17: =SUMIF('Summer Quarter'!$A:$A,'FY19 ABB Alloc TBL FINAL'!$A17,'Summer Quarter'!F:F) -> 0 | L17: =+J17+K17 -> 0 | M17: =+ICR!C14 -> 877352 | N17: =+ICR!D14 -> 740580 | O17: =+N17-M17 -> -136772 | Q17: =+O17+P17 -> -136772 | R17: =+M17+Q17 -> 740580 | S17: =+MiscFees!E14 -> 0 | T17: =+U17-S17 -> 0 | U17: =+MiscFees!G14 -> 0 | V17: =+C17-D17-J17-M17-S17 -> 4112293.9 | W17: =+Supplement!D15 -> 1810 | X17: =+Supplement!F15 -> 0 | Y17: =+Supplement!G15 -> 0 | Z17: =+X17+Y17 -> 0 | AA17: =+Supplement!I15 -> 0 | AB17: =+Supplement!J15 -> 0 | AC17: =AB17+AA17 -> 0 | AD17: =SUMIF(Supplement!A:A,'FY19 ABB Alloc TBL FINAL'!A17,Supplement!L:L) -> 67602.21 | AE17: =+V17+W17+Z17+AC17+AD17 -> 4181706.2 | AF17: =+I17+L17+R17+U17+AE17 -> 10050401 | AG17: 230000 | AH17: =+AG17+AF17 -> 10280401
A18: 302 | B18: School of Dentistry | C18: =SUMIF('Beginning Balances'!A:A,'FY19 ABB Alloc TBL FINAL'!A18,'Beginning Balances'!I:I) -> 18294830 | D18: =SUMIF(Tuition!A:A,'FY19 ABB Alloc TBL FINAL'!A18,Tuition!G:G) -> 7792678.5 | E18: =Tuition!H14 -> 7831738.9 | F18: =Tuition!I14 -> 39060.39 | G18: =Tuition!J14 -> 7733850.5 | H18: =Tuition!K14 -> -97888.39 | I18: =Tuition!L14 -> 7733850.5 | J18: =SUMIF('Summer Quarter'!$A:$A,'FY19 ABB Alloc TBL FINAL'!$A18,'Summer Quarter'!C:C) -> 180000 | K18: =SUMIF('Summer Quarter'!$A:$A,'FY19 ABB Alloc TBL FINAL'!$A18,'Summer Quarter'!F:F) -> 541642 | L18: =+J18+K18 -> 721642 | M18: =+ICR!C15 -> 362901 | N18: =+ICR!D15 -> 270611 | O18: =+N18-M18 -> -92290 | Q18: =+O18+P18 -> -92290 | R18: =+M18+Q18 -> 270611 | S18: =+MiscFees!E15 -> 122585.4 | T18: =+U18-S18 -> 24541.92 | U18: =+MiscFees!G15 -> 147127.32 | V18: =+C18-D18-J18-M18-S18 -> 9836665.1 | W18: =+Supplement!D16 -> 19 | X18: =+Supplement!F16 -> 0 | Y18: =+Supplement!G16 -> 0 | Z18: =+X18+Y18 -> 0 | AA18: =+Supplement!I16 -> 0 | AB18: =+Supplement!J16 -> 0 | AC18: =AB18+AA18 -> 0 | AD18: =SUMIF(Supplement!A:A,'FY19 ABB Alloc TBL FINAL'!A18,Supplement!L:L) -> 86054.423 | AE18: =+V18+W18+Z18+AC18+AD18 -> 9922738.5 | AF18: =+I18+L18+R18+U18+AE18 -> 18795969 | AG18: 0 | AH18: =+AG18+AF18 -> 18795969
