Workbook
Name GPpcntDeg: TuitRev!$K$8
Name GPpcntMjr: TuitRev!$K$6
Name GPpcntSCH: TuitRev!$K$4
Name PcntIncr: TuitRev!$I$1
Name UGpcntDeg: TuitRev!$I$8
Name UGpcntMjr: TuitRev!$I$6
Name UGpcntSCH: TuitRev!$I$4

Sheet Tuition Calculations
A1: Campus | B1: Campus Name | C1: TG Sort | D1: TG No | E1: TG Name | F1: TC No | G1: TC Name | H1: Res No | I1: Res Name | J1: % Tuition Change | P1: Building Fee % | Q1: Operating Fee | X1: Operating Fee - Resident | AE1: Operating Fee - Nonresident Differential | AL1: Building Fee | AS1: Building Fee - Resident | AZ1: Building Fee - Nonresident Differential | BG1: Change - Op Fee | BM1: Change - Res Op Fee | BS1: Change - NR Op Diff | BY1: Change - Bldg Fee | CE1: Change - RBldg Fee | CK1: Change - NR Bldg Diff
J2: 2015-16 | K2: 2016-17 | L2: 2017-18 | M2: 2018-19 | N2: 2019-20 | Q2: 2014-15 | R2: 2015-16 | S2: 2016-17 | T2: 2017-18 | U2: 2018-19 | V2: 2019-20 | X2: 2014-15 | Y2: 2015-16 | Z2: 2016-17 | AA2: 2017-18 | AB2: 2018-19 | AC2: 2019-20 | AE2: 2014-15 | AF2: 2015-16 | AG2: 2016-17 | AH2: 2017-18 | AI2: 2018-19 | AJ2: 2019-20 | AL2: 2014-15 | AM2: 2015-16 | AN2: 2016-17 | AO2: 2017-18 | AP2: 2018-19 | AQ2: 2019-20 | AS2: 2014-15 | AT2: 2015-16 | AU2: 2016-17 | AV2: 2017-18 | AW2: 2018-19 | AX2: 2019-20 | AZ2: 2014-15 | BA2: 2015-16 | BB2: 2016-17 | BC2: 2017-18 | BD2: 2018-19 | BE2: 2019-20 | BG2: 2015-16 | BH2: 2016-17 | BI2: 2017-18 | BJ2: 2018-19 | BK2: 2019-20 | BM2: 2015-16 | BN2: 2016-17 | BO2: 2017-18 | BP2: 2018-19 | BQ2: 2019-20 | BS2: 2015-16 | BT2: 2016-17 | BU2: 2017-18 | BV2: 2018-19 | BW2: 2019-20 | BY2: 2015-16 | BZ2: 2016-17 | CA2: 2017-18 | CB2: 2018-19 | CC2: 2019-20 | CE2: 2015-16 | CF2: 2016-17 | CG2: 2017-18 | CH2: 2018-19 | CI2: 2019-20 | CK2: 2015-16 | CL2: 2016-17 | CM2: 2017-18 | CN2: 2018-19 | CO2: 2019-20
A3: 0 | B3: Seattle Campus | C3: 01 | D3: 01 | E3: Undergraduate | F3: 01 | G3: Undergraduate | H3: 1 | I3: Resident | J3: =+'Select Tuition Changes'!Y8 -> 0 | K3: =+'Select Tuition Changes'!Z8 -> 0 | L3: =+'Select Tuition Changes'!AA8 -> 0 | M3: =+'Select Tuition Changes'!AB8 -> 0 | N3: =+'Select Tuition Changes'!AC8 -> 0 | P3: 0.05 | Q3: =+'Select Tuition Changes'!AE8-'Tuition Calculations'!AL3 -> 10740 | R3: =+'Select Tuition Changes'!AF8-'Tuition Calculations'!AM3 -> 10742 | S3: =+'Select Tuition Changes'!AG8-'Tuition Calculations'!AN3 -> 10742 | T3: =+'Select Tuition Changes'!AH8-'Tuition Calculations'!AO3 -> 10742 | U3: =+'Select Tuition Changes'!AI8-'Tuition Calculations'!AP3 -> 10742 | V3: =+'Select Tuition Changes'!AJ8-'Tuition Calculations'!AQ3 -> 10742 | X3: =+Q3 -> 10740 | Y3: =+R3 -> 10742 | Z3: =+S3 -> 10742 | AA3: =+T3 -> 10742 | AB3: =+U3 -> 10742 | AC3: =+V3 -> 10742 | AE3: =+Q3-X3 -> 0 | AF3: =+R3-Y3 -> 0 | AG3: =+S3-Z3 -> 0 | AH3: =+T3-AA3 -> 0 | AI3: =+U3-AB3 -> 0 | AJ3: =+V3-AC3 -> 0 | AL3: =ROUND($P3*'Select Tuition Changes'!AE8,0) -> 565 | AM3: =ROUND($P3*'Select Tuition Changes'!AF8,0) -> 565 | AN3: =ROUND($P3*'Select Tuition Changes'!AG8,0) -> 565 | AO3: =ROUND($P3*'Select Tuition Changes'!AH8,0) -> 565 | AP3: =ROUND($P3*'Select Tuition Changes'!AI8,0) -> 565 | AQ3: =ROUND($P3*'Select Tuition Changes'!AJ8,0) -> 565 | AS3: =+AL3 -> 565 | AT3: =+AM3 -> 565 | AU3: =+AN3 -> 565 | AV3: =+AO3 -> 565 | AW3: =+AP3 -> 565 | AX3: =+AQ3 -> 565 | AZ3: =+AL3-AS3 -> 0 | BA3: =+AM3-AT3 -> 0 | BB3: =+AN3-AU3 -> 0 | BC3: =+AO3-AV3 -> 0 | BD3: =+AP3-AW3 -> 0 | BE3: =+AQ3-AX3 -> 0 | BG3: =IF(Q3>0,R3/Q3,0) -> 1.0001862 | BH3: =IF(R3>0,S3/R3,0) -> 1 | BI3: =IF(S3>0,T3/S3,0) -> 1 | BJ3: =IF(T3>0,U3/T3,0) -> 1 | BK3: =IF(U3>0,V3/U3,0) -> 1 | BM3: =IF(X3>0,Y3/X3,0) -> 1.0001862 | BN3: =IF(Y3>0,Z3/Y3,0) -> 1 | BO3: =IF(Z3>0,AA3/Z3,0) -> 1 | BP3: =IF(AA3>0,AB3/AA3,0) -> 1 | BQ3: =IF(AB3>0,AC3/AB3,0) -> 1 | BS3: =IF(AE3>0,AF3/AE3,0) -> 0 | BT3: =IF(AF3>0,AG3/AF3,0) -> 0 | BU3: =IF(AG3>0,AH3/AG3,0) -> 0 | BV3: =IF(AH3>0,AI3/AH3,0) -> 0 | BW3: =IF(AI3>0,AJ3/AI3,0) -> 0 | BY3: =IF(AL3>0,AM3/AL3,0) -> 1 | BZ3: =IF(AM3>0,AN3/AM3,0) -> 1 | CA3: =IF(AN3>0,AO3/AN3,0) -> 1 | CB3: =IF(AO3>0,AP3/AO3,0) -> 1 | CC3: =IF(AP3>0,AQ3/AP3,0) -> 1 | CE3: =IF(AS3>0,AT3/AS3,0) -> 1 | CF3: =IF(AT3>0,AU3/AT3,0) -> 1 | CG3: =IF(AU3>0,AV3/AU3,0) -> 1 | CH3: =IF(AV3>0,AW3/AV3,0) -> 1 | CI3: =IF(AW3>0,AX3/AW3,0) -> 1 | CK3: =IF(AZ3>0,BA3/AZ3,0) -> 0 | CL3: =IF(BA3>0,BB3/BA3,0) -> 0 | CM3: =IF(BB3>0,BC3/BB3,0) -> 0 | CN3: =IF(BC3>0,BD3/BC3,0) -> 0 | CO3: =IF(BD3>0,BE3/BD3,0) -> 0
A4: 0 | B4: Seattle Campus | C4: 01 | D4: 01 | E4: Undergraduate | F4: 01 | G4: Undergraduate | H4: 2 | I4: Nonresident | J4: =+'Select Tuition Changes'!Y9 -> 0 | K4: =+'Select Tuition Changes'!Z9 -> 0 | L4: =+'Select Tuition Changes'!AA9 -> 0 | M4: =+'Select Tuition Changes'!AB9 -> 0 | N4: =+'Select Tuition Changes'!AC9 -> 0 | P4: 0.045 | Q4: =+'Select Tuition Changes'!AE9-'Tuition Calculations'!AL4 -> 30965 | R4: =+'Select Tuition Changes'!AF9-'Tuition Calculations'!AM4 -> 30965 | S4: =+'Select Tuition Changes'!AG9-'Tuition Calculations'!AN4 -> 30965 | T4: =+'Select Tuition Changes'!AH9-'Tuition Calculations'!AO4 -> 30965 | U4: =+'Select Tuition Changes'!AI9-'Tuition Calculations'!AP4 -> 30965 | V4: =+'Select Tuition Changes'!AJ9-'Tuition Calculations'!AQ4 -> 30965 | X4: =+Q3 -> 10740 | Y4: =+R3 -> 10742 | Z4: =+S3 -> 10742 | AA4: =+T3 -> 10742 | AB4: =+U3 -> 10742 | AC4: =+V3 -> 10742 | AE4: =+Q4-X4 -> 20225 | AF4: =+R4-Y4 -> 20223 | AG4: =+S4-Z4 -> 20223 | AH4: =+T4-AA4 -> 20223 | AI4: =+U4-AB4 -> 20223 | AJ4: =+V4-AC4 -> 20223 | AL4: =ROUND($P4*'Select Tuition Changes'!AE9,0) -> 1459 | AM4: =ROUND($P4*'Select Tuition Changes'!AF9,0) -> 1459 | AN4: =ROUND($P4*'Select Tuition Changes'!AG9,0) -> 1459 | AO4: =ROUND($P4*'Select Tuition Changes'!AH9,0) -> 1459 | AP4: =ROUND($P4*'Select Tuition Changes'!AI9,0) -> 1459 | AQ4: =ROUND($P4*'Select Tuition Changes'!AJ9,0) -> 1459 | AS4: =+AL3 -> 565 | AT4: =+AM3 -> 565 | AU4: =+AN3 -> 565 | AV4: =+AO3 -> 565 | AW4: =+AP3 -> 565 | AX4: =+AQ3 -> 565 | AZ4: =+AL4-AS4 -> 894 | BA4: =+AM4-AT4 -> 894 | BB4: =+AN4-AU4 -> 894 | BC4: =+AO4-AV4 -> 894 | BD4: =+AP4-AW4 -> 894 | BE4: =+AQ4-AX4 -> 894 | BG4: =IF(Q4>0,R4/Q4,0) -> 1 | BH4: =IF(R4>0,S4/R4,0) -> 1 | BI4: =IF(S4>0,T4/S4,0) -> 1 | BJ4: =IF(T4>0,U4/T4,0) -> 1 | BK4: =IF(U4>0,V4/U4,0) -> 1 | BM4: =IF(X4>0,Y4/X4,0) -> 1.0001862 | BN4: =IF(Y4>0,Z4/Y4,0) -> 1 | BO4: =IF(Z4>0,AA4/Z4,0) -> 1 | BP4: =IF(AA4>0,AB4/AA4,0) -> 1 | BQ4: =IF(AB4>0,AC4/AB4,0) -> 1 | BS4: =IF(AE4>0,AF4/AE4,0) -> 0.99990111 | BT4: =IF(AF4>0,AG4/AF4,0) -> 1 | BU4: =IF(AG4>0,AH4/AG4,0) -> 1 | BV4: =IF(AH4>0,AI4/AH4,0) -> 1 | BW4: =IF(AI4>0,AJ4/AI4,0) -> 1 | BY4: =IF(AL4>0,AM4/AL4,0) -> 1 | BZ4: =IF(AM4>0,AN4/AM4,0) -> 1 | CA4: =IF(AN4>0,AO4/AN4,0) -> 1 | CB4: =IF(AO4>0,AP4/AO4,0) -> 1 | CC4: =IF(AP4>0,AQ4/AP4,0) -> 1 | CE4: =IF(AS4>0,AT4/AS4,0) -> 1 | CF4: =IF(AT4>0,AU4/AT4,0) -> 1 | CG4: =IF(AU4>0,AV4/AU4,0) -> 1 | CH4: =IF(AV4>0,AW4/AV4,0) -> 1 | CI4: =IF(AW4>0,AX4/AW4,0) -> 1 | CK4: =IF(AZ4>0,BA4/AZ4,0) -> 1 | CL4: =IF(BA4>0,BB4/BA4,0) -> 1 | CM4: =IF(BB4>0,BC4/BB4,0) -> 1 | CN4: =IF(BC4>0,BD4/BC4,0) -> 1 | CO4: =IF(BD4>0,BE4/BD4,0) -> 1
A5: 0 | B5: Seattle Campus | C5: 01 | D5: 01 | E5: Undergraduate | F5: 02 | G5: Undergraduate Post-Bacc / Non-Matric | H5: 1 | I5: Resident | J5: =+'Select Tuition Changes'!Y10 -> 0 | K5: =+'Select Tuition Changes'!Z10 -> 0 | L5: =+'Select Tuition Changes'!AA10 -> 0 | M5: =+'Select Tuition Changes'!AB10 -> 0 | N5: =+'Select Tuition Changes'!AC10 -> 0 | P5: =+P3 -> 0.05 | Q5: =+'Select Tuition Changes'!AE10-'Tuition Calculations'!AL5 -> 10740 | R5: =+'Select Tuition Changes'!AF10-'Tuition Calculations'!AM5 -> 10742 | S5: =+'Select Tuition Changes'!AG10-'Tuition Calculations'!AN5 -> 10742 | T5: =+'Select Tuition Changes'!AH10-'Tuition Calculations'!AO5 -> 10742 | U5: =+'Select Tuition Changes'!AI10-'Tuition Calculations'!AP5 -> 10742 | V5: =+'Select Tuition Changes'!AJ10-'Tuition Calculations'!AQ5 -> 10742 | X5: =+Q5 -> 10740 | Y5: =+R5 -> 10742 | Z5: =+S5 -> 10742 | AA5: =+T5 -> 10742 | AB5: =+U5 -> 10742 | AC5: =+V5 -> 10742 | AE5: =+Q5-X5 -> 0 | AF5: =+R5-Y5 -> 0 | AG5: =+S5-Z5 -> 0 | AH5: =+T5-AA5 -> 0 | AI5: =+U5-AB5 -> 0 | AJ5: =+V5-AC5 -> 0 | AL5: =ROUND($P5*'Select Tuition Changes'!AE10,0) -> 565 | AM5: =ROUND($P5*'Select Tuition Changes'!AF10,0) -> 565 | AN5: =ROUND($P5*'Select Tuition Changes'!AG10,0) -> 565 | AO5: =ROUND($P5*'Select Tuition Changes'!AH10,0) -> 565 | AP5: =ROUND($P5*'Select Tuition Changes'!AI10,0) -> 565 | AQ5: =ROUND($P5*'Select Tuition Changes'!AJ10,0) -> 565 | AS5: =+AL5 -> 565 | AT5: =+AM5 -> 565 | AU5: =+AN5 -> 565 | AV5: =+AO5 -> 565 | AW5: =+AP5 -> 565 | AX5: =+AQ5 -> 565 | AZ5: =+AL5-AS5 -> 0 | BA5: =+AM5-AT5 -> 0 | BB5: =+AN5-AU5 -> 0 | BC5: =+AO5-AV5 -> 0 | BD5: =+AP5-AW5 -> 0 | BE5: =+AQ5-AX5 -> 0 | BG5: =IF(Q5>0,R5/Q5,0) -> 1.0001862 | BH5: =IF(R5>0,S5/R5,0) -> 1 | BI5: =IF(S5>0,T5/S5,0) -> 1 | BJ5: =IF(T5>0,U5/T5,0) -> 1 | BK5: =IF(U5>0,V5/U5,0) -> 1 | BM5: =IF(X5>0,Y5/X5,0) -> 1.0001862 | BN5: =IF(Y5>0,Z5/Y5,0) -> 1 | BO5: =IF(Z5>0,AA5/Z5,0) -> 1 | BP5: =IF(AA5>0,AB5/AA5,0) -> 1 | BQ5: =IF(AB5>0,AC5/AB5,0) -> 1 | BS5: =IF(AE5>0,AF5/AE5,0) -> 0 | BT5: =IF(AF5>0,AG5/AF5,0) -> 0 | BU5: =IF(AG5>0,AH5/AG5,0) -> 0 | BV5: =IF(AH5>0,AI5/AH5,0) -> 0 | BW5: =IF(AI5>0,AJ5/AI5,0) -> 0 | BY5: =IF(AL5>0,AM5/AL5,0) -> 1 | BZ5: =IF(AM5>0,AN5/AM5,0) -> 1 | CA5: =IF(AN5>0,AO5/AN5,0) -> 1 | CB5: =IF(AO5>0,AP5/AO5,0) -> 1 | CC5: =IF(AP5>0,AQ5/AP5,0) -> 1 | CE5: =IF(AS5>0,AT5/AS5,0) -> 1 | CF5: =IF(AT5>0,AU5/AT5,0) -> 1 | CG5: =IF(AU5>0,AV5/AU5,0) -> 1 | CH5: =IF(AV5>0,AW5/AV5,0) -> 1 | CI5: =IF(AW5>0,AX5/AW5,0) -> 1 | CK5: =IF(AZ5>0,BA5/AZ5,0) -> 0 | CL5: =IF(BA5>0,BB5/BA5,0) -> 0 | CM5: =IF(BB5>0,BC5/BB5,0) -> 0 | CN5: =IF(BC5>0,BD5/BC5,0) -> 0 | CO5: =IF(BD5>0,BE5/BD5,0) -> 0
A6: 0 | B6: Seattle Campus | C6: 01 | D6: 01 | E6: Undergraduate | F6: 02 | G6: Undergraduate Post-Bacc / Non-Matric | H6: 2 | I6: Nonresident | J6: =+'Select Tuition Changes'!Y11 -> 0 | K6: =+'Select Tuition Changes'!Z11 -> 0 | L6: =+'Select Tuition Changes'!AA11 -> 0 | M6: =+'Select Tuition Changes'!AB11 -> 0 | N6: =+'Select Tuition Changes'!AC11 -> 0 | P6: =+P4 -> 0.045 | Q6: =+'Select Tuition Changes'!AE11-'Tuition Calculations'!AL6 -> 30965 | R6: =+'Select Tuition Changes'!AF11-'Tuition Calculations'!AM6 -> 30965 | S6: =+'Select Tuition Changes'!AG11-'Tuition Calculations'!AN6 -> 30965 | T6: =+'Select Tuition Changes'!AH11-'Tuition Calculations'!AO6 -> 30965 | U6: =+'Select Tuition Changes'!AI11-'Tuition Calculations'!AP6 -> 30965 | V6: =+'Select Tuition Changes'!AJ11-'Tuition Calculations'!AQ6 -> 30965 | X6: =+Q5 -> 10740 | Y6: =+R5 -> 10742 | Z6: =+S5 -> 10742 | AA6: =+T5 -> 10742 | AB6: =+U5 -> 10742 | AC6: =+V5 -> 10742 | AE6: =+Q6-X6 -> 20225 | AF6: =+R6-Y6 -> 20223 | AG6: =+S6-Z6 -> 20223 | AH6: =+T6-AA6 -> 20223 | AI6: =+U6-AB6 -> 20223 | AJ6: =+V6-AC6 -> 20223 | AL6: =ROUND($P6*'Select Tuition Changes'!AE11,0) -> 1459 | AM6: =ROUND($P6*'Select Tuition Changes'!AF11,0) -> 1459 | AN6: =ROUND($P6*'Select Tuition Changes'!AG11,0) -> 1459 | AO6: =ROUND($P6*'Select Tuition Changes'!AH11,0) -> 1459 | AP6: =ROUND($P6*'Select Tuition Changes'!AI11,0) -> 1459 | AQ6: =ROUND($P6*'Select Tuition Changes'!AJ11,0) -> 1459 | AS6: =+AL5 -> 565 | AT6: =+AM5 -> 565 | AU6: =+AN5 -> 565 | AV6: =+AO5 -> 565 | AW6: =+AP5 -> 565 | AX6: =+AQ5 -> 565 | AZ6: =+AL6-AS6 -> 894 | BA6: =+AM6-AT6 -> 894 | BB6: =+AN6-AU6 -> 894 | BC6: =+AO6-AV6 -> 894 | BD6: =+AP6-AW6 -> 894 | BE6: =+AQ6-AX6 -> 894 | BG6: =IF(Q6>0,R6/Q6,0) -> 1 | BH6: =IF(R6>0,S6/R6,0) -> 1 | BI6: =IF(S6>0,T6/S6,0) -> 1 | BJ6: =IF(T6>0,U6/T6,0) -> 1 | BK6: =IF(U6>0,V6/U6,0) -> 1 | BM6: =IF(X6>0,Y6/X6,0) -> 1.0001862 | BN6: =IF(Y6>0,Z6/Y6,0) -> 1 | BO6: =IF(Z6>0,AA6/Z6,0) -> 1 | BP6: =IF(AA6>0,AB6/AA6,0) -> 1 | BQ6: =IF(AB6>0,AC6/AB6,0) -> 1 | BS6: =IF(AE6>0,AF6/AE6,0) -> 0.99990111 | BT6: =IF(AF6>0,AG6/AF6,0) -> 1 | BU6: =IF(AG6>0,AH6/AG6,0) -> 1 | BV6: =IF(AH6>0,AI6/AH6,0) -> 1 | BW6: =IF(AI6>0,AJ6/AI6,0) -> 1 | BY6: =IF(AL6>0,AM6/AL6,0) -> 1 | BZ6: =IF(AM6>0,AN6/AM6,0) -> 1 | CA6: =IF(AN6>0,AO6/AN6,0) -> 1 | CB6: =IF(AO6>0,AP6/AO6,0) -> 1 | CC6: =IF(AP6>0,AQ6/AP6,0) -> 1 | CE6: =IF(AS6>0,AT6/AS6,0) -> 1 | CF6: =IF(AT6>0,AU6/AT6,0) -> 1 | CG6: =IF(AU6>0,AV6/AU6,0) -> 1 | CH6: =IF(AV6>0,AW6/AV6,0) -> 1 | CI6: =IF(AW6>0,AX6/AW6,0) -> 1 | CK6: =IF(AZ6>0,BA6/AZ6,0) -> 1 | CL6: =IF(BA6>0,BB6/BA6,0) -> 1 | CM6: =IF(BB6>0,BC6/BB6,0) -> 1 | CN6: =IF(BC6>0,BD6/BC6,0) -> 1 | CO6: =IF(BD6>0,BE6/BD6,0) -> 1
A7: 0 | B7: Seattle Campus | C7: 03 | D7: 02 | E7: Graduate Tier I | F7: 04 | G7: Graduate Tier I | H7: 1 | I7: Resident | J7: =+'Select Tuition Changes'!Y12 -> 0 | K7: =+'Select Tuition Changes'!Z12 -> 0 | L7: =+'Select Tuition Changes'!AA12 -> 0 | M7: =+'Select Tuition Changes'!AB12 -> 0 | N7: =+'Select Tuition Changes'!AC12 -> 0 | P7: 0.03 | Q7: =+'Select Tuition Changes'!AE12-'Tuition Calculations'!AL7 -> 14751 | R7: =+'Select Tuition Changes'!AF12-'Tuition Calculations'!AM7 -> 14751 | S7: =+'Select Tuition Changes'!AG12-'Tuition Calculations'!AN7 -> 14751 | T7: =+'Select Tuition Changes'!AH12-'Tuition Calculations'!AO7 -> 14751 | U7: =+'Select Tuition Changes'!AI12-'Tuition Calculations'!AP7 -> 14751 | V7: =+'Select Tuition Changes'!AJ12-'Tuition Calculations'!AQ7 -> 14751 | X7: =+Q7 -> 14751 | Y7: =+R7 -> 14751 | Z7: =+S7 -> 14751 | AA7: =+T7 -> 14751 | AB7: =+U7 -> 14751 | AC7: =+V7 -> 14751 | AE7: =+Q7-X7 -> 0 | AF7: =+R7-Y7 -> 0 | AG7: =+S7-Z7 -> 0 | AH7: =+T7-AA7 -> 0 | AI7: =+U7-AB7 -> 0 | AJ7: =+V7-AC7 -> 0 | AL7: =ROUND($P7*'Select Tuition Changes'!AE12,0) -> 456 | AM7: =ROUND($P7*'Select Tuition Changes'!AF12,0) -> 456 | AN7: =ROUND($P7*'Select Tuition Changes'!AG12,0) -> 456 | AO7: =ROUND($P7*'Select Tuition Changes'!AH12,0) -> 456 | AP7: =ROUND($P7*'Select Tuition Changes'!AI12,0) -> 456 | AQ7: =ROUND($P7*'Select Tuition Changes'!AJ12,0) -> 456 | AS7: =+AL7 -> 456 | AT7: =+AM7 -> 456 | AU7: =+AN7 -> 456 | AV7: =+AO7 -> 456 | AW7: =+AP7 -> 456 | AX7: =+AQ7 -> 456 | AZ7: =+AL7-AS7 -> 0 | BA7: =+AM7-AT7 -> 0 | BB7: =+AN7-AU7 -> 0 | BC7: =+AO7-AV7 -> 0 | BD7: =+AP7-AW7 -> 0 | BE7: =+AQ7-AX7 -> 0 | BG7: =IF(Q7>0,R7/Q7,0) -> 1 | BH7: =IF(R7>0,S7/R7,0) -> 1 | BI7: =IF(S7>0,T7/S7,0) -> 1 | BJ7: =IF(T7>0,U7/T7,0) -> 1 | BK7: =IF(U7>0,V7/U7,0) -> 1 | BM7: =IF(X7>0,Y7/X7,0) -> 1 | BN7: =IF(Y7>0,Z7/Y7,0) -> 1 | BO7: =IF(Z7>0,AA7/Z7,0) -> 1 | BP7: =IF(AA7>0,AB7/AA7,0) -> 1 | BQ7: =IF(AB7>0,AC7/AB7,0) -> 1 | BS7: =IF(AE7>0,AF7/AE7,0) -> 0 | BT7: =IF(AF7>0,AG7/AF7,0) -> 0 | BU7: =IF(AG7>0,AH7/AG7,0) -> 0 | BV7: =IF(AH7>0,AI7/AH7,0) -> 0 | BW7: =IF(AI7>0,AJ7/AI7,0) -> 0 | BY7: =IF(AL7>0,AM7/AL7,0) -> 1 | BZ7: =IF(AM7>0,AN7/AM7,0) -> 1 | CA7: =IF(AN7>0,AO7/AN7,0) -> 1 | CB7: =IF(AO7>0,AP7/AO7,0) -> 1 | CC7: =IF(AP7>0,AQ7/AP7,0) -> 1 | CE7: =IF(AS7>0,AT7/AS7,0) -> 1 | CF7: =IF(AT7>0,AU7/AT7,0) -> 1 | CG7: =IF(AU7>0,AV7/AU7,0) -> 1 | CH7: =IF(AV7>0,AW7/AV7,0) -> 1 | CI7: =IF(AW7>0,AX7/AW7,0) -> 1 | CK7: =IF(AZ7>0,BA7/AZ7,0) -> 0 | CL7: =IF(BA7>0,BB7/BA7,0) -> 0 | CM7: =IF(BB7>0,BC7/BB7,0) -> 0 | CN7: =IF(BC7>0,BD7/BC7,0) -> 0 | CO7: =IF(BD7>0,BE7/BD7,0) -> 0
A8: 0 | B8: Seattle Campus | C8: 03 | D8: 02 | E8: Graduate Tier I | F8: 04 | G8: Graduate Tier I | H8: 2 | I8: Nonresident | J8: =+'Select Tuition Changes'!Y13 -> 0 | K8: =+'Select Tuition Changes'!Z13 -> 0 | L8: =+'Select Tuition Changes'!AA13 -> 0 | M8: =+'Select Tuition Changes'!AB13 -> 0 | N8: =+'Select Tuition Changes'!AC13 -> 0 | P8: 0.035 | Q8: =+'Select Tuition Changes'!AE13-'Tuition Calculations'!AL8 -> 26301 | R8: =+'Select Tuition Changes'!AF13-'Tuition Calculations'!AM8 -> 26301 | S8: =+'Select Tuition Changes'!AG13-'Tuition Calculations'!AN8 -> 26301 | T8: =+'Select Tuition Changes'!AH13-'Tuition Calculations'!AO8 -> 26301 | U8: =+'Select Tuition Changes'!AI13-'Tuition Calculations'!AP8 -> 26301 | V8: =+'Select Tuition Changes'!AJ13-'Tuition Calculations'!AQ8 -> 26301 | X8: =+Q7 -> 14751 | Y8: =+R7 -> 14751 | Z8: =+S7 -> 14751 | AA8: =+T7 -> 14751 | AB8: =+U7 -> 14751 | AC8: =+V7 -> 14751 | AE8: =+Q8-X8 -> 11550 | AF8: =+R8-Y8 -> 11550 | AG8: =+S8-Z8 -> 11550 | AH8: =+T8-AA8 -> 11550 | AI8: =+U8-AB8 -> 11550 | AJ8: =+V8-AC8 -> 11550 | AL8: =ROUND($P8*'Select Tuition Changes'!AE13,0) -> 954 | AM8: =ROUND($P8*'Select Tuition Changes'!AF13,0) -> 954 | AN8: =ROUND($P8*'Select Tuition Changes'!AG13,0) -> 954 | AO8: =ROUND($P8*'Select Tuition Changes'!AH13,0) -> 954 | AP8: =ROUND($P8*'Select Tuition Changes'!AI13,0) -> 954 | AQ8: =ROUND($P8*'Select Tuition Changes'!AJ13,0) -> 954 | AS8: =+AL7 -> 456 | AT8: =+AM7 -> 456 | AU8: =+AN7 -> 456 | AV8: =+AO7 -> 456 | AW8: =+AP7 -> 456 | AX8: =+AQ7 -> 456 | AZ8: =+AL8-AS8 -> 498 | BA8: =+AM8-AT8 -> 498 | BB8: =+AN8-AU8 -> 498 | BC8: =+AO8-AV8 -> 498 | BD8: =+AP8-AW8 -> 498 | BE8: =+AQ8-AX8 -> 498 | BG8: =IF(Q8>0,R8/Q8,0) -> 1 | BH8: =IF(R8>0,S8/R8,0) -> 1 | BI8: =IF(S8>0,T8/S8,0) -> 1 | BJ8: =IF(T8>0,U8/T8,0) -> 1 | BK8: =IF(U8>0,V8/U8,0) -> 1 | BM8: =IF(X8>0,Y8/X8,0) -> 1 | BN8: =IF(Y8>0,Z8/Y8,0) -> 1 | BO8: =IF(Z8>0,AA8/Z8,0) -> 1 | BP8: =IF(AA8>0,AB8/AA8,0) -> 1 | BQ8: =IF(AB8>0,AC8/AB8,0) -> 1 | BS8: =IF(AE8>0,AF8/AE8,0) -> 1 | BT8: =IF(AF8>0,AG8/AF8,0) -> 1 | BU8: =IF(AG8>0,AH8/AG8,0) -> 1 | BV8: =IF(AH8>0,AI8/AH8,0) -> 1 | BW8: =IF(AI8>0,AJ8/AI8,0) -> 1 | BY8: =IF(AL8>0,AM8/AL8,0) -> 1 | BZ8: =IF(AM8>0,AN8/AM8,0) -> 1 | CA8: =IF(AN8>0,AO8/AN8,0) -> 1 | CB8: =IF(AO8>0,AP8/AO8,0) -> 1 | CC8: =IF(AP8>0,AQ8/AP8,0) -> 1 | CE8: =IF(AS8>0,AT8/AS8,0) -> 1 | CF8: =IF(AT8>0,AU8/AT8,0) -> 1 | CG8: =IF(AU8>0,AV8/AU8,0) -> 1 | CH8: =IF(AV8>0,AW8/AV8,0) -> 1 | CI8: =IF(AW8>0,AX8/AW8,0) -> 1 | CK8: =IF(AZ8>0,BA8/AZ8,0) -> 1 | CL8: =IF(BA8>0,BB8/BA8,0) -> 1 | CM8: =IF(BB8>0,BC8/BB8,0) -> 1 | CN8: =IF(BC8>0,BD8/BC8,0) -> 1 | CO8: =IF(BD8>0,BE8/BD8,0) -> 1
A9: 0 | B9: Seattle Campus | C9: 05 | D9: 03 | E9: Graduate Tier II | F9: 05 | G9: Graduate Tier II | H9: 1 | I9: Resident | J9: =+'Select Tuition Changes'!Y14 -> 0 | K9: =+'Select Tuition Changes'!Z14 -> 0 | L9: =+'Select Tuition Changes'!AA14 -> 0 | M9: =+'Select Tuition Changes'!AB14 -> 0 | N9: =+'Select Tuition Changes'!AC14 -> 0 | P9: 0.03 | Q9: =+'Select Tuition Changes'!AE14-'Tuition Calculations'!AL9 -> 15126 | R9: =+'Select Tuition Changes'!AF14-'Tuition Calculations'!AM9 -> 15126 | S9: =+'Select Tuition Changes'!AG14-'Tuition Calculations'!AN9 -> 15126 | T9: =+'Select Tuition Changes'!AH14-'Tuition Calculations'!AO9 -> 15126 | U9: =+'Select Tuition Changes'!AI14-'Tuition Calculations'!AP9 -> 15126 | V9: =+'Select Tuition Changes'!AJ14-'Tuition Calculations'!AQ9 -> 15126 | X9: =+Q9 -> 15126 | Y9: =+R9 -> 15126 | Z9: =+S9 -> 15126 | AA9: =+T9 -> 15126 | AB9: =+U9 -> 15126 | AC9: =+V9 -> 15126 | AE9: =+Q9-X9 -> 0 | AF9: =+R9-Y9 -> 0 | AG9: =+S9-Z9 -> 0 | AH9: =+T9-AA9 -> 0 | AI9: =+U9-AB9 -> 0 | AJ9: =+V9-AC9 -> 0 | AL9: =ROUND($P9*'Select Tuition Changes'!AE14,0) -> 468 | AM9: =ROUND($P9*'Select Tuition Changes'!AF14,0) -> 468 | AN9: =ROUND($P9*'Select Tuition Changes'!AG14,0) -> 468 | AO9: =ROUND($P9*'Select Tuition Changes'!AH14,0) -> 468 | AP9: =ROUND($P9*'Select Tuition Changes'!AI14,0) -> 468 | AQ9: =ROUND($P9*'Select Tuition Changes'!AJ14,0) -> 468 | AS9: =+AL9 -> 468 | AT9: =+AM9 -> 468 | AU9: =+AN9 -> 468 | AV9: =+AO9 -> 468 | AW9: =+AP9 -> 468 | AX9: =+AQ9 -> 468 | AZ9: =+AL9-AS9 -> 0 | BA9: =+AM9-AT9 -> 0 | BB9: =+AN9-AU9 -> 0 | BC9: =+AO9-AV9 -> 0 | BD9: =+AP9-AW9 -> 0 | BE9: =+AQ9-AX9 -> 0 | BG9: =IF(Q9>0,R9/Q9,0) -> 1 | BH9: =IF(R9>0,S9/R9,0) -> 1 | BI9: =IF(S9>0,T9/S9,0) -> 1 | BJ9: =IF(T9>0,U9/T9,0) -> 1 | BK9: =IF(U9>0,V9/U9,0) -> 1 | BM9: =IF(X9>0,Y9/X9,0) -> 1 | BN9: =IF(Y9>0,Z9/Y9,0) -> 1 | BO9: =IF(Z9>0,AA9/Z9,0) -> 1 | BP9: =IF(AA9>0,AB9/AA9,0) -> 1 | BQ9: =IF(AB9>0,AC9/AB9,0) -> 1 | BS9: =IF(AE9>0,AF9/AE9,0) -> 0 | BT9: =IF(AF9>0,AG9/AF9,0) -> 0 | BU9: =IF(AG9>0,AH9/AG9,0) -> 0 | BV9: =IF(AH9>0,AI9/AH9,0) -> 0 | BW9: =IF(AI9>0,AJ9/AI9,0) -> 0 | BY9: =IF(AL9>0,AM9/AL9,0) -> 1 | BZ9: =IF(AM9>0,AN9/AM9,0) -> 1 | CA9: =IF(AN9>0,AO9/AN9,0) -> 1 | CB9: =IF(AO9>0,AP9/AO9,0) -> 1 | CC9: =IF(AP9>0,AQ9/AP9,0) -> 1 | CE9: =IF(AS9>0,AT9/AS9,0) -> 1 | CF9: =IF(AT9>0,AU9/AT9,0) -> 1 | CG9: =IF(AU9>0,AV9/AU9,0) -> 1 | CH9: =IF(AV9>0,AW9/AV9,0) -> 1 | CI9: =IF(AW9>0,AX9/AW9,0) -> 1 | CK9: =IF(AZ9>0,BA9/AZ9,0) -> 0 | CL9: =IF(BA9>0,BB9/BA9,0) -> 0 | CM9: =IF(BB9>0,BC9/BB9,0) -> 0 | CN9: =IF(BC9>0,BD9/BC9,0) -> 0 | CO9: =IF(BD9>0,BE9/BD9,0) -> 0
A10: 0 | B10: Seattle Campus | C10: 05 | D10: 03 | E10: Graduate Tier II | F10: 05 | G10: Graduate Tier II | H10: 2 | I10: Nonresident | J10: =+'Select Tuition Changes'!Y15 -> 0 | K10: =+'Select Tuition Changes'!Z15 -> 0 | L10: =+'Select Tuition Changes'!AA15 -> 0 | M10: =+'Select Tuition Changes'!AB15 -> 0 | N10: =+'Select Tuition Changes'!AC15 -> 0 | P10: 0.035 | Q10: =+'Select Tuition Changes'!AE15-'Tuition Calculations'!AL10 -> 26863 | R10: =+'Select Tuition Changes'!AF15-'Tuition Calculations'!AM10 -> 26863 | S10: =+'Select Tuition Changes'!AG15-'Tuition Calculations'!AN10 -> 26863 | T10: =+'Select Tuition Changes'!AH15-'Tuition Calculations'!AO10 -> 26863 | U10: =+'Select Tuition Changes'!AI15-'Tuition Calculations'!AP10 -> 26863 | V10: =+'Select Tuition Changes'!AJ15-'Tuition Calculations'!AQ10 -> 26863 | X10: =+Q9 -> 15126 | Y10: =+R9 -> 15126 | Z10: =+S9 -> 15126 | AA10: =+T9 -> 15126 | AB10: =+U9 -> 15126 | AC10: =+V9 -> 15126 | AE10: =+Q10-X10 -> 11737 | AF10: =+R10-Y10 -> 11737 | AG10: =+S10-Z10 -> 11737 | AH10: =+T10-AA10 -> 11737 | AI10: =+U10-AB10 -> 11737 | AJ10: =+V10-AC10 -> 11737 | AL10: =ROUND($P10*'Select Tuition Changes'!AE15,0) -> 974 | AM10: =ROUND($P10*'Select Tuition Changes'!AF15,0) -> 974 | AN10: =ROUND($P10*'Select Tuition Changes'!AG15,0) -> 974 | AO10: =ROUND($P10*'Select Tuition Changes'!AH15,0) -> 974 | AP10: =ROUND($P10*'Select Tuition Changes'!AI15,0) -> 974 | AQ10: =ROUND($P10*'Select Tuition Changes'!AJ15,0) -> 974 | AS10: =+AL9 -> 468 | AT10: =+AM9 -> 468 | AU10: =+AN9 -> 468 | AV10: =+AO9 -> 468 | AW10: =+AP9 -> 468 | AX10: =+AQ9 -> 468 | AZ10: =+AL10-AS10 -> 506 | BA10: =+AM10-AT10 -> 506 | BB10: =+AN10-AU10 -> 506 | BC10: =+AO10-AV10 -> 506 | BD10: =+AP10-AW10 -> 506 | BE10: =+AQ10-AX10 -> 506 | BG10: =IF(Q10>0,R10/Q10,0) -> 1 | BH10: =IF(R10>0,S10/R10,0) -> 1 | BI10: =IF(S10>0,T10/S10,0) -> 1 | BJ10: =IF(T10>0,U10/T10,0) -> 1 | BK10: =IF(U10>0,V10/U10,0) -> 1 | BM10: =IF(X10>0,Y10/X10,0) -> 1 | BN10: =IF(Y10>0,Z10/Y10,0) -> 1 | BO10: =IF(Z10>0,AA10/Z10,0) -> 1 | BP10: =IF(AA10>0,AB10/AA10,0) -> 1 | BQ10: =IF(AB10>0,AC10/AB10,0) -> 1 | BS10: =IF(AE10>0,AF10/AE10,0) -> 1 | BT10: =IF(AF10>0,AG10/AF10,0) -> 1 | BU10: =IF(AG10>0,AH10/AG10,0) -> 1 | BV10: =IF(AH10>0,AI10/AH10,0) -> 1 | BW10: =IF(AI10>0,AJ10/AI10,0) -> 1 | BY10: =IF(AL10>0,AM10/AL10,0) -> 1 | BZ10: =IF(AM10>0,AN10/AM10,0) -> 1 | CA10: =IF(AN10>0,AO10/AN10,0) -> 1 | CB10: =IF(AO10>0,AP10/AO10,0) -> 1 | CC10: =IF(AP10>0,AQ10/AP10,0) -> 1 | CE10: =IF(AS10>0,AT10/AS10,0) -> 1 | CF10: =IF(AT10>0,AU10/AT10,0) -> 1 | CG10: =IF(AU10>0,AV10/AU10,0) -> 1 | CH10: =IF(AV10>0,AW10/AV10,0) -> 1 | CI10: =IF(AW10>0,AX10/AW10,0) -> 1 | CK10: =IF(AZ10>0,BA10/AZ10,0) -> 1 | CL10: =IF(BA10>0,BB10/BA10,0) -> 1 | CM10: =IF(BB10>0,BC10/BB10,0) -> 1 | CN10: =IF(BC10>0,BD10/BC10,0) -> 1 | CO10: =IF(BD10>0,BE10/BD10,0) -> 1
A11: 0 | B11: Seattle Campus | C11: 07 | D11: 04 | E11: Graduate Tier III | F11: 03 | G11: Graduate Post-Bacc / Non-Matric | H11: 1 | I11: Resident | J11: =+'Select Tuition Changes'!Y16 -> 0 | K11: =+'Select Tuition Changes'!Z16 -> 0 | L11: =+'Select Tuition Changes'!AA16 -> 0 | M11: =+'Select Tuition Changes'!AB16 -> 0 | N11: =+'Select Tuition Changes'!AC16 -> 0 | P11: =+P13 -> 0.03 | Q11: =+'Select Tuition Changes'!AE16-'Tuition Calculations'!AL11 -> 15470 | R11: =+'Select Tuition Changes'!AF16-'Tuition Calculations'!AM11 -> 15470 | S11: =+'Select Tuition Changes'!AG16-'Tuition Calculations'!AN11 -> 15470 | T11: =+'Select Tuition Changes'!AH16-'Tuition Calculations'!AO11 -> 15470 | U11: =+'Select Tuition Changes'!AI16-'Tuition Calculations'!AP11 -> 15470 | V11: =+'Select Tuition Changes'!AJ16-'Tuition Calculations'!AQ11 -> 15470 | X11: =+Q11 -> 15470 | Y11: =+R11 -> 15470 | Z11: =+S11 -> 15470 | AA11: =+T11 -> 15470 | AB11: =+U11 -> 15470 | AC11: =+V11 -> 15470 | AE11: =+Q11-X11 -> 0 | AF11: =+R11-Y11 -> 0 | AG11: =+S11-Z11 -> 0 | AH11: =+T11-AA11 -> 0 | AI11: =+U11-AB11 -> 0 | AJ11: =+V11-AC11 -> 0 | AL11: =ROUND($P11*'Select Tuition Changes'!AE16,0) -> 478 | AM11: =ROUND($P11*'Select Tuition Changes'!AF16,0) -> 478 | AN11: =ROUND($P11*'Select Tuition Changes'!AG16,0) -> 478 | AO11: =ROUND($P11*'Select Tuition Changes'!AH16,0) -> 478 | AP11: =ROUND($P11*'Select Tuition Changes'!AI16,0) -> 478 | AQ11: =ROUND($P11*'Select Tuition Changes'!AJ16,0) -> 478 | AS11: =+AL11 -> 478 | AT11: =+AM11 -> 478 | AU11: =+AN11 -> 478 | AV11: =+AO11 -> 478 | AW11: =+AP11 -> 478 | AX11: =+AQ11 -> 478 | AZ11: =+AL11-AS11 -> 0 | BA11: =+AM11-AT11 -> 0 | BB11: =+AN11-AU11 -> 0 | BC11: =+AO11-AV11 -> 0 | BD11: =+AP11-AW11 -> 0 | BE11: =+AQ11-AX11 -> 0 | BG11: =IF(Q11>0,R11/Q11,0) -> 1 | BH11: =IF(R11>0,S11/R11,0) -> 1 | BI11: =IF(S11>0,T11/S11,0) -> 1 | BJ11: =IF(T11>0,U11/T11,0) -> 1 | BK11: =IF(U11>0,V11/U11,0) -> 1 | BM11: =IF(X11>0,Y11/X11,0) -> 1 | BN11: =IF(Y11>0,Z11/Y11,0) -> 1 | BO11: =IF(Z11>0,AA11/Z11,0) -> 1 | BP11: =IF(AA11>0,AB11/AA11,0) -> 1 | BQ11: =IF(AB11>0,AC11/AB11,0) -> 1 | BS11: =IF(AE11>0,AF11/AE11,0) -> 0 | BT11: =IF(AF11>0,AG11/AF11,0) -> 0 | BU11: =IF(AG11>0,AH11/AG11,0) -> 0 | BV11: =IF(AH11>0,AI11/AH11,0) -> 0 | BW11: =IF(AI11>0,AJ11/AI11,0) -> 0 | BY11: =IF(AL11>0,AM11/AL11,0) -> 1 | BZ11: =IF(AM11>0,AN11/AM11,0) -> 1 | CA11: =IF(AN11>0,AO11/AN11,0) -> 1 | CB11: =IF(AO11>0,AP11/AO11,0) -> 1 | CC11: =IF(AP11>0,AQ11/AP11,0) -> 1 | CE11: =IF(AS11>0,AT11/AS11,0) -> 1 | CF11: =IF(AT11>0,AU11/AT11,0) -> 1 | CG11: =IF(AU11>0,AV11/AU11,0) -> 1 | CH11: =IF(AV11>0,AW11/AV11,0) -> 1 | CI11: =IF(AW11>0,AX11/AW11,0) -> 1 | CK11: =IF(AZ11>0,BA11/AZ11,0) -> 0 | CL11: =IF(BA11>0,BB11/BA11,0) -> 0 | CM11: =IF(BB11>0,BC11/BB11,0) -> 0 | CN11: =IF(BC11>0,BD11/BC11,0) -> 0 | CO11: =IF(BD11>0,BE11/BD11,0) -> 0
A12: 0 | B12: Seattle Campus | C12: 07 | D12: 04 | E12: Graduate Tier III | F12: 03 | G12: Graduate Post-Bacc / Non-Matric | H12: 2 | I12: Nonresident | J12: =+'Select Tuition Changes'!Y17 -> 0 | K12: =+'Select Tuition Changes'!Z17 -> 0 | L12: =+'Select Tuition Changes'!AA17 -> 0 | M12: =+'Select Tuition Changes'!AB17 -> 0 | N12: =+'Select Tuition Changes'!AC17 -> 0 | P12: =+P14 -> 0.035 | Q12: =+'Select Tuition Changes'!AE17-'Tuition Calculations'!AL12 -> 27427 | R12: =+'Select Tuition Changes'!AF17-'Tuition Calculations'!AM12 -> 27427 | S12: =+'Select Tuition Changes'!AG17-'Tuition Calculations'!AN12 -> 27427 | T12: =+'Select Tuition Changes'!AH17-'Tuition Calculations'!AO12 -> 27427 | U12: =+'Select Tuition Changes'!AI17-'Tuition Calculations'!AP12 -> 27427 | V12: =+'Select Tuition Changes'!AJ17-'Tuition Calculations'!AQ12 -> 27427 | X12: =+Q11 -> 15470 | Y12: =+R11 -> 15470 | Z12: =+S11 -> 15470 | AA12: =+T11 -> 15470 | AB12: =+U11 -> 15470 | AC12: =+V11 -> 15470 | AE12: =+Q12-X12 -> 11957 | AF12: =+R12-Y12 -> 11957 | AG12: =+S12-Z12 -> 11957 | AH12: =+T12-AA12 -> 11957 | AI12: =+U12-AB12 -> 11957 | AJ12: =+V12-AC12 -> 11957 | AL12: =ROUND($P12*'Select Tuition Changes'!AE17,0) -> 995 | AM12: =ROUND($P12*'Select Tuition Changes'!AF17,0) -> 995 | AN12: =ROUND($P12*'Select Tuition Changes'!AG17,0) -> 995 | AO12: =ROUND($P12*'Select Tuition Changes'!AH17,0) -> 995 | AP12: =ROUND($P12*'Select Tuition Changes'!AI17,0) -> 995 | AQ12: =ROUND($P12*'Select Tuition Changes'!AJ17,0) -> 995 | AS12: =+AL11 -> 478 | AT12: =+AM11 -> 478 | AU12: =+AN11 -> 478 | AV12: =+AO11 -> 478 | AW12: =+AP11 -> 478 | AX12: =+AQ11 -> 478 | AZ12: =+AL12-AS12 -> 517 | BA12: =+AM12-AT12 -> 517 | BB12: =+AN12-AU12 -> 517 | BC12: =+AO12-AV12 -> 517 | BD12: =+AP12-AW12 -> 517 | BE12: =+AQ12-AX12 -> 517 | BG12: =IF(Q12>0,R12/Q12,0) -> 1 | BH12: =IF(R12>0,S12/R12,0) -> 1 | BI12: =IF(S12>0,T12/S12,0) -> 1 | BJ12: =IF(T12>0,U12/T12,0) -> 1 | BK12: =IF(U12>0,V12/U12,0) -> 1 | BM12: =IF(X12>0,Y12/X12,0) -> 1 | BN12: =IF(Y12>0,Z12/Y12,0) -> 1 | BO12: =IF(Z12>0,AA12/Z12,0) -> 1 | BP12: =IF(AA12>0,AB12/AA12,0) -> 1 | BQ12: =IF(AB12>0,AC12/AB12,0) -> 1 | BS12: =IF(AE12>0,AF12/AE12,0) -> 1 | BT12: =IF(AF12>0,AG12/AF12,0) -> 1 | BU12: =IF(AG12>0,AH12/AG12,0) -> 1 | BV12: =IF(AH12>0,AI12/AH12,0) -> 1 | BW12: =IF(AI12>0,AJ12/AI12,0) -> 1 | BY12: =IF(AL12>0,AM12/AL12,0) -> 1 | BZ12: =IF(AM12>0,AN12/AM12,0) -> 1 | CA12: =IF(AN12>0,AO12/AN12,0) -> 1 | CB12: =IF(AO12>0,AP12/AO12,0) -> 1 | CC12: =IF(AP12>0,AQ12/AP12,0) -> 1 | CE12: =IF(AS12>0,AT12/AS12,0) -> 1 | CF12: =IF(AT12>0,AU12/AT12,0) -> 1 | CG12: =IF(AU12>0,AV12/AU12,0) -> 1 | CH12: =IF(AV12>0,AW12/AV12,0) -> 1 | CI12: =IF(AW12>0,AX12/AW12,0) -> 1 | CK12: =IF(AZ12>0,BA12/AZ12,0) -> 1 | CL12: =IF(BA12>0,BB12/BA12,0) -> 1 | CM12: =IF(BB12>0,BC12/BB12,0) -> 1 | CN12: =IF(BC12>0,BD12/BC12,0) -> 1 | CO12: =IF(BD12>0,BE12/BD12,0) -> 1
A13: 0 | B13: Seattle Campus | C13: 07 | D13: 04 | E13: Graduate Tier III | F13: 06 | G13: Graduate Tier III | H13: 1 | I13: Resident | J13: =+'Select Tuition Changes'!Y18 -> 0 | K13: =+'Select Tuition Changes'!Z18 -> 0 | L13: =+'Select Tuition Changes'!AA18 -> 0 | M13: =+'Select Tuition Changes'!AB18 -> 0 | N13: =+'Select Tuition Changes'!AC18 -> 0 | P13: 0.03 | Q13: =+'Select Tuition Changes'!AE18-'Tuition Calculations'!AL13 -> 15470 | R13: =+'Select Tuition Changes'!AF18-'Tuition Calculations'!AM13 -> 15470 | S13: =+'Select Tuition Changes'!AG18-'Tuition Calculations'!AN13 -> 15470 | T13: =+'Select Tuition Changes'!AH18-'Tuition Calculations'!AO13 -> 15470 | U13: =+'Select Tuition Changes'!AI18-'Tuition Calculations'!AP13 -> 15470 | V13: =+'Select Tuition Changes'!AJ18-'Tuition Calculations'!AQ13 -> 15470 | X13: =+Q13 -> 15470 | Y13: =+R13 -> 15470 | Z13: =+S13 -> 15470 | AA13: =+T13 -> 15470 | AB13: =+U13 -> 15470 | AC13: =+V13 -> 15470 | AE13: =+Q13-X13 -> 0 | AF13: =+R13-Y13 -> 0 | AG13: =+S13-Z13 -> 0 | AH13: =+T13-AA13 -> 0 | AI13: =+U13-AB13 -> 0 | AJ13: =+V13-AC13 -> 0 | AL13: =ROUND($P13*'Select Tuition Changes'!AE18,0) -> 478 | AM13: =ROUND($P13*'Select Tuition Changes'!AF18,0) -> 478 | AN13: =ROUND($P13*'Select Tuition Changes'!AG18,0) -> 478 | AO13: =ROUND($P13*'Select Tuition Changes'!AH18,0) -> 478 | AP13: =ROUND($P13*'Select Tuition Changes'!AI18,0) -> 478 | AQ13: =ROUND($P13*'Select Tuition Changes'!AJ18,0) -> 478 | AS13: =+AL13 -> 478 | AT13: =+AM13 -> 478 | AU13: =+AN13 -> 478 | AV13: =+AO13 -> 478 | AW13: =+AP13 -> 478 | AX13: =+AQ13 -> 478 | AZ13: =+AL13-AS13 -> 0 | BA13: =+AM13-AT13 -> 0 | BB13: =+AN13-AU13 -> 0 | BC13: =+AO13-AV13 -> 0 | BD13: =+AP13-AW13 -> 0 | BE13: =+AQ13-AX13 -> 0 | BG13: =IF(Q13>0,R13/Q13,0) -> 1 | BH13: =IF(R13>0,S13/R13,0) -> 1 | BI13: =IF(S13>0,T13/S13,0) -> 1 | BJ13: =IF(T13>0,U13/T13,0) -> 1 | BK13: =IF(U13>0,V13/U13,0) -> 1 | BM13: =IF(X13>0,Y13/X13,0) -> 1 | BN13: =IF(Y13>0,Z13/Y13,0) -> 1 | BO13: =IF(Z13>0,AA13/Z13,0) -> 1 | BP13: =IF(AA13>0,AB13/AA13,0) -> 1 | BQ13: =IF(AB13>0,AC13/AB13,0) -> 1 | BS13: =IF(AE13>0,AF13/AE13,0) -> 0 | BT13: =IF(AF13>0,AG13/AF13,0) -> 0 | BU13: =IF(AG13>0,AH13/AG13,0) -> 0 | BV13: =IF(AH13>0,AI13/AH13,0) -> 0 | BW13: =IF(AI13>0,AJ13/AI13,0) -> 0 | BY13: =IF(AL13>0,AM13/AL13,0) -> 1 | BZ13: =IF(AM13>0,AN13/AM13,0) -> 1 | CA13: =IF(AN13>0,AO13/AN13,0) -> 1 | CB13: =IF(AO13>0,AP13/AO13,0) -> 1 | CC13: =IF(AP13>0,AQ13/AP13,0) -> 1 | CE13: =IF(AS13>0,AT13/AS13,0) -> 1 | CF13: =IF(AT13>0,AU13/AT13,0) -> 1 | CG13: =IF(AU13>0,AV13/AU13,0) -> 1 | CH13: =IF(AV13>0,AW13/AV13,0) -> 1 | CI13: =IF(AW13>0,AX13/AW13,0) -> 1 | CK13: =IF(AZ13>0,BA13/AZ13,0) -> 0 | CL13: =IF(BA13>0,BB13/BA13,0) -> 0 | CM13: =IF(BB13>0,BC13/BB13,0) -> 0 | CN13: =IF(BC13>0,BD13/BC13,0) -> 0 | CO13: =IF(BD13>0,BE13/BD13,0) -> 0
A14: 0 | B14: Seattle Campus | C14: 07 | D14: 04 | E14: Graduate Tier III | F14: 06 | G14: Graduate Tier III | H14: 2 | I14: Nonresident | J14: =+'Select Tuition Changes'!Y19 -> 0 | K14: =+'Select Tuition Changes'!Z19 -> 0 | L14: =+'Select Tuition Changes'!AA19 -> 0 | M14: =+'Select Tuition Changes'!AB19 -> 0 | N14: =+'Select Tuition Changes'!AC19 -> 0 | P14: 0.035 | Q14: =+'Select Tuition Changes'!AE19-'Tuition Calculations'!AL14 -> 27427 | R14: =+'Select Tuition Changes'!AF19-'Tuition Calculations'!AM14 -> 27427 | S14: =+'Select Tuition Changes'!AG19-'Tuition Calculations'!AN14 -> 27427 | T14: =+'Select Tuition Changes'!AH19-'Tuition Calculations'!AO14 -> 27427 | U14: =+'Select Tuition Changes'!AI19-'Tuition Calculations'!AP14 -> 27427 | V14: =+'Select Tuition Changes'!AJ19-'Tuition Calculations'!AQ14 -> 27427 | X14: =+Q13 -> 15470 | Y14: =+R13 -> 15470 | Z14: =+S13 -> 15470 | AA14: =+T13 -> 15470 | AB14: =+U13 -> 15470 | AC14: =+V13 -> 15470 | AE14: =+Q14-X14 -> 11957 | AF14: =+R14-Y14 -> 11957 | AG14: =+S14-Z14 -> 11957 | AH14: =+T14-AA14 -> 11957 | AI14: =+U14-AB14 -> 11957 | AJ14: =+V14-AC14 -> 11957 | AL14: =ROUND($P14*'Select Tuition Changes'!AE19,0) -> 995 | AM14: =ROUND($P14*'Select Tuition Changes'!AF19,0) -> 995 | AN14: =ROUND($P14*'Select Tuition Changes'!AG19,0) -> 995 | AO14: =ROUND($P14*'Select Tuition Changes'!AH19,0) -> 995 | AP14: =ROUND($P14*'Select Tuition Changes'!AI19,0) -> 995 | AQ14: =ROUND($P14*'Select Tuition Changes'!AJ19,0) -> 995 | AS14: =+AL13 -> 478 | AT14: =+AM13 -> 478 | AU14: =+AN13 -> 478 | AV14: =+AO13 -> 478 | AW14: =+AP13 -> 478 | AX14: =+AQ13 -> 478 | AZ14: =+AL14-AS14 -> 517 | BA14: =+AM14-AT14 -> 517 | BB14: =+AN14-AU14 -> 517 | BC14: =+AO14-AV14 -> 517 | BD14: =+AP14-AW14 -> 517 | BE14: =+AQ14-AX14 -> 517 | BG14: =IF(Q14>0,R14/Q14,0) -> 1 | BH14: =IF(R14>0,S14/R14,0) -> 1 | BI14: =IF(S14>0,T14/S14,0) -> 1 | BJ14: =IF(T14>0,U14/T14,0) -> 1 | BK14: =IF(U14>0,V14/U14,0) -> 1 | BM14: =IF(X14>0,Y14/X14,0) -> 1 | BN14: =IF(Y14>0,Z14/Y14,0) -> 1 | BO14: =IF(Z14>0,AA14/Z14,0) -> 1 | BP14: =IF(AA14>0,AB14/AA14,0) -> 1 | BQ14: =IF(AB14>0,AC14/AB14,0) -> 1 | BS14: =IF(AE14>0,AF14/AE14,0) -> 1 | BT14: =IF(AF14>0,AG14/AF14,0) -> 1 | BU14: =IF(AG14>0,AH14/AG14,0) -> 1 | BV14: =IF(AH14>0,AI14/AH14,0) -> 1 | BW14: =IF(AI14>0,AJ14/AI14,0) -> 1 | BY14: =IF(AL14>0,AM14/AL14,0) -> 1 | BZ14: =IF(AM14>0,AN14/AM14,0) -> 1 | CA14: =IF(AN14>0,AO14/AN14,0) -> 1 | CB14: =IF(AO14>0,AP14/AO14,0) -> 1 | CC14: =IF(AP14>0,AQ14/AP14,0) -> 1 | CE14: =IF(AS14>0,AT14/AS14,0) -> 1 | CF14: =IF(AT14>0,AU14/AT14,0) -> 1 | CG14: =IF(AU14>0,AV14/AU14,0) -> 1 | CH14: =IF(AV14>0,AW14/AV14,0) -> 1 | CI14: =IF(AW14>0,AX14/AW14,0) -> 1 | CK14: =IF(AZ14>0,BA14/AZ14,0) -> 1 | CL14: =IF(BA14>0,BB14/BA14,0) -> 1 | CM14: =IF(BB14>0,BC14/BB14,0) -> 1 | CN14: =IF(BC14>0,BD14/BC14,0) -> 1 | CO14: =IF(BD14>0,BE14/BD14,0) -> 1
A15: 0 | B15: Seattle Campus | C15: 09 | D15: 06 | E15: Coll Environ Graduate | F15: 26 | G15: College of the Environment Graduate Programs | H15: 1 | I15: Resident | J15: =+'Select Tuition Changes'!Y20 -> 0 | K15: =+'Select Tuition Changes'!Z20 -> 0 | L15: =+'Select Tuition Changes'!AA20 -> 0 | M15: =+'Select Tuition Changes'!AB20 -> 0 | N15: =+'Select Tuition Changes'!AC20 -> 0 | P15: 0.03 | Q15: =+'Select Tuition Changes'!AE20-'Tuition Calculations'!AL15 -> 15126 | R15: =+'Select Tuition Changes'!AF20-'Tuition Calculations'!AM15 -> 15126 | S15: =+'Select Tuition Changes'!AG20-'Tuition Calculations'!AN15 -> 15126 | T15: =+'Select Tuition Changes'!AH20-'Tuition Calculations'!AO15 -> 15126 | U15: =+'Select Tuition Changes'!AI20-'Tuition Calculations'!AP15 -> 15126 | V15: =+'Select Tuition Changes'!AJ20-'Tuition Calculations'!AQ15 -> 15126 | X15: =+Q15 -> 15126 | Y15: =+R15 -> 15126 | Z15: =+S15 -> 15126 | AA15: =+T15 -> 15126 | AB15: =+U15 -> 15126 | AC15: =+V15 -> 15126 | AE15: =+Q15-X15 -> 0 | AF15: =+R15-Y15 -> 0 | AG15: =+S15-Z15 -> 0 | AH15: =+T15-AA15 -> 0 | AI15: =+U15-AB15 -> 0 | AJ15: =+V15-AC15 -> 0 | AL15: =ROUND($P15*'Select Tuition Changes'!AE20,0) -> 468 | AM15: =ROUND($P15*'Select Tuition Changes'!AF20,0) -> 468 | AN15: =ROUND($P15*'Select Tuition Changes'!AG20,0) -> 468 | AO15: =ROUND($P15*'Select Tuition Changes'!AH20,0) -> 468 | AP15: =ROUND($P15*'Select Tuition Changes'!AI20,0) -> 468 | AQ15: =ROUND($P15*'Select Tuition Changes'!AJ20,0) -> 468 | AS15: =+AL15 -> 468 | AT15: =+AM15 -> 468 | AU15: =+AN15 -> 468 | AV15: =+AO15 -> 468 | AW15: =+AP15 -> 468 | AX15: =+AQ15 -> 468 | AZ15: =+AL15-AS15 -> 0 | BA15: =+AM15-AT15 -> 0 | BB15: =+AN15-AU15 -> 0 | BC15: =+AO15-AV15 -> 0 | BD15: =+AP15-AW15 -> 0 | BE15: =+AQ15-AX15 -> 0 | BG15: =IF(Q15>0,R15/Q15,0) -> 1 | BH15: =IF(R15>0,S15/R15,0) -> 1 | BI15: =IF(S15>0,T15/S15,0) -> 1 | BJ15: =IF(T15>0,U15/T15,0) -> 1 | BK15: =IF(U15>0,V15/U15,0) -> 1 | BM15: =IF(X15>0,Y15/X15,0) -> 1 | BN15: =IF(Y15>0,Z15/Y15,0) -> 1 | BO15: =IF(Z15>0,AA15/Z15,0) -> 1 | BP15: =IF(AA15>0,AB15/AA15,0) -> 1 | BQ15: =IF(AB15>0,AC15/AB15,0) -> 1 | BS15: =IF(AE15>0,AF15/AE15,0) -> 0 | BT15: =IF(AF15>0,AG15/AF15,0) -> 0 | BU15: =IF(AG15>0,AH15/AG15,0) -> 0 | BV15: =IF(AH15>0,AI15/AH15,0) -> 0 | BW15: =IF(AI15>0,AJ15/AI15,0) -> 0 | BY15: =IF(AL15>0,AM15/AL15,0) -> 1 | BZ15: =IF(AM15>0,AN15/AM15,0) -> 1 | CA15: =IF(AN15>0,AO15/AN15,0) -> 1 | CB15: =IF(AO15>0,AP15/AO15,0) -> 1 | CC15: =IF(AP15>0,AQ15/AP15,0) -> 1 | CE15: =IF(AS15>0,AT15/AS15,0) -> 1 | CF15: =IF(AT15>0,AU15/AT15,0) -> 1 | CG15: =IF(AU15>0,AV15/AU15,0) -> 1 | CH15: =IF(AV15>0,AW15/AV15,0) -> 1 | CI15: =IF(AW15>0,AX15/AW15,0) -> 1 | CK15: =IF(AZ15>0,BA15/AZ15,0) -> 0 | CL15: =IF(BA15>0,BB15/BA15,0) -> 0 | CM15: =IF(BB15>0,BC15/BB15,0) -> 0 | CN15: =IF(BC15>0,BD15/BC15,0) -> 0 | CO15: =IF(BD15>0,BE15/BD15,0) -> 0
A16: 0 | B16: Seattle Campus | C16: 09 | D16: 06 | E16: Coll Environ Graduate | F16: 26 | G16: College of the Environment Graduate Programs | H16: 2 | I16: Nonresident | J16: =+'Select Tuition Changes'!Y21 -> 0 | K16: =+'Select Tuition Changes'!Z21 -> 0 | L16: =+'Select Tuition Changes'!AA21 -> 0 | M16: =+'Select Tuition Changes'!AB21 -> 0 | N16: =+'Select Tuition Changes'!AC21 -> 0 | P16: 0.035 | Q16: =+'Select Tuition Changes'!AE21-'Tuition Calculations'!AL16 -> 26863 | R16: =+'Select Tuition Changes'!AF21-'Tuition Calculations'!AM16 -> 26863 | S16: =+'Select Tuition Changes'!AG21-'Tuition Calculations'!AN16 -> 26863 | T16: =+'Select Tuition Changes'!AH21-'Tuition Calculations'!AO16 -> 26863 | U16: =+'Select Tuition Changes'!AI21-'Tuition Calculations'!AP16 -> 26863 | V16: =+'Select Tuition Changes'!AJ21-'Tuition Calculations'!AQ16 -> 26863 | X16: =+Q15 -> 15126 | Y16: =+R15 -> 15126 | Z16: =+S15 -> 15126 | AA16: =+T15 -> 15126 | AB16: =+U15 -> 15126 | AC16: =+V15 -> 15126 | AE16: =+Q16-X16 -> 11737 | AF16: =+R16-Y16 -> 11737 | AG16: =+S16-Z16 -> 11737 | AH16: =+T16-AA16 -> 11737 | AI16: =+U16-AB16 -> 11737 | AJ16: =+V16-AC16 -> 11737 | AL16: =ROUND($P16*'Select Tuition Changes'!AE21,0) -> 974 | AM16: =ROUND($P16*'Select Tuition Changes'!AF21,0) -> 974 | AN16: =ROUND($P16*'Select Tuition Changes'!AG21,0) -> 974 | AO16: =ROUND($P16*'Select Tuition Changes'!AH21,0) -> 974 | AP16: =ROUND($P16*'Select Tuition Changes'!AI21,0) -> 974 | AQ16: =ROUND($P16*'Select Tuition Changes'!AJ21,0) -> 974 | AS16: =+AL15 -> 468 | AT16: =+AM15 -> 468 | AU16: =+AN15 -> 468 | AV16: =+AO15 -> 468 | AW16: =+AP15 -> 468 | AX16: =+AQ15 -> 468 | AZ16: =+AL16-AS16 -> 506 | BA16: =+AM16-AT16 -> 506 | BB16: =+AN16-AU16 -> 506 | BC16: =+AO16-AV16 -> 506 | BD16: =+AP16-AW16 -> 506 | BE16: =+AQ16-AX16 -> 506 | BG16: =IF(Q16>0,R16/Q16,0) -> 1 | BH16: =IF(R16>0,S16/R16,0) -> 1 | BI16: =IF(S16>0,T16/S16,0) -> 1 | BJ16: =IF(T16>0,U16/T16,0) -> 1 | BK16: =IF(U16>0,V16/U16,0) -> 1 | BM16: =IF(X16>0,Y16/X16,0) -> 1 | BN16: =IF(Y16>0,Z16/Y16,0) -> 1 | BO16: =IF(Z16>0,AA16/Z16,0) -> 1 | BP16: =IF(AA16>0,AB16/AA16,0) -> 1 | BQ16: =IF(AB16>0,AC16/AB16,0) -> 1 | BS16: =IF(AE16>0,AF16/AE16,0) -> 1 | BT16: =IF(AF16>0,AG16/AF16,0) -> 1 | BU16: =IF(AG16>0,AH16/AG16,0) -> 1 | BV16: =IF(AH16>0,AI16/AH16,0) -> 1 | BW16: =IF(AI16>0,AJ16/AI16,0) -> 1 | BY16: =IF(AL16>0,AM16/AL16,0) -> 1 | BZ16: =IF(AM16>0,AN16/AM16,0) -> 1 | CA16: =IF(AN16>0,AO16/AN16,0) -> 1 | CB16: =IF(AO16>0,AP16/AO16,0) -> 1 | CC16: =IF(AP16>0,AQ16/AP16,0) -> 1 | CE16: =IF(AS16>0,AT16/AS16,0) -> 1 | CF16: =IF(AT16>0,AU16/AT16,0) -> 1 | CG16: =IF(AU16>0,AV16/AU16,0) -> 1 | CH16: =IF(AV16>0,AW16/AV16,0) -> 1 | CI16: =IF(AW16>0,AX16/AW16,0) -> 1 | CK16: =IF(AZ16>0,BA16/AZ16,0) -> 1 | CL16: =IF(BA16>0,BB16/BA16,0) -> 1 | CM16: =IF(BB16>0,BC16/BB16,0) -> 1 | CN16: =IF(BC16>0,BD16/BC16,0) -> 1 | CO16: =IF(BD16>0,BE16/BD16,0) -> 1
A17: 0 | B17: Seattle Campus | C17: 11 | D17: 07 | E17: Education Graduate | F17: 27 | G17: Master of Education and Master in Teaching | H17: 1 | I17: Resident | J17: =+'Select Tuition Changes'!Y22 -> 0 | K17: =+'Select Tuition Changes'!Z22 -> 0 | L17: =+'Select Tuition Changes'!AA22 -> 0 | M17: =+'Select Tuition Changes'!AB22 -> 0 | N17: =+'Select Tuition Changes'!AC22 -> 0 | P17: 0.03 | Q17: =+'Select Tuition Changes'!AE22-'Tuition Calculations'!AL17 -> 14565 | R17: =+'Select Tuition Changes'!AF22-'Tuition Calculations'!AM17 -> 14565 | S17: =+'Select Tuition Changes'!AG22-'Tuition Calculations'!AN17 -> 14565 | T17: =+'Select Tuition Changes'!AH22-'Tuition Calculations'!AO17 -> 14565 | U17: =+'Select Tuition Changes'!AI22-'Tuition Calculations'!AP17 -> 14565 | V17: =+'Select Tuition Changes'!AJ22-'Tuition Calculations'!AQ17 -> 14565 | X17: =+Q17 -> 14565 | Y17: =+R17 -> 14565 | Z17: =+S17 -> 14565 | AA17: =+T17 -> 14565 | AB17: =+U17 -> 14565 | AC17: =+V17 -> 14565 | AE17: =+Q17-X17 -> 0 | AF17: =+R17-Y17 -> 0 | AG17: =+S17-Z17 -> 0 | AH17: =+T17-AA17 -> 0 | AI17: =+U17-AB17 -> 0 | AJ17: =+V17-AC17 -> 0 | AL17: =ROUND($P17*'Select Tuition Changes'!AE22,0) -> 450 | AM17: =ROUND($P17*'Select Tuition Changes'!AF22,0) -> 450 | AN17: =ROUND($P17*'Select Tuition Changes'!AG22,0) -> 450 | AO17: =ROUND($P17*'Select Tuition Changes'!AH22,0) -> 450 | AP17: =ROUND($P17*'Select Tuition Changes'!AI22,0) -> 450 | AQ17: =ROUND($P17*'Select Tuition Changes'!AJ22,0) -> 450 | AS17: =+AL17 -> 450 | AT17: =+AM17 -> 450 | AU17: =+AN17 -> 450 | AV17: =+AO17 -> 450 | AW17: =+AP17 -> 450 | AX17: =+AQ17 -> 450 | AZ17: =+AL17-AS17 -> 0 | BA17: =+AM17-AT17 -> 0 | BB17: =+AN17-AU17 -> 0 | BC17: =+AO17-AV17 -> 0 | BD17: =+AP17-AW17 -> 0 | BE17: =+AQ17-AX17 -> 0 | BG17: =IF(Q17>0,R17/Q17,0) -> 1 | BH17: =IF(R17>0,S17/R17,0) -> 1 | BI17: =IF(S17>0,T17/S17,0) -> 1 | BJ17: =IF(T17>0,U17/T17,0) -> 1 | BK17: =IF(U17>0,V17/U17,0) -> 1 | BM17: =IF(X17>0,Y17/X17,0) -> 1 | BN17: =IF(Y17>0,Z17/Y17,0) -> 1 | BO17: =IF(Z17>0,AA17/Z17,0) -> 1 | BP17: =IF(AA17>0,AB17/AA17,0) -> 1 | BQ17: =IF(AB17>0,AC17/AB17,0) -> 1 | BS17: =IF(AE17>0,AF17/AE17,0) -> 0 | BT17: =IF(AF17>0,AG17/AF17,0) -> 0 | BU17: =IF(AG17>0,AH17/AG17,0) -> 0 | BV17: =IF(AH17>0,AI17/AH17,0) -> 0 | BW17: =IF(AI17>0,AJ17/AI17,0) -> 0 | BY17: =IF(AL17>0,AM17/AL17,0) -> 1 | BZ17: =IF(AM17>0,AN17/AM17,0) -> 1 | CA17: =IF(AN17>0,AO17/AN17,0) -> 1 | CB17: =IF(AO17>0,AP17/AO17,0) -> 1 | CC17: =IF(AP17>0,AQ17/AP17,0) -> 1 | CE17: =IF(AS17>0,AT17/AS17,0) -> 1 | CF17: =IF(AT17>0,AU17/AT17,0) -> 1 | CG17: =IF(AU17>0,AV17/AU17,0) -> 1 | CH17: =IF(AV17>0,AW17/AV17,0) -> 1 | CI17: =IF(AW17>0,AX17/AW17,0) -> 1 | CK17: =IF(AZ17>0,BA17/AZ17,0) -> 0 | CL17: =IF(BA17>0,BB17/BA17,0) -> 0 | CM17: =IF(BB17>0,BC17/BB17,0) -> 0 | CN17: =IF(BC17>0,BD17/BC17,0) -> 0 | CO17: =IF(BD17>0,BE17/BD17,0) -> 0
A18: 0 | B18: Seattle Campus | C18: 11 | D18: 07 | E18: Education Graduate | F18: 27 | G18: Master of Education and Master in Teaching | H18: 2 | I18: Nonresident | J18: =+'Select Tuition Changes'!Y23 -> 0 | K18: =+'Select Tuition Changes'!Z23 -> 0 | L18: =+'Select Tuition Changes'!AA23 -> 0 | M18: =+'Select Tuition Changes'!AB23 -> 0 | N18: =+'Select Tuition Changes'!AC23 -> 0 | P18: 0.035 | Q18: =+'Select Tuition Changes'!AE23-'Tuition Calculations'!AL18 -> 26863 | R18: =+'Select Tuition Changes'!AF23-'Tuition Calculations'!AM18 -> 26863 | S18: =+'Select Tuition Changes'!AG23-'Tuition Calculations'!AN18 -> 26863 | T18: =+'Select Tuition Changes'!AH23-'Tuition Calculations'!AO18 -> 26863 | U18: =+'Select Tuition Changes'!AI23-'Tuition Calculations'!AP18 -> 26863 | V18: =+'Select Tuition Changes'!AJ23-'Tuition Calculations'!AQ18 -> 26863 | X18: =+Q17 -> 14565 | Y18: =+R17 -> 14565 | Z18: =+S17 -> 14565 | AA18: =+T17 -> 14565 | AB18: =+U17 -> 14565 | AC18: =+V17 -> 14565 | AE18: =+Q18-X18 -> 12298 | AF18: =+R18-Y18 -> 12298 | AG18: =+S18-Z18 -> 12298 | AH18: =+T18-AA18 -> 12298 | AI18: =+U18-AB18 -> 12298 | AJ18: =+V18-AC18 -> 12298 | AL18: =ROUND($P18*'Select Tuition Changes'!AE23,0) -> 974 | AM18: =ROUND($P18*'Select Tuition Changes'!AF23,0) -> 974 | AN18: =ROUND($P18*'Select Tuition Changes'!AG23,0) -> 974 | AO18: =ROUND($P18*'Select Tuition Changes'!AH23,0) -> 974 | AP18: =ROUND($P18*'Select Tuition Changes'!AI23,0) -> 974 | AQ18: =ROUND($P18*'Select Tuition Changes'!AJ23,0) -> 974 | AS18: =+AL17 -> 450 | AT18: =+AM17 -> 450 | AU18: =+AN17 -> 450 | AV18: =+AO17 -> 450 | AW18: =+AP17 -> 450 | AX18: =+AQ17 -> 450 | AZ18: =+AL18-AS18 -> 524 | BA18: =+AM18-AT18 -> 524 | BB18: =+AN18-AU18 -> 524 | BC18: =+AO18-AV18 -> 524 | BD18: =+AP18-AW18 -> 524 | BE18: =+AQ18-AX18 -> 524 | BG18: =IF(Q18>0,R18/Q18,0) -> 1 | BH18: =IF(R18>0,S18/R18,0) -> 1 | BI18: =IF(S18>0,T18/S18,0) -> 1 | BJ18: =IF(T18>0,U18/T18,0) -> 1 | BK18: =IF(U18>0,V18/U18,0) -> 1 | BM18: =IF(X18>0,Y18/X18,0) -> 1 | BN18: =IF(Y18>0,Z18/Y18,0) -> 1 | BO18: =IF(Z18>0,AA18/Z18,0) -> 1 | BP18: =IF(AA18>0,AB18/AA18,0) -> 1 | BQ18: =IF(AB18>0,AC18/AB18,0) -> 1 | BS18: =IF(AE18>0,AF18/AE18,0) -> 1 | BT18: =IF(AF18>0,AG18/AF18,0) -> 1 | BU18: =IF(AG18>0,AH18/AG18,0) -> 1 | BV18: =IF(AH18>0,AI18/AH18,0) -> 1 | BW18: =IF(AI18>0,AJ18/AI18,0) -> 1 | BY18: =IF(AL18>0,AM18/AL18,0) -> 1 | BZ18: =IF(AM18>0,AN18/AM18,0) -> 1 | CA18: =IF(AN18>0,AO18/AN18,0) -> 1 | CB18: =IF(AO18>0,AP18/AO18,0) -> 1 | CC18: =IF(AP18>0,AQ18/AP18,0) -> 1 | CE18: =IF(AS18>0,AT18/AS18,0) -> 1 | CF18: =IF(AT18>0,AU18/AT18,0) -> 1 | CG18: =IF(AU18>0,AV18/AU18,0) -> 1 | CH18: =IF(AV18>0,AW18/AV18,0) -> 1 | CI18: =IF(AW18>0,AX18/AW18,0) -> 1 | CK18: =IF(AZ18>0,BA18/AZ18,0) -> 1 | CL18: =IF(BA18>0,BB18/BA18,0) -> 1 | CM18: =IF(BB18>0,BC18/BB18,0) -> 1 | CN18: =IF(BC18>0,BD18/BC18,0) -> 1 | CO18: =IF(BD18>0,BE18/BD18,0) -> 1
A19: 0 | B19: Seattle Campus | C19: 11 | D19: 07 | E19: Education Graduate | F19: 28 | G19: Doctor of Education and Education PhD | H19: 1 | I19: Resident | J19: =+'Select Tuition Changes'!Y24 -> 0 | K19: =+'Select Tuition Changes'!Z24 -> 0 | L19: =+'Select Tuition Changes'!AA24 -> 0 | M19: =+'Select Tuition Changes'!AB24 -> 0 | N19: =+'Select Tuition Changes'!AC24 -> 0 | P19: 0.03 | Q19: =+'Select Tuition Changes'!AE24-'Tuition Calculations'!AL19 -> 14565 | R19: =+'Select Tuition Changes'!AF24-'Tuition Calculations'!AM19 -> 14565 | S19: =+'Select Tuition Changes'!AG24-'Tuition Calculations'!AN19 -> 14565 | T19: =+'Select Tuition Changes'!AH24-'Tuition Calculations'!AO19 -> 14565 | U19: =+'Select Tuition Changes'!AI24-'Tuition Calculations'!AP19 -> 14565 | V19: =+'Select Tuition Changes'!AJ24-'Tuition Calculations'!AQ19 -> 14565 | X19: =+Q19 -> 14565 | Y19: =+R19 -> 14565 | Z19: =+S19 -> 14565 | AA19: =+T19 -> 14565 | AB19: =+U19 -> 14565 | AC19: =+V19 -> 14565 | AE19: =+Q19-X19 -> 0 | AF19: =+R19-Y19 -> 0 | AG19: =+S19-Z19 -> 0 | AH19: =+T19-AA19 -> 0 | AI19: =+U19-AB19 -> 0 | AJ19: =+V19-AC19 -> 0 | AL19: =ROUND($P19*'Select Tuition Changes'!AE24,0) -> 450 | AM19: =ROUND($P19*'Select Tuition Changes'!AF24,0) -> 450 | AN19: =ROUND($P19*'Select Tuition Changes'!AG24,0) -> 450 | AO19: =ROUND($P19*'Select Tuition Changes'!AH24,0) -> 450 | AP19: =ROUND($P19*'Select Tuition Changes'!AI24,0) -> 450 | AQ19: =ROUND($P19*'Select Tuition Changes'!AJ24,0) -> 450 | AS19: =+AL19 -> 450 | AT19: =+AM19 -> 450 | AU19: =+AN19 -> 450 | AV19: =+AO19 -> 450 | AW19: =+AP19 -> 450 | AX19: =+AQ19 -> 450 | AZ19: =+AL19-AS19 -> 0 | BA19: =+AM19-AT19 -> 0 | BB19: =+AN19-AU19 -> 0 | BC19: =+AO19-AV19 -> 0 | BD19: =+AP19-AW19 -> 0 | BE19: =+AQ19-AX19 -> 0 | BG19: =IF(Q19>0,R19/Q19,0) -> 1 | BH19: =IF(R19>0,S19/R19,0) -> 1 | BI19: =IF(S19>0,T19/S19,0) -> 1 | BJ19: =IF(T19>0,U19/T19,0) -> 1 | BK19: =IF(U19>0,V19/U19,0) -> 1 | BM19: =IF(X19>0,Y19/X19,0) -> 1 | BN19: =IF(Y19>0,Z19/Y19,0) -> 1 | BO19: =IF(Z19>0,AA19/Z19,0) -> 1 | BP19: =IF(AA19>0,AB19/AA19,0) -> 1 | BQ19: =IF(AB19>0,AC19/AB19,0) -> 1 | BS19: =IF(AE19>0,AF19/AE19,0) -> 0 | BT19: =IF(AF19>0,AG19/AF19,0) -> 0 | BU19: =IF(AG19>0,AH19/AG19,0) -> 0 | BV19: =IF(AH19>0,AI19/AH19,0) -> 0 | BW19: =IF(AI19>0,AJ19/AI19,0) -> 0 | BY19: =IF(AL19>0,AM19/AL19,0) -> 1 | BZ19: =IF(AM19>0,AN19/AM19,0) -> 1 | CA19: =IF(AN19>0,AO19/AN19,0) -> 1 | CB19: =IF(AO19>0,AP19/AO19,0) -> 1 | CC19: =IF(AP19>0,AQ19/AP19,0) -> 1 | CE19: =IF(AS19>0,AT19/AS19,0) -> 1 | CF19: =IF(AT19>0,AU19/AT19,0) -> 1 | CG19: =IF(AU19>0,AV19/AU19,0) -> 1 | CH19: =IF(AV19>0,AW19/AV19,0) -> 1 | CI19: =IF(AW19>0,AX19/AW19,0) -> 1 | CK19: =IF(AZ19>0,BA19/AZ19,0) -> 0 | CL19: =IF(BA19>0,BB19/BA19,0) -> 0 | CM19: =IF(BB19>0,BC19/BB19,0) -> 0 | CN19: =IF(BC19>0,BD19/BC19,0) -> 0 | CO19: =IF(BD19>0,BE19/BD19,0) -> 0
A20: 0 | B20: Seattle Campus | C20: 11 | D20: 07 | E20: Education Graduate | F20: 28 | G20: Doctor of Education and Education PhD | H20: 2 | I20: Nonresident | J20: =+'Select Tuition Changes'!Y25 -> 0 | K20: =+'Select Tuition Changes'!Z25 -> 0 | L20: =+'Select Tuition Changes'!AA25 -> 0 | M20: =+'Select Tuition Changes'!AB25 -> 0 | N20: =+'Select Tuition Changes'!AC25 -> 0 | P20: 0.035 | Q20: =+'Select Tuition Changes'!AE25-'Tuition Calculations'!AL20 -> 26863 | R20: =+'Select Tuition Changes'!AF25-'Tuition Calculations'!AM20 -> 26863 | S20: =+'Select Tuition Changes'!AG25-'Tuition Calculations'!AN20 -> 26863 | T20: =+'Select Tuition Changes'!AH25-'Tuition Calculations'!AO20 -> 26863 | U20: =+'Select Tuition Changes'!AI25-'Tuition Calculations'!AP20 -> 26863 | V20: =+'Select Tuition Changes'!AJ25-'Tuition Calculations'!AQ20 -> 26863 | X20: =+Q19 -> 14565 | Y20: =+R19 -> 14565 | Z20: =+S19 -> 14565 | AA20: =+T19 -> 14565 | AB20: =+U19 -> 14565 | AC20: =+V19 -> 14565 | AE20: =+Q20-X20 -> 12298 | AF20: =+R20-Y20 -> 12298 | AG20: =+S20-Z20 -> 12298 | AH20: =+T20-AA20 -> 12298 | AI20: =+U20-AB20 -> 12298 | AJ20: =+V20-AC20 -> 12298 | AL20: =ROUND($P20*'Select Tuition Changes'!AE25,0) -> 974 | AM20: =ROUND($P20*'Select Tuition Changes'!AF25,0) -> 974 | AN20: =ROUND($P20*'Select Tuition Changes'!AG25,0) -> 974 | AO20: =ROUND($P20*'Select Tuition Changes'!AH25,0) -> 974 | AP20: =ROUND($P20*'Select Tuition Changes'!AI25,0) -> 974 | AQ20: =ROUND($P20*'Select Tuition Changes'!AJ25,0) -> 974 | AS20: =+AL19 -> 450 | AT20: =+AM19 -> 450 | AU20: =+AN19 -> 450 | AV20: =+AO19 -> 450 | AW20: =+AP19 -> 450 | AX20: =+AQ19 -> 450 | AZ20: =+AL20-AS20 -> 524 | BA20: =+AM20-AT20 -> 524 | BB20: =+AN20-AU20 -> 524 | BC20: =+AO20-AV20 -> 524 | BD20: =+AP20-AW20 -> 524 | BE20: =+AQ20-AX20 -> 524 | BG20: =IF(Q20>0,R20/Q20,0) -> 1 | BH20: =IF(R20>0,S20/R20,0) -> 1 | BI20: =IF(S20>0,T20/S20,0) -> 1 | BJ20: =IF(T20>0,U20/T20,0) -> 1 | BK20: =IF(U20>0,V20/U20,0) -> 1 | BM20: =IF(X20>0,Y20/X20,0) -> 1 | BN20: =IF(Y20>0,Z20/Y20,0) -> 1 | BO20: =IF(Z20>0,AA20/Z20,0) -> 1 | BP20: =IF(AA20>0,AB20/AA20,0) -> 1 | BQ20: =IF(AB20>0,AC20/AB20,0) -> 1 | BS20: =IF(AE20>0,AF20/AE20,0) -> 1 | BT20: =IF(AF20>0,AG20/AF20,0) -> 1 | BU20: =IF(AG20>0,AH20/AG20,0) -> 1 | BV20: =IF(AH20>0,AI20/AH20,0) -> 1 | BW20: =IF(AI20>0,AJ20/AI20,0) -> 1 | BY20: =IF(AL20>0,AM20/AL20,0) -> 1 | BZ20: =IF(AM20>0,AN20/AM20,0) -> 1 | CA20: =IF(AN20>0,AO20/AN20,0) -> 1 | CB20: =IF(AO20>0,AP20/AO20,0) -> 1 | CC20: =IF(AP20>0,AQ20/AP20,0) -> 1 | CE20: =IF(AS20>0,AT20/AS20,0) -> 1 | CF20: =IF(AT20>0,AU20/AT20,0) -> 1 | CG20: =IF(AU20>0,AV20/AU20,0) -> 1 | CH20: =IF(AV20>0,AW20/AV20,0) -> 1 | CI20: =IF(AW20>0,AX20/AW20,0) -> 1 | CK20: =IF(AZ20>0,BA20/AZ20,0) -> 1 | CL20: =IF(BA20>0,BB20/BA20,0) -> 1 | CM20: =IF(BB20>0,BC20/BB20,0) -> 1 | CN20: =IF(BC20>0,BD20/BC20,0) -> 1 | CO20: =IF(BD20>0,BE20/BD20,0) -> 1
A21: 0 | B21: Seattle Campus | C21: 17 | D21: 09 | E21: MSW | F21: 23 | G21: Master of Social Work | H21: 1 | I21: Resident | J21: =+'Select Tuition Changes'!Y26 -> 0 | K21: =+'Select Tuition Changes'!Z26 -> 0 | L21: =+'Select Tuition Changes'!AA26 -> 0 | M21: =+'Select Tuition Changes'!AB26 -> 0 | N21: =+'Select Tuition Changes'!AC26 -> 0 | P21: 0.03 | Q21: =+'Select Tuition Changes'!AE26-'Tuition Calculations'!AL21 -> 16133 | R21: =+'Select Tuition Changes'!AF26-'Tuition Calculations'!AM21 -> 16133 | S21: =+'Select Tuition Changes'!AG26-'Tuition Calculations'!AN21 -> 16133 | T21: =+'Select Tuition Changes'!AH26-'Tuition Calculations'!AO21 -> 16133 | U21: =+'Select Tuition Changes'!AI26-'Tuition Calculations'!AP21 -> 16133 | V21: =+'Select Tuition Changes'!AJ26-'Tuition Calculations'!AQ21 -> 16133 | X21: =+Q21 -> 16133 | Y21: =+R21 -> 16133 | Z21: =+S21 -> 16133 | AA21: =+T21 -> 16133 | AB21: =+U21 -> 16133 | AC21: =+V21 -> 16133 | AE21: =+Q21-X21 -> 0 | AF21: =+R21-Y21 -> 0 | AG21: =+S21-Z21 -> 0 | AH21: =+T21-AA21 -> 0 | AI21: =+U21-AB21 -> 0 | AJ21: =+V21-AC21 -> 0 | AL21: =ROUND($P21*'Select Tuition Changes'!AE26,0) -> 499 | AM21: =ROUND($P21*'Select Tuition Changes'!AF26,0) -> 499 | AN21: =ROUND($P21*'Select Tuition Changes'!AG26,0) -> 499 | AO21: =ROUND($P21*'Select Tuition Changes'!AH26,0) -> 499 | AP21: =ROUND($P21*'Select Tuition Changes'!AI26,0) -> 499 | AQ21: =ROUND($P21*'Select Tuition Changes'!AJ26,0) -> 499 | AS21: =+AL21 -> 499 | AT21: =+AM21 -> 499 | AU21: =+AN21 -> 499 | AV21: =+AO21 -> 499 | AW21: =+AP21 -> 499 | AX21: =+AQ21 -> 499 | AZ21: =+AL21-AS21 -> 0 | BA21: =+AM21-AT21 -> 0 | BB21: =+AN21-AU21 -> 0 | BC21: =+AO21-AV21 -> 0 | BD21: =+AP21-AW21 -> 0 | BE21: =+AQ21-AX21 -> 0 | BG21: =IF(Q21>0,R21/Q21,0) -> 1 | BH21: =IF(R21>0,S21/R21,0) -> 1 | BI21: =IF(S21>0,T21/S21,0) -> 1 | BJ21: =IF(T21>0,U21/T21,0) -> 1 | BK21: =IF(U21>0,V21/U21,0) -> 1 | BM21: =IF(X21>0,Y21/X21,0) -> 1 | BN21: =IF(Y21>0,Z21/Y21,0) -> 1 | BO21: =IF(Z21>0,AA21/Z21,0) -> 1 | BP21: =IF(AA21>0,AB21/AA21,0) -> 1 | BQ21: =IF(AB21>0,AC21/AB21,0) -> 1 | BS21: =IF(AE21>0,AF21/AE21,0) -> 0 | BT21: =IF(AF21>0,AG21/AF21,0) -> 0 | BU21: =IF(AG21>0,AH21/AG21,0) -> 0 | BV21: =IF(AH21>0,AI21/AH21,0) -> 0 | BW21: =IF(AI21>0,AJ21/AI21,0) -> 0 | BY21: =IF(AL21>0,AM21/AL21,0) -> 1 | BZ21: =IF(AM21>0,AN21/AM21,0) -> 1 | CA21: =IF(AN21>0,AO21/AN21,0) -> 1 | CB21: =IF(AO21>0,AP21/AO21,0) -> 1 | CC21: =IF(AP21>0,AQ21/AP21,0) -> 1 | CE21: =IF(AS21>0,AT21/AS21,0) -> 1 | CF21: =IF(AT21>0,AU21/AT21,0) -> 1 | CG21: =IF(AU21>0,AV21/AU21,0) -> 1 | CH21: =IF(AV21>0,AW21/AV21,0) -> 1 | CI21: =IF(AW21>0,AX21/AW21,0) -> 1 | CK21: =IF(AZ21>0,BA21/AZ21,0) -> 0 | CL21: =IF(BA21>0,BB21/BA21,0) -> 0 | CM21: =IF(BB21>0,BC21/BB21,0) -> 0 | CN21: =IF(BC21>0,BD21/BC21,0) -> 0 | CO21: =IF(BD21>0,BE21/BD21,0) -> 0
A22: 0 | B22: Seattle Campus | C22: 17 | D22: 09 | E22: MSW | F22: 23 | G22: Master of Social Work | H22: 2 | I22: Nonresident | J22: =+'Select Tuition Changes'!Y27 -> 0 | K22: =+'Select Tuition Changes'!Z27 -> 0 | L22: =+'Select Tuition Changes'!AA27 -> 0 | M22: =+'Select Tuition Changes'!AB27 -> 0 | N22: =+'Select Tuition Changes'!AC27 -> 0 | P22: 0.035 | Q22: =+'Select Tuition Changes'!AE27-'Tuition Calculations'!AL22 -> 27569 | R22: =+'Select Tuition Changes'!AF27-'Tuition Calculations'!AM22 -> 27569 | S22: =+'Select Tuition Changes'!AG27-'Tuition Calculations'!AN22 -> 27569 | T22: =+'Select Tuition Changes'!AH27-'Tuition Calculations'!AO22 -> 27569 | U22: =+'Select Tuition Changes'!AI27-'Tuition Calculations'!AP22 -> 27569 | V22: =+'Select Tuition Changes'!AJ27-'Tuition Calculations'!AQ22 -> 27569 | X22: =+Q21 -> 16133 | Y22: =+R21 -> 16133 | Z22: =+S21 -> 16133 | AA22: =+T21 -> 16133 | AB22: =+U21 -> 16133 | AC22: =+V21 -> 16133 | AE22: =+Q22-X22 -> 11436 | AF22: =+R22-Y22 -> 11436 | AG22: =+S22-Z22 -> 11436 | AH22: =+T22-AA22 -> 11436 | AI22: =+U22-AB22 -> 11436 | AJ22: =+V22-AC22 -> 11436 | AL22: =ROUND($P22*'Select Tuition Changes'!AE27,0) -> 1000 | AM22: =ROUND($P22*'Select Tuition Changes'!AF27,0) -> 1000 | AN22: =ROUND($P22*'Select Tuition Changes'!AG27,0) -> 1000 | AO22: =ROUND($P22*'Select Tuition Changes'!AH27,0) -> 1000 | AP22: =ROUND($P22*'Select Tuition Changes'!AI27,0) -> 1000 | AQ22: =ROUND($P22*'Select Tuition Changes'!AJ27,0) -> 1000 | AS22: =+AL21 -> 499 | AT22: =+AM21 -> 499 | AU22: =+AN21 -> 499 | AV22: =+AO21 -> 499 | AW22: =+AP21 -> 499 | AX22: =+AQ21 -> 499 | AZ22: =+AL22-AS22 -> 501 | BA22: =+AM22-AT22 -> 501 | BB22: =+AN22-AU22 -> 501 | BC22: =+AO22-AV22 -> 501 | BD22: =+AP22-AW22 -> 501 | BE22: =+AQ22-AX22 -> 501 | BG22: =IF(Q22>0,R22/Q22,0) -> 1 | BH22: =IF(R22>0,S22/R22,0) -> 1 | BI22: =IF(S22>0,T22/S22,0) -> 1 | BJ22: =IF(T22>0,U22/T22,0) -> 1 | BK22: =IF(U22>0,V22/U22,0) -> 1 | BM22: =IF(X22>0,Y22/X22,0) -> 1 | BN22: =IF(Y22>0,Z22/Y22,0) -> 1 | BO22: =IF(Z22>0,AA22/Z22,0) -> 1 | BP22: =IF(AA22>0,AB22/AA22,0) -> 1 | BQ22: =IF(AB22>0,AC22/AB22,0) -> 1 | BS22: =IF(AE22>0,AF22/AE22,0) -> 1 | BT22: =IF(AF22>0,AG22/AF22,0) -> 1 | BU22: =IF(AG22>0,AH22/AG22,0) -> 1 | BV22: =IF(AH22>0,AI22/AH22,0) -> 1 | BW22: =IF(AI22>0,AJ22/AI22,0) -> 1 | BY22: =IF(AL22>0,AM22/AL22,0) -> 1 | BZ22: =IF(AM22>0,AN22/AM22,0) -> 1 | CA22: =IF(AN22>0,AO22/AN22,0) -> 1 | CB22: =IF(AO22>0,AP22/AO22,0) -> 1 | CC22: =IF(AP22>0,AQ22/AP22,0) -> 1 | CE22: =IF(AS22>0,AT22/AS22,0) -> 1 | CF22: =IF(AT22>0,AU22/AT22,0) -> 1 | CG22: =IF(AU22>0,AV22/AU22,0) -> 1 | CH22: =IF(AV22>0,AW22/AV22,0) -> 1 | CI22: =IF(AW22>0,AX22/AW22,0) -> 1 | CK22: =IF(AZ22>0,BA22/AZ22,0) -> 1 | CL22: =IF(BA22>0,BB22/BA22,0) -> 1 | CM22: =IF(BB22>0,BC22/BB22,0) -> 1 | CN22: =IF(BC22>0,BD22/BC22,0) -> 1 | CO22: =IF(BD22>0,BE22/BD22,0) -> 1
