Workbook
Name GPpcntMjr: Parameters!$B$4
Name GPPcntMjrNew: Parameters!$B$9
Name GPpcntSCH: Parameters!$B$3
Name GPPcntSCHNew: Parameters!$B$8
Name UGpcntDeg: Parameters!$B$2
Name UGPcntDegNew: Parameters!$B$7
Name UGpcntSCH: Parameters!$B$1
Name UGPcntSCHNew: Parameters!$B$6

Sheet Instructions
A1: Tuition Revenue Projection Model Instructions
A2: 1 | B2: Go to the "Tuition Rates" tab and enter the percentage tuition increases that you are considering for your tuition rates. Enter the percentage change in the yellow highlighted cells.
A3: 2 | B3: Go to the "HeadcountChgs" tab and enter the change you anticipate in enrollments in your tuition categories. Enter the percentage change in the yellow highlighted cells.
A4: 3 | B4: If you plan on generating additional undergraduate SCH or degrees, go to the "FY17ProjSCH(revised)" and "FY17ProjMjrs(revised)" tabs, and increase the UG SCH or degrees your school or college will offer. Note that we do not anticipate the number of SCH or undergraduate degrees to increase, so you need to subtract the additional SCH or degrees you plan to offer from other schools and colleges.
A5: 4 | B5: The effects of your proposed tuition changes, headcount changes, and generation of SCH and degrees will be reflected on the Summary tab.
A6: Updated 11/13/2016

Sheet Summary
A1: Projected Effect of Selected Changes Including a comparison of UG: 60% SCH,40% degrees; Grad: 20% SCH, 80% majors TO UG: 80% SCH, 20% degrees, Grad: 80% SCH, 20% majors
A2: School/College | B2: FY17 Projected | C2: FY17 Projection Fall Update | D2: Est FY17 True-Up | E2: FY18 Projection (old distribution rules) | F2: FY18 Projection (new distribution rules) | G2: FY18 Change to Supplement with new distribution rules | H2: Combined FY18 Projection + Supplement Change | I2: Change from FY 17 Fall Projection Update to FY18 Projection (old rules) | J2: Change from FY17 Fall Projection to FY18 Projection + Supplement change (new rules) | K2: FY19 Projection (new rules) | L2: Projected FY18 Increment | M2: Projected FY19 Increment
A3: Built Environments | B3: 10112673 | C3: {=TRANSPOSE('FY17ProjRevToColl(revised)'!D25:T25)} -> 10001693 | D3: =+C3-B3 -> -110980.23 | E3: {=TRANSPOSE('FY18ProjRevToColl(old)'!C25:S25)} -> 10155469 | F3: {=TRANSPOSE('FY18ProjRevToColl(new)'!C25:S25)} -> 10388802 | G3: =+E3-F3 -> -233333.71 | H3: =+F3+G3 -> 10155469 | I3: =+E3-C3 -> 153775.93 | J3: =+F3+G3-C3 -> 153775.93 | K3: {=TRANSPOSE(FY19ProjRevToColl!C25:S25)} -> 10602081 | L3: =+J3 -> 153775.93 | M3: =+K3-F3 -> 213278.25
A4: Coll Arts & Sciences | B4: 1.7449938e+08 | C4: 1.7571753e+08 | D4: =+C4-B4 -> 1218149.1 | E4: 1.7849079e+08 | F4: 1.8027651e+08 | G4: =+E4-F4 -> -1785720.2 | H4: =+F4+G4 -> 1.7849079e+08 | I4: =+E4-C4 -> 2773266.2 | J4: =+F4+G4-C4 -> 2773266.2 | K4: 1.8404639e+08 | L4: =+J4 -> 2773266.2 | M4: =+K4-F4 -> 3769874.6
A5: Foster Business School | B5: 27257250 | C5: 27007030 | D5: =+C5-B5 -> -250220.19 | E5: 27429167 | F5: 25317918 | G5: =+E5-F5 -> 2111249.1 | H5: =+F5+G5 -> 27429167 | I5: =+E5-C5 -> 422136.66 | J5: =+F5+G5-C5 -> 422136.66 | K5: 25843144 | L5: =+J5 -> 422136.66 | M5: =+K5-F5 -> 525226.17
A6: College Of Education | B6: 8862273.8 | C6: 9200852.8 | D6: =+C6-B6 -> 338579.06 | E6: 9342388.8 | F6: 9201053.3 | G6: =+E6-F6 -> 141335.52 | H6: =+F6+G6 -> 9342388.8 | I6: =+E6-C6 -> 141535.99 | J6: =+F6+G6-C6 -> 141535.99 | K6: 9389705.5 | L6: =+J6 -> 141535.99 | M6: =+K6-F6 -> 188652.18
A7: College Of Engineering | B7: 39018861 | C7: 38369760 | D7: =+C7-B7 -> -649100.76 | E7: 38967496 | F7: 38496871 | G7: =+E7-F7 -> 470625.37 | H7: =+F7+G7 -> 38967496 | I7: =+E7-C7 -> 597736.3 | J7: =+F7+G7-C7 -> 597736.3 | K7: 39295136 | L7: =+J7 -> 597736.3 | M7: =+K7-F7 -> 798265.21
A8: College Of Environment | B8: 16167577 | C8: 15933012 | D8: =+C8-B8 -> -234565.64 | E8: 16182078 | F8: 17433617 | G8: =+E8-F8 -> -1251539.5 | H8: =+F8+G8 -> 16182078 | I8: =+E8-C8 -> 249066.04 | J8: =+F8+G8-C8 -> 249066.04 | K8: 17796288 | L8: =+J8 -> 249066.04 | M8: =+K8-F8 -> 362670.6
A9: The Information School | B9: 4660752 | C9: 5073300.7 | D9: =+C9-B9 -> 412548.79 | E9: 5153390.8 | F9: 5397520.2 | G9: =+E9-F9 -> -244129.36 | H9: =+F9+G9 -> 5153390.8 | I9: =+E9-C9 -> 80090.078 | J9: =+F9+G9-C9 -> 80090.078 | K9: 5510449 | L9: =+J9 -> 80090.078 | M9: =+K9-F9 -> 112928.77
A10: School Of Law | B10: 11176400 | C10: 11252783 | D10: =+C10-B10 -> 76382.832 | E10: 11420703 | F10: 11411002 | G10: =+E10-F10 -> 9701.4519 | H10: =+F10+G10 -> 11420703 | I10: =+E10-C10 -> 167920.76 | J10: =+F10+G10-C10 -> 167920.76 | K10: 11640016 | L10: =+J10 -> 167920.76 | M10: =+K10-F10 -> 229013.84
A11: Evans Sch Of Public Af | B11: 4283480.8 | C11: 4676409.9 | D11: =+C11-B11 -> 392929.06 | E11: 4746466.1 | F11: 4755652 | G11: =+E11-F11 -> -9185.9318 | H11: =+F11+G11 -> 4746466.1 | I11: =+E11-C11 -> 70056.204 | J11: =+F11+G11-C11 -> 70056.204 | K11: 4851016.8 | L11: =+J11 -> 70056.204 | M11: =+K11-F11 -> 95364.748
A12: School Of Social Work | B12: 4425902.2 | C12: 4549710.3 | D12: =+C12-B12 -> 123808.16 | E12: 4618649.7 | F12: 4386096.8 | G12: =+E12-F12 -> 232552.9 | H12: =+F12+G12 -> 4618649.7 | I12: =+E12-C12 -> 68939.345 | J12: =+F12+G12-C12 -> 68939.345 | K12: 4474891.9 | L12: =+J12 -> 68939.345 | M12: =+K12-F12 -> 88795.104
A13: School Of Dentistry | B13: 7748542 | C13: 7829492.5 | D13: =+C13-B13 -> 80950.49 | E13: 7946298.7 | F13: 7898720.3 | G13: =+E13-F13 -> 47578.398 | H13: =+F13+G13 -> 7946298.7 | I13: =+E13-C13 -> 116806.27 | J13: =+F13+G13-C13 -> 116806.27 | K13: 8056923.4 | L13: =+J13 -> 116806.27 | M13: =+K13-F13 -> 158203.06
A14: School Of Medicine | B14: 27747675 | C14: 28367960 | D14: =+C14-B14 -> 620284.79 | E14: 28472871 | F14: 28825734 | G14: =+E14-F14 -> -352862.78 | H14: =+F14+G14 -> 28472871 | I14: =+E14-C14 -> 104911.33 | J14: =+F14+G14-C14 -> 104911.33 | K14: 29082804 | L14: =+J14 -> 104911.33 | M14: =+K14-F14 -> 257069.85
A15: School Of Nursing | B15: 4814193.7 | C15: 5095520.2 | D15: =+C15-B15 -> 281326.51 | E15: 5174314.2 | F15: 4683203.7 | G15: =+E15-F15 -> 491110.47 | H15: =+F15+G15 -> 5174314.2 | I15: =+E15-C15 -> 78793.983 | J15: =+F15+G15-C15 -> 78793.983 | K15: 4779727.6 | L15: =+J15 -> 78793.983 | M15: =+K15-F15 -> 96523.886
... A19: Dean-Graduate School | B19: 1455932.1 | C19: 1435040.1 | D19: =+C19-B19 -> -20892.008 | E19: 1455269.4 | F19: 1230648.7 | G19: =+E19-F19 -> 224620.75 | H19: =+F19+G19 -> 1455269.4 | I19: =+E19-C19 -> 20229.329 | J19: =+F19+G19-C19 -> 20229.329 | K19: 1255126.8 | L19: =+J19 -> 20229.329 | M19: =+K19-F19 -> 24478.14
A21: Note that adjustment has not yet been made for FY18 and FY19 to keep Grad School programs at old distribution levels
A22: Updated 11/13/2016

Sheet TuitionRates
A1: Tuition Rates (Note: Bothell and Tacoma Undergrad and Grad Tier rates are matched to those at Seattle)
A2: Campus | G2: Tuition Category | I2: Tuition Residency | J2: 2016-17 Tuition | K2: Change for | M2: Tuition for: | P2: 2016-17 to 2017-18 Change | S2: 2017-18 to 2018-19 Change
B3: TuitionGroup | C3: Campus Gp | D3: CampusCatRes | E3: TuitionGroupName | F3: TuitionCategory | H3: TuitionResidency | K3: 2017-18 | L3: 2018-19 | M3: 2016-17 | N3: 2017-18 | P3: %chg | Q3: %reschg | R3: %nonres | S3: %chg | T3: %reschg | U3: %nonres
A4: Seattle | B4: 1 | C4: =CONCATENATE(A4,"_",B4) -> Seattle_1 | D4: =CONCATENATE(A4,"_",F4,"_",H4) -> Seattle_1_1 | E4: Undergraduate | F4: 1 | G4: Undergraduate | H4: 1 | I4: Resident | J4: 9694 | K4: 0.021 | L4: 0.021 | M4: =3*ROUNDUP((1+K4)*J4/3,0) -> 9900 | N4: =3*ROUNDUP(M4*(1+L4)/3,0) -> 10110 | P4: =+M4/J4 -> 1.0212503 | Q4: =+P4 -> 1.0212503 | R4: 0 | S4: =+N4/M4 -> 1.0212121 | T4: =+S4 -> 1.0212121 | U4: 0
B5: 1 | C5: =CONCATENATE(A5,"_",B5) -> _1 | D5: =CONCATENATE(A5,"_",F5,"_",H5) -> _1_2 | E5: Undergraduate | F5: 1 | G5: Undergraduate | H5: 2 | I5: Nonresident | J5: 33732 | K5: 0.02 | L5: 0.02 | M5: =3*ROUNDUP((1+K5)*J5/3,0) -> 34407 | N5: =3*ROUNDUP(M5*(1+L5)/3,0) -> 35097 | P5: =+M5/J5 -> 1.0200107 | Q5: =+Q4 -> 1.0212503 | R5: =+(M5-M4)/(J5-J4) -> 1.0195108 | S5: =+N5/M5 -> 1.0200541 | T5: =+T4 -> 1.0212121 | U5: =+(N5-N4)/(M5-M4) -> 1.0195862
B6: 1 | C6: =CONCATENATE(A6,"_",B6) -> _1 | D6: =CONCATENATE(A6,"_",F6,"_",H6) -> _2_1 | E6: Undergraduate | F6: 2 | G6: Undergraduate Post-Bacc / Non-Matric | H6: 1 | I6: Resident | J6: 9694 | K6: 0.021 | L6: 0.021 | M6: =3*ROUNDUP((1+K6)*J6/3,0) -> 9900 | N6: =3*ROUNDUP(M6*(1+L6)/3,0) -> 10110 | P6: =+M6/J6 -> 1.0212503 | Q6: =+P6 -> 1.0212503 | R6: 0 | S6: =+N6/M6 -> 1.0212121 | T6: =+S6 -> 1.0212121 | U6: 0
B7: 1 | C7: =CONCATENATE(A7,"_",B7) -> _1 | D7: =CONCATENATE(A7,"_",F7,"_",H7) -> _2_2 | E7: Undergraduate | F7: 2 | G7: Undergraduate Post-Bacc / Non-Matric | H7: 2 | I7: Nonresident | J7: 33732 | K7: =+K5 -> 0.02 | L7: =+L5 -> 0.02 | M7: =3*ROUNDUP((1+K7)*J7/3,0) -> 34407 | N7: =3*ROUNDUP(M7*(1+L7)/3,0) -> 35097 | P7: =+M7/J7 -> 1.0200107 | Q7: =+Q6 -> 1.0212503 | R7: =+(M7-M6)/(J7-J6) -> 1.0195108 | S7: =+N7/M7 -> 1.0200541 | T7: =+T6 -> 1.0212121 | U7: =+(N7-N6)/(M7-M6) -> 1.0195862
B8: 3 | C8: =CONCATENATE(A8,"_",B8) -> _3 | D8: =CONCATENATE(A8,"_",F8,"_",H8) -> _4_1 | E8: Graduate Tier I | F8: 4 | G8: Graduate Tier I | H8: 1 | I8: Resident | J8: 15207 | K8: 0.02 | L8: 0.02 | M8: =3*ROUNDUP((1+K8)*J8/3,0) -> 15513 | N8: =3*ROUNDUP(M8*(1+L8)/3,0) -> 15825 | P8: =+M8/J8 -> 1.0201223 | Q8: =+P8 -> 1.0201223 | R8: 0 | S8: =+N8/M8 -> 1.0201122 | T8: =+S8 -> 1.0201122 | U8: 0
B9: 3 | C9: =CONCATENATE(A9,"_",B9) -> _3 | D9: =CONCATENATE(A9,"_",F9,"_",H9) -> _4_2 | E9: Graduate Tier I | F9: 4 | G9: Graduate Tier I | H9: 2 | I9: Nonresident | J9: 27255 | K9: 0.02 | L9: 0.02 | M9: =3*ROUNDUP((1+K9)*J9/3,0) -> 27801 | N9: =3*ROUNDUP(M9*(1+L9)/3,0) -> 28359 | P9: =+M9/J9 -> 1.020033 | Q9: =+Q8 -> 1.0201223 | R9: =+(M9-M8)/(J9-J8) -> 1.0199203 | S9: =+N9/M9 -> 1.0200712 | T9: =+T8 -> 1.0201122 | U9: =+(N9-N8)/(M9-M8) -> 1.0200195
B10: 5 | C10: =CONCATENATE(A10,"_",B10) -> _5 | D10: =CONCATENATE(A10,"_",F10,"_",H10) -> _5_1 | E10: Graduate Tier II | F10: 5 | G10: Graduate Tier II | H10: 1 | I10: Resident | J10: 15594 | K10: 0.02 | L10: 0.02 | M10: =3*ROUNDUP((1+K10)*J10/3,0) -> 15906 | N10: =3*ROUNDUP(M10*(1+L10)/3,0) -> 16227 | P10: =+M10/J10 -> 1.0200077 | Q10: =+P10 -> 1.0200077 | R10: 0 | S10: =+N10/M10 -> 1.0201811 | T10: =+S10 -> 1.0201811 | U10: 0
B11: 5 | C11: =CONCATENATE(A11,"_",B11) -> _5 | D11: =CONCATENATE(A11,"_",F11,"_",H11) -> _5_2 | E11: Graduate Tier II | F11: 5 | G11: Graduate Tier II | H11: 2 | I11: Nonresident | J11: 27837 | K11: 0.02 | L11: 0.02 | M11: =3*ROUNDUP((1+K11)*J11/3,0) -> 28395 | N11: =3*ROUNDUP(M11*(1+L11)/3,0) -> 28965 | P11: =+M11/J11 -> 1.0200453 | Q11: =+Q10 -> 1.0200077 | R11: =+(M11-M10)/(J11-J10) -> 1.0200931 | S11: =+N11/M11 -> 1.020074 | T11: =+T10 -> 1.0201811 | U11: =+(N11-N10)/(M11-M10) -> 1.0199375
B12: 7 | C12: =CONCATENATE(A12,"_",B12) -> _7 | D12: =CONCATENATE(A12,"_",F12,"_",H12) -> _3_1 | E12: Graduate Tier III | F12: 3 | G12: Graduate Post-Bacc / Non-Matric | H12: 1 | I12: Resident | J12: 16917 | K12: =+K14 -> 0.02 | L12: =+L14 -> 0.02 | M12: =3*ROUNDUP((1+K12)*J12/3,0) -> 17256 | N12: =3*ROUNDUP(M12*(1+L12)/3,0) -> 17604 | P12: =+M12/J12 -> 1.020039 | Q12: =+P12 -> 1.020039 | R12: 0 | S12: =+N12/M12 -> 1.0201669 | T12: =+S12 -> 1.0201669 | U12: 0
B13: 7 | C13: =CONCATENATE(A13,"_",B13) -> _7 | D13: =CONCATENATE(A13,"_",F13,"_",H13) -> _3_2 | E13: Graduate Tier III | F13: 3 | G13: Graduate Post-Bacc / Non-Matric | H13: 2 | I13: Nonresident | J13: 30153 | K13: =+K15 -> 0.02 | L13: =+L15 -> 0.02 | M13: =3*ROUNDUP((1+K13)*J13/3,0) -> 30759 | N13: =3*ROUNDUP(M13*(1+L13)/3,0) -> 31377 | P13: =+M13/J13 -> 1.0200975 | Q13: =+Q12 -> 1.020039 | R13: =+(M13-M12)/(J13-J12) -> 1.0201723 | S13: =+N13/M13 -> 1.0200917 | T13: =+T12 -> 1.0201669 | U13: =+(N13-N12)/(M13-M12) -> 1.0199956
B14: 7 | C14: =CONCATENATE(A14,"_",B14) -> _7 | D14: =CONCATENATE(A14,"_",F14,"_",H14) -> _6_1 | E14: Graduate Tier III | F14: 6 | G14: Graduate Tier III | H14: 1 | I14: Resident | J14: 16917 | K14: 0.02 | L14: 0.02 | M14: =3*ROUNDUP((1+K14)*J14/3,0) -> 17256 | N14: =3*ROUNDUP(M14*(1+L14)/3,0) -> 17604 | P14: =+M14/J14 -> 1.020039 | Q14: =+P14 -> 1.020039 | R14: 0 | S14: =+N14/M14 -> 1.0201669 | T14: =+S14 -> 1.0201669 | U14: 0
B15: 7 | C15: =CONCATENATE(A15,"_",B15) -> _7 | D15: =CONCATENATE(A15,"_",F15,"_",H15) -> _6_2 | E15: Graduate Tier III | F15: 6 | G15: Graduate Tier III | H15: 2 | I15: Nonresident | J15: 30153 | K15: 0.02 | L15: 0.02 | M15: =3*ROUNDUP((1+K15)*J15/3,0) -> 30759 | N15: =3*ROUNDUP(M15*(1+L15)/3,0) -> 31377 | P15: =+M15/J15 -> 1.0200975 | Q15: =+Q14 -> 1.020039 | R15: =+(M15-M14)/(J15-J14) -> 1.0201723 | S15: =+N15/M15 -> 1.0200917 | T15: =+T14 -> 1.0201669 | U15: =+(N15-N14)/(M15-M14) -> 1.0199956
B16: 9 | C16: =CONCATENATE(A16,"_",B16) -> _9 | D16: =CONCATENATE(A16,"_",F16,"_",H16) -> _26_1 | E16: Coll Environ Graduate | F16: 26 | G16: College of the Environment Graduate Programs | H16: 1 | I16: Resident | J16: 15594 | K16: 0.02 | L16: 0.02 | M16: =3*ROUNDUP((1+K16)*J16/3,0) -> 15906 | N16: =3*ROUNDUP(M16*(1+L16)/3,0) -> 16227 | P16: =+M16/J16 -> 1.0200077 | Q16: =+P16 -> 1.0200077 | R16: 0 | S16: =+N16/M16 -> 1.0201811 | T16: =+S16 -> 1.0201811 | U16: 0
B17: 9 | C17: =CONCATENATE(A17,"_",B17) -> _9 | D17: =CONCATENATE(A17,"_",F17,"_",H17) -> _26_2 | E17: Coll Environ Graduate | F17: 26 | G17: College of the Environment Graduate Programs | H17: 2 | I17: Nonresident | J17: 27837 | K17: 0.02 | L17: 0.02 | M17: =3*ROUNDUP((1+K17)*J17/3,0) -> 28395 | N17: =3*ROUNDUP(M17*(1+L17)/3,0) -> 28965 | P17: =+M17/J17 -> 1.0200453 | Q17: =+Q16 -> 1.0200077 | R17: =+(M17-M16)/(J17-J16) -> 1.0200931 | S17: =+N17/M17 -> 1.020074 | T17: =+T16 -> 1.0201811 | U17: =+(N17-N16)/(M17-M16) -> 1.0199375
B18: 9 | C18: =CONCATENATE(A18,"_",B18) -> _9 | D18: =CONCATENATE(A18,"_",F18,"_",H18) -> _43_1 | E18: Coll Environ Graduate | F18: 43 | G18: MS in ESS | H18: 1 | I18: Resident | J18: 16764 | K18: 0.02 | L18: 0.02 | M18: =3*ROUNDUP((1+K18)*J18/3,0) -> 17100 | N18: =3*ROUNDUP(M18*(1+L18)/3,0) -> 17442 | P18: =+M18/J18 -> 1.0200429 | Q18: =+P18 -> 1.0200429 | R18: 0 | S18: =+N18/M18 -> 1.02 | T18: =+S18 -> 1.02 | U18: 0
B19: 9 | C19: =CONCATENATE(A19,"_",B19) -> _9 | D19: =CONCATENATE(A19,"_",F19,"_",H19) -> _43_2 | E19: Coll Environ Graduate | F19: 43 | G19: MS in ESS | H19: 2 | I19: Nonresident | J19: 29925 | K19: 0.02 | L19: 0.02 | M19: =3*ROUNDUP((1+K19)*J19/3,0) -> 30525 | N19: =3*ROUNDUP(M19*(1+L19)/3,0) -> 31137 | P19: =+M19/J19 -> 1.0200501 | Q19: =+Q18 -> 1.0200429 | R19: =+(M19-M18)/(J19-J18) -> 1.0200593 | S19: =+N19/M19 -> 1.0200491 | T19: =+T18 -> 1.02 | U19: =+(N19-N18)/(M19-M18) -> 1.0201117
B20: 11 | C20: =CONCATENATE(A20,"_",B20) -> _11 | D20: =CONCATENATE(A20,"_",F20,"_",H20) -> _27_1 | E20: Education Graduate | F20: 27 | G20: Master of Education and Master in Teaching | H20: 1 | I20: Resident | J20: 15930 | K20: 0.02 | L20: 0.02 | M20: =3*ROUNDUP((1+K20)*J20/3,0) -> 16251 | N20: =3*ROUNDUP(M20*(1+L20)/3,0) -> 16578 | P20: =+M20/J20 -> 1.0201507 | Q20: =+P20 -> 1.0201507 | R20: 0 | S20: =+N20/M20 -> 1.0201218 | T20: =+S20 -> 1.0201218 | U20: 0
B21: 11 | C21: =CONCATENATE(A21,"_",B21) -> _11 | D21: =CONCATENATE(A21,"_",F21,"_",H21) -> _27_2 | E21: Education Graduate | F21: 27 | G21: Master of Education and Master in Teaching | H21: 2 | I21: Nonresident | J21: 29532 | K21: 0.02 | L21: 0.02 | M21: =3*ROUNDUP((1+K21)*J21/3,0) -> 30123 | N21: =3*ROUNDUP(M21*(1+L21)/3,0) -> 30726 | P21: =+M21/J21 -> 1.0200122 | Q21: =+Q20 -> 1.0201507 | R21: =+(M21-M20)/(J21-J20) -> 1.01985 | S21: =+N21/M21 -> 1.0200179 | T21: =+T20 -> 1.0201218 | U21: =+(N21-N20)/(M21-M20) -> 1.0198962
B22: 11 | C22: =CONCATENATE(A22,"_",B22) -> _11 | D22: =CONCATENATE(A22,"_",F22,"_",H22) -> _28_1 | E22: Education Graduate | F22: 28 | G22: Doctor of Education and Education PhD | H22: 1 | I22: Resident | J22: 15930 | K22: 0.02 | L22: 0.02 | M22: =3*ROUNDUP((1+K22)*J22/3,0) -> 16251 | N22: =3*ROUNDUP(M22*(1+L22)/3,0) -> 16578 | P22: =+M22/J22 -> 1.0201507 | Q22: =+P22 -> 1.0201507 | R22: 0 | S22: =+N22/M22 -> 1.0201218 | T22: =+S22 -> 1.0201218 | U22: 0
B23: 11 | C23: =CONCATENATE(A23,"_",B23) -> _11 | D23: =CONCATENATE(A23,"_",F23,"_",H23) -> _28_2 | E23: Education Graduate | F23: 28 | G23: Doctor of Education and Education PhD | H23: 2 | I23: Nonresident | J23: 29532 | K23: 0.02 | L23: 0.02 | M23: =3*ROUNDUP((1+K23)*J23/3,0) -> 30123 | N23: =3*ROUNDUP(M23*(1+L23)/3,0) -> 30726 | P23: =+M23/J23 -> 1.0200122 | Q23: =+Q22 -> 1.0201507 | R23: =+(M23-M22)/(J23-J22) -> 1.01985 | S23: =+N23/M23 -> 1.0200179 | T23: =+T22 -> 1.0201218 | U23: =+(N23-N22)/(M23-M22) -> 1.0198962
B24: 17 | C24: =CONCATENATE(A24,"_",B24) -> _17 | D24: =CONCATENATE(A24,"_",F24,"_",H24) -> _23_1 | E24: MSW | F24: 23 | G24: Master of Social Work | H24: 1 | I24: Resident | J24: 17643 | K24: 0.02 | L24: 0.02 | M24: =3*ROUNDUP((1+K24)*J24/3,0) -> 17997 | N24: =3*ROUNDUP(M24*(1+L24)/3,0) -> 18357 | P24: =+M24/J24 -> 1.0200646 | Q24: =+P24 -> 1.0200646 | R24: 0 | S24: =+N24/M24 -> 1.0200033 | T24: =+S24 -> 1.0200033 | U24: 0
B25: 17 | C25: =CONCATENATE(A25,"_",B25) -> _17 | D25: =CONCATENATE(A25,"_",F25,"_",H25) -> _23_2 | E25: MSW | F25: 23 | G25: Master of Social Work | H25: 2 | I25: Nonresident | J25: 30309 | K25: 0.02 | L25: 0.02 | M25: =3*ROUNDUP((1+K25)*J25/3,0) -> 30918 | N25: =3*ROUNDUP(M25*(1+L25)/3,0) -> 31539 | P25: =+M25/J25 -> 1.020093 | Q25: =+Q24 -> 1.0200646 | R25: =+(M25-M24)/(J25-J24) -> 1.0201326 | S25: =+N25/M25 -> 1.0200854 | T25: =+T24 -> 1.0200033 | U25: =+(N25-N24)/(M25-M24) -> 1.0201997
B26: 19 | C26: =CONCATENATE(A26,"_",B26) -> _19 | D26: =CONCATENATE(A26,"_",F26,"_",H26) -> _38_1 | E26: Public Health Graduate | F26: 38 | G26: Public Health Masters Programs (excl MPH) | H26: 1 | I26: Resident | J26: 17583 | K26: 0.02 | L26: 0.02 | M26: =3*ROUNDUP((1+K26)*J26/3,0) -> 17937 | N26: =3*ROUNDUP(M26*(1+L26)/3,0) -> 18297 | P26: =+M26/J26 -> 1.0201331 | Q26: =+P26 -> 1.0201331 | R26: 0 | S26: =+N26/M26 -> 1.0200702 | T26: =+S26 -> 1.0200702 | U26: 0
B27: 19 | C27: =CONCATENATE(A27,"_",B27) -> _19 | D27: =CONCATENATE(A27,"_",F27,"_",H27) -> _38_2 | E27: Public Health Graduate | F27: 38 | G27: Public Health Masters Programs (excl MPH) | H27: 2 | I27: Nonresident | J27: 30153 | K27: 0.02 | L27: 0.02 | M27: =3*ROUNDUP((1+K27)*J27/3,0) -> 30759 | N27: =3*ROUNDUP(M27*(1+L27)/3,0) -> 31377 | P27: =+M27/J27 -> 1.0200975 | Q27: =+Q26 -> 1.0201331 | R27: =+(M27-M26)/(J27-J26) -> 1.0200477 | S27: =+N27/M27 -> 1.0200917 | T27: =+T26 -> 1.0200702 | U27: =+(N27-N26)/(M27-M26) -> 1.0201217
B28: 19 | C28: =CONCATENATE(A28,"_",B28) -> _19 | D28: =CONCATENATE(A28,"_",F28,"_",H28) -> _42_1 | E28: Public Health Graduate | F28: 42 | G28: Public Health PhD Program | H28: 1 | I28: Resident | J28: 17583 | K28: 0.02 | L28: 0.02 | M28: =3*ROUNDUP((1+K28)*J28/3,0) -> 17937 | N28: =3*ROUNDUP(M28*(1+L28)/3,0) -> 18297 | P28: =+M28/J28 -> 1.0201331 | Q28: =+P28 -> 1.0201331 | R28: 0 | S28: =+N28/M28 -> 1.0200702 | T28: =+S28 -> 1.0200702 | U28: 0
B29: 19 | C29: =CONCATENATE(A29,"_",B29) -> _19 | D29: =CONCATENATE(A29,"_",F29,"_",H29) -> _42_2 | E29: Public Health Graduate | F29: 42 | G29: Public Health PhD Program | H29: 2 | I29: Nonresident | J29: 30153 | K29: 0.02 | L29: 0.02 | M29: =3*ROUNDUP((1+K29)*J29/3,0) -> 30759 | N29: =3*ROUNDUP(M29*(1+L29)/3,0) -> 31377 | P29: =+M29/J29 -> 1.0200975 | Q29: =+Q28 -> 1.0201331 | R29: =+(M29-M28)/(J29-J28) -> 1.0200477 | S29: =+N29/M29 -> 1.0200917 | T29: =+T28 -> 1.0200702 | U29: =+(N29-N28)/(M29-M28) -> 1.0201217
B30: 21 | C30: =CONCATENATE(A30,"_",B30) -> _21 | D30: =CONCATENATE(A30,"_",F30,"_",H30) -> _21_1 | E30: MPH | F30: 21 | G30: Master of Public Health (Incoming) | H30: 1 | I30: Resident | J30: 19377 | K30: 0.02 | L30: 0.02 | M30: =3*ROUNDUP((1+K30)*J30/3,0) -> 19767 | N30: =3*ROUNDUP(M30*(1+L30)/3,0) -> 20163 | P30: =+M30/J30 -> 1.020127 | Q30: =+P30 -> 1.020127 | R30: 0 | S30: =+N30/M30 -> 1.0200334 | T30: =+S30 -> 1.0200334 | U30: 0
B31: 21 | C31: =CONCATENATE(A31,"_",B31) -> _21 | D31: =CONCATENATE(A31,"_",F31,"_",H31) -> _21_2 | E31: MPH | F31: 21 | G31: Master of Public Health (Incoming) | H31: 2 | I31: Nonresident | J31: 33738 | K31: 0.02 | L31: 0.02 | M31: =3*ROUNDUP((1+K31)*J31/3,0) -> 34413 | N31: =3*ROUNDUP(M31*(1+L31)/3,0) -> 35103 | P31: =+M31/J31 -> 1.0200071 | Q31: =+Q30 -> 1.020127 | R31: =+(M31-M30)/(J31-J30) -> 1.0198454 | S31: =+N31/M31 -> 1.0200506 | T31: =+T30 -> 1.0200334 | U31: =+(N31-N30)/(M31-M30) -> 1.0200737
B32: 21 | C32: =CONCATENATE(A32,"_",B32) -> _21 | D32: =CONCATENATE(A32,"_",F32,"_",H32) -> _22_1 | E32: MPH | F32: 22 | G32: Master of Public Health (Continuing) | H32: 1 | I32: Resident | J32: 18840 | K32: 0.02 | L32: 0.02 | M32: =3*ROUNDUP((1+K32)*J32/3,0) -> 19218 | N32: =3*ROUNDUP(M32*(1+L32)/3,0) -> 19605 | P32: =+M32/J32 -> 1.0200637 | Q32: =+P32 -> 1.0200637 | R32: 0 | S32: =+N32/M32 -> 1.0201374 | T32: =+S32 -> 1.0201374 | U32: 0
B33: 21 | C33: =CONCATENATE(A33,"_",B33) -> _21 | D33: =CONCATENATE(A33,"_",F33,"_",H33) -> _22_2 | E33: MPH | F33: 22 | G33: Master of Public Health (Continuing) | H33: 2 | I33: Nonresident | J33: 33738 | K33: 0.02 | L33: 0.02 | M33: =3*ROUNDUP((1+K33)*J33/3,0) -> 34413 | N33: =3*ROUNDUP(M33*(1+L33)/3,0) -> 35103 | P33: =+M33/J33 -> 1.0200071 | Q33: =+Q32 -> 1.0200637 | R33: =+(M33-M32)/(J33-J32) -> 1.0199356 | S33: =+N33/M33 -> 1.0200506 | T33: =+T32 -> 1.0201374 | U33: =+(N33-N32)/(M33-M32) -> 1.0199408
B34: 25 | C34: =CONCATENATE(A34,"_",B34) -> _25 | D34: =CONCATENATE(A34,"_",F34,"_",H34) -> _17_1 | E34: CBE Masters | F34: 17 | G34: College of Built Environ - MArch & MSRE | H34: 1 | I34: Resident | J34: 16875 | K34: 0.02 | L34: 0.02 | M34: =3*ROUNDUP((1+K34)*J34/3,0) -> 17214 | N34: =3*ROUNDUP(M34*(1+L34)/3,0) -> 17559 | P34: =+M34/J34 -> 1.0200889 | Q34: =+P34 -> 1.0200889 | R34: 0 | S34: =+N34/M34 -> 1.0200418 | T34: =+S34 -> 1.0200418 | U34: 0
B35: 25 | C35: =CONCATENATE(A35,"_",B35) -> _25 | D35: =CONCATENATE(A35,"_",F35,"_",H35) -> _17_2 | E35: CBE Masters | F35: 17 | G35: College of Built Environ - MArch & MSRE | H35: 2 | I35: Nonresident | J35: 35535 | K35: 0.02 | L35: 0.02 | M35: =3*ROUNDUP((1+K35)*J35/3,0) -> 36246 | N35: =3*ROUNDUP(M35*(1+L35)/3,0) -> 36972 | P35: =+M35/J35 -> 1.0200084 | Q35: =+Q34 -> 1.0200889 | R35: =+(M35-M34)/(J35-J34) -> 1.0199357 | S35: =+N35/M35 -> 1.0200298 | T35: =+T34 -> 1.0200418 | U35: =+(N35-N34)/(M35-M34) -> 1.0200189
B36: 25 | C36: =CONCATENATE(A36,"_",B36) -> _25 | D36: =CONCATENATE(A36,"_",F36,"_",H36) -> _39_1 | E36: CBE Masters | F36: 39 | G36: Coll of Built Environ - Masters in Const Mgmt, Land Arch, Urb Des Plan | H36: 1 | I36: Resident | J36: 15954 | K36: 0.02 | L36: 0.02 | M36: =3*ROUNDUP((1+K36)*J36/3,0) -> 16275 | N36: =3*ROUNDUP(M36*(1+L36)/3,0) -> 16602 | P36: =+M36/J36 -> 1.0201203 | Q36: =+P36 -> 1.0201203 | R36: 0 | S36: =+N36/M36 -> 1.0200922 | T36: =+S36 -> 1.0200922 | U36: 0
B37: 25 | C37: =CONCATENATE(A37,"_",B37) -> _25 | D37: =CONCATENATE(A37,"_",F37,"_",H37) -> _39_2 | E37: CBE Masters | F37: 39 | G37: Coll of Built Environ - Masters in Const Mgmt, Land Arch, Urb Des Plan | H37: 2 | I37: Nonresident | J37: 28413 | K37: 0.02 | L37: 0.02 | M37: =3*ROUNDUP((1+K37)*J37/3,0) -> 28983 | N37: =3*ROUNDUP(M37*(1+L37)/3,0) -> 29565 | P37: =+M37/J37 -> 1.0200612 | Q37: =+Q36 -> 1.0201203 | R37: =+(M37-M36)/(J37-J36) -> 1.0199856 | S37: =+N37/M37 -> 1.0200807 | T37: =+T36 -> 1.0200922 | U37: =+(N37-N36)/(M37-M36) -> 1.0200661
B38: 27 | C38: =CONCATENATE(A38,"_",B38) -> _27 | D38: =CONCATENATE(A38,"_",F38,"_",H38) -> _29_1 | E38: Engineering Masters | F38: 29 | G38: Master of Chemical Engineering | H38: 1 | I38: Resident | J38: 21135 | K38: 0.02 | L38: 0.02 | M38: =3*ROUNDUP((1+K38)*J38/3,0) -> 21558 | N38: =3*ROUNDUP(M38*(1+L38)/3,0) -> 21990 | P38: =+M38/J38 -> 1.0200142 | Q38: =+P38 -> 1.0200142 | R38: 0 | S38: =+N38/M38 -> 1.020039 | T38: =+S38 -> 1.020039 | U38: 0
B39: 27 | C39: =CONCATENATE(A39,"_",B39) -> _27 | D39: =CONCATENATE(A39,"_",F39,"_",H39) -> _29_2 | E39: Engineering Masters | F39: 29 | G39: Master of Chemical Engineering | H39: 2 | I39: Nonresident | J39: 33324 | K39: 0.02 | L39: 0.02 | M39: =3*ROUNDUP((1+K39)*J39/3,0) -> 33993 | N39: =3*ROUNDUP(M39*(1+L39)/3,0) -> 34674 | P39: =+M39/J39 -> 1.0200756 | Q39: =+Q38 -> 1.0200142 | R39: =+(M39-M38)/(J39-J38) -> 1.0201821 | S39: =+N39/M39 -> 1.0200335 | T39: =+T38 -> 1.020039 | U39: =+(N39-N38)/(M39-M38) -> 1.0200241
B40: 27 | C40: =CONCATENATE(A40,"_",B40) -> _27 | D40: =CONCATENATE(A40,"_",F40,"_",H40) -> _30_1 | E40: Engineering Masters | F40: 30 | G40: Master of Material Science and Engineering | H40: 1 | I40: Resident | J40: 21135 | K40: 0.02 | L40: 0.02 | M40: =3*ROUNDUP((1+K40)*J40/3,0) -> 21558 | N40: =3*ROUNDUP(M40*(1+L40)/3,0) -> 21990 | P40: =+M40/J40 -> 1.0200142 | Q40: =+P40 -> 1.0200142 | R40: 0 | S40: =+N40/M40 -> 1.020039 | T40: =+S40 -> 1.020039 | U40: 0
...

Sheet HeadcountChgs
A1: Expected Headcount Changes | J1: Change for | L1: Headcount
A2: Campus | B2: TuitionGroup | C2: Campus Gp | D2: CampusCatRes | E2: TuitionGroupName | F2: TuitionCategory | G2: Tuition Category | H2: TuitionResidency | I2: Tuition Residency | J2: 2017-18 | K2: 2018-19 | L2: 2016-17 | M2: 2017-18 | N2: 2018-19
A3: Seattle | B3: 1 | C3: =CONCATENATE(A3,"_",B3) -> Seattle_1 | D3: =CONCATENATE(A3,"_",F3,"_",H3) -> Seattle_1_1 | E3: Undergraduate | F3: 1 | G3: Undergraduate | H3: 1 | I3: Resident | J3: 0 | K3: 0 | L3: 19952 | M3: =+ROUND(L3*(1+J3),0) -> 19952 | N3: =+ROUND(M3*(1+K3),0) -> 19952
B4: 1 | C4: =CONCATENATE(A4,"_",B4) -> _1 | D4: =CONCATENATE(A4,"_",F4,"_",H4) -> _1_2 | E4: Undergraduate | F4: 1 | G4: Undergraduate | H4: 2 | I4: Nonresident | J4: 0 | K4: 0 | L4: 8080 | M4: =+ROUND(L4*(1+J4),0) -> 8080 | N4: =+ROUND(M4*(1+K4),0) -> 8080
B5: 1 | C5: =CONCATENATE(A5,"_",B5) -> _1 | D5: =CONCATENATE(A5,"_",F5,"_",H5) -> _2_1 | E5: Undergraduate | F5: 2 | G5: Undergraduate Post-Bacc / Non-Matric | H5: 1 | I5: Resident | J5: 0 | K5: 0 | L5: 186 | M5: =+ROUND(L5*(1+J5),0) -> 186 | N5: =+ROUND(M5*(1+K5),0) -> 186
B6: 1 | C6: =CONCATENATE(A6,"_",B6) -> _1 | D6: =CONCATENATE(A6,"_",F6,"_",H6) -> _2_2 | E6: Undergraduate | F6: 2 | G6: Undergraduate Post-Bacc / Non-Matric | H6: 2 | I6: Nonresident | J6: 0 | K6: 0 | L6: 8 | M6: =+ROUND(L6*(1+J6),0) -> 8 | N6: =+ROUND(M6*(1+K6),0) -> 8
B7: 3 | C7: =CONCATENATE(A7,"_",B7) -> _3 | D7: =CONCATENATE(A7,"_",F7,"_",H7) -> _4_1 | E7: Graduate Tier I | F7: 4 | G7: Graduate Tier I | H7: 1 | I7: Resident | J7: 0 | K7: 0 | L7: 802 | M7: =+ROUND(L7*(1+J7),0) -> 802 | N7: =+ROUND(M7*(1+K7),0) -> 802
B8: 3 | C8: =CONCATENATE(A8,"_",B8) -> _3 | D8: =CONCATENATE(A8,"_",F8,"_",H8) -> _4_2 | E8: Graduate Tier I | F8: 4 | G8: Graduate Tier I | H8: 2 | I8: Nonresident | J8: 0 | K8: 0 | L8: 1991 | M8: =+ROUND(L8*(1+J8),0) -> 1991 | N8: =+ROUND(M8*(1+K8),0) -> 1991
B9: 5 | C9: =CONCATENATE(A9,"_",B9) -> _5 | D9: =CONCATENATE(A9,"_",F9,"_",H9) -> _5_1 | E9: Graduate Tier II | F9: 5 | G9: Graduate Tier II | H9: 1 | I9: Resident | J9: 0 | K9: 0 | L9: 65 | M9: =+ROUND(L9*(1+J9),0) -> 65 | N9: =+ROUND(M9*(1+K9),0) -> 65
B10: 5 | C10: =CONCATENATE(A10,"_",B10) -> _5 | D10: =CONCATENATE(A10,"_",F10,"_",H10) -> _5_2 | E10: Graduate Tier II | F10: 5 | G10: Graduate Tier II | H10: 2 | I10: Nonresident | J10: 0 | K10: 0 | L10: 83 | M10: =+ROUND(L10*(1+J10),0) -> 83 | N10: =+ROUND(M10*(1+K10),0) -> 83
B11: 7 | C11: =CONCATENATE(A11,"_",B11) -> _7 | D11: =CONCATENATE(A11,"_",F11,"_",H11) -> _3_1 | E11: Graduate Tier III | F11: 3 | G11: Graduate Post-Bacc / Non-Matric | H11: 1 | I11: Resident | J11: 0 | K11: 0 | L11: 25 | M11: =+ROUND(L11*(1+J11),0) -> 25 | N11: =+ROUND(M11*(1+K11),0) -> 25
B12: 7 | C12: =CONCATENATE(A12,"_",B12) -> _7 | D12: =CONCATENATE(A12,"_",F12,"_",H12) -> _3_2 | E12: Graduate Tier III | F12: 3 | G12: Graduate Post-Bacc / Non-Matric | H12: 2 | I12: Nonresident | J12: 0 | K12: 0 | L12: 3 | M12: =+ROUND(L12*(1+J12),0) -> 3 | N12: =+ROUND(M12*(1+K12),0) -> 3
B13: 7 | C13: =CONCATENATE(A13,"_",B13) -> _7 | D13: =CONCATENATE(A13,"_",F13,"_",H13) -> _6_1 | E13: Graduate Tier III | F13: 6 | G13: Graduate Tier III | H13: 1 | I13: Resident | J13: 0 | K13: 0 | L13: 269 | M13: =+ROUND(L13*(1+J13),0) -> 269 | N13: =+ROUND(M13*(1+K13),0) -> 269
B14: 7 | C14: =CONCATENATE(A14,"_",B14) -> _7 | D14: =CONCATENATE(A14,"_",F14,"_",H14) -> _6_2 | E14: Graduate Tier III | F14: 6 | G14: Graduate Tier III | H14: 2 | I14: Nonresident | J14: 0 | K14: 0 | L14: 897 | M14: =+ROUND(L14*(1+J14),0) -> 897 | N14: =+ROUND(M14*(1+K14),0) -> 897
B15: 9 | C15: =CONCATENATE(A15,"_",B15) -> _9 | D15: =CONCATENATE(A15,"_",F15,"_",H15) -> _26_1 | E15: Coll Environ Graduate | F15: 26 | G15: College of the Environment Graduate Programs | H15: 1 | I15: Resident | J15: 0 | K15: 0 | L15: 141 | M15: =+ROUND(L15*(1+J15),0) -> 141 | N15: =+ROUND(M15*(1+K15),0) -> 141
... B84: 53 | C84: =CONCATENATE(A84,"_",B84) -> _53 | D84: =CONCATENATE(A84,"_",F84,"_",H84) -> _36_2 | E84: Dentistry Graduate | F84: 36 | G84: Graduate Dentistry - Orthodontics | H84: 2 | I84: Nonresident | J84: 0 | K84: 0 | L84: 8 | M84: =+ROUND(L84*(1+J84),0) -> 8 | N84: =+ROUND(M84*(1+K84),0) -> 8
A85: Bothell | B85: 1 | C85: =CONCATENATE(A85,"_",B85) -> Bothell_1 | D85: =CONCATENATE(A85,"_",F85,"_",H85) -> Bothell_1_1 | E85: Undergraduate | F85: 1 | G85: Undergraduate | H85: 1 | I85: Resident | J85: 0 | K85: 0 | L85: 4217 | M85: =+ROUND(L85*(1+J85),0) -> 4217 | N85: =+ROUND(M85*(1+K85),0) -> 4217
B86: 1 | C86: =CONCATENATE(A86,"_",B86) -> _1 | D86: =CONCATENATE(A86,"_",F86,"_",H86) -> _1_2 | E86: Undergraduate | F86: 1 | G86: Undergraduate | H86: 2 | I86: Nonresident | J86: 0 | K86: 0 | L86: 591 | M86: =+ROUND(L86*(1+J86),0) -> 591 | N86: =+ROUND(M86*(1+K86),0) -> 591
B87: 1 | C87: =CONCATENATE(A87,"_",B87) -> _1 | D87: =CONCATENATE(A87,"_",F87,"_",H87) -> _2_1 | E87: Undergraduate | F87: 2 | G87: Undergraduate Post-Bacc / Non-Matric | H87: 1 | I87: Resident | J87: 0 | K87: 0 | L87: 170 | M87: =+ROUND(L87*(1+J87),0) -> 170 | N87: =+ROUND(M87*(1+K87),0) -> 170
B88: 1 | C88: =CONCATENATE(A88,"_",B88) -> _1 | D88: =CONCATENATE(A88,"_",F88,"_",H88) -> _2_2 | E88: Undergraduate | F88: 2 | G88: Undergraduate Post-Bacc / Non-Matric | H88: 2 | I88: Nonresident | J88: 0 | K88: 0 | L88: 3 | M88: =+ROUND(L88*(1+J88),0) -> 3 | N88: =+ROUND(M88*(1+K88),0) -> 3
B89: 2 | C89: =CONCATENATE(A89,"_",B89) -> _2 | D89: =CONCATENATE(A89,"_",F89,"_",H89) -> _4_1 | E89: Graduate Tier I | F89: 4 | G89: Graduate Tier I | H89: 1 | I89: Resident | J89: 0 | K89: 0 | L89: 22 | M89: =+ROUND(L89*(1+J89),0) -> 22 | N89: =+ROUND(M89*(1+K89),0) -> 22
B90: 2 | C90: =CONCATENATE(A90,"_",B90) -> _2 | D90: =CONCATENATE(A90,"_",F90,"_",H90) -> _4_2 | E90: Graduate Tier I | F90: 4 | G90: Graduate Tier I | H90: 2 | I90: Nonresident | J90: 0 | K90: 0 | L90: 6 | M90: =+ROUND(L90*(1+J90),0) -> 6 | N90: =+ROUND(M90*(1+K90),0) -> 6
B91: 3 | C91: =CONCATENATE(A91,"_",B91) -> _3 | D91: =CONCATENATE(A91,"_",F91,"_",H91) -> _5_1 | E91: Graduate Tier II | F91: 5 | G91: Graduate Tier II | H91: 1 | I91: Resident | J91: 0 | K91: 0 | L91: 122 | M91: =+ROUND(L91*(1+J91),0) -> 122 | N91: =+ROUND(M91*(1+K91),0) -> 122
B92: 3 | C92: =CONCATENATE(A92,"_",B92) -> _3 | D92: =CONCATENATE(A92,"_",F92,"_",H92) -> _5_2 | E92: Graduate Tier II | F92: 5 | G92: Graduate Tier II | H92: 2 | I92: Nonresident | J92: 0 | K92: 0 | L92: 8 | M92: =+ROUND(L92*(1+J92),0) -> 8 | N92: =+ROUND(M92*(1+K92),0) -> 8
B93: 4 | C93: =CONCATENATE(A93,"_",B93) -> _4 | D93: =CONCATENATE(A93,"_",F93,"_",H93) -> _3_1 | E93: Graduate Tier III | F93: 3 | G93: Graduate Post-Bacc / Non-Matric | H93: 1 | I93: Resident | J93: 0 | K93: 0 | L93: 1 | M93: =+ROUND(L93*(1+J93),0) -> 1 | N93: =+ROUND(M93*(1+K93),0) -> 1
B94: 4 | C94: =CONCATENATE(A94,"_",B94) -> _4 | D94: =CONCATENATE(A94,"_",F94,"_",H94) -> _3_2 | E94: Graduate Tier III | F94: 3 | G94: Graduate Post-Bacc / Non-Matric | H94: 2 | I94: Nonresident | J94: 0 | K94: 0 | L94: 0 | M94: =+ROUND(L94*(1+J94),0) -> 0 | N94: =+ROUND(M94*(1+K94),0) -> 0
B95: 4 | C95: =CONCATENATE(A95,"_",B95) -> _4 | D95: =CONCATENATE(A95,"_",F95,"_",H95) -> _6_1 | E95: Graduate Tier III | F95: 6 | G95: Graduate Tier III | H95: 1 | I95: Resident | J95: 0 | K95: 0 | L95: 0 | M95: =+ROUND(L95*(1+J95),0) -> 0 | N95: =+ROUND(M95*(1+K95),0) -> 0
B96: 4 | C96: =CONCATENATE(A96,"_",B96) -> _4 | D96: =CONCATENATE(A96,"_",F96,"_",H96) -> _6_2 | E96: Graduate Tier III | F96: 6 | G96: Graduate Tier III | H96: 2 | I96: Nonresident | J96: 0 | K96: 0 | L96: 0 | M96: =+ROUND(L96*(1+J96),0) -> 0 | N96: =+ROUND(M96*(1+K96),0) -> 0
B97: 5 | C97: =CONCATENATE(A97,"_",B97) -> _5 | D97: =CONCATENATE(A97,"_",F97,"_",H97) -> _11_1 | E97: Nursing | F97: 11 | G97: Master of Nursing | H97: 1 | I97: Resident | J97: 0 | K97: 0 | L97: 62 | M97: =+ROUND(L97*(1+J97),0) -> 62 | N97: =+ROUND(M97*(1+K97),0) -> 62
... B102: 6 | C102: =CONCATENATE(A102,"_",B102) -> _6 | D102: =CONCATENATE(A102,"_",F102,"_",H102) -> _10_2 | E102: MBA | F102: 10 | G102: Master of Business Administration (Continuing) | H102: 2 | I102: Nonresident | J102: 0 | K102: 0 | L102: 7 | M102: =+ROUND(L102*(1+J102),0) -> 7 | N102: =+ROUND(M102*(1+K102),0) -> 7
A103: Tacoma | B103: 1 | C103: =CONCATENATE(A103,"_",B103) -> Tacoma_1 | D103: =CONCATENATE(A103,"_",F103,"_",H103) -> Tacoma_1_1 | E103: Undergraduate | F103: 1 | G103: Undergraduate | H103: 1 | I103: Resident | J103: 0 | K103: 0 | L103: 3883 | M103: =+ROUND(L103*(1+J103),0) -> 3883 | N103: =+ROUND(M103*(1+K103),0) -> 3883
B104: 1 | C104: =CONCATENATE(A104,"_",B104) -> _1 | D104: =CONCATENATE(A104,"_",F104,"_",H104) -> _1_2 | E104: Undergraduate | F104: 1 | G104: Undergraduate | H104: 2 | I104: Nonresident | J104: 0 | K104: 0 | L104: 239 | M104: =+ROUND(L104*(1+J104),0) -> 239 | N104: =+ROUND(M104*(1+K104),0) -> 239
B105: 1 | C105: =CONCATENATE(A105,"_",B105) -> _1 | D105: =CONCATENATE(A105,"_",F105,"_",H105) -> _2_1 | E105: Undergraduate | F105: 2 | G105: Undergraduate Post-Bacc / Non-Matric | H105: 1 | I105: Resident | J105: 0 | K105: 0 | L105: 108 | M105: =+ROUND(L105*(1+J105),0) -> 108 | N105: =+ROUND(M105*(1+K105),0) -> 108
B106: 1 | C106: =CONCATENATE(A106,"_",B106) -> _1 | D106: =CONCATENATE(A106,"_",F106,"_",H106) -> _2_2 | E106: Undergraduate | F106: 2 | G106: Undergraduate Post-Bacc / Non-Matric | H106: 2 | I106: Nonresident | J106: 0 | K106: 0 | L106: 7 | M106: =+ROUND(L106*(1+J106),0) -> 7 | N106: =+ROUND(M106*(1+K106),0) -> 7
B107: 2 | C107: =CONCATENATE(A107,"_",B107) -> _2 | D107: =CONCATENATE(A107,"_",F107,"_",H107) -> _4_1 | E107: Graduate Tier I | F107: 4 | G107: Graduate Tier I | H107: 1 | I107: Resident | J107: 0 | K107: 0 | L107: 179 | M107: =+ROUND(L107*(1+J107),0) -> 179 | N107: =+ROUND(M107*(1+K107),0) -> 179
B108: 2 | C108: =CONCATENATE(A108,"_",B108) -> _2 | D108: =CONCATENATE(A108,"_",F108,"_",H108) -> _4_2 | E108: Graduate Tier I | F108: 4 | G108: Graduate Tier I | H108: 2 | I108: Nonresident | J108: 0 | K108: 0 | L108: 5 | M108: =+ROUND(L108*(1+J108),0) -> 5 | N108: =+ROUND(M108*(1+K108),0) -> 5
B109: 3 | C109: =CONCATENATE(A109,"_",B109) -> _3 | D109: =CONCATENATE(A109,"_",F109,"_",H109) -> _5_1 | E109: Graduate Tier II | F109: 5 | G109: Graduate Tier II | H109: 1 | I109: Resident | J109: 0 | K109: 0 | L109: 153 | M109: =+ROUND(L109*(1+J109),0) -> 153 | N109: =+ROUND(M109*(1+K109),0) -> 153
B110: 3 | C110: =CONCATENATE(A110,"_",B110) -> _3 | D110: =CONCATENATE(A110,"_",F110,"_",H110) -> _5_2 | E110: Graduate Tier II | F110: 5 | G110: Graduate Tier II | H110: 2 | I110: Nonresident | J110: 0 | K110: 0 | L110: 3 | M110: =+ROUND(L110*(1+J110),0) -> 3 | N110: =+ROUND(M110*(1+K110),0) -> 3
B111: 4 | C111: =CONCATENATE(A111,"_",B111) -> _4 | D111: =CONCATENATE(A111,"_",F111,"_",H111) -> _3_1 | E111: Graduate Tier III | F111: 3 | G111: Graduate Post-Bacc / Non-Matric | H111: 1 | I111: Resident | J111: 0 | K111: 0 | L111: 5 | M111: =+ROUND(L111*(1+J111),0) -> 5 | N111: =+ROUND(M111*(1+K111),0) -> 5
B112: 4 | C112: =CONCATENATE(A112,"_",B112) -> _4 | D112: =CONCATENATE(A112,"_",F112,"_",H112) -> _3_2 | E112: Graduate Tier III | F112: 3 | G112: Graduate Post-Bacc / Non-Matric | H112: 2 | I112: Nonresident | J112: 0 | K112: 0 | L112: 0 | M112: =+ROUND(L112*(1+J112),0) -> 0 | N112: =+ROUND(M112*(1+K112),0) -> 0
...

Sheet Parameters
A1: UGPcntSCH | B1: 0.6
A2: UGPcntDeg | B2: 0.4
A3: GPPcntSCH | B3: 0.2
A4: GPPcntMjr | B4: 0.8
A6: UGPcntSCHNew | B6: 0.8
A7: UGPcntDegNew | B7: 0.2
A8: GPPcntSCHNew | B8: 0.8
A9: GPPcntMjrNew | B9: 0.2

Sheet FY19ProjRevToColl
B1: Projected Distribution of FY19 Tuition Revenue (new distribution parameters)
B2: Tuition Category | C2: Built Environments | D2: Coll Arts & Sciences | E2: Foster Business School | F2: College Of Education | G2: College Of Engineering | H2: College Of Environment | I2: The Information School | J2: School Of Law | K2: Evans Sch Of Public Af | L2: School Of Social Work | M2: School Of Dentistry | N2: School Of Medicine | O2: School Of Nursing | P2: School Of Pharmacy | Q2: Sch Of Public Health | R2: Undergrad Acad Affairs | S2: Dean-Graduate School | T2: TOTAL
C3: 252 | D3: 254 | E3: 256 | F3: 258 | G3: 260 | H3: 263 | I3: 267 | J3: 268 | K3: 270 | L3: 272 | M3: 302 | N3: 304 | O3: 306 | P3: 308 | Q3: 310 | R3: 350 | S3: 351
B4: Total Distributed
A5: 1 | B5: Undergraduate | C5: =+C28+C51 -> 5497209.7 | D5: =+D28+D51 -> 1.7304742e+08 | E5: =+E28+E51 -> 19772717 | F5: =+F28+F51 -> 4430980.2 | G5: =+G28+G51 -> 28671610 | H5: =+H28+H51 -> 14293543 | I5: =+I28+I51 -> 5246444.5 | J5: =+J28+J51 -> 105875.07 | ... S5: =+S28+S51 -> 61716.12 | T5: =SUM(C5:S5) -> 2.7279966e+08
A6: 3 | B6: Graduate Tier I | C6: =+C29+C52 -> 117142.83 | D6: =+D29+D52 -> 9737272.4 | E6: =+E29+E52 -> 338291.78 | F6: =+F29+F52 -> 47246.29 | G6: =+G29+G52 -> 687556.99 | H6: =+H29+H52 -> 50795.882 | I6: =+I29+I52 -> 230950.91 | J6: =+J29+J52 -> 7400.1917 | ... S6: =+S29+S52 -> 963692.29 | T6: =SUM(C6:S6) -> 14617280
A7: 5 | B7: Graduate Tier II | C7: =+C30+C53 -> 2896.4484 | D7: =+D30+D53 -> 52136.072 | E7: =+E30+E53 -> 482.7414 | F7: =+F30+F53 -> 6034.2676 | G7: =+G30+G53 -> 4827.414 | H7: =+H30+H53 -> 0 | I7: =+I30+I53 -> 2172.3363 | J7: =+J30+J53 -> 0 | ... S7: =+S30+S53 -> 965.48281 | T7: =SUM(C7:S7) -> 1606322
A8: 7 | B8: Graduate Tier III | C8: =+C31+C54 -> 43659.739 | D8: =+D31+D54 -> 422867.77 | E8: =+E31+E54 -> 22134.563 | F8: =+F31+F54 -> 29962.088 | G8: =+G31+G54 -> 8021755.2 | H8: =+H31+H54 -> 39200.862 | I8: =+I31+I54 -> 11548.468 | J8: =+J31+J54 -> 21910.125 | ... S8: =+S31+S54 -> 169990.37 | T8: =SUM(C8:S8) -> 9454104.9
A9: 9 | B9: Coll Environ Graduate | C9: =+C32+C55 -> 2896.3759 | D9: =+D32+D55 -> 126585.85 | E9: =+E32+E55 -> 1703.7505 | F9: =+F32+F55 -> 6644.6271 | G9: =+G32+G55 -> 27664.297 | H9: =+H32+H55 -> 3226928 | I9: =+I32+I55 -> 1363.0004 | J9: =+J32+J55 -> 10052.128 | ... S9: =+S32+S55 -> 12607.754 | T9: =SUM(C9:S9) -> 3452224.5
A10: 11 | B10: Education Graduate | C10: =+C33+C56 -> 623.7531 | D10: =+D33+D56 -> 134833.54 | E10: =+E33+E56 -> 831.6708 | F10: =+F33+F56 -> 4838974 | G10: =+G33+G56 -> 8108.7903 | H10: =+H33+H56 -> 17049.251 | I10: =+I33+I56 -> 7900.8726 | J10: =+J33+J56 -> 1766.9388 | ... S10: =+S33+S56 -> 5613.7779 | T10: =SUM(C10:S10) -> 5079949.2
A11: 17 | B11: MSW | C11: =+C34+C57 -> 6702.7897 | D11: =+D34+D57 -> 19525.518 | E11: =+E34+E57 -> 0 | F11: =+F34+F57 -> 12531.303 | G11: =+G34+G57 -> 0 | H11: =+H34+H57 -> 0 | I11: =+I34+I57 -> 0 | J11: =+J34+J57 -> 1165.7026 | ... S11: =+S34+S57 -> 2039.9795 | T11: =SUM(C11:S11) -> 3230088.9
A12: 19 | B12: Public Health Graduate | C12: =+C35+C58 -> 5832.944 | D12: =+D35+D58 -> 116643.61 | E12: =+E35+E58 -> 481.00457 | F12: =+F35+F58 -> 1924.0183 | G12: =+G35+G58 -> 20683.197 | H12: =+H35+H58 -> 3367.032 | I12: =+I35+I58 -> 1443.0137 | J12: =+J35+J58 -> 0 | ... S12: =+S35+S58 -> 14070.911 | T12: =SUM(C12:S12) -> 2747438
A13: 21 | B13: MPH | C13: =+C36+C59 -> 3220.6839 | D13: =+D36+D59 -> 65865.025 | E13: =+E36+E59 -> 0 | F13: =+F36+F59 -> 0 | G13: =+G36+G59 -> 8642.848 | H13: =+H36+H59 -> 2791.2594 | I13: =+I36+I59 -> 214.71226 | J13: =+J36+J59 -> 3060.3292 | ... S13: =+S36+S59 -> 1502.9858 | T13: =SUM(C13:S13) -> 2460602.5
A14: 25 | B14: CBE Masters | C14: =+C37+C60 -> 4850817.8 | D14: =+D37+D60 -> 41096.542 | E14: =+E37+E60 -> 36896.895 | F14: =+F37+F60 -> 0 | G14: =+G37+G60 -> 26697.754 | H14: =+H37+H60 -> 74093.766 | I14: =+I37+I60 -> 0 | J14: =+J37+J60 -> 11699.016 | ... S14: =+S37+S60 -> 0 | T14: =SUM(C14:S14) -> 5103320.6
A15: 27 | B15: Engineering Masters | C15: =+C38+C61 -> 1958.1129 | D15: =+D38+D61 -> 16448.148 | E15: =+E38+E61 -> 0 | F15: =+F38+F61 -> 0 | G15: =+G38+G61 -> 1788508.1 | H15: =+H38+H61 -> 15296.563 | I15: =+I38+I61 -> 0 | J15: =+J38+J61 -> 0 | ... S15: =+S38+S61 -> 1174.8677 | T15: =SUM(C15:S15) -> 1945874.7
A16: 33 | B16: MPA | C16: =+C39+C62 -> 65224.528 | D16: =+D39+D62 -> 163216.02 | E16: =+E39+E62 -> 72054.714 | F16: =+F39+F62 -> 15024.174 | G16: =+G39+G62 -> 6745.5477 | H16: =+H39+H62 -> 65726.771 | I16: =+I39+I62 -> 4905.8529 | J16: =+J39+J62 -> 4292.6213 | ... S16: =+S39+S62 -> 3986.0055 | T16: =SUM(C16:S16) -> 5057244.4
... A24: 53 | B24: Graduate Dentistry | C24: =+C47+C70 -> 0 | D24: =+D47+D70 -> 0 | E24: =+E47+E70 -> 4632.9295 | F24: =+F47+F70 -> 0 | G24: =+G47+G70 -> 1323.6941 | H24: =+H47+H70 -> 0 | I24: =+I47+I70 -> 0 | J24: =+J47+J70 -> 0 | ... S24: =+S47+S70 -> 1654.6177 | T24: =SUM(C24:S24) -> 1201252.4
B25: Total | C25: =SUM(C5:C24) -> 10602081 | D25: =SUM(D5:D24) -> 1.8404639e+08 | E25: =SUM(E5:E24) -> 25843144 | F25: =SUM(F5:F24) -> 9389705.5 | G25: =SUM(G5:G24) -> 39295136 | H25: =SUM(H5:H24) -> 17796288 | I25: =SUM(I5:I24) -> 5510449 | J25: =SUM(J5:J24) -> 11640016 | ... S25: =SUM(S5:S24) -> 1255126.8 | T25: =SUM(C25:S25) -> 3.7850432e+08
B26: Distributed Based on SCH
A27: SCH | C27: 252 | D27: 254 | E27: 256 | F27: 258 | G27: 260 | H27: 263 | I27: 267 | J27: 268 | K27: 270 | L27: 272 | M27: 302 | N27: 304 | O27: 306 | P27: 308 | Q27: 310 | R27: =+R3 -> 350 | S27: =+S3 -> 351
A28: 1 | B28: Undergraduate | C28: =+UGPcntSCHNew*(VLOOKUP($A28,FY19ProjRev!$B$4:$L$23,11,FALSE))*VLOOKUP($A28,'FY17ProjSCH(revised)'!$A$3:$S$22,MATCH(C$27,'FY17ProjSCH(revised)'!$A$2:$S$2,0),FALSE) -> 4715076.1 | D28: =+UGPcntSCHNew*(VLOOKUP($A28,FY19ProjRev!$B$4:$L$23,11,FALSE))*VLOOKUP($A28,'FY17ProjSCH(revised)'!$A$3:$S$22,MATCH(D$27,'FY17ProjSCH(revised)'!$A$2:$S$2,0),FALSE) -> 1.3909182e+08 | E28: =+UGPcntSCHNew*(VLOOKUP($A28,FY19ProjRev!$B$4:$L$23,11,FALSE))*VLOOKUP($A28,'FY17ProjSCH(revised)'!$A$3:$S$22,MATCH(E$27,'FY17ProjSCH(revised)'!$A$2:$S$2,0),FALSE) -> 13986150 | F28: =+UGPcntSCHNew*(VLOOKUP($A28,FY19ProjRev!$B$4:$L$23,11,FALSE))*VLOOKUP($A28,'FY17ProjSCH(revised)'!$A$3:$S$22,MATCH(F$27,'FY17ProjSCH(revised)'!$A$2:$S$2,0),FALSE) -> 3489975.6 | G28: =+UGPcntSCHNew*(VLOOKUP($A28,FY19ProjRev!$B$4:$L$23,11,FALSE))*VLOOKUP($A28,'FY17ProjSCH(revised)'!$A$3:$S$22,MATCH(G$27,'FY17ProjSCH(revised)'!$A$2:$S$2,0),FALSE) -> 22597854 | H28: =+UGPcntSCHNew*(VLOOKUP($A28,FY19ProjRev!$B$4:$L$23,11,FALSE))*VLOOKUP($A28,'FY17ProjSCH(revised)'!$A$3:$S$22,MATCH(H$27,'FY17ProjSCH(revised)'!$A$2:$S$2,0),FALSE) -> 12435976 | I28: =+UGPcntSCHNew*(VLOOKUP($A28,FY19ProjRev!$B$4:$L$23,11,FALSE))*VLOOKUP($A28,'FY17ProjSCH(revised)'!$A$3:$S$22,MATCH(I$27,'FY17ProjSCH(revised)'!$A$2:$S$2,0),FALSE) -> 4397096.2 | J28: =+UGPcntSCHNew*(VLOOKUP($A28,FY19ProjRev!$B$4:$L$23,11,FALSE))*VLOOKUP($A28,'FY17ProjSCH(revised)'!$A$3:$S$22,MATCH(J$27,'FY17ProjSCH(revised)'!$A$2:$S$2,0),FALSE) -> 105875.07 | ... S28: =+UGPcntSCHNew*(VLOOKUP($A28,FY19ProjRev!$B$4:$L$23,11,FALSE))*VLOOKUP($A28,'FY17ProjSCH(revised)'!$A$3:$S$22,MATCH(S$27,'FY17ProjSCH(revised)'!$A$2:$S$2,0),FALSE) -> 61716.12 | T28: =SUM(C28:Q28)+R28+S28 -> 2.1823973e+08
A29: 3 | B29: Graduate Tier I | C29: =+GPPcntSCHNew*(VLOOKUP($A29,FY19ProjRev!$B$4:$L$23,11,FALSE))*VLOOKUP($A29,'FY17ProjSCH(revised)'!$A$3:$S$22,MATCH(C$27,'FY17ProjSCH(revised)'!$A$2:$S$2,0),FALSE) -> 96328.575 | D29: =+GPPcntSCHNew*(VLOOKUP($A29,FY19ProjRev!$B$4:$L$23,11,FALSE))*VLOOKUP($A29,'FY17ProjSCH(revised)'!$A$3:$S$22,MATCH(D$27,'FY17ProjSCH(revised)'!$A$2:$S$2,0),FALSE) -> 7872504.8 | E29: =+GPPcntSCHNew*(VLOOKUP($A29,FY19ProjRev!$B$4:$L$23,11,FALSE))*VLOOKUP($A29,'FY17ProjSCH(revised)'!$A$3:$S$22,MATCH(E$27,'FY17ProjSCH(revised)'!$A$2:$S$2,0),FALSE) -> 260711.39 | F29: =+GPPcntSCHNew*(VLOOKUP($A29,FY19ProjRev!$B$4:$L$23,11,FALSE))*VLOOKUP($A29,'FY17ProjSCH(revised)'!$A$3:$S$22,MATCH(F$27,'FY17ProjSCH(revised)'!$A$2:$S$2,0),FALSE) -> 47246.29 | G29: =+GPPcntSCHNew*(VLOOKUP($A29,FY19ProjRev!$B$4:$L$23,11,FALSE))*VLOOKUP($A29,'FY17ProjSCH(revised)'!$A$3:$S$22,MATCH(G$27,'FY17ProjSCH(revised)'!$A$2:$S$2,0),FALSE) -> 562671.49 | H29: =+GPPcntSCHNew*(VLOOKUP($A29,FY19ProjRev!$B$4:$L$23,11,FALSE))*VLOOKUP($A29,'FY17ProjSCH(revised)'!$A$3:$S$22,MATCH(H$27,'FY17ProjSCH(revised)'!$A$2:$S$2,0),FALSE) -> 50795.882 | I29: =+GPPcntSCHNew*(VLOOKUP($A29,FY19ProjRev!$B$4:$L$23,11,FALSE))*VLOOKUP($A29,'FY17ProjSCH(revised)'!$A$3:$S$22,MATCH(I$27,'FY17ProjSCH(revised)'!$A$2:$S$2,0),FALSE) -> 177969.18 | J29: =+GPPcntSCHNew*(VLOOKUP($A29,FY19ProjRev!$B$4:$L$23,11,FALSE))*VLOOKUP($A29,'FY17ProjSCH(revised)'!$A$3:$S$22,MATCH(J$27,'FY17ProjSCH(revised)'!$A$2:$S$2,0),FALSE) -> 5507.9872 | ... S29: =+GPPcntSCHNew*(VLOOKUP($A29,FY19ProjRev!$B$4:$L$23,11,FALSE))*VLOOKUP($A29,'FY17ProjSCH(revised)'!$A$3:$S$22,MATCH(S$27,'FY17ProjSCH(revised)'!$A$2:$S$2,0),FALSE) -> 723382.31 | T29: =SUM(C29:Q29)+R29+S29 -> 11693824
A30: 5 | B30: Graduate Tier II | C30: =+GPPcntSCHNew*(VLOOKUP($A30,FY19ProjRev!$B$4:$L$23,11,FALSE))*VLOOKUP($A30,'FY17ProjSCH(revised)'!$A$3:$S$22,MATCH(C$27,'FY17ProjSCH(revised)'!$A$2:$S$2,0),FALSE) -> 2896.4484 | D30: =+GPPcntSCHNew*(VLOOKUP($A30,FY19ProjRev!$B$4:$L$23,11,FALSE))*VLOOKUP($A30,'FY17ProjSCH(revised)'!$A$3:$S$22,MATCH(D$27,'FY17ProjSCH(revised)'!$A$2:$S$2,0),FALSE) -> 52136.072 | E30: =+GPPcntSCHNew*(VLOOKUP($A30,FY19ProjRev!$B$4:$L$23,11,FALSE))*VLOOKUP($A30,'FY17ProjSCH(revised)'!$A$3:$S$22,MATCH(E$27,'FY17ProjSCH(revised)'!$A$2:$S$2,0),FALSE) -> 482.7414 | F30: =+GPPcntSCHNew*(VLOOKUP($A30,FY19ProjRev!$B$4:$L$23,11,FALSE))*VLOOKUP($A30,'FY17ProjSCH(revised)'!$A$3:$S$22,MATCH(F$27,'FY17ProjSCH(revised)'!$A$2:$S$2,0),FALSE) -> 6034.2676 | G30: =+GPPcntSCHNew*(VLOOKUP($A30,FY19ProjRev!$B$4:$L$23,11,FALSE))*VLOOKUP($A30,'FY17ProjSCH(revised)'!$A$3:$S$22,MATCH(G$27,'FY17ProjSCH(revised)'!$A$2:$S$2,0),FALSE) -> 4827.414 | H30: =+GPPcntSCHNew*(VLOOKUP($A30,FY19ProjRev!$B$4:$L$23,11,FALSE))*VLOOKUP($A30,'FY17ProjSCH(revised)'!$A$3:$S$22,MATCH(H$27,'FY17ProjSCH(revised)'!$A$2:$S$2,0),FALSE) -> 0 | I30: =+GPPcntSCHNew*(VLOOKUP($A30,FY19ProjRev!$B$4:$L$23,11,FALSE))*VLOOKUP($A30,'FY17ProjSCH(revised)'!$A$3:$S$22,MATCH(I$27,'FY17ProjSCH(revised)'!$A$2:$S$2,0),FALSE) -> 2172.3363 | J30: =+GPPcntSCHNew*(VLOOKUP($A30,FY19ProjRev!$B$4:$L$23,11,FALSE))*VLOOKUP($A30,'FY17ProjSCH(revised)'!$A$3:$S$22,MATCH(J$27,'FY17ProjSCH(revised)'!$A$2:$S$2,0),FALSE) -> 0 | ... S30: =+GPPcntSCHNew*(VLOOKUP($A30,FY19ProjRev!$B$4:$L$23,11,FALSE))*VLOOKUP($A30,'FY17ProjSCH(revised)'!$A$3:$S$22,MATCH(S$27,'FY17ProjSCH(revised)'!$A$2:$S$2,0),FALSE) -> 965.48281 | T30: =SUM(C30:Q30)+R30+S30 -> 1285057.6
A31: 7 | B31: Graduate Tier III | C31: =+GPPcntSCHNew*(VLOOKUP($A31,FY19ProjRev!$B$4:$L$23,11,FALSE))*VLOOKUP($A31,'FY17ProjSCH(revised)'!$A$3:$S$22,MATCH(C$27,'FY17ProjSCH(revised)'!$A$2:$S$2,0),FALSE) -> 42151.907 | D31: =+GPPcntSCHNew*(VLOOKUP($A31,FY19ProjRev!$B$4:$L$23,11,FALSE))*VLOOKUP($A31,'FY17ProjSCH(revised)'!$A$3:$S$22,MATCH(D$27,'FY17ProjSCH(revised)'!$A$2:$S$2,0),FALSE) -> 404773.79 | E31: =+GPPcntSCHNew*(VLOOKUP($A31,FY19ProjRev!$B$4:$L$23,11,FALSE))*VLOOKUP($A31,'FY17ProjSCH(revised)'!$A$3:$S$22,MATCH(E$27,'FY17ProjSCH(revised)'!$A$2:$S$2,0),FALSE) -> 22134.563 | F31: =+GPPcntSCHNew*(VLOOKUP($A31,FY19ProjRev!$B$4:$L$23,11,FALSE))*VLOOKUP($A31,'FY17ProjSCH(revised)'!$A$3:$S$22,MATCH(F$27,'FY17ProjSCH(revised)'!$A$2:$S$2,0),FALSE) -> 26946.424 | G31: =+GPPcntSCHNew*(VLOOKUP($A31,FY19ProjRev!$B$4:$L$23,11,FALSE))*VLOOKUP($A31,'FY17ProjSCH(revised)'!$A$3:$S$22,MATCH(G$27,'FY17ProjSCH(revised)'!$A$2:$S$2,0),FALSE) -> 6378218.7 | H31: =+GPPcntSCHNew*(VLOOKUP($A31,FY19ProjRev!$B$4:$L$23,11,FALSE))*VLOOKUP($A31,'FY17ProjSCH(revised)'!$A$3:$S$22,MATCH(H$27,'FY17ProjSCH(revised)'!$A$2:$S$2,0),FALSE) -> 36185.199 | I31: =+GPPcntSCHNew*(VLOOKUP($A31,FY19ProjRev!$B$4:$L$23,11,FALSE))*VLOOKUP($A31,'FY17ProjSCH(revised)'!$A$3:$S$22,MATCH(I$27,'FY17ProjSCH(revised)'!$A$2:$S$2,0),FALSE) -> 11548.468 | J31: =+GPPcntSCHNew*(VLOOKUP($A31,FY19ProjRev!$B$4:$L$23,11,FALSE))*VLOOKUP($A31,'FY17ProjSCH(revised)'!$A$3:$S$22,MATCH(J$27,'FY17ProjSCH(revised)'!$A$2:$S$2,0),FALSE) -> 20402.293 | ... S31: =+GPPcntSCHNew*(VLOOKUP($A31,FY19ProjRev!$B$4:$L$23,11,FALSE))*VLOOKUP($A31,'FY17ProjSCH(revised)'!$A$3:$S$22,MATCH(S$27,'FY17ProjSCH(revised)'!$A$2:$S$2,0),FALSE) -> 126263.25 | T31: =SUM(C31:Q31)+R31+S31 -> 7563283.9
A32: 9 | B32: Coll Environ Graduate | C32: =+GPPcntSCHNew*(VLOOKUP($A32,FY19ProjRev!$B$4:$L$23,11,FALSE))*VLOOKUP($A32,'FY17ProjSCH(revised)'!$A$3:$S$22,MATCH(C$27,'FY17ProjSCH(revised)'!$A$2:$S$2,0),FALSE) -> 2896.3759 | D32: =+GPPcntSCHNew*(VLOOKUP($A32,FY19ProjRev!$B$4:$L$23,11,FALSE))*VLOOKUP($A32,'FY17ProjSCH(revised)'!$A$3:$S$22,MATCH(D$27,'FY17ProjSCH(revised)'!$A$2:$S$2,0),FALSE) -> 115173.54 | E32: =+GPPcntSCHNew*(VLOOKUP($A32,FY19ProjRev!$B$4:$L$23,11,FALSE))*VLOOKUP($A32,'FY17ProjSCH(revised)'!$A$3:$S$22,MATCH(E$27,'FY17ProjSCH(revised)'!$A$2:$S$2,0),FALSE) -> 1703.7505 | F32: =+GPPcntSCHNew*(VLOOKUP($A32,FY19ProjRev!$B$4:$L$23,11,FALSE))*VLOOKUP($A32,'FY17ProjSCH(revised)'!$A$3:$S$22,MATCH(F$27,'FY17ProjSCH(revised)'!$A$2:$S$2,0),FALSE) -> 6644.6271 | G32: =+GPPcntSCHNew*(VLOOKUP($A32,FY19ProjRev!$B$4:$L$23,11,FALSE))*VLOOKUP($A32,'FY17ProjSCH(revised)'!$A$3:$S$22,MATCH(G$27,'FY17ProjSCH(revised)'!$A$2:$S$2,0),FALSE) -> 26237.758 | H32: =+GPPcntSCHNew*(VLOOKUP($A32,FY19ProjRev!$B$4:$L$23,11,FALSE))*VLOOKUP($A32,'FY17ProjSCH(revised)'!$A$3:$S$22,MATCH(H$27,'FY17ProjSCH(revised)'!$A$2:$S$2,0),FALSE) -> 2549321.9 | I32: =+GPPcntSCHNew*(VLOOKUP($A32,FY19ProjRev!$B$4:$L$23,11,FALSE))*VLOOKUP($A32,'FY17ProjSCH(revised)'!$A$3:$S$22,MATCH(I$27,'FY17ProjSCH(revised)'!$A$2:$S$2,0),FALSE) -> 1363.0004 | J32: =+GPPcntSCHNew*(VLOOKUP($A32,FY19ProjRev!$B$4:$L$23,11,FALSE))*VLOOKUP($A32,'FY17ProjSCH(revised)'!$A$3:$S$22,MATCH(J$27,'FY17ProjSCH(revised)'!$A$2:$S$2,0),FALSE) -> 10052.128 | ... S32: =+GPPcntSCHNew*(VLOOKUP($A32,FY19ProjRev!$B$4:$L$23,11,FALSE))*VLOOKUP($A32,'FY17ProjSCH(revised)'!$A$3:$S$22,MATCH(S$27,'FY17ProjSCH(revised)'!$A$2:$S$2,0),FALSE) -> 12607.754 | T32: =SUM(C32:Q32)+R32+S32 -> 2761779.6
A33: 11 | B33: Education Graduate | C33: =+GPPcntSCHNew*(VLOOKUP($A33,FY19ProjRev!$B$4:$L$23,11,FALSE))*VLOOKUP($A33,'FY17ProjSCH(revised)'!$A$3:$S$22,MATCH(C$27,'FY17ProjSCH(revised)'!$A$2:$S$2,0),FALSE) -> 623.7531 | D33: =+GPPcntSCHNew*(VLOOKUP($A33,FY19ProjRev!$B$4:$L$23,11,FALSE))*VLOOKUP($A33,'FY17ProjSCH(revised)'!$A$3:$S$22,MATCH(D$27,'FY17ProjSCH(revised)'!$A$2:$S$2,0),FALSE) -> 129532.73 | E33: =+GPPcntSCHNew*(VLOOKUP($A33,FY19ProjRev!$B$4:$L$23,11,FALSE))*VLOOKUP($A33,'FY17ProjSCH(revised)'!$A$3:$S$22,MATCH(E$27,'FY17ProjSCH(revised)'!$A$2:$S$2,0),FALSE) -> 831.6708 | F33: =+GPPcntSCHNew*(VLOOKUP($A33,FY19ProjRev!$B$4:$L$23,11,FALSE))*VLOOKUP($A33,'FY17ProjSCH(revised)'!$A$3:$S$22,MATCH(F$27,'FY17ProjSCH(revised)'!$A$2:$S$2,0),FALSE) -> 3830051.9 | G33: =+GPPcntSCHNew*(VLOOKUP($A33,FY19ProjRev!$B$4:$L$23,11,FALSE))*VLOOKUP($A33,'FY17ProjSCH(revised)'!$A$3:$S$22,MATCH(G$27,'FY17ProjSCH(revised)'!$A$2:$S$2,0),FALSE) -> 8108.7903 | H33: =+GPPcntSCHNew*(VLOOKUP($A33,FY19ProjRev!$B$4:$L$23,11,FALSE))*VLOOKUP($A33,'FY17ProjSCH(revised)'!$A$3:$S$22,MATCH(H$27,'FY17ProjSCH(revised)'!$A$2:$S$2,0),FALSE) -> 17049.251 | I33: =+GPPcntSCHNew*(VLOOKUP($A33,FY19ProjRev!$B$4:$L$23,11,FALSE))*VLOOKUP($A33,'FY17ProjSCH(revised)'!$A$3:$S$22,MATCH(I$27,'FY17ProjSCH(revised)'!$A$2:$S$2,0),FALSE) -> 7900.8726 | J33: =+GPPcntSCHNew*(VLOOKUP($A33,FY19ProjRev!$B$4:$L$23,11,FALSE))*VLOOKUP($A33,'FY17ProjSCH(revised)'!$A$3:$S$22,MATCH(J$27,'FY17ProjSCH(revised)'!$A$2:$S$2,0),FALSE) -> 0 | ... S33: =+GPPcntSCHNew*(VLOOKUP($A33,FY19ProjRev!$B$4:$L$23,11,FALSE))*VLOOKUP($A33,'FY17ProjSCH(revised)'!$A$3:$S$22,MATCH(S$27,'FY17ProjSCH(revised)'!$A$2:$S$2,0),FALSE) -> 5613.7779 | T33: =SUM(C33:Q33)+R33+S33 -> 4063959.3
A34: 17 | B34: MSW | C34: =+GPPcntSCHNew*(VLOOKUP($A34,FY19ProjRev!$B$4:$L$23,11,FALSE))*VLOOKUP($A34,'FY17ProjSCH(revised)'!$A$3:$S$22,MATCH(C$27,'FY17ProjSCH(revised)'!$A$2:$S$2,0),FALSE) -> 6702.7897 | D34: =+GPPcntSCHNew*(VLOOKUP($A34,FY19ProjRev!$B$4:$L$23,11,FALSE))*VLOOKUP($A34,'FY17ProjSCH(revised)'!$A$3:$S$22,MATCH(D$27,'FY17ProjSCH(revised)'!$A$2:$S$2,0),FALSE) -> 19525.518 | E34: =+GPPcntSCHNew*(VLOOKUP($A34,FY19ProjRev!$B$4:$L$23,11,FALSE))*VLOOKUP($A34,'FY17ProjSCH(revised)'!$A$3:$S$22,MATCH(E$27,'FY17ProjSCH(revised)'!$A$2:$S$2,0),FALSE) -> 0 | F34: =+GPPcntSCHNew*(VLOOKUP($A34,FY19ProjRev!$B$4:$L$23,11,FALSE))*VLOOKUP($A34,'FY17ProjSCH(revised)'!$A$3:$S$22,MATCH(F$27,'FY17ProjSCH(revised)'!$A$2:$S$2,0),FALSE) -> 12531.303 | G34: =+GPPcntSCHNew*(VLOOKUP($A34,FY19ProjRev!$B$4:$L$23,11,FALSE))*VLOOKUP($A34,'FY17ProjSCH(revised)'!$A$3:$S$22,MATCH(G$27,'FY17ProjSCH(revised)'!$A$2:$S$2,0),FALSE) -> 0 | H34: =+GPPcntSCHNew*(VLOOKUP($A34,FY19ProjRev!$B$4:$L$23,11,FALSE))*VLOOKUP($A34,'FY17ProjSCH(revised)'!$A$3:$S$22,MATCH(H$27,'FY17ProjSCH(revised)'!$A$2:$S$2,0),FALSE) -> 0 | I34: =+GPPcntSCHNew*(VLOOKUP($A34,FY19ProjRev!$B$4:$L$23,11,FALSE))*VLOOKUP($A34,'FY17ProjSCH(revised)'!$A$3:$S$22,MATCH(I$27,'FY17ProjSCH(revised)'!$A$2:$S$2,0),FALSE) -> 0 | J34: =+GPPcntSCHNew*(VLOOKUP($A34,FY19ProjRev!$B$4:$L$23,11,FALSE))*VLOOKUP($A34,'FY17ProjSCH(revised)'!$A$3:$S$22,MATCH(J$27,'FY17ProjSCH(revised)'!$A$2:$S$2,0),FALSE) -> 1165.7026 | ... S34: =+GPPcntSCHNew*(VLOOKUP($A34,FY19ProjRev!$B$4:$L$23,11,FALSE))*VLOOKUP($A34,'FY17ProjSCH(revised)'!$A$3:$S$22,MATCH(S$27,'FY17ProjSCH(revised)'!$A$2:$S$2,0),FALSE) -> 2039.9795 | T34: =SUM(C34:Q34)+R34+S34 -> 2584071.2
A35: 19 | B35: Public Health Graduate | C35: =+GPPcntSCHNew*(VLOOKUP($A35,FY19ProjRev!$B$4:$L$23,11,FALSE))*VLOOKUP($A35,'FY17ProjSCH(revised)'!$A$3:$S$22,MATCH(C$27,'FY17ProjSCH(revised)'!$A$2:$S$2,0),FALSE) -> 4088.5389 | D35: =+GPPcntSCHNew*(VLOOKUP($A35,FY19ProjRev!$B$4:$L$23,11,FALSE))*VLOOKUP($A35,'FY17ProjSCH(revised)'!$A$3:$S$22,MATCH(D$27,'FY17ProjSCH(revised)'!$A$2:$S$2,0),FALSE) -> 116643.61 | E35: =+GPPcntSCHNew*(VLOOKUP($A35,FY19ProjRev!$B$4:$L$23,11,FALSE))*VLOOKUP($A35,'FY17ProjSCH(revised)'!$A$3:$S$22,MATCH(E$27,'FY17ProjSCH(revised)'!$A$2:$S$2,0),FALSE) -> 481.00457 | F35: =+GPPcntSCHNew*(VLOOKUP($A35,FY19ProjRev!$B$4:$L$23,11,FALSE))*VLOOKUP($A35,'FY17ProjSCH(revised)'!$A$3:$S$22,MATCH(F$27,'FY17ProjSCH(revised)'!$A$2:$S$2,0),FALSE) -> 1924.0183 | G35: =+GPPcntSCHNew*(VLOOKUP($A35,FY19ProjRev!$B$4:$L$23,11,FALSE))*VLOOKUP($A35,'FY17ProjSCH(revised)'!$A$3:$S$22,MATCH(G$27,'FY17ProjSCH(revised)'!$A$2:$S$2,0),FALSE) -> 20683.197 | H35: =+GPPcntSCHNew*(VLOOKUP($A35,FY19ProjRev!$B$4:$L$23,11,FALSE))*VLOOKUP($A35,'FY17ProjSCH(revised)'!$A$3:$S$22,MATCH(H$27,'FY17ProjSCH(revised)'!$A$2:$S$2,0),FALSE) -> 3367.032 | I35: =+GPPcntSCHNew*(VLOOKUP($A35,FY19ProjRev!$B$4:$L$23,11,FALSE))*VLOOKUP($A35,'FY17ProjSCH(revised)'!$A$3:$S$22,MATCH(I$27,'FY17ProjSCH(revised)'!$A$2:$S$2,0),FALSE) -> 1443.0137 | J35: =+GPPcntSCHNew*(VLOOKUP($A35,FY19ProjRev!$B$4:$L$23,11,FALSE))*VLOOKUP($A35,'FY17ProjSCH(revised)'!$A$3:$S$22,MATCH(J$27,'FY17ProjSCH(revised)'!$A$2:$S$2,0),FALSE) -> 0 | ... S35: =+GPPcntSCHNew*(VLOOKUP($A35,FY19ProjRev!$B$4:$L$23,11,FALSE))*VLOOKUP($A35,'FY17ProjSCH(revised)'!$A$3:$S$22,MATCH(S$27,'FY17ProjSCH(revised)'!$A$2:$S$2,0),FALSE) -> 10582.101 | T35: =SUM(C35:Q35)+R35+S35 -> 2197950.4
A36: 21 | B36: MPH | C36: =+GPPcntSCHNew*(VLOOKUP($A36,FY19ProjRev!$B$4:$L$23,11,FALSE))*VLOOKUP($A36,'FY17ProjSCH(revised)'!$A$3:$S$22,MATCH(C$27,'FY17ProjSCH(revised)'!$A$2:$S$2,0),FALSE) -> 3220.6839 | D36: =+GPPcntSCHNew*(VLOOKUP($A36,FY19ProjRev!$B$4:$L$23,11,FALSE))*VLOOKUP($A36,'FY17ProjSCH(revised)'!$A$3:$S$22,MATCH(D$27,'FY17ProjSCH(revised)'!$A$2:$S$2,0),FALSE) -> 61192.995 | E36: =+GPPcntSCHNew*(VLOOKUP($A36,FY19ProjRev!$B$4:$L$23,11,FALSE))*VLOOKUP($A36,'FY17ProjSCH(revised)'!$A$3:$S$22,MATCH(E$27,'FY17ProjSCH(revised)'!$A$2:$S$2,0),FALSE) -> 0 | F36: =+GPPcntSCHNew*(VLOOKUP($A36,FY19ProjRev!$B$4:$L$23,11,FALSE))*VLOOKUP($A36,'FY17ProjSCH(revised)'!$A$3:$S$22,MATCH(F$27,'FY17ProjSCH(revised)'!$A$2:$S$2,0),FALSE) -> 0 | G36: =+GPPcntSCHNew*(VLOOKUP($A36,FY19ProjRev!$B$4:$L$23,11,FALSE))*VLOOKUP($A36,'FY17ProjSCH(revised)'!$A$3:$S$22,MATCH(G$27,'FY17ProjSCH(revised)'!$A$2:$S$2,0),FALSE) -> 7085.5047 | H36: =+GPPcntSCHNew*(VLOOKUP($A36,FY19ProjRev!$B$4:$L$23,11,FALSE))*VLOOKUP($A36,'FY17ProjSCH(revised)'!$A$3:$S$22,MATCH(H$27,'FY17ProjSCH(revised)'!$A$2:$S$2,0),FALSE) -> 2791.2594 | I36: =+GPPcntSCHNew*(VLOOKUP($A36,FY19ProjRev!$B$4:$L$23,11,FALSE))*VLOOKUP($A36,'FY17ProjSCH(revised)'!$A$3:$S$22,MATCH(I$27,'FY17ProjSCH(revised)'!$A$2:$S$2,0),FALSE) -> 214.71226 | J36: =+GPPcntSCHNew*(VLOOKUP($A36,FY19ProjRev!$B$4:$L$23,11,FALSE))*VLOOKUP($A36,'FY17ProjSCH(revised)'!$A$3:$S$22,MATCH(J$27,'FY17ProjSCH(revised)'!$A$2:$S$2,0),FALSE) -> 1502.9858 | ... S36: =+GPPcntSCHNew*(VLOOKUP($A36,FY19ProjRev!$B$4:$L$23,11,FALSE))*VLOOKUP($A36,'FY17ProjSCH(revised)'!$A$3:$S$22,MATCH(S$27,'FY17ProjSCH(revised)'!$A$2:$S$2,0),FALSE) -> 1502.9858 | T36: =SUM(C36:Q36)+R36+S36 -> 1968482
A37: 25 | B37: CBE Masters | C37: =+GPPcntSCHNew*(VLOOKUP($A37,FY19ProjRev!$B$4:$L$23,11,FALSE))*VLOOKUP($A37,'FY17ProjSCH(revised)'!$A$3:$S$22,MATCH(C$27,'FY17ProjSCH(revised)'!$A$2:$S$2,0),FALSE) -> 3832777.5 | D37: =+GPPcntSCHNew*(VLOOKUP($A37,FY19ProjRev!$B$4:$L$23,11,FALSE))*VLOOKUP($A37,'FY17ProjSCH(revised)'!$A$3:$S$22,MATCH(D$27,'FY17ProjSCH(revised)'!$A$2:$S$2,0),FALSE) -> 41096.542 | E37: =+GPPcntSCHNew*(VLOOKUP($A37,FY19ProjRev!$B$4:$L$23,11,FALSE))*VLOOKUP($A37,'FY17ProjSCH(revised)'!$A$3:$S$22,MATCH(E$27,'FY17ProjSCH(revised)'!$A$2:$S$2,0),FALSE) -> 36896.895 | F37: =+GPPcntSCHNew*(VLOOKUP($A37,FY19ProjRev!$B$4:$L$23,11,FALSE))*VLOOKUP($A37,'FY17ProjSCH(revised)'!$A$3:$S$22,MATCH(F$27,'FY17ProjSCH(revised)'!$A$2:$S$2,0),FALSE) -> 0 | G37: =+GPPcntSCHNew*(VLOOKUP($A37,FY19ProjRev!$B$4:$L$23,11,FALSE))*VLOOKUP($A37,'FY17ProjSCH(revised)'!$A$3:$S$22,MATCH(G$27,'FY17ProjSCH(revised)'!$A$2:$S$2,0),FALSE) -> 26697.754 | H37: =+GPPcntSCHNew*(VLOOKUP($A37,FY19ProjRev!$B$4:$L$23,11,FALSE))*VLOOKUP($A37,'FY17ProjSCH(revised)'!$A$3:$S$22,MATCH(H$27,'FY17ProjSCH(revised)'!$A$2:$S$2,0),FALSE) -> 74093.766 | I37: =+GPPcntSCHNew*(VLOOKUP($A37,FY19ProjRev!$B$4:$L$23,11,FALSE))*VLOOKUP($A37,'FY17ProjSCH(revised)'!$A$3:$S$22,MATCH(I$27,'FY17ProjSCH(revised)'!$A$2:$S$2,0),FALSE) -> 0 | J37: =+GPPcntSCHNew*(VLOOKUP($A37,FY19ProjRev!$B$4:$L$23,11,FALSE))*VLOOKUP($A37,'FY17ProjSCH(revised)'!$A$3:$S$22,MATCH(J$27,'FY17ProjSCH(revised)'!$A$2:$S$2,0),FALSE) -> 11699.016 | ... S37: =+GPPcntSCHNew*(VLOOKUP($A37,FY19ProjRev!$B$4:$L$23,11,FALSE))*VLOOKUP($A37,'FY17ProjSCH(revised)'!$A$3:$S$22,MATCH(S$27,'FY17ProjSCH(revised)'!$A$2:$S$2,0),FALSE) -> 0 | T37: =SUM(C37:Q37)+R37+S37 -> 4082656.5
