Workbook
Name GPpcntMjr: Parameters!$B$4
Name GPPcntMjrNew: Parameters!$B$9
Name GPpcntSCH: Parameters!$B$3
Name GPPcntSCHNew: Parameters!$B$8
Name UGpcntDeg: Parameters!$B$2
Name UGPcntDegNew: Parameters!$B$7
Name UGpcntSCH: Parameters!$B$1
Name UGPcntSCHNew: Parameters!$B$6

Sheet Instructions
A1: Tuition Revenue Projection Model Instructions
A2: 1 | B2: Go to the "Tuition Rates" tab and enter the percentage tuition increases that you are considering for your tuition rates. Enter the percentage change in the yellow highlighted cells.
A3: 2 | B3: Go to the "HeadcountChgs" tab and enter the change you anticipate in enrollments in your tuition categories. Enter the percentage change in the yellow highlighted cells.
A4: 3 | B4: If you plan on generating additional undergraduate SCH or degrees, go to the "FY17ProjSCH(revised)" and "FY17ProjMjrs(revised)" tabs, and increase the UG SCH or degrees your school or college will offer. Note that we do not anticipate the number of SCH or undergraduate degrees to increase, so you need to subtract the additional SCH or degrees you plan to offer from other schools and colleges.
A5: 4 | B5: The effects of your proposed tuition changes, headcount changes, and generation of SCH and degrees will be reflected on the Summary tab.
A6: Updated 11/13/2016

Sheet Summary
A1: Projected Effect of Selected Changes Including a comparison of UG: 60% SCH,40% degrees; Grad: 20% SCH, 80% majors TO UG: 80% SCH, 20% degrees, Grad: 80% SCH, 20% majors
A2: School/College | B2: FY17 Projected | C2: FY17 Projection Fall Update | D2: Est FY17 True-Up | E2: FY18 Projection (old distribution rules) | F2: FY18 Projection (new distribution rules) | G2: FY18 Change to Supplement with new distribution rules | H2: Combined FY18 Projection + Supplement Change | I2: Change from FY 17 Fall Projection Update to FY18 Projection (old rules) | J2: Change from FY17 Fall Projection to FY18 Projection + Supplement change (new rules) | K2: FY19 Projection (new rules) | L2: Projected FY18 Increment | M2: Projected FY19 Increment
A3: Built Environments | B3: 10112673 | C3: {=TRANSPOSE('FY17ProjRevToColl(revised)'!D25:T25)} -> 10001693 | D3: =+C3-B3 -> -110980.23 | E3: {=TRANSPOSE('FY18ProjRevToColl(old)'!C25:S25)} -> 10155469 | F3: {=TRANSPOSE('FY18ProjRevToColl(new)'!C25:S25)} -> 10388802 | G3: =+E3-F3 -> -233333.71 | H3: =+F3+G3 -> 10155469 | I3: =+E3-C3 -> 153775.93 | J3: =+F3+G3-C3 -> 153775.93 | K3: {=TRANSPOSE(FY19ProjRevToColl!C25:S25)} -> 10602081 | L3: =+J3 -> 153775.93 | M3: =+K3-F3 -> 213278.25
A4: Coll Arts & Sciences | B4: 1.7449938e+08 | C4: 1.7571753e+08 | D4: =+C4-B4 -> 1218149.1 | E4: 1.7849079e+08 | F4: 1.8027651e+08 | G4: =+E4-F4 -> -1785720.2 | H4: =+F4+G4 -> 1.7849079e+08 | I4: =+E4-C4 -> 2773266.2 | J4: =+F4+G4-C4 -> 2773266.2 | K4: 1.8404639e+08 | L4: =+J4 -> 2773266.2 | M4: =+K4-F4 -> 3769874.6
A5: Foster Business School | B5: 27257250 | C5: 27007030 | D5: =+C5-B5 -> -250220.19 | E5: 27429167 | F5: 25317918 | G5: =+E5-F5 -> 2111249.1 | H5: =+F5+G5 -> 27429167 | I5: =+E5-C5 -> 422136.66 | J5: =+F5+G5-C5 -> 422136.66 | K5: 25843144 | L5: =+J5 -> 422136.66 | M5: =+K5-F5 -> 525226.17
A6: College Of Education | B6: 8862273.8 | C6: 9200852.8 | D6: =+C6-B6 -> 338579.06 | E6: 9342388.8 | F6: 9201053.3 | G6: =+E6-F6 -> 141335.52 | H6: =+F6+G6 -> 9342388.8 | I6: =+E6-C6 -> 141535.99 | J6: =+F6+G6-C6 -> 141535.99 | K6: 9389705.5 | L6: =+J6 -> 141535.99 | M6: =+K6-F6 -> 188652.18
A7: College Of Engineering | B7: 39018861 | C7: 38369760 | D7: =+C7-B7 -> -649100.76 | E7: 38967496 | F7: 38496871 | G7: =+E7-F7 -> 470625.37 | H7: =+F7+G7 -> 38967496 | I7: =+E7-C7 -> 597736.3 | J7: =+F7+G7-C7 -> 597736.3 | K7: 39295136 | L7: =+J7 -> 597736.3 | M7: =+K7-F7 -> 798265.21
A8: College Of Environment | B8: 16167577 | C8: 15933012 | D8: =+C8-B8 -> -234565.64 | E8: 16182078 | F8: 17433617 | G8: =+E8-F8 -> -1251539.5 | H8: =+F8+G8 -> 16182078 | I8: =+E8-C8 -> 249066.04 | J8: =+F8+G8-C8 -> 249066.04 | K8: 17796288 | L8: =+J8 -> 249066.04 | M8: =+K8-F8 -> 362670.6
A9: The Information School | B9: 4660752 | C9: 5073300.7 | D9: =+C9-B9 -> 412548.79 | E9: 5153390.8 | F9: 5397520.2 | G9: =+E9-F9 -> -244129.36 | H9: =+F9+G9 -> 5153390.8 | I9: =+E9-C9 -> 80090.078 | J9: =+F9+G9-C9 -> 80090.078 | K9: 5510449 | L9: =+J9 -> 80090.078 | M9: =+K9-F9 -> 112928.77
A10: School Of Law | B10: 11176400 | C10: 11252783 | D10: =+C10-B10 -> 76382.832 | E10: 11420703 | F10: 11411002 | G10: =+E10-F10 -> 9701.4519 | H10: =+F10+G10 -> 11420703 | I10: =+E10-C10 -> 167920.76 | J10: =+F10+G10-C10 -> 167920.76 | K10: 11640016 | L10: =+J10 -> 167920.76 | M10: =+K10-F10 -> 229013.84
A11: Evans Sch Of Public Af | B11: 4283480.8 | C11: 4676409.9 | D11: =+C11-B11 -> 392929.06 | E11: 4746466.1 | F11: 4755652 | G11: =+E11-F11 -> -9185.9318 | H11: =+F11+G11 -> 4746466.1 | I11: =+E11-C11 -> 70056.204 | J11: =+F11+G11-C11 -> 70056.204 | K11: 4851016.8 | L11: =+J11 -> 70056.204 | M11: =+K11-F11 -> 95364.748
A12: School Of Social Work | B12: 4425902.2 | C12: 4549710.3 | D12: =+C12-B12 -> 123808.16 | E12: 4618649.7 | F12: 4386096.8 | G12: =+E12-F12 -> 232552.9 | H12: =+F12+G12 -> 4618649.7 | I12: =+E12-C12 -> 68939.345 | J12: =+F12+G12-C12 -> 68939.345 | K12: 4474891.9 | L12: =+J12 -> 68939.345 | M12: =+K12-F12 -> 88795.104
A13: School Of Dentistry | B13: 7748542 | C13: 7829492.5 | D13: =+C13-B13 -> 80950.49 | E13: 7946298.7 | F13: 7898720.3 | G13: =+E13-F13 -> 47578.398 | H13: =+F13+G13 -> 7946298.7 | I13: =+E13-C13 -> 116806.27 | J13: =+F13+G13-C13 -> 116806.27 | K13: 8056923.4 | L13: =+J13 -> 116806.27 | M13: =+K13-F13 -> 158203.06
A14: School Of Medicine | B14: 27747675 | C14: 28367960 | D14: =+C14-B14 -> 620284.79 | E14: 28472871 | F14: 28825734 | G14: =+E14-F14 -> -352862.78 | H14: =+F14+G14 -> 28472871 | I14: =+E14-C14 -> 104911.33 | J14: =+F14+G14-C14 -> 104911.33 | K14: 29082804 | L14: =+J14 -> 104911.33 | M14: =+K14-F14 -> 257069.85
A15: School Of Nursing | B15: 4814193.7 | C15: 5095520.2 | D15: =+C15-B15 -> 281326.51 | E15: 5174314.2 | F15: 4683203.7 | G15: =+E15-F15 -> 491110.47 | H15: =+F15+G15 -> 5174314.2 | I15: =+E15-C15 -> 78793.983 | J15: =+F15+G15-C15 -> 78793.983 | K15: 4779727.6 | L15: =+J15 -> 78793.983 | M15: =+K15-F15 -> 96523.886
... A19: Dean-Graduate School | B19: 1455932.1 | C19: 1435040.1 | D19: =+C19-B19 -> -20892.008 | E19: 1455269.4 | F19: 1230648.7 | G19: =+E19-F19 -> 224620.75 | H19: =+F19+G19 -> 1455269.4 | I19: =+E19-C19 -> 20229.329 | J19: =+F19+G19-C19 -> 20229.329 | K19: 1255126.8 | L19: =+J19 -> 20229.329 | M19: =+K19-F19 -> 24478.14
A21: Note that adjustment has not yet been made for FY18 and FY19 to keep Grad School programs at old distribution levels
A22: Updated 11/13/2016

Sheet TuitionRates
A1: Tuition Rates (Note: Bothell and Tacoma Undergrad and Grad Tier rates are matched to those at Seattle)
A2: Campus | G2: Tuition Category | I2: Tuition Residency | J2: 2016-17 Tuition | K2: Change for | M2: Tuition for: | P2: 2016-17 to 2017-18 Change | S2: 2017-18 to 2018-19 Change
B3: TuitionGroup | C3: Campus Gp | D3: CampusCatRes | E3: TuitionGroupName | F3: TuitionCategory | H3: TuitionResidency | K3: 2017-18 | L3: 2018-19 | M3: 2016-17 | N3: 2017-18 | P3: %chg | Q3: %reschg | R3: %nonres | S3: %chg | T3: %reschg | U3: %nonres
A4: Seattle | B4: 1 | C4: =CONCATENATE(A4,"_",B4) -> Seattle_1 | D4: =CONCATENATE(A4,"_",F4,"_",H4) -> Seattle_1_1 | E4: Undergraduate | F4: 1 | G4: Undergraduate | H4: 1 | I4: Resident | J4: 9694 | K4: 0.021 | L4: 0.021 | M4: =3*ROUNDUP((1+K4)*J4/3,0) -> 9900 | N4: =3*ROUNDUP(M4*(1+L4)/3,0) -> 10110 | P4: =+M4/J4 -> 1.0212503 | Q4: =+P4 -> 1.0212503 | R4: 0 | S4: =+N4/M4 -> 1.0212121 | T4: =+S4 -> 1.0212121 | U4: 0
B5: 1 | C5: =CONCATENATE(A5,"_",B5) -> _1 | D5: =CONCATENATE(A5,"_",F5,"_",H5) -> _1_2 | E5: Undergraduate | F5: 1 | G5: Undergraduate | H5: 2 | I5: Nonresident | J5: 33732 | K5: 0.02 | L5: 0.02 | M5: =3*ROUNDUP((1+K5)*J5/3,0) -> 34407 | N5: =3*ROUNDUP(M5*(1+L5)/3,0) -> 35097 | P5: =+M5/J5 -> 1.0200107 | Q5: =+Q4 -> 1.0212503 | R5: =+(M5-M4)/(J5-J4) -> 1.0195108 | S5: =+N5/M5 -> 1.0200541 | T5: =+T4 -> 1.0212121 | U5: =+(N5-N4)/(M5-M4) -> 1.0195862
B6: 1 | C6: =CONCATENATE(A6,"_",B6) -> _1 | D6: =CONCATENATE(A6,"_",F6,"_",H6) -> _2_1 | E6: Undergraduate | F6: 2 | G6: Undergraduate Post-Bacc / Non-Matric | H6: 1 | I6: Resident | J6: 9694 | K6: 0.021 | L6: 0.021 | M6: =3*ROUNDUP((1+K6)*J6/3,0) -> 9900 | N6: =3*ROUNDUP(M6*(1+L6)/3,0) -> 10110 | P6: =+M6/J6 -> 1.0212503 | Q6: =+P6 -> 1.0212503 | R6: 0 | S6: =+N6/M6 -> 1.0212121 | T6: =+S6 -> 1.0212121 | U6: 0
B7: 1 | C7: =CONCATENATE(A7,"_",B7) -> _1 | D7: =CONCATENATE(A7,"_",F7,"_",H7) -> _2_2 | E7: Undergraduate | F7: 2 | G7: Undergraduate Post-Bacc / Non-Matric | H7: 2 | I7: Nonresident | J7: 33732 | K7: =+K5 -> 0.02 | L7: =+L5 -> 0.02 | M7: =3*ROUNDUP((1+K7)*J7/3,0) -> 34407 | N7: =3*ROUNDUP(M7*(1+L7)/3,0) -> 35097 | P7: =+M7/J7 -> 1.0200107 | Q7: =+Q6 -> 1.0212503 | R7: =+(M7-M6)/(J7-J6) -> 1.0195108 | S7: =+N7/M7 -> 1.0200541 | T7: =+T6 -> 1.0212121 | U7: =+(N7-N6)/(M7-M6) -> 1.0195862
B8: 3 | C8: =CONCATENATE(A8,"_",B8) -> _3 | D8: =CONCATENATE(A8,"_",F8,"_",H8) -> _4_1 | E8: Graduate Tier I | F8: 4 | G8: Graduate Tier I | H8: 1 | I8: Resident | J8: 15207 | K8: 0.02 | L8: 0.02 | M8: =3*ROUNDUP((1+K8)*J8/3,0) -> 15513 | N8: =3*ROUNDUP(M8*(1+L8)/3,0) -> 15825 | P8: =+M8/J8 -> 1.0201223 | Q8: =+P8 -> 1.0201223 | R8: 0 | S8: =+N8/M8 -> 1.0201122 | T8: =+S8 -> 1.0201122 | U8: 0
B9: 3 | C9: =CONCATENATE(A9,"_",B9) -> _3 | D9: =CONCATENATE(A9,"_",F9,"_",H9) -> _4_2 | E9: Graduate Tier I | F9: 4 | G9: Graduate Tier I | H9: 2 | I9: Nonresident | J9: 27255 | K9: 0.02 | L9: 0.02 | M9: =3*ROUNDUP((1+K9)*J9/3,0) -> 27801 | N9: =3*ROUNDUP(M9*(1+L9)/3,0) -> 28359 | P9: =+M9/J9 -> 1.020033 | Q9: =+Q8 -> 1.0201223 | R9: =+(M9-M8)/(J9-J8) -> 1.0199203 | S9: =+N9/M9 -> 1.0200712 | T9: =+T8 -> 1.0201122 | U9: =+(N9-N8)/(M9-M8) -> 1.0200195
B10: 5 | C10: =CONCATENATE(A10,"_",B10) -> _5 | D10: =CONCATENATE(A10,"_",F10,"_",H10) -> _5_1 | E10: Graduate Tier II | F10: 5 | G10: Graduate Tier II | H10: 1 | I10: Resident | J10: 15594 | K10: 0.02 | L10: 0.02 | M10: =3*ROUNDUP((1+K10)*J10/3,0) -> 15906 | N10: =3*ROUNDUP(M10*(1+L10)/3,0) -> 16227 | P10: =+M10/J10 -> 1.0200077 | Q10: =+P10 -> 1.0200077 | R10: 0 | S10: =+N10/M10 -> 1.0201811 | T10: =+S10 -> 1.0201811 | U10: 0
B11: 5 | C11: =CONCATENATE(A11,"_",B11) -> _5 | D11: =CONCATENATE(A11,"_",F11,"_",H11) -> _5_2 | E11: Graduate Tier II | F11: 5 | G11: Graduate Tier II | H11: 2 | I11: Nonresident | J11: 27837 | K11: 0.02 | L11: 0.02 | M11: =3*ROUNDUP((1+K11)*J11/3,0) -> 28395 | N11: =3*ROUNDUP(M11*(1+L11)/3,0) -> 28965 | P11: =+M11/J11 -> 1.0200453 | Q11: =+Q10 -> 1.0200077 | R11: =+(M11-M10)/(J11-J10) -> 1.0200931 | S11: =+N11/M11 -> 1.020074 | T11: =+T10 -> 1.0201811 | U11: =+(N11-N10)/(M11-M10) -> 1.0199375
B12: 7 | C12: =CONCATENATE(A12,"_",B12) -> _7 | D12: =CONCATENATE(A12,"_",F12,"_",H12) -> _3_1 | E12: Graduate Tier III | F12: 3 | G12: Graduate Post-Bacc / Non-Matric | H12: 1 | I12: Resident | J12: 16917 | K12: =+K14 -> 0.02 | L12: =+L14 -> 0.02 | M12: =3*ROUNDUP((1+K12)*J12/3,0) -> 17256 | N12: =3*ROUNDUP(M12*(1+L12)/3,0) -> 17604 | P12: =+M12/J12 -> 1.020039 | Q12: =+P12 -> 1.020039 | R12: 0 | S12: =+N12/M12 -> 1.0201669 | T12: =+S12 -> 1.0201669 | U12: 0
B13: 7 | C13: =CONCATENATE(A13,"_",B13) -> _7 | D13: =CONCATENATE(A13,"_",F13,"_",H13) -> _3_2 | E13: Graduate Tier III | F13: 3 | G13: Graduate Post-Bacc / Non-Matric | H13: 2 | I13: Nonresident | J13: 30153 | K13: =+K15 -> 0.02 | L13: =+L15 -> 0.02 | M13: =3*ROUNDUP((1+K13)*J13/3,0) -> 30759 | N13: =3*ROUNDUP(M13*(1+L13)/3,0) -> 31377 | P13: =+M13/J13 -> 1.0200975 | Q13: =+Q12 -> 1.020039 | R13: =+(M13-M12)/(J13-J12) -> 1.0201723 | S13: =+N13/M13 -> 1.0200917 | T13: =+T12 -> 1.0201669 | U13: =+(N13-N12)/(M13-M12) -> 1.0199956
B14: 7 | C14: =CONCATENATE(A14,"_",B14) -> _7 | D14: =CONCATENATE(A14,"_",F14,"_",H14) -> _6_1 | E14: Graduate Tier III | F14: 6 | G14: Graduate Tier III | H14: 1 | I14: Resident | J14: 16917 | K14: 0.02 | L14: 0.02 | M14: =3*ROUNDUP((1+K14)*J14/3,0) -> 17256 | N14: =3*ROUNDUP(M14*(1+L14)/3,0) -> 17604 | P14: =+M14/J14 -> 1.020039 | Q14: =+P14 -> 1.020039 | R14: 0 | S14: =+N14/M14 -> 1.0201669 | T14: =+S14 -> 1.0201669 | U14: 0
B15: 7 | C15: =CONCATENATE(A15,"_",B15) -> _7 | D15: =CONCATENATE(A15,"_",F15,"_",H15) -> _6_2 | E15: Graduate Tier III | F15: 6 | G15: Graduate Tier III | H15: 2 | I15: Nonresident | J15: 30153 | K15: 0.02 | L15: 0.02 | M15: =3*ROUNDUP((1+K15)*J15/3,0) -> 30759 | N15: =3*ROUNDUP(M15*(1+L15)/3,0) -> 31377 | P15: =+M15/J15 -> 1.0200975 | Q15: =+Q14 -> 1.020039 | R15: =+(M15-M14)/(J15-J14) -> 1.0201723 | S15: =+N15/M15 -> 1.0200917 | T15: =+T14 -> 1.0201669 | U15: =+(N15-N14)/(M15-M14) -> 1.0199956
B16: 9 | C16: =CONCATENATE(A16,"_",B16) -> _9 | D16: =CONCATENATE(A16,"_",F16,"_",H16) -> _26_1 | E16: Coll Environ Graduate | F16: 26 | G16: College of the Environment Graduate Programs | H16: 1 | I16: Resident | J16: 15594 | K16: 0.02 | L16: 0.02 | M16: =3*ROUNDUP((1+K16)*J16/3,0) -> 15906 | N16: =3*ROUNDUP(M16*(1+L16)/3,0) -> 16227 | P16: =+M16/J16 -> 1.0200077 | Q16: =+P16 -> 1.0200077 | R16: 0 | S16: =+N16/M16 -> 1.0201811 | T16: =+S16 -> 1.0201811 | U16: 0
B17: 9 | C17: =CONCATENATE(A17,"_",B17) -> _9 | D17: =CONCATENATE(A17,"_",F17,"_",H17) -> _26_2 | E17: Coll Environ Graduate | F17: 26 | G17: College of the Environment Graduate Programs | H17: 2 | I17: Nonresident | J17: 27837 | K17: 0.02 | L17: 0.02 | M17: =3*ROUNDUP((1+K17)*J17/3,0) -> 28395 | N17: =3*ROUNDUP(M17*(1+L17)/3,0) -> 28965 | P17: =+M17/J17 -> 1.0200453 | Q17: =+Q16 -> 1.0200077 | R17: =+(M17-M16)/(J17-J16) -> 1.0200931 | S17: =+N17/M17 -> 1.020074 | T17: =+T16 -> 1.0201811 | U17: =+(N17-N16)/(M17-M16) -> 1.0199375
B18: 9 | C18: =CONCATENATE(A18,"_",B18) -> _9 | D18: =CONCATENATE(A18,"_",F18,"_",H18) -> _43_1 | E18: Coll Environ Graduate | F18: 43 | G18: MS in ESS | H18: 1 | I18: Resident | J18: 16764 | K18: 0.02 | L18: 0.02 | M18: =3*ROUNDUP((1+K18)*J18/3,0) -> 17100 | N18: =3*ROUNDUP(M18*(1+L18)/3,0) -> 17442 | P18: =+M18/J18 -> 1.0200429 | Q18: =+P18 -> 1.0200429 | R18: 0 | S18: =+N18/M18 -> 1.02 | T18: =+S18 -> 1.02 | U18: 0
B19: 9 | C19: =CONCATENATE(A19,"_",B19) -> _9 | D19: =CONCATENATE(A19,"_",F19,"_",H19) -> _43_2 | E19: Coll Environ Graduate | F19: 43 | G19: MS in ESS | H19: 2 | I19: Nonresident | J19: 29925 | K19: 0.02 | L19: 0.02 | M19: =3*ROUNDUP((1+K19)*J19/3,0) -> 30525 | N19: =3*ROUNDUP(M19*(1+L19)/3,0) -> 31137 | P19: =+M19/J19 -> 1.0200501 | Q19: =+Q18 -> 1.0200429 | R19: =+(M19-M18)/(J19-J18) -> 1.0200593 | S19: =+N19/M19 -> 1.0200491 | T19: =+T18 -> 1.02 | U19: =+(N19-N18)/(M19-M18) -> 1.0201117
B20: 11 | C20: =CONCATENATE(A20,"_",B20) -> _11 | D20: =CONCATENATE(A20,"_",F20,"_",H20) -> _27_1 | E20: Education Graduate | F20: 27 | G20: Master of Education and Master in Teaching | H20: 1 | I20: Resident | J20: 15930 | K20: 0.02 | L20: 0.02 | M20: =3*ROUNDUP((1+K20)*J20/3,0) -> 16251 | N20: =3*ROUNDUP(M20*(1+L20)/3,0) -> 16578 | P20: =+M20/J20 -> 1.0201507 | Q20: =+P20 -> 1.0201507 | R20: 0 | S20: =+N20/M20 -> 1.0201218 | T20: =+S20 -> 1.0201218 | U20: 0
B21: 11 | C21: =CONCATENATE(A21,"_",B21) -> _11 | D21: =CONCATENATE(A21,"_",F21,"_",H21) -> _27_2 | E21: Education Graduate | F21: 27 | G21: Master of Education and Master in Teaching | H21: 2 | I21: Nonresident | J21: 29532 | K21: 0.02 | L21: 0.02 | M21: =3*ROUNDUP((1+K21)*J21/3,0) -> 30123 | N21: =3*ROUNDUP(M21*(1+L21)/3,0) -> 30726 | P21: =+M21/J21 -> 1.0200122 | Q21: =+Q20 -> 1.0201507 | R21: =+(M21-M20)/(J21-J20) -> 1.01985 | S21: =+N21/M21 -> 1.0200179 | T21: =+T20 -> 1.0201218 | U21: =+(N21-N20)/(M21-M20) -> 1.0198962
B22: 11 | C22: =CONCATENATE(A22,"_",B22) -> _11 | D22: =CONCATENATE(A22,"_",F22,"_",H22) -> _28_1 | E22: Education Graduate | F22: 28 | G22: Doctor of Education and Education PhD | H22: 1 | I22: Resident | J22: 15930 | K22: 0.02 | L22: 0.02 | M22: =3*ROUNDUP((1+K22)*J22/3,0) -> 16251 | N22: =3*ROUNDUP(M22*(1+L22)/3,0) -> 16578 | P22: =+M22/J22 -> 1.0201507 | Q22: =+P22 -> 1.0201507 | R22: 0 | S22: =+N22/M22 -> 1.0201218 | T22: =+S22 -> 1.0201218 | U22: 0
B23: 11 | C23: =CONCATENATE(A23,"_",B23) -> _11 | D23: =CONCATENATE(A23,"_",F23,"_",H23) -> _28_2 | E23: Education Graduate | F23: 28 | G23: Doctor of Education and Education PhD | H23: 2 | I23: Nonresident | J23: 29532 | K23: 0.02 | L23: 0.02 | M23: =3*ROUNDUP((1+K23)*J23/3,0) -> 30123 | N23: =3*ROUNDUP(M23*(1+L23)/3,0) -> 30726 | P23: =+M23/J23 -> 1.0200122 | Q23: =+Q22 -> 1.0201507 | R23: =+(M23-M22)/(J23-J22) -> 1.01985 | S23: =+N23/M23 -> 1.0200179 | T23: =+T22 -> 1.0201218 | U23: =+(N23-N22)/(M23-M22) -> 1.0198962
B24: 17 | C24: =CONCATENATE(A24,"_",B24) -> _17 | D24: =CONCATENATE(A24,"_",F24,"_",H24) -> _23_1 | E24: MSW | F24: 23 | G24: Master of Social Work | H24: 1 | I24: Resident | J24: 17643 | K24: 0.02 | L24: 0.02 | M24: =3*ROUNDUP((1+K24)*J24/3,0) -> 17997 | N24: =3*ROUNDUP(M24*(1+L24)/3,0) -> 18357 | P24: =+M24/J24 -> 1.0200646 | Q24: =+P24 -> 1.0200646 | R24: 0 | S24: =+N24/M24 -> 1.0200033 | T24: =+S24 -> 1.0200033 | U24: 0
B25: 17 | C25: =CONCATENATE(A25,"_",B25) -> _17 | D25: =CONCATENATE(A25,"_",F25,"_",H25) -> _23_2 | E25: MSW | F25: 23 | G25: Master of Social Work | H25: 2 | I25: Nonresident | J25: 30309 | K25: 0.02 | L25: 0.02 | M25: =3*ROUNDUP((1+K25)*J25/3,0) -> 30918 | N25: =3*ROUNDUP(M25*(1+L25)/3,0) -> 31539 | P25: =+M25/J25 -> 1.020093 | Q25: =+Q24 -> 1.0200646 | R25: =+(M25-M24)/(J25-J24) -> 1.0201326 | S25: =+N25/M25 -> 1.0200854 | T25: =+T24 -> 1.0200033 | U25: =+(N25-N24)/(M25-M24) -> 1.0201997
B26: 19 | C26: =CONCATENATE(A26,"_",B26) -> _19 | D26: =CONCATENATE(A26,"_",F26,"_",H26) -> _38_1 | E26: Public Health Graduate | F26: 38 | G26: Public Health Masters Programs (excl MPH) | H26: 1 | I26: Resident | J26: 17583 | K26: 0.02 | L26: 0.02 | M26: =3*ROUNDUP((1+K26)*J26/3,0) -> 17937 | N26: =3*ROUNDUP(M26*(1+L26)/3,0) -> 18297 | P26: =+M26/J26 -> 1.0201331 | Q26: =+P26 -> 1.0201331 | R26: 0 | S26: =+N26/M26 -> 1.0200702 | T26: =+S26 -> 1.0200702 | U26: 0
B27: 19 | C27: =CONCATENATE(A27,"_",B27) -> _19 | D27: =CONCATENATE(A27,"_",F27,"_",H27) -> _38_2 | E27: Public Health Graduate | F27: 38 | G27: Public Health Masters Programs (excl MPH) | H27: 2 | I27: Nonresident | J27: 30153 | K27: 0.02 | L27: 0.02 | M27: =3*ROUNDUP((1+K27)*J27/3,0) -> 30759 | N27: =3*ROUNDUP(M27*(1+L27)/3,0) -> 31377 | P27: =+M27/J27 -> 1.0200975 | Q27: =+Q26 -> 1.0201331 | R27: =+(M27-M26)/(J27-J26) -> 1.0200477 | S27: =+N27/M27 -> 1.0200917 | T27: =+T26 -> 1.0200702 | U27: =+(N27-N26)/(M27-M26) -> 1.0201217
B28: 19 | C28: =CONCATENATE(A28,"_",B28) -> _19 | D28: =CONCATENATE(A28,"_",F28,"_",H28) -> _42_1 | E28: Public Health Graduate | F28: 42 | G28: Public Health PhD Program | H28: 1 | I28: Resident | J28: 17583 | K28: 0.02 | L28: 0.02 | M28: =3*ROUNDUP((1+K28)*J28/3,0) -> 17937 | N28: =3*ROUNDUP(M28*(1+L28)/3,0) -> 18297 | P28: =+M28/J28 -> 1.0201331 | Q28: =+P28 -> 1.0201331 | R28: 0 | S28: =+N28/M28 -> 1.0200702 | T28: =+S28 -> 1.0200702 | U28: 0
B29: 19 | C29: =CONCATENATE(A29,"_",B29) -> _19 | D29: =CONCATENATE(A29,"_",F29,"_",H29) -> _42_2 | E29: Public Health Graduate | F29: 42 | G29: Public Health PhD Program | H29: 2 | I29: Nonresident | J29: 30153 | K29: 0.02 | L29: 0.02 | M29: =3*ROUNDUP((1+K29)*J29/3,0) -> 30759 | N29: =3*ROUNDUP(M29*(1+L29)/3,0) -> 31377 | P29: =+M29/J29 -> 1.0200975 | Q29: =+Q28 -> 1.0201331 | R29: =+(M29-M28)/(J29-J28) -> 1.0200477 | S29: =+N29/M29 -> 1.0200917 | T29: =+T28 -> 1.0200702 | U29: =+(N29-N28)/(M29-M28) -> 1.0201217
B30: 21 | C30: =CONCATENATE(A30,"_",B30) -> _21 | D30: =CONCATENATE(A30,"_",F30,"_",H30) -> _21_1 | E30: MPH | F30: 21 | G30: Master of Public Health (Incoming) | H30: 1 | I30: Resident | J30: 19377 | K30: 0.02 | L30: 0.02 | M30: =3*ROUNDUP((1+K30)*J30/3,0) -> 19767 | N30: =3*ROUNDUP(M30*(1+L30)/3,0) -> 20163 | P30: =+M30/J30 -> 1.020127 | Q30: =+P30 -> 1.020127 | R30: 0 | S30: =+N30/M30 -> 1.0200334 | T30: =+S30 -> 1.0200334 | U30: 0
B31: 21 | C31: =CONCATENATE(A31,"_",B31) -> _21 | D31: =CONCATENATE(A31,"_",F31,"_",H31) -> _21_2 | E31: MPH | F31: 21 | G31: Master of Public Health (Incoming) | H31: 2 | I31: Nonresident | J31: 33738 | K31: 0.02 | L31: 0.02 | M31: =3*ROUNDUP((1+K31)*J31/3,0) -> 34413 | N31: =3*ROUNDUP(M31*(1+L31)/3,0) -> 35103 | P31: =+M31/J31 -> 1.0200071 | Q31: =+Q30 -> 1.020127 | R31: =+(M31-M30)/(J31-J30) -> 1.0198454 | S31: =+N31/M31 -> 1.0200506 | T31: =+T30 -> 1.0200334 | U31: =+(N31-N30)/(M31-M30) -> 1.0200737
B32: 21 | C32: =CONCATENATE(A32,"_",B32) -> _21 | D32: =CONCATENATE(A32,"_",F32,"_",H32) -> _22_1 | E32: MPH | F32: 22 | G32: Master of Public Health (Continuing) | H32: 1 | I32: Resident | J32: 18840 | K32: 0.02 | L32: 0.02 | M32: =3*ROUNDUP((1+K32)*J32/3,0) -> 19218 | N32: =3*ROUNDUP(M32*(1+L32)/3,0) -> 19605 | P32: =+M32/J32 -> 1.0200637 | Q32: =+P32 -> 1.0200637 | R32: 0 | S32: =+N32/M32 -> 1.0201374 | T32: =+S32 -> 1.0201374 | U32: 0
B33: 21 | C33: =CONCATENATE(A33,"_",B33) -> _21 | D33: =CONCATENATE(A33,"_",F33,"_",H33) -> _22_2 | E33: MPH | F33: 22 | G33: Master of Public Health (Continuing) | H33: 2 | I33: Nonresident | J33: 33738 | K33: 0.02 | L33: 0.02 | M33: =3*ROUNDUP((1+K33)*J33/3,0) -> 34413 | N33: =3*ROUNDUP(M33*(1+L33)/3,0) -> 35103 | P33: =+M33/J33 -> 1.0200071 | Q33: =+Q32 -> 1.0200637 | R33: =+(M33-M32)/(J33-J32) -> 1.0199356 | S33: =+N33/M33 -> 1.0200506 | T33: =+T32 -> 1.0201374 | U33: =+(N33-N32)/(M33-M32) -> 1.0199408
B34: 25 | C34: =CONCATENATE(A34,"_",B34) -> _25 | D34: =CONCATENATE(A34,"_",F34,"_",H34) -> _17_1 | E34: CBE Masters | F34: 17 | G34: College of Built Environ - MArch & MSRE | H34: 1 | I34: Resident | J34: 16875 | K34: 0.02 | L34: 0.02 | M34: =3*ROUNDUP((1+K34)*J34/3,0) -> 17214 | N34: =3*ROUNDUP(M34*(1+L34)/3,0) -> 17559 | P34: =+M34/J34 -> 1.0200889 | Q34: =+P34 -> 1.0200889 | R34: 0 | S34: =+N34/M34 -> 1.0200418 | T34: =+S34 -> 1.0200418 | U34: 0
B35: 25 | C35: =CONCATENATE(A35,"_",B35) -> _25 | D35: =CONCATENATE(A35,"_",F35,"_",H35) -> _17_2 | E35: CBE Masters | F35: 17 | G35: College of Built Environ - MArch & MSRE | H35: 2 | I35: Nonresident | J35: 35535 | K35: 0.02 | L35: 0.02 | M35: =3*ROUNDUP((1+K35)*J35/3,0) -> 36246 | N35: =3*ROUNDUP(M35*(1+L35)/3,0) -> 36972 | P35: =+M35/J35 -> 1.0200084 | Q35: =+Q34 -> 1.0200889 | R35: =+(M35-M34)/(J35-J34) -> 1.0199357 | S35: =+N35/M35 -> 1.0200298 | T35: =+T34 -> 1.0200418 | U35: =+(N35-N34)/(M35-M34) -> 1.0200189
B36: 25 | C36: =CONCATENATE(A36,"_",B36) -> _25 | D36: =CONCATENATE(A36,"_",F36,"_",H36) -> _39_1 | E36: CBE Masters | F36: 39 | G36: Coll of Built Environ - Masters in Const Mgmt, Land Arch, Urb Des Plan | H36: 1 | I36: Resident | J36: 15954 | K36: 0.02 | L36: 0.02 | M36: =3*ROUNDUP((1+K36)*J36/3,0) -> 16275 | N36: =3*ROUNDUP(M36*(1+L36)/3,0) -> 16602 | P36: =+M36/J36 -> 1.0201203 | Q36: =+P36 -> 1.0201203 | R36: 0 | S36: =+N36/M36 -> 1.0200922 | T36: =+S36 -> 1.0200922 | U36: 0
B37: 25 | C37: =CONCATENATE(A37,"_",B37) -> _25 | D37: =CONCATENATE(A37,"_",F37,"_",H37) -> _39_2 | E37: CBE Masters | F37: 39 | G37: Coll of Built Environ - Masters in Const Mgmt, Land Arch, Urb Des Plan | H37: 2 | I37: Nonresident | J37: 28413 | K37: 0.02 | L37: 0.02 | M37: =3*ROUNDUP((1+K37)*J37/3,0) -> 28983 | N37: =3*ROUNDUP(M37*(1+L37)/3,0) -> 29565 | P37: =+M37/J37 -> 1.0200612 | Q37: =+Q36 -> 1.0201203 | R37: =+(M37-M36)/(J37-J36) -> 1.0199856 | S37: =+N37/M37 -> 1.0200807 | T37: =+T36 -> 1.0200922 | U37: =+(N37-N36)/(M37-M36) -> 1.0200661
B38: 27 | C38: =CONCATENATE(A38,"_",B38) -> _27 | D38: =CONCATENATE(A38,"_",F38,"_",H38) -> _29_1 | E38: Engineering Masters | F38: 29 | G38: Master of Chemical Engineering | H38: 1 | I38: Resident | J38: 21135 | K38: 0.02 | L38: 0.02 | M38: =3*ROUNDUP((1+K38)*J38/3,0) -> 21558 | N38: =3*ROUNDUP(M38*(1+L38)/3,0) -> 21990 | P38: =+M38/J38 -> 1.0200142 | Q38: =+P38 -> 1.0200142 | R38: 0 | S38: =+N38/M38 -> 1.020039 | T38: =+S38 -> 1.020039 | U38: 0
B39: 27 | C39: =CONCATENATE(A39,"_",B39) -> _27 | D39: =CONCATENATE(A39,"_",F39,"_",H39) -> _29_2 | E39: Engineering Masters | F39: 29 | G39: Master of Chemical Engineering | H39: 2 | I39: Nonresident | J39: 33324 | K39: 0.02 | L39: 0.02 | M39: =3*ROUNDUP((1+K39)*J39/3,0) -> 33993 | N39: =3*ROUNDUP(M39*(1+L39)/3,0) -> 34674 | P39: =+M39/J39 -> 1.0200756 | Q39: =+Q38 -> 1.0200142 | R39: =+(M39-M38)/(J39-J38) -> 1.0201821 | S39: =+N39/M39 -> 1.0200335 | T39: =+T38 -> 1.020039 | U39: =+(N39-N38)/(M39-M38) -> 1.0200241
B40: 27 | C40: =CONCATENATE(A40,"_",B40) -> _27 | D40: =CONCATENATE(A40,"_",F40,"_",H40) -> _30_1 | E40: Engineering Masters | F40: 30 | G40: Master of Material Science and Engineering | H40: 1 | I40: Resident | J40: 21135 | K40: 0.02 | L40: 0.02 | M40: =3*ROUNDUP((1+K40)*J40/3,0) -> 21558 | N40: =3*ROUNDUP(M40*(1+L40)/3,0) -> 21990 | P40: =+M40/J40 -> 1.0200142 | Q40: =+P40 -> 1.0200142 | R40: 0 | S40: =+N40/M40 -> 1.020039 | T40: =+S40 -> 1.020039 | U40: 0
B41: 27 | C41: =CONCATENATE(A41,"_",B41) -> _27 | D41: =CONCATENATE(A41,"_",F41,"_",H41) -> _30_2 | E41: Engineering Masters | F41: 30 | G41: Master of Material Science and Engineering | H41: 2 | I41: Nonresident | J41: 33324 | K41: 0.02 | L41: 0.02 | M41: =3*ROUNDUP((1+K41)*J41/3,0) -> 33993 | N41: =3*ROUNDUP(M41*(1+L41)/3,0) -> 34674 | P41: =+M41/J41 -> 1.0200756 | Q41: =+Q40 -> 1.0200142 | R41: =+(M41-M40)/(J41-J40) -> 1.0201821 | S41: =+N41/M41 -> 1.0200335 | T41: =+T40 -> 1.020039 | U41: =+(N41-N40)/(M41-M40) -> 1.0200241
B42: 27 | C42: =CONCATENATE(A42,"_",B42) -> _27 | D42: =CONCATENATE(A42,"_",F42,"_",H42) -> _37_1 | E42: Engineering Masters | F42: 37 | G42: Masters ofApplied BioEngineering | H42: 1 | I42: Resident | J42: 22500 | K42: 0.02 | L42: 0.02 | M42: =3*ROUNDUP((1+K42)*J42/3,0) -> 22950 | N42: =3*ROUNDUP(M42*(1+L42)/3,0) -> 23409 | P42: =+M42/J42 -> 1.02 | Q42: =+P42 -> 1.02 | R42: 0 | S42: =+N42/M42 -> 1.02 | T42: =+S42 -> 1.02 | U42: 0
B43: 27 | C43: =CONCATENATE(A43,"_",B43) -> _27 | D43: =CONCATENATE(A43,"_",F43,"_",H43) -> _37_2 | E43: Engineering Masters | F43: 37 | G43: Masters of Applied BioEngineering | H43: 2 | I43: Nonresident | J43: 27000 | K43: 0.02 | L43: 0.02 | M43: =3*ROUNDUP((1+K43)*J43/3,0) -> 27540 | N43: =3*ROUNDUP(M43*(1+L43)/3,0) -> 28092 | P43: =+M43/J43 -> 1.02 | Q43: =+Q42 -> 1.02 | R43: =+(M43-M42)/(J43-J42) -> 1.02 | S43: =+N43/M43 -> 1.0200436 | T43: =+T42 -> 1.02 | U43: =+(N43-N42)/(M43-M42) -> 1.0202614
B44: 27 | C44: =CONCATENATE(A44,"_",B44) -> _27 | D44: =CONCATENATE(A44,"_",F44,"_",H44) -> _40_1 | E44: Engineering Masters | F44: 40 | G44: Master of Industrial and Systems Engineering | H44: 1 | I44: Resident | J44: 21135 | K44: 0.02 | L44: 0.02 | M44: =3*ROUNDUP((1+K44)*J44/3,0) -> 21558 | N44: =3*ROUNDUP(M44*(1+L44)/3,0) -> 21990 | P44: =+M44/J44 -> 1.0200142 | Q44: =+P44 -> 1.0200142 | R44: 0 | S44: =+N44/M44 -> 1.020039 | T44: =+S44 -> 1.020039 | U44: 0
B45: 27 | C45: =CONCATENATE(A45,"_",B45) -> _27 | D45: =CONCATENATE(A45,"_",F45,"_",H45) -> _40_2 | E45: Engineering Masters | F45: 40 | G45: Master of Industrial and Systems Engineering | H45: 2 | I45: Nonresident | J45: 33324 | K45: 0.02 | L45: 0.02 | M45: =3*ROUNDUP((1+K45)*J45/3,0) -> 33993 | N45: =3*ROUNDUP(M45*(1+L45)/3,0) -> 34674 | P45: =+M45/J45 -> 1.0200756 | Q45: =+Q44 -> 1.0200142 | R45: =+(M45-M44)/(J45-J44) -> 1.0201821 | S45: =+N45/M45 -> 1.0200335 | T45: =+T44 -> 1.020039 | U45: =+(N45-N44)/(M45-M44) -> 1.0200241
B46: 33 | C46: =CONCATENATE(A46,"_",B46) -> _33 | D46: =CONCATENATE(A46,"_",F46,"_",H46) -> _7_1 | E46: MPA | F46: 7 | G46: Master of Public Administration | H46: 1 | I46: Resident | J46: 20409 | K46: 0.02 | L46: 0.02 | M46: =3*ROUNDUP((1+K46)*J46/3,0) -> 20820 | N46: =3*ROUNDUP(M46*(1+L46)/3,0) -> 21237 | P46: =+M46/J46 -> 1.0201382 | Q46: =+P46 -> 1.0201382 | R46: 0 | S46: =+N46/M46 -> 1.0200288 | T46: =+S46 -> 1.0200288 | U46: 0
B47: 33 | C47: =CONCATENATE(A47,"_",B47) -> _33 | D47: =CONCATENATE(A47,"_",F47,"_",H47) -> _7_2 | E47: MPA | F47: 7 | G47: Master of Public Administration | H47: 2 | I47: Nonresident | J47: 36633 | K47: 0.02 | L47: 0.02 | M47: =3*ROUNDUP((1+K47)*J47/3,0) -> 37368 | N47: =3*ROUNDUP(M47*(1+L47)/3,0) -> 38118 | P47: =+M47/J47 -> 1.0200639 | Q47: =+Q46 -> 1.0201382 | R47: =+(M47-M46)/(J47-J46) -> 1.0199704 | S47: =+N47/M47 -> 1.0200706 | T47: =+T46 -> 1.0200288 | U47: =+(N47-N46)/(M47-M46) -> 1.0201233
B48: 37 | C48: =CONCATENATE(A48,"_",B48) -> _37 | D48: =CONCATENATE(A48,"_",F48,"_",H48) -> _9_1 | E48: MBA | F48: 9 | G48: Master of Business Administration (Incoming) | H48: 1 | I48: Resident | J48: 31335 | K48: 0.02 | L48: 0.02 | M48: =3*ROUNDUP((1+K48)*J48/3,0) -> 31962 | N48: =3*ROUNDUP(M48*(1+L48)/3,0) -> 32604 | P48: =+M48/J48 -> 1.0200096 | Q48: =+P48 -> 1.0200096 | R48: 0 | S48: =+N48/M48 -> 1.0200864 | T48: =+S48 -> 1.0200864 | U48: 0
B49: 37 | C49: =CONCATENATE(A49,"_",B49) -> _37 | D49: =CONCATENATE(A49,"_",F49,"_",H49) -> _9_2 | E49: MBA | F49: 9 | G49: Master of Business Administration (Incoming) | H49: 2 | I49: Nonresident | J49: 46155 | K49: 0.02 | L49: 0.02 | M49: =3*ROUNDUP((1+K49)*J49/3,0) -> 47079 | N49: =3*ROUNDUP(M49*(1+L49)/3,0) -> 48021 | P49: =+M49/J49 -> 1.0200195 | Q49: =+Q48 -> 1.0200096 | R49: =+(M49-M48)/(J49-J48) -> 1.0200405 | S49: =+N49/M49 -> 1.0200089 | T49: =+T48 -> 1.0200864 | U49: =+(N49-N48)/(M49-M48) -> 1.0198452
B50: 37 | C50: =CONCATENATE(A50,"_",B50) -> _37 | D50: =CONCATENATE(A50,"_",F50,"_",H50) -> _10_1 | E50: MBA | F50: 10 | G50: Master of Business Administration (Continuing) | H50: 1 | I50: Resident | J50: 30129 | K50: 0.02 | L50: 0.02 | M50: =3*ROUNDUP((1+K50)*J50/3,0) -> 30732 | N50: =3*ROUNDUP(M50*(1+L50)/3,0) -> 31347 | P50: =+M50/J50 -> 1.0200139 | Q50: =+P50 -> 1.0200139 | R50: 0 | S50: =+N50/M50 -> 1.0200117 | T50: =+S50 -> 1.0200117 | U50: 0
B51: 37 | C51: =CONCATENATE(A51,"_",B51) -> _37 | D51: =CONCATENATE(A51,"_",F51,"_",H51) -> _10_2 | E51: MBA | F51: 10 | G51: Master of Business Administration (Continuing) | H51: 2 | I51: Nonresident | J51: 44379 | K51: 0.02 | L51: 0.02 | M51: =3*ROUNDUP((1+K51)*J51/3,0) -> 45267 | N51: =3*ROUNDUP(M51*(1+L51)/3,0) -> 46173 | P51: =+M51/J51 -> 1.0200095 | Q51: =+Q50 -> 1.0200139 | R51: =+(M51-M50)/(J51-J50) -> 1.02 | S51: =+N51/M51 -> 1.0200146 | T51: =+T50 -> 1.0200117 | U51: =+(N51-N50)/(M51-M50) -> 1.0200206
B52: 39 | C52: =CONCATENATE(A52,"_",B52) -> _39 | D52: =CONCATENATE(A52,"_",F52,"_",H52) -> _13_1 | E52: Law (JD) | F52: 13 | G52: Law (JD) 1L | H52: 1 | I52: Resident | J52: 31662 | K52: 0.02 | L52: 0.02 | M52: =3*ROUNDUP((1+K52)*J52/3,0) -> 32298 | N52: =3*ROUNDUP(M52*(1+L52)/3,0) -> 32946 | P52: =+M52/J52 -> 1.0200872 | Q52: =+P52 -> 1.0200872 | R52: 0 | S52: =+N52/M52 -> 1.0200632 | T52: =+S52 -> 1.0200632 | U52: 0
B53: 39 | C53: =CONCATENATE(A53,"_",B53) -> _39 | D53: =CONCATENATE(A53,"_",F53,"_",H53) -> _13_2 | E53: Law (JD) | F53: 13 | G53: Law (JD) 1L | H53: 2 | I53: Nonresident | J53: 43053 | K53: 0.02 | L53: 0.02 | M53: =3*ROUNDUP((1+K53)*J53/3,0) -> 43917 | N53: =3*ROUNDUP(M53*(1+L53)/3,0) -> 44796 | P53: =+M53/J53 -> 1.0200683 | Q53: =+Q52 -> 1.0200872 | R53: =+(M53-M52)/(J53-J52) -> 1.0200158 | S53: =+N53/M53 -> 1.020015 | T53: =+T52 -> 1.0200632 | U53: =+(N53-N52)/(M53-M52) -> 1.0198812
B54: 39 | C54: =CONCATENATE(A54,"_",B54) -> _39 | D54: =CONCATENATE(A54,"_",F54,"_",H54) -> _16_1 | E54: Law (JD) | F54: 16 | G54: Law (JD) 2L,3L | H54: 1 | I54: Resident | J54: 30891 | K54: 0.02 | L54: 0.02 | M54: =3*ROUNDUP((1+K54)*J54/3,0) -> 31509 | N54: =3*ROUNDUP(M54*(1+L54)/3,0) -> 32142 | P54: =+M54/J54 -> 1.0200058 | Q54: =+P54 -> 1.0200058 | R54: 0 | S54: =+N54/M54 -> 1.0200895 | T54: =+S54 -> 1.0200895 | U54: 0
B55: 39 | C55: =CONCATENATE(A55,"_",B55) -> _39 | D55: =CONCATENATE(A55,"_",F55,"_",H55) -> _16_2 | E55: Law (JD) | F55: 16 | G55: Law (JD) 2L,3L | H55: 2 | I55: Nonresident | J55: 42192 | K55: 0.02 | L55: 0.02 | M55: =3*ROUNDUP((1+K55)*J55/3,0) -> 43038 | N55: =3*ROUNDUP(M55*(1+L55)/3,0) -> 43899 | P55: =+M55/J55 -> 1.0200512 | Q55: =+Q54 -> 1.0200058 | R55: =+(M55-M54)/(J55-J54) -> 1.0201752 | S55: =+N55/M55 -> 1.0200056 | T55: =+T54 -> 1.0200895 | U55: =+(N55-N54)/(M55-M54) -> 1.0197762
B56: 41 | C56: =CONCATENATE(A56,"_",B56) -> _41 | D56: =CONCATENATE(A56,"_",F56,"_",H56) -> _24_1 | E56: Law Graduate | F56: 24 | G56: Master of Laws (LLM) | H56: 1 | I56: Resident | J56: 21645 | K56: 0.02 | L56: 0.02 | M56: =3*ROUNDUP((1+K56)*J56/3,0) -> 22080 | N56: =3*ROUNDUP(M56*(1+L56)/3,0) -> 22524 | P56: =+M56/J56 -> 1.020097 | Q56: =+P56 -> 1.020097 | R56: 0 | S56: =+N56/M56 -> 1.0201087 | T56: =+S56 -> 1.0201087 | U56: 0
B57: 41 | C57: =CONCATENATE(A57,"_",B57) -> _41 | D57: =CONCATENATE(A57,"_",F57,"_",H57) -> _24_2 | E57: Law Graduate | F57: 24 | G57: Master of Laws (LLM) | H57: 2 | I57: Nonresident | J57: 36960 | K57: 0.02 | L57: 0.02 | M57: =3*ROUNDUP((1+K57)*J57/3,0) -> 37701 | N57: =3*ROUNDUP(M57*(1+L57)/3,0) -> 38457 | P57: =+M57/J57 -> 1.0200487 | Q57: =+Q56 -> 1.020097 | R57: =+(M57-M56)/(J57-J56) -> 1.0199804 | S57: =+N57/M57 -> 1.0200525 | T57: =+T56 -> 1.0201087 | U57: =+(N57-N56)/(M57-M56) -> 1.0199731
B58: 41 | C58: =CONCATENATE(A58,"_",B58) -> _41 | D58: =CONCATENATE(A58,"_",F58,"_",H58) -> _41_1 | E58: Law Graduate | F58: 41 | G58: Law PhD | H58: 1 | I58: Resident | J58: 18978 | K58: 0.02 | L58: 0.02 | M58: =3*ROUNDUP((1+K58)*J58/3,0) -> 19359 | N58: =3*ROUNDUP(M58*(1+L58)/3,0) -> 19749 | P58: =+M58/J58 -> 1.0200759 | Q58: =+P58 -> 1.0200759 | R58: 0 | S58: =+N58/M58 -> 1.0201457 | T58: =+S58 -> 1.0201457 | U58: 0
B59: 41 | C59: =CONCATENATE(A59,"_",B59) -> _41 | D59: =CONCATENATE(A59,"_",F59,"_",H59) -> _41_2 | E59: Law Graduate | F59: 41 | G59: Law PhD | H59: 2 | I59: Nonresident | J59: 36960 | K59: 0.02 | L59: 0.02 | M59: =3*ROUNDUP((1+K59)*J59/3,0) -> 37701 | N59: =3*ROUNDUP(M59*(1+L59)/3,0) -> 38457 | P59: =+M59/J59 -> 1.0200487 | Q59: =+Q58 -> 1.0200759 | R59: =+(M59-M58)/(J59-J58) -> 1.02002 | S59: =+N59/M59 -> 1.0200525 | T59: =+T58 -> 1.0201457 | U59: =+(N59-N58)/(M59-M58) -> 1.0199542
B60: 45 | C60: =CONCATENATE(A60,"_",B60) -> _45 | D60: =CONCATENATE(A60,"_",F60,"_",H60) -> _12_1 | E60: Nursing Graduate | F60: 12 | G60: Nursing Master and Doctor of Nursing Practice | H60: 1 | I60: Resident | J60: 25461 | K60: 0.02 | L60: 0.02 | M60: =3*ROUNDUP((1+K60)*J60/3,0) -> 25971 | N60: =3*ROUNDUP(M60*(1+L60)/3,0) -> 26493 | P60: =+M60/J60 -> 1.0200306 | Q60: =+P60 -> 1.0200306 | R60: 0 | S60: =+N60/M60 -> 1.0200993 | T60: =+S60 -> 1.0200993 | U60: 0
B61: 45 | C61: =CONCATENATE(A61,"_",B61) -> _45 | D61: =CONCATENATE(A61,"_",F61,"_",H61) -> _12_2 | E61: Nursing Graduate | F61: 12 | G61: Nursing Master and Doctor of Nursing Practice | H61: 2 | I61: Nonresident | J61: 38934 | K61: 0.02 | L61: 0.02 | M61: =3*ROUNDUP((1+K61)*J61/3,0) -> 39714 | N61: =3*ROUNDUP(M61*(1+L61)/3,0) -> 40509 | P61: =+M61/J61 -> 1.0200339 | Q61: =+Q60 -> 1.0200306 | R61: =+(M61-M60)/(J61-J60) -> 1.0200401 | S61: =+N61/M61 -> 1.0200181 | T61: =+T60 -> 1.0200993 | U61: =+(N61-N60)/(M61-M60) -> 1.0198647
B62: 47 | C62: =CONCATENATE(A62,"_",B62) -> _47 | D62: =CONCATENATE(A62,"_",F62,"_",H62) -> _14_1 | E62: PharmD | F62: 14 | G62: Doctor of Pharmacy | H62: 1 | I62: Resident | J62: 28518 | K62: 0.02 | L62: 0.02 | M62: =3*ROUNDUP((1+K62)*J62/3,0) -> 29091 | N62: =3*ROUNDUP(M62*(1+L62)/3,0) -> 29673 | P62: =+M62/J62 -> 1.0200926 | Q62: =+P62 -> 1.0200926 | R62: 0 | S62: =+N62/M62 -> 1.0200062 | T62: =+S62 -> 1.0200062 | U62: 0
B63: 47 | C63: =CONCATENATE(A63,"_",B63) -> _47 | D63: =CONCATENATE(A63,"_",F63,"_",H63) -> _14_2 | E63: PharmD | F63: 14 | G63: Doctor of Pharmacy | H63: 2 | I63: Nonresident | J63: 49215 | K63: 0.02 | L63: 0.02 | M63: =3*ROUNDUP((1+K63)*J63/3,0) -> 50202 | N63: =3*ROUNDUP(M63*(1+L63)/3,0) -> 51207 | P63: =+M63/J63 -> 1.0200549 | Q63: =+Q62 -> 1.0200926 | R63: =+(M63-M62)/(J63-J62) -> 1.0200029 | S63: =+N63/M63 -> 1.0200191 | T63: =+T62 -> 1.0200062 | U63: =+(N63-N62)/(M63-M62) -> 1.0200369
B64: 48 | C64: =CONCATENATE(A64,"_",B64) -> _48 | D64: =CONCATENATE(A64,"_",F64,"_",H64) -> _45_1 | E64: PharmD/PhD Concurrent | F64: 45 | G64: PharmD/PhD Concurrent | H64: 1 | I64: Resident | J64: 15207 | K64: 0.02 | L64: 0.02 | M64: =3*ROUNDUP((1+K64)*J64/3,0) -> 15513 | N64: =3*ROUNDUP(M64*(1+L64)/3,0) -> 15825 | P64: =+M64/J64 -> 1.0201223 | Q64: =+P64 -> 1.0201223 | R64: 0 | S64: =+N64/M64 -> 1.0201122 | T64: =+S64 -> 1.0201122 | U64: 0
B65: 48 | C65: =CONCATENATE(A65,"_",B65) -> _48 | D65: =CONCATENATE(A65,"_",F65,"_",H65) -> _45_2 | E65: PharmD/PhD Concurrent | F65: 45 | G65: PharmD/PhD Concurrent | H65: 2 | I65: Nonresident | J65: 27255 | K65: 0.02 | L65: 0.02 | M65: =3*ROUNDUP((1+K65)*J65/3,0) -> 27801 | N65: =3*ROUNDUP(M65*(1+L65)/3,0) -> 28359 | P65: =+M65/J65 -> 1.020033 | Q65: =+Q64 -> 1.0201223 | R65: =+(M65-M64)/(J65-J64) -> 1.0199203 | S65: =+N65/M65 -> 1.0200712 | T65: =+T64 -> 1.0201122 | U65: =+(N65-N64)/(M65-M64) -> 1.0200195
B66: 49 | C66: =CONCATENATE(A66,"_",B66) -> _49 | D66: =CONCATENATE(A66,"_",F66,"_",H66) -> _46_1 | E66: Pharm D/Bothell MBA | F66: 46 | G66: PharmD/Bothell MBA | H66: 1 | I66: Resident | J66: 31383 | K66: 0.02 | L66: 0.02 | M66: =3*ROUNDUP((1+K66)*J66/3,0) -> 32013 | N66: =3*ROUNDUP(M66*(1+L66)/3,0) -> 32655 | P66: =+M66/J66 -> 1.0200746 | Q66: =+P66 -> 1.0200746 | R66: 0 | S66: =+N66/M66 -> 1.0200544 | T66: =+S66 -> 1.0200544 | U66: 0
B67: 49 | C67: =CONCATENATE(A67,"_",B67) -> _49 | D67: =CONCATENATE(A67,"_",F67,"_",H67) -> _46_2 | E67: Pharm D/Bothell MBA | F67: 46 | G67: PharmD/Bothell MBA | H67: 2 | I67: Nonresident | J67: 49215 | K67: 0.02 | L67: 0.02 | M67: =3*ROUNDUP((1+K67)*J67/3,0) -> 50202 | N67: =3*ROUNDUP(M67*(1+L67)/3,0) -> 51207 | P67: =+M67/J67 -> 1.0200549 | Q67: =+Q66 -> 1.0200746 | R67: =+(M67-M66)/(J67-J66) -> 1.0200202 | S67: =+N67/M67 -> 1.0200191 | T67: =+T66 -> 1.0200544 | U67: =+(N67-N66)/(M67-M66) -> 1.0199571
B68: 50 | C68: =CONCATENATE(A68,"_",B68) -> _50 | D68: =CONCATENATE(A68,"_",F68,"_",H68) -> _15_1 | E68: Medicine (MD) | F68: 15 | G68: Medical Professional (MD) | H68: 1 | I68: Resident | J68: 33669 | K68: 0 | L68: 0 | M68: =3*ROUNDUP((1+K68)*J68/3,0) -> 33669 | N68: =3*ROUNDUP(M68*(1+L68)/3,0) -> 33669 | P68: =+M68/J68 -> 1 | Q68: =+P68 -> 1 | R68: 0 | S68: =+N68/M68 -> 1 | T68: =+S68 -> 1 | U68: 0
B69: 50 | C69: =CONCATENATE(A69,"_",B69) -> _50 | D69: =CONCATENATE(A69,"_",F69,"_",H69) -> _15_2 | E69: Medicine (MD) | F69: 15 | G69: Medical Professional (MD) | H69: 2 | I69: Nonresident | J69: 63123 | K69: 0 | L69: 0 | M69: =3*ROUNDUP((1+K69)*J69/3,0) -> 63123 | N69: =3*ROUNDUP(M69*(1+L69)/3,0) -> 63123 | P69: =+M69/J69 -> 1 | Q69: =+Q68 -> 1 | R69: =+(M69-M68)/(J69-J68) -> 1 | S69: =+N69/M69 -> 1 | T69: =+T68 -> 1 | U69: =+(N69-N68)/(M69-M68) -> 1
B70: 51 | C70: =CONCATENATE(A70,"_",B70) -> _51 | D70: =CONCATENATE(A70,"_",F70,"_",H70) -> _20_1 | E70: Dentistry (DDS) | F70: 20 | G70: Dental Professional -Year 2 | H70: 1 | I70: Resident | J70: 45816 | K70: 0.02 | L70: 0.02 | M70: =3*ROUNDUP((1+K70)*J70/3,0) -> 46734 | N70: =3*ROUNDUP(M70*(1+L70)/3,0) -> 47670 | P70: =+M70/J70 -> 1.0200367 | Q70: =+P70 -> 1.0200367 | R70: 0 | S70: =+N70/M70 -> 1.0200282 | T70: =+S70 -> 1.0200282 | U70: 0
B71: 51 | C71: =CONCATENATE(A71,"_",B71) -> _51 | D71: =CONCATENATE(A71,"_",F71,"_",H71) -> _20_2 | E71: Dentistry (DDS) | F71: 20 | G71: Dental Professional -Year 2 | H71: 2 | I71: Nonresident | J71: 70644 | K71: 0.02 | L71: 0.02 | M71: =3*ROUNDUP((1+K71)*J71/3,0) -> 72057 | N71: =3*ROUNDUP(M71*(1+L71)/3,0) -> 73500 | P71: =+M71/J71 -> 1.0200017 | Q71: =+Q70 -> 1.0200367 | R71: =+(M71-M70)/(J71-J70) -> 1.0199372 | S71: =+N71/M71 -> 1.0200258 | T71: =+T70 -> 1.0200282 | U71: =+(N71-N70)/(M71-M70) -> 1.0200213
B72: 51 | C72: =CONCATENATE(A72,"_",B72) -> _51 | D72: =CONCATENATE(A72,"_",F72,"_",H72) -> _25_1 | E72: Dentistry (DDS) | F72: 25 | G72: Dental Professional - Year 1 | H72: 1 | I72: Resident | J72: 45816 | K72: 0.02 | L72: 0.02 | M72: =3*ROUNDUP((1+K72)*J72/3,0) -> 46734 | N72: =3*ROUNDUP(M72*(1+L72)/3,0) -> 47670 | P72: =+M72/J72 -> 1.0200367 | Q72: =+P72 -> 1.0200367 | R72: 0 | S72: =+N72/M72 -> 1.0200282 | T72: =+S72 -> 1.0200282 | U72: 0
B73: 51 | C73: =CONCATENATE(A73,"_",B73) -> _51 | D73: =CONCATENATE(A73,"_",F73,"_",H73) -> _25_2 | E73: Dentistry (DDS) | F73: 25 | G73: Dental Professional - Year 1 | H73: 2 | I73: Nonresident | J73: 70644 | K73: 0.02 | L73: 0.02 | M73: =3*ROUNDUP((1+K73)*J73/3,0) -> 72057 | N73: =3*ROUNDUP(M73*(1+L73)/3,0) -> 73500 | P73: =+M73/J73 -> 1.0200017 | Q73: =+Q72 -> 1.0200367 | R73: =+(M73-M72)/(J73-J72) -> 1.0199372 | S73: =+N73/M73 -> 1.0200258 | T73: =+T72 -> 1.0200282 | U73: =+(N73-N72)/(M73-M72) -> 1.0200213
B74: 51 | C74: =CONCATENATE(A74,"_",B74) -> _51 | D74: =CONCATENATE(A74,"_",F74,"_",H74) -> _31_1 | E74: Dentistry (DDS) | F74: 31 | G74: Dental Professional - Year 3 | H74: 1 | I74: Resident | J74: 45810 | K74: 0.02 | L74: 0.02 | M74: =3*ROUNDUP((1+K74)*J74/3,0) -> 46728 | N74: =3*ROUNDUP(M74*(1+L74)/3,0) -> 47664 | P74: =+M74/J74 -> 1.0200393 | Q74: =+P74 -> 1.0200393 | R74: 0 | S74: =+N74/M74 -> 1.0200308 | T74: =+S74 -> 1.0200308 | U74: 0
B75: 51 | C75: =CONCATENATE(A75,"_",B75) -> _51 | D75: =CONCATENATE(A75,"_",F75,"_",H75) -> _31_2 | E75: Dentistry (DDS) | F75: 31 | G75: Dental Professional - Year 3 | H75: 2 | I75: Nonresident | J75: 70644 | K75: 0.02 | L75: 0.02 | M75: =3*ROUNDUP((1+K75)*J75/3,0) -> 72057 | N75: =3*ROUNDUP(M75*(1+L75)/3,0) -> 73500 | P75: =+M75/J75 -> 1.0200017 | Q75: =+Q74 -> 1.0200393 | R75: =+(M75-M74)/(J75-J74) -> 1.0199324 | S75: =+N75/M75 -> 1.0200258 | T75: =+T74 -> 1.0200308 | U75: =+(N75-N74)/(M75-M74) -> 1.0200166
B76: 51 | C76: =CONCATENATE(A76,"_",B76) -> _51 | D76: =CONCATENATE(A76,"_",F76,"_",H76) -> _32_1 | E76: Dentistry (DDS) | F76: 32 | G76: Dental Professional - Year 4 | H76: 1 | I76: Resident | J76: 42348 | K76: 0.02 | L76: 0.02 | M76: =3*ROUNDUP((1+K76)*J76/3,0) -> 43197 | N76: =3*ROUNDUP(M76*(1+L76)/3,0) -> 44061 | P76: =+M76/J76 -> 1.0200482 | Q76: =+P76 -> 1.0200482 | R76: 0 | S76: =+N76/M76 -> 1.0200014 | T76: =+S76 -> 1.0200014 | U76: 0
B77: 51 | C77: =CONCATENATE(A77,"_",B77) -> _51 | D77: =CONCATENATE(A77,"_",F77,"_",H77) -> _32_2 | E77: Dentistry (DDS) | F77: 32 | G77: Dental Professional - Year 4 | H77: 2 | I77: Nonresident | J77: 70644 | K77: 0.02 | L77: 0.02 | M77: =3*ROUNDUP((1+K77)*J77/3,0) -> 72057 | N77: =3*ROUNDUP(M77*(1+L77)/3,0) -> 73500 | P77: =+M77/J77 -> 1.0200017 | Q77: =+Q76 -> 1.0200482 | R77: =+(M77-M76)/(J77-J76) -> 1.0199321 | S77: =+N77/M77 -> 1.0200258 | T77: =+T76 -> 1.0200014 | U77: =+(N77-N76)/(M77-M76) -> 1.0200624
B78: 53 | C78: =CONCATENATE(A78,"_",B78) -> _53 | D78: =CONCATENATE(A78,"_",F78,"_",H78) -> _33_1 | E78: Dentistry Graduate | F78: 33 | G78: Graduate Dentistry - Oral Biology | H78: 1 | I78: Resident | J78: 15336 | K78: 0.02 | L78: 0.02 | M78: =3*ROUNDUP((1+K78)*J78/3,0) -> 15645 | N78: =3*ROUNDUP(M78*(1+L78)/3,0) -> 15960 | P78: =+M78/J78 -> 1.0201487 | Q78: =+P78 -> 1.0201487 | R78: 0 | S78: =+N78/M78 -> 1.0201342 | T78: =+S78 -> 1.0201342 | U78: 0
B79: 53 | C79: =CONCATENATE(A79,"_",B79) -> _53 | D79: =CONCATENATE(A79,"_",F79,"_",H79) -> _33_2 | E79: Dentistry Graduate | F79: 33 | G79: Graduate Dentistry - Oral Biology | H79: 2 | I79: Nonresident | J79: 29616 | K79: 0.02 | L79: 0.02 | M79: =3*ROUNDUP((1+K79)*J79/3,0) -> 30210 | N79: =3*ROUNDUP(M79*(1+L79)/3,0) -> 30816 | P79: =+M79/J79 -> 1.0200567 | Q79: =+Q78 -> 1.0201487 | R79: =+(M79-M78)/(J79-J78) -> 1.019958 | S79: =+N79/M79 -> 1.0200596 | T79: =+T78 -> 1.0201342 | U79: =+(N79-N78)/(M79-M78) -> 1.0199794
B80: 53 | C80: =CONCATENATE(A80,"_",B80) -> _53 | D80: =CONCATENATE(A80,"_",F80,"_",H80) -> _34_1 | E80: Dentistry Graduate | F80: 34 | G80: Graduate Dentistry - Oral Med, Ped Dent, Periodontics, Prosthodontics | H80: 1 | I80: Resident | J80: 17031 | K80: 0.02 | L80: 0.02 | M80: =3*ROUNDUP((1+K80)*J80/3,0) -> 17373 | N80: =3*ROUNDUP(M80*(1+L80)/3,0) -> 17721 | P80: =+M80/J80 -> 1.020081 | Q80: =+P80 -> 1.020081 | R80: 0 | S80: =+N80/M80 -> 1.0200311 | T80: =+S80 -> 1.0200311 | U80: 0
B81: 53 | C81: =CONCATENATE(A81,"_",B81) -> _53 | D81: =CONCATENATE(A81,"_",F81,"_",H81) -> _34_2 | E81: Dentistry Graduate | F81: 34 | G81: Graduate Dentistry - Oral Med, Ped Dent, Periodontics, Prosthodontics | H81: 2 | I81: Nonresident | J81: 32277 | K81: 0.02 | L81: 0.02 | M81: =3*ROUNDUP((1+K81)*J81/3,0) -> 32925 | N81: =3*ROUNDUP(M81*(1+L81)/3,0) -> 33585 | P81: =+M81/J81 -> 1.0200762 | Q81: =+Q80 -> 1.020081 | R81: =+(M81-M80)/(J81-J80) -> 1.0200708 | S81: =+N81/M81 -> 1.0200456 | T81: =+T80 -> 1.0200311 | U81: =+(N81-N80)/(M81-M80) -> 1.0200617
B82: 53 | C82: =CONCATENATE(A82,"_",B82) -> _53 | D82: =CONCATENATE(A82,"_",F82,"_",H82) -> _35_1 | E82: Dentistry Graduate | F82: 35 | G82: Graduate Dentistry - Endodontics | H82: 1 | I82: Resident | J82: 18732 | K82: 0.02 | L82: 0.02 | M82: =3*ROUNDUP((1+K82)*J82/3,0) -> 19107 | N82: =3*ROUNDUP(M82*(1+L82)/3,0) -> 19491 | P82: =+M82/J82 -> 1.0200192 | Q82: =+P82 -> 1.0200192 | R82: 0 | S82: =+N82/M82 -> 1.0200973 | T82: =+S82 -> 1.0200973 | U82: 0
B83: 53 | C83: =CONCATENATE(A83,"_",B83) -> _53 | D83: =CONCATENATE(A83,"_",F83,"_",H83) -> _35_2 | E83: Dentistry Graduate | F83: 35 | G83: Graduate Dentistry - Endodontics | H83: 2 | I83: Nonresident | J83: 32277 | K83: 0.02 | L83: 0.02 | M83: =3*ROUNDUP((1+K83)*J83/3,0) -> 32925 | N83: =3*ROUNDUP(M83*(1+L83)/3,0) -> 33585 | P83: =+M83/J83 -> 1.0200762 | Q83: =+Q82 -> 1.0200192 | R83: =+(M83-M82)/(J83-J82) -> 1.020155 | S83: =+N83/M83 -> 1.0200456 | T83: =+T82 -> 1.0200973 | U83: =+(N83-N82)/(M83-M82) -> 1.0199739
B84: 53 | C84: =CONCATENATE(A84,"_",B84) -> _53 | D84: =CONCATENATE(A84,"_",F84,"_",H84) -> _36_1 | E84: Dentistry Graduate | F84: 36 | G84: Graduate Dentistry - Orthodontics | H84: 1 | I84: Resident | J84: 23853 | K84: 0.02 | L84: 0.02 | M84: =3*ROUNDUP((1+K84)*J84/3,0) -> 24333 | N84: =3*ROUNDUP(M84*(1+L84)/3,0) -> 24822 | P84: =+M84/J84 -> 1.0201233 | Q84: =+P84 -> 1.0201233 | R84: 0 | S84: =+N84/M84 -> 1.0200962 | T84: =+S84 -> 1.0200962 | U84: 0
B85: 53 | C85: =CONCATENATE(A85,"_",B85) -> _53 | D85: =CONCATENATE(A85,"_",F85,"_",H85) -> _36_2 | E85: Dentistry Graduate | F85: 36 | G85: Graduate Dentistry - Orthodontics | H85: 2 | I85: Nonresident | J85: 32277 | K85: 0.02 | L85: 0.02 | M85: =3*ROUNDUP((1+K85)*J85/3,0) -> 32925 | N85: =3*ROUNDUP(M85*(1+L85)/3,0) -> 33585 | P85: =+M85/J85 -> 1.0200762 | Q85: =+Q84 -> 1.0201233 | R85: =+(M85-M84)/(J85-J84) -> 1.019943 | S85: =+N85/M85 -> 1.0200456 | T85: =+T84 -> 1.0200962 | U85: =+(N85-N84)/(M85-M84) -> 1.0199022
A86: Bothell | B86: 1 | C86: =CONCATENATE(A86,"_",B86) -> Bothell_1 | D86: =CONCATENATE(A86,"_",F86,"_",H86) -> Bothell_1_1 | E86: Undergraduate | F86: 1 | G86: Undergraduate | H86: 1 | I86: Resident | J86: 9694 | K86: =+K4 -> 0.021 | L86: =+L4 -> 0.021 | M86: =3*ROUNDUP((1+K86)*J86/3,0) -> 9900 | N86: =3*ROUNDUP(M86*(1+L86)/3,0) -> 10110 | P86: =+M86/J86 -> 1.0212503 | Q86: =+P86 -> 1.0212503 | R86: 0 | S86: =+N86/M86 -> 1.0212121 | T86: =+S86 -> 1.0212121 | U86: 0
B87: 1 | C87: =CONCATENATE(A87,"_",B87) -> _1 | D87: =CONCATENATE(A87,"_",F87,"_",H87) -> _1_2 | E87: Undergraduate | F87: 1 | G87: Undergraduate | H87: 2 | I87: Nonresident | J87: 33732 | K87: =+K5 -> 0.02 | L87: =+L5 -> 0.02 | M87: =3*ROUNDUP((1+K87)*J87/3,0) -> 34407 | N87: =3*ROUNDUP(M87*(1+L87)/3,0) -> 35097 | P87: =+M87/J87 -> 1.0200107 | Q87: =+Q86 -> 1.0212503 | R87: =+(M87-M86)/(J87-J86) -> 1.0195108 | S87: =+N87/M87 -> 1.0200541 | T87: =+T86 -> 1.0212121 | U87: =+(N87-N86)/(M87-M86) -> 1.0195862
B88: 1 | C88: =CONCATENATE(A88,"_",B88) -> _1 | D88: =CONCATENATE(A88,"_",F88,"_",H88) -> _2_1 | E88: Undergraduate | F88: 2 | G88: Undergraduate Post-Bacc / Non-Matric | H88: 1 | I88: Resident | J88: 9694 | K88: =+K6 -> 0.021 | L88: =+L6 -> 0.021 | M88: =3*ROUNDUP((1+K88)*J88/3,0) -> 9900 | N88: =3*ROUNDUP(M88*(1+L88)/3,0) -> 10110 | P88: =+M88/J88 -> 1.0212503 | Q88: =+P88 -> 1.0212503 | R88: 0 | S88: =+N88/M88 -> 1.0212121 | T88: =+S88 -> 1.0212121 | U88: 0
B89: 1 | C89: =CONCATENATE(A89,"_",B89) -> _1 | D89: =CONCATENATE(A89,"_",F89,"_",H89) -> _2_2 | E89: Undergraduate | F89: 2 | G89: Undergraduate Post-Bacc / Non-Matric | H89: 2 | I89: Nonresident | J89: 33732 | K89: =+K7 -> 0.02 | L89: =+L7 -> 0.02 | M89: =3*ROUNDUP((1+K89)*J89/3,0) -> 34407 | N89: =3*ROUNDUP(M89*(1+L89)/3,0) -> 35097 | P89: =+M89/J89 -> 1.0200107 | Q89: =+Q88 -> 1.0212503 | R89: =+(M89-M88)/(J89-J88) -> 1.0195108 | S89: =+N89/M89 -> 1.0200541 | T89: =+T88 -> 1.0212121 | U89: =+(N89-N88)/(M89-M88) -> 1.0195862
B90: 2 | C90: =CONCATENATE(A90,"_",B90) -> _2 | D90: =CONCATENATE(A90,"_",F90,"_",H90) -> _4_1 | E90: Graduate Tier I | F90: 4 | G90: Graduate Tier I | H90: 1 | I90: Resident | J90: 15207 | K90: =+K8 -> 0.02 | L90: =+L8 -> 0.02 | M90: =3*ROUNDUP((1+K90)*J90/3,0) -> 15513 | N90: =3*ROUNDUP(M90*(1+L90)/3,0) -> 15825 | P90: =+M90/J90 -> 1.0201223 | Q90: =+P90 -> 1.0201223 | R90: 0 | S90: =+N90/M90 -> 1.0201122 | T90: =+S90 -> 1.0201122 | U90: 0
B91: 2 | C91: =CONCATENATE(A91,"_",B91) -> _2 | D91: =CONCATENATE(A91,"_",F91,"_",H91) -> _4_2 | E91: Graduate Tier I | F91: 4 | G91: Graduate Tier I | H91: 2 | I91: Nonresident | J91: 27255 | K91: =+K9 -> 0.02 | L91: =+L9 -> 0.02 | M91: =3*ROUNDUP((1+K91)*J91/3,0) -> 27801 | N91: =3*ROUNDUP(M91*(1+L91)/3,0) -> 28359 | P91: =+M91/J91 -> 1.020033 | Q91: =+Q90 -> 1.0201223 | R91: =+(M91-M90)/(J91-J90) -> 1.0199203 | S91: =+N91/M91 -> 1.0200712 | T91: =+T90 -> 1.0201122 | U91: =+(N91-N90)/(M91-M90) -> 1.0200195
B92: 3 | C92: =CONCATENATE(A92,"_",B92) -> _3 | D92: =CONCATENATE(A92,"_",F92,"_",H92) -> _5_1 | E92: Graduate Tier II | F92: 5 | G92: Graduate Tier II | H92: 1 | I92: Resident | J92: 15594 | K92: =+K10 -> 0.02 | L92: =+L10 -> 0.02 | M92: =3*ROUNDUP((1+K92)*J92/3,0) -> 15906 | N92: =3*ROUNDUP(M92*(1+L92)/3,0) -> 16227 | P92: =+M92/J92 -> 1.0200077 | Q92: =+P92 -> 1.0200077 | R92: 0 | S92: =+N92/M92 -> 1.0201811 | T92: =+S92 -> 1.0201811 | U92: 0
B93: 3 | C93: =CONCATENATE(A93,"_",B93) -> _3 | D93: =CONCATENATE(A93,"_",F93,"_",H93) -> _5_2 | E93: Graduate Tier II | F93: 5 | G93: Graduate Tier II | H93: 2 | I93: Nonresident | J93: 27837 | K93: =+K11 -> 0.02 | L93: =+L11 -> 0.02 | M93: =3*ROUNDUP((1+K93)*J93/3,0) -> 28395 | N93: =3*ROUNDUP(M93*(1+L93)/3,0) -> 28965 | P93: =+M93/J93 -> 1.0200453 | Q93: =+Q92 -> 1.0200077 | R93: =+(M93-M92)/(J93-J92) -> 1.0200931 | S93: =+N93/M93 -> 1.020074 | T93: =+T92 -> 1.0201811 | U93: =+(N93-N92)/(M93-M92) -> 1.0199375
B94: 4 | C94: =CONCATENATE(A94,"_",B94) -> _4 | D94: =CONCATENATE(A94,"_",F94,"_",H94) -> _3_1 | E94: Graduate Tier III | F94: 3 | G94: Graduate Post-Bacc / Non-Matric | H94: 1 | I94: Resident | J94: 16917 | K94: =+K12 -> 0.02 | L94: =+L12 -> 0.02 | M94: =3*ROUNDUP((1+K94)*J94/3,0) -> 17256 | N94: =3*ROUNDUP(M94*(1+L94)/3,0) -> 17604 | P94: =+M94/J94 -> 1.020039 | Q94: =+P94 -> 1.020039 | R94: 0 | S94: =+N94/M94 -> 1.0201669 | T94: =+S94 -> 1.0201669 | U94: 0
B95: 4 | C95: =CONCATENATE(A95,"_",B95) -> _4 | D95: =CONCATENATE(A95,"_",F95,"_",H95) -> _3_2 | E95: Graduate Tier III | F95: 3 | G95: Graduate Post-Bacc / Non-Matric | H95: 2 | I95: Nonresident | J95: 30153 | K95: =+K13 -> 0.02 | L95: =+L13 -> 0.02 | M95: =3*ROUNDUP((1+K95)*J95/3,0) -> 30759 | N95: =3*ROUNDUP(M95*(1+L95)/3,0) -> 31377 | P95: =+M95/J95 -> 1.0200975 | Q95: =+Q94 -> 1.020039 | R95: =+(M95-M94)/(J95-J94) -> 1.0201723 | S95: =+N95/M95 -> 1.0200917 | T95: =+T94 -> 1.0201669 | U95: =+(N95-N94)/(M95-M94) -> 1.0199956
B96: 4 | C96: =CONCATENATE(A96,"_",B96) -> _4 | D96: =CONCATENATE(A96,"_",F96,"_",H96) -> _6_1 | E96: Graduate Tier III | F96: 6 | G96: Graduate Tier III | H96: 1 | I96: Resident | J96: 16917 | K96: =+K14 -> 0.02 | L96: =+L14 -> 0.02 | M96: =3*ROUNDUP((1+K96)*J96/3,0) -> 17256 | N96: =3*ROUNDUP(M96*(1+L96)/3,0) -> 17604 | P96: =+M96/J96 -> 1.020039 | Q96: =+P96 -> 1.020039 | R96: 0 | S96: =+N96/M96 -> 1.0201669 | T96: =+S96 -> 1.0201669 | U96: 0
B97: 4 | C97: =CONCATENATE(A97,"_",B97) -> _4 | D97: =CONCATENATE(A97,"_",F97,"_",H97) -> _6_2 | E97: Graduate Tier III | F97: 6 | G97: Graduate Tier III | H97: 2 | I97: Nonresident | J97: 30153 | K97: =+K15 -> 0.02 | L97: =+L15 -> 0.02 | M97: =3*ROUNDUP((1+K97)*J97/3,0) -> 30759 | N97: =3*ROUNDUP(M97*(1+L97)/3,0) -> 31377 | P97: =+M97/J97 -> 1.0200975 | Q97: =+Q96 -> 1.020039 | R97: =+(M97-M96)/(J97-J96) -> 1.0201723 | S97: =+N97/M97 -> 1.0200917 | T97: =+T96 -> 1.0201669 | U97: =+(N97-N96)/(M97-M96) -> 1.0199956
B98: 5 | C98: =CONCATENATE(A98,"_",B98) -> _5 | D98: =CONCATENATE(A98,"_",F98,"_",H98) -> _11_1 | E98: Nursing | F98: 11 | G98: Master of Nursing | H98: 1 | I98: Resident | J98: 15594 | K98: 0.02 | L98: 0.02 | M98: =3*ROUNDUP((1+K98)*J98/3,0) -> 15906 | N98: =3*ROUNDUP(M98*(1+L98)/3,0) -> 16227 | P98: =+M98/J98 -> 1.0200077 | Q98: =+P98 -> 1.0200077 | R98: 0 | S98: =+N98/M98 -> 1.0201811 | T98: =+S98 -> 1.0201811 | U98: 0
B99: 5 | C99: =CONCATENATE(A99,"_",B99) -> _5 | D99: =CONCATENATE(A99,"_",F99,"_",H99) -> _11_2 | E99: Nursing | F99: 11 | G99: Master of Nursing | H99: 2 | I99: Nonresident | J99: 27837 | K99: 0.02 | L99: 0.02 | M99: =3*ROUNDUP((1+K99)*J99/3,0) -> 28395 | N99: =3*ROUNDUP(M99*(1+L99)/3,0) -> 28965 | P99: =+M99/J99 -> 1.0200453 | Q99: =+Q98 -> 1.0200077 | R99: =+(M99-M98)/(J99-J98) -> 1.0200931 | S99: =+N99/M99 -> 1.020074 | T99: =+T98 -> 1.0201811 | U99: =+(N99-N98)/(M99-M98) -> 1.0199375
B100: 6 | C100: =CONCATENATE(A100,"_",B100) -> _6 | D100: =CONCATENATE(A100,"_",F100,"_",H100) -> _9_1 | E100: MBA | F100: 9 | G100: Master of Business Administration (Incoming) | H100: 1 | I100: Resident | J100: 22596 | K100: 0.02 | L100: 0.02 | M100: =3*ROUNDUP((1+K100)*J100/3,0) -> 23049 | N100: =3*ROUNDUP(M100*(1+L100)/3,0) -> 23511 | P100: =+M100/J100 -> 1.0200478 | Q100: =+P100 -> 1.0200478 | R100: 0 | S100: =+N100/M100 -> 1.0200443 | T100: =+S100 -> 1.0200443 | U100: 0
...

Sheet HeadcountChgs
A1: Expected Headcount Changes | J1: Change for | L1: Headcount
A2: Campus | B2: TuitionGroup | C2: Campus Gp | D2: CampusCatRes | E2: TuitionGroupName | F2: TuitionCategory | G2: Tuition Category | H2: TuitionResidency | I2: Tuition Residency | J2: 2017-18 | K2: 2018-19 | L2: 2016-17 | M2: 2017-18 | N2: 2018-19
A3: Seattle | B3: 1 | C3: =CONCATENATE(A3,"_",B3) -> Seattle_1 | D3: =CONCATENATE(A3,"_",F3,"_",H3) -> Seattle_1_1 | E3: Undergraduate | F3: 1 | G3: Undergraduate | H3: 1 | I3: Resident | J3: 0 | K3: 0 | L3: 19952 | M3: =+ROUND(L3*(1+J3),0) -> 19952 | N3: =+ROUND(M3*(1+K3),0) -> 19952
B4: 1 | C4: =CONCATENATE(A4,"_",B4) -> _1 | D4: =CONCATENATE(A4,"_",F4,"_",H4) -> _1_2 | E4: Undergraduate | F4: 1 | G4: Undergraduate | H4: 2 | I4: Nonresident | J4: 0 | K4: 0 | L4: 8080 | M4: =+ROUND(L4*(1+J4),0) -> 8080 | N4: =+ROUND(M4*(1+K4),0) -> 8080
B5: 1 | C5: =CONCATENATE(A5,"_",B5) -> _1 | D5: =CONCATENATE(A5,"_",F5,"_",H5) -> _2_1 | E5: Undergraduate | F5: 2 | G5: Undergraduate Post-Bacc / Non-Matric | H5: 1 | I5: Resident | J5: 0 | K5: 0 | L5: 186 | M5: =+ROUND(L5*(1+J5),0) -> 186 | N5: =+ROUND(M5*(1+K5),0) -> 186
B6: 1 | C6: =CONCATENATE(A6,"_",B6) -> _1 | D6: =CONCATENATE(A6,"_",F6,"_",H6) -> _2_2 | E6: Undergraduate | F6: 2 | G6: Undergraduate Post-Bacc / Non-Matric | H6: 2 | I6: Nonresident | J6: 0 | K6: 0 | L6: 8 | M6: =+ROUND(L6*(1+J6),0) -> 8 | N6: =+ROUND(M6*(1+K6),0) -> 8
B7: 3 | C7: =CONCATENATE(A7,"_",B7) -> _3 | D7: =CONCATENATE(A7,"_",F7,"_",H7) -> _4_1 | E7: Graduate Tier I | F7: 4 | G7: Graduate Tier I | H7: 1 | I7: Resident | J7: 0 | K7: 0 | L7: 802 | M7: =+ROUND(L7*(1+J7),0) -> 802 | N7: =+ROUND(M7*(1+K7),0) -> 802
B8: 3 | C8: =CONCATENATE(A8,"_",B8) -> _3 | D8: =CONCATENATE(A8,"_",F8,"_",H8) -> _4_2 | E8: Graduate Tier I | F8: 4 | G8: Graduate Tier I | H8: 2 | I8: Nonresident | J8: 0 | K8: 0 | L8: 1991 | M8: =+ROUND(L8*(1+J8),0) -> 1991 | N8: =+ROUND(M8*(1+K8),0) -> 1991
B9: 5 | C9: =CONCATENATE(A9,"_",B9) -> _5 | D9: =CONCATENATE(A9,"_",F9,"_",H9) -> _5_1 | E9: Graduate Tier II | F9: 5 | G9: Graduate Tier II | H9: 1 | I9: Resident | J9: 0 | K9: 0 | L9: 65 | M9: =+ROUND(L9*(1+J9),0) -> 65 | N9: =+ROUND(M9*(1+K9),0) -> 65
B10: 5 | C10: =CONCATENATE(A10,"_",B10) -> _5 | D10: =CONCATENATE(A10,"_",F10,"_",H10) -> _5_2 | E10: Graduate Tier II | F10: 5 | G10: Graduate Tier II | H10: 2 | I10: Nonresident | J10: 0 | K10: 0 | L10: 83 | M10: =+ROUND(L10*(1+J10),0) -> 83 | N10: =+ROUND(M10*(1+K10),0) -> 83
B11: 7 | C11: =CONCATENATE(A11,"_",B11) -> _7 | D11: =CONCATENATE(A11,"_",F11,"_",H11) -> _3_1 | E11: Graduate Tier III | F11: 3 | G11: Graduate Post-Bacc / Non-Matric | H11: 1 | I11: Resident | J11: 0 | K11: 0 | L11: 25 | M11: =+ROUND(L11*(1+J11),0) -> 25 | N11: =+ROUND(M11*(1+K11),0) -> 25
B12: 7 | C12: =CONCATENATE(A12,"_",B12) -> _7 | D12: =CONCATENATE(A12,"_",F12,"_",H12) -> _3_2 | E12: Graduate Tier III | F12: 3 | G12: Graduate Post-Bacc / Non-Matric | H12: 2 | I12: Nonresident | J12: 0 | K12: 0 | L12: 3 | M12: =+ROUND(L12*(1+J12),0) -> 3 | N12: =+ROUND(M12*(1+K12),0) -> 3
B13: 7 | C13: =CONCATENATE(A13,"_",B13) -> _7 | D13: =CONCATENATE(A13,"_",F13,"_",H13) -> _6_1 | E13: Graduate Tier III | F13: 6 | G13: Graduate Tier III | H13: 1 | I13: Resident | J13: 0 | K13: 0 | L13: 269 | M13: =+ROUND(L13*(1+J13),0) -> 269 | N13: =+ROUND(M13*(1+K13),0) -> 269
B14: 7 | C14: =CONCATENATE(A14,"_",B14) -> _7 | D14: =CONCATENATE(A14,"_",F14,"_",H14) -> _6_2 | E14: Graduate Tier III | F14: 6 | G14: Graduate Tier III | H14: 2 | I14: Nonresident | J14: 0 | K14: 0 | L14: 897 | M14: =+ROUND(L14*(1+J14),0) -> 897 | N14: =+ROUND(M14*(1+K14),0) -> 897
B15: 9 | C15: =CONCATENATE(A15,"_",B15) -> _9 | D15: =CONCATENATE(A15,"_",F15,"_",H15) -> _26_1 | E15: Coll Environ Graduate | F15: 26 | G15: College of the Environment Graduate Programs | H15: 1 | I15: Resident | J15: 0 | K15: 0 | L15: 141 | M15: =+ROUND(L15*(1+J15),0) -> 141 | N15: =+ROUND(M15*(1+K15),0) -> 141
... B84: 53 | C84: =CONCATENATE(A84,"_",B84) -> _53 | D84: =CONCATENATE(A84,"_",F84,"_",H84) -> _36_2 | E84: Dentistry Graduate | F84: 36 | G84: Graduate Dentistry - Orthodontics | H84: 2 | I84: Nonresident | J84: 0 | K84: 0 | L84: 8 | M84: =+ROUND(L84*(1+J84),0) -> 8 | N84: =+ROUND(M84*(1+K84),0) -> 8
A85: Bothell | B85: 1 | C85: =CONCATENATE(A85,"_",B85) -> Bothell_1 | D85: =CONCATENATE(A85,"_",F85,"_",H85) -> Bothell_1_1 | E85: Undergraduate | F85: 1 | G85: Undergraduate | H85: 1 | I85: Resident | J85: 0 | K85: 0 | L85: 4217 | M85: =+ROUND(L85*(1+J85),0) -> 4217 | N85: =+ROUND(M85*(1+K85),0) -> 4217
B86: 1 | C86: =CONCATENATE(A86,"_",B86) -> _1 | D86: =CONCATENATE(A86,"_",F86,"_",H86) -> _1_2 | E86: Undergraduate | F86: 1 | G86: Undergraduate | H86: 2 | I86: Nonresident | J86: 0 | K86: 0 | L86: 591 | M86: =+ROUND(L86*(1+J86),0) -> 591 | N86: =+ROUND(M86*(1+K86),0) -> 591
B87: 1 | C87: =CONCATENATE(A87,"_",B87) -> _1 | D87: =CONCATENATE(A87,"_",F87,"_",H87) -> _2_1 | E87: Undergraduate | F87: 2 | G87: Undergraduate Post-Bacc / Non-Matric | H87: 1 | I87: Resident | J87: 0 | K87: 0 | L87: 170 | M87: =+ROUND(L87*(1+J87),0) -> 170 | N87: =+ROUND(M87*(1+K87),0) -> 170
B88: 1 | C88: =CONCATENATE(A88,"_",B88) -> _1 | D88: =CONCATENATE(A88,"_",F88,"_",H88) -> _2_2 | E88: Undergraduate | F88: 2 | G88: Undergraduate Post-Bacc / Non-Matric | H88: 2 | I88: Nonresident | J88: 0 | K88: 0 | L88: 3 | M88: =+ROUND(L88*(1+J88),0) -> 3 | N88: =+ROUND(M88*(1+K88),0) -> 3
B89: 2 | C89: =CONCATENATE(A89,"_",B89) -> _2 | D89: =CONCATENATE(A89,"_",F89,"_",H89) -> _4_1 | E89: Graduate Tier I | F89: 4 | G89: Graduate Tier I | H89: 1 | I89: Resident | J89: 0 | K89: 0 | L89: 22 | M89: =+ROUND(L89*(1+J89),0) -> 22 | N89: =+ROUND(M89*(1+K89),0) -> 22
B90: 2 | C90: =CONCATENATE(A90,"_",B90) -> _2 | D90: =CONCATENATE(A90,"_",F90,"_",H90) -> _4_2 | E90: Graduate Tier I | F90: 4 | G90: Graduate Tier I | H90: 2 | I90: Nonresident | J90: 0 | K90: 0 | L90: 6 | M90: =+ROUND(L90*(1+J90),0) -> 6 | N90: =+ROUND(M90*(1+K90),0) -> 6
B91: 3 | C91: =CONCATENATE(A91,"_",B91) -> _3 | D91: =CONCATENATE(A91,"_",F91,"_",H91) -> _5_1 | E91: Graduate Tier II | F91: 5 | G91: Graduate Tier II | H91: 1 | I91: Resident | J91: 0 | K91: 0 | L91: 122 | M91: =+ROUND(L91*(1+J91),0) -> 122 | N91: =+ROUND(M91*(1+K91),0) -> 122
B92: 3 | C92: =CONCATENATE(A92,"_",B92) -> _3 | D92: =CONCATENATE(A92,"_",F92,"_",H92) -> _5_2 | E92: Graduate Tier II | F92: 5 | G92: Graduate Tier II | H92: 2 | I92: Nonresident | J92: 0 | K92: 0 | L92: 8 | M92: =+ROUND(L92*(1+J92),0) -> 8 | N92: =+ROUND(M92*(1+K92),0) -> 8
B93: 4 | C93: =CONCATENATE(A93,"_",B93) -> _4 | D93: =CONCATENATE(A93,"_",F93,"_",H93) -> _3_1 | E93: Graduate Tier III | F93: 3 | G93: Graduate Post-Bacc / Non-Matric | H93: 1 | I93: Resident | J93: 0 | K93: 0 | L93: 1 | M93: =+ROUND(L93*(1+J93),0) -> 1 | N93: =+ROUND(M93*(1+K93),0) -> 1
B94: 4 | C94: =CONCATENATE(A94,"_",B94) -> _4 | D94: =CONCATENATE(A94,"_",F94,"_",H94) -> _3_2 | E94: Graduate Tier III | F94: 3 | G94: Graduate Post-Bacc / Non-Matric | H94: 2 | I94: Nonresident | J94: 0 | K94: 0 | L94: 0 | M94: =+ROUND(L94*(1+J94),0) -> 0 | N94: =+ROUND(M94*(1+K94),0) -> 0
B95: 4 | C95: =CONCATENATE(A95,"_",B95) -> _4 | D95: =CONCATENATE(A95,"_",F95,"_",H95) -> _6_1 | E95: Graduate Tier III | F95: 6 | G95: Graduate Tier III | H95: 1 | I95: Resident | J95: 0 | K95: 0 | L95: 0 | M95: =+ROUND(L95*(1+J95),0) -> 0 | N95: =+ROUND(M95*(1+K95),0) -> 0
B96: 4 | C96: =CONCATENATE(A96,"_",B96) -> _4 | D96: =CONCATENATE(A96,"_",F96,"_",H96) -> _6_2 | E96: Graduate Tier III | F96: 6 | G96: Graduate Tier III | H96: 2 | I96: Nonresident | J96: 0 | K96: 0 | L96: 0 | M96: =+ROUND(L96*(1+J96),0) -> 0 | N96: =+ROUND(M96*(1+K96),0) -> 0
B97: 5 | C97: =CONCATENATE(A97,"_",B97) -> _5 | D97: =CONCATENATE(A97,"_",F97,"_",H97) -> _11_1 | E97: Nursing | F97: 11 | G97: Master of Nursing | H97: 1 | I97: Resident | J97: 0 | K97: 0 | L97: 62 | M97: =+ROUND(L97*(1+J97),0) -> 62 | N97: =+ROUND(M97*(1+K97),0) -> 62
... B102: 6 | C102: =CONCATENATE(A102,"_",B102) -> _6 | D102: =CONCATENATE(A102,"_",F102,"_",H102) -> _10_2 | E102: MBA | F102: 10 | G102: Master of Business Administration (Continuing) | H102: 2 | I102: Nonresident | J102: 0 | K102: 0 | L102: 7 | M102: =+ROUND(L102*(1+J102),0) -> 7 | N102: =+ROUND(M102*(1+K102),0) -> 7
A103: Tacoma | B103: 1 | C103: =CONCATENATE(A103,"_",B103) -> Tacoma_1 | D103: =CONCATENATE(A103,"_",F103,"_",H103) -> Tacoma_1_1 | E103: Undergraduate | F103: 1 | G103: Undergraduate | H103: 1 | I103: Resident | J103: 0 | K103: 0 | L103: 3883 | M103: =+ROUND(L103*(1+J103),0) -> 3883 | N103: =+ROUND(M103*(1+K103),0) -> 3883
B104: 1 | C104: =CONCATENATE(A104,"_",B104) -> _1 | D104: =CONCATENATE(A104,"_",F104,"_",H104) -> _1_2 | E104: Undergraduate | F104: 1 | G104: Undergraduate | H104: 2 | I104: Nonresident | J104: 0 | K104: 0 | L104: 239 | M104: =+ROUND(L104*(1+J104),0) -> 239 | N104: =+ROUND(M104*(1+K104),0) -> 239
B105: 1 | C105: =CONCATENATE(A105,"_",B105) -> _1 | D105: =CONCATENATE(A105,"_",F105,"_",H105) -> _2_1 | E105: Undergraduate | F105: 2 | G105: Undergraduate Post-Bacc / Non-Matric | H105: 1 | I105: Resident | J105: 0 | K105: 0 | L105: 108 | M105: =+ROUND(L105*(1+J105),0) -> 108 | N105: =+ROUND(M105*(1+K105),0) -> 108
B106: 1 | C106: =CONCATENATE(A106,"_",B106) -> _1 | D106: =CONCATENATE(A106,"_",F106,"_",H106) -> _2_2 | E106: Undergraduate | F106: 2 | G106: Undergraduate Post-Bacc / Non-Matric | H106: 2 | I106: Nonresident | J106: 0 | K106: 0 | L106: 7 | M106: =+ROUND(L106*(1+J106),0) -> 7 | N106: =+ROUND(M106*(1+K106),0) -> 7
B107: 2 | C107: =CONCATENATE(A107,"_",B107) -> _2 | D107: =CONCATENATE(A107,"_",F107,"_",H107) -> _4_1 | E107: Graduate Tier I | F107: 4 | G107: Graduate Tier I | H107: 1 | I107: Resident | J107: 0 | K107: 0 | L107: 179 | M107: =+ROUND(L107*(1+J107),0) -> 179 | N107: =+ROUND(M107*(1+K107),0) -> 179
B108: 2 | C108: =CONCATENATE(A108,"_",B108) -> _2 | D108: =CONCATENATE(A108,"_",F108,"_",H108) -> _4_2 | E108: Graduate Tier I | F108: 4 | G108: Graduate Tier I | H108: 2 | I108: Nonresident | J108: 0 | K108: 0 | L108: 5 | M108: =+ROUND(L108*(1+J108),0) -> 5 | N108: =+ROUND(M108*(1+K108),0) -> 5
B109: 3 | C109: =CONCATENATE(A109,"_",B109) -> _3 | D109: =CONCATENATE(A109,"_",F109,"_",H109) -> _5_1 | E109: Graduate Tier II | F109: 5 | G109: Graduate Tier II | H109: 1 | I109: Resident | J109: 0 | K109: 0 | L109: 153 | M109: =+ROUND(L109*(1+J109),0) -> 153 | N109: =+ROUND(M109*(1+K109),0) -> 153
B110: 3 | C110: =CONCATENATE(A110,"_",B110) -> _3 | D110: =CONCATENATE(A110,"_",F110,"_",H110) -> _5_2 | E110: Graduate Tier II | F110: 5 | G110: Graduate Tier II | H110: 2 | I110: Nonresident | J110: 0 | K110: 0 | L110: 3 | M110: =+ROUND(L110*(1+J110),0) -> 3 | N110: =+ROUND(M110*(1+K110),0) -> 3
B111: 4 | C111: =CONCATENATE(A111,"_",B111) -> _4 | D111: =CONCATENATE(A111,"_",F111,"_",H111) -> _3_1 | E111: Graduate Tier III | F111: 3 | G111: Graduate Post-Bacc / Non-Matric | H111: 1 | I111: Resident | J111: 0 | K111: 0 | L111: 5 | M111: =+ROUND(L111*(1+J111),0) -> 5 | N111: =+ROUND(M111*(1+K111),0) -> 5
B112: 4 | C112: =CONCATENATE(A112,"_",B112) -> _4 | D112: =CONCATENATE(A112,"_",F112,"_",H112) -> _3_2 | E112: Graduate Tier III | F112: 3 | G112: Graduate Post-Bacc / Non-Matric | H112: 2 | I112: Nonresident | J112: 0 | K112: 0 | L112: 0 | M112: =+ROUND(L112*(1+J112),0) -> 0 | N112: =+ROUND(M112*(1+K112),0) -> 0
B113: 4 | C113: =CONCATENATE(A113,"_",B113) -> _4 | D113: =CONCATENATE(A113,"_",F113,"_",H113) -> _6_1 | E113: Graduate Tier III | F113: 6 | G113: Graduate Tier III | H113: 1 | I113: Resident | J113: 0 | K113: 0 | L113: 66 | M113: =+ROUND(L113*(1+J113),0) -> 66 | N113: =+ROUND(M113*(1+K113),0) -> 66
B114: 4 | C114: =CONCATENATE(A114,"_",B114) -> _4 | D114: =CONCATENATE(A114,"_",F114,"_",H114) -> _6_2 | E114: Graduate Tier III | F114: 6 | G114: Graduate Tier III | H114: 2 | I114: Nonresident | J114: 0 | K114: 0 | L114: 89 | M114: =+ROUND(L114*(1+J114),0) -> 89 | N114: =+ROUND(M114*(1+K114),0) -> 89
B115: 5 | C115: =CONCATENATE(A115,"_",B115) -> _5 | D115: =CONCATENATE(A115,"_",F115,"_",H115) -> _11_1 | E115: Nursing | F115: 11 | G115: Master of Nursing | H115: 1 | I115: Resident | J115: 0 | K115: 0 | L115: 33 | M115: =+ROUND(L115*(1+J115),0) -> 33 | N115: =+ROUND(M115*(1+K115),0) -> 33
... B120: 6 | C120: =CONCATENATE(A120,"_",B120) -> _6 | D120: =CONCATENATE(A120,"_",F120,"_",H120) -> _10_2 | E120: MBA | F120: 10 | G120: Master of Business Administration (Continuing) | H120: 2 | I120: Nonresident | J120: 0 | K120: 0 | L120: 0 | M120: =+ROUND(L120*(1+J120),0) -> 0 | N120: =+ROUND(M120*(1+K120),0) -> 0

Sheet Parameters
A1: UGPcntSCH | B1: 0.6
A2: UGPcntDeg | B2: 0.4
A3: GPPcntSCH | B3: 0.2
A4: GPPcntMjr | B4: 0.8
A6: UGPcntSCHNew | B6: 0.8
A7: UGPcntDegNew | B7: 0.2
A8: GPPcntSCHNew | B8: 0.8
A9: GPPcntMjrNew | B9: 0.2

Sheet FY19ProjRevToColl
B1: Projected Distribution of FY19 Tuition Revenue (new distribution parameters)
B2: Tuition Category | C2: Built Environments | D2: Coll Arts & Sciences | E2: Foster Business School | F2: College Of Education | G2: College Of Engineering | H2: College Of Environment | I2: The Information School | J2: School Of Law | K2: Evans Sch Of Public Af | L2: School Of Social Work | M2: School Of Dentistry | N2: School Of Medicine | O2: School Of Nursing | P2: School Of Pharmacy | Q2: Sch Of Public Health | R2: Undergrad Acad Affairs | S2: Dean-Graduate School | T2: TOTAL
C3: 252 | D3: 254 | E3: 256 | F3: 258 | G3: 260 | H3: 263 | I3: 267 | J3: 268 | K3: 270 | L3: 272 | M3: 302 | N3: 304 | O3: 306 | P3: 308 | Q3: 310 | R3: 350 | S3: 351
B4: Total Distributed
A5: 1 | B5: Undergraduate | C5: =+C28+C51 -> 5497209.7 | D5: =+D28+D51 -> 1.7304742e+08 | E5: =+E28+E51 -> 19772717 | F5: =+F28+F51 -> 4430980.2 | G5: =+G28+G51 -> 28671610 | H5: =+H28+H51 -> 14293543 | I5: =+I28+I51 -> 5246444.5 | J5: =+J28+J51 -> 105875.07 | ... S5: =+S28+S51 -> 61716.12 | T5: =SUM(C5:S5) -> 2.7279966e+08
A6: 3 | B6: Graduate Tier I | C6: =+C29+C52 -> 117142.83 | D6: =+D29+D52 -> 9737272.4 | E6: =+E29+E52 -> 338291.78 | F6: =+F29+F52 -> 47246.29 | G6: =+G29+G52 -> 687556.99 | H6: =+H29+H52 -> 50795.882 | I6: =+I29+I52 -> 230950.91 | J6: =+J29+J52 -> 7400.1917 | ... S6: =+S29+S52 -> 963692.29 | T6: =SUM(C6:S6) -> 14617280
A7: 5 | B7: Graduate Tier II | C7: =+C30+C53 -> 2896.4484 | D7: =+D30+D53 -> 52136.072 | E7: =+E30+E53 -> 482.7414 | F7: =+F30+F53 -> 6034.2676 | G7: =+G30+G53 -> 4827.414 | H7: =+H30+H53 -> 0 | I7: =+I30+I53 -> 2172.3363 | J7: =+J30+J53 -> 0 | ... S7: =+S30+S53 -> 965.48281 | T7: =SUM(C7:S7) -> 1606322
A8: 7 | B8: Graduate Tier III | C8: =+C31+C54 -> 43659.739 | D8: =+D31+D54 -> 422867.77 | E8: =+E31+E54 -> 22134.563 | F8: =+F31+F54 -> 29962.088 | G8: =+G31+G54 -> 8021755.2 | H8: =+H31+H54 -> 39200.862 | I8: =+I31+I54 -> 11548.468 | J8: =+J31+J54 -> 21910.125 | ... S8: =+S31+S54 -> 169990.37 | T8: =SUM(C8:S8) -> 9454104.9
A9: 9 | B9: Coll Environ Graduate | C9: =+C32+C55 -> 2896.3759 | D9: =+D32+D55 -> 126585.85 | E9: =+E32+E55 -> 1703.7505 | F9: =+F32+F55 -> 6644.6271 | G9: =+G32+G55 -> 27664.297 | H9: =+H32+H55 -> 3226928 | I9: =+I32+I55 -> 1363.0004 | J9: =+J32+J55 -> 10052.128 | ... S9: =+S32+S55 -> 12607.754 | T9: =SUM(C9:S9) -> 3452224.5
A10: 11 | B10: Education Graduate | C10: =+C33+C56 -> 623.7531 | D10: =+D33+D56 -> 134833.54 | E10: =+E33+E56 -> 831.6708 | F10: =+F33+F56 -> 4838974 | G10: =+G33+G56 -> 8108.7903 | H10: =+H33+H56 -> 17049.251 | I10: =+I33+I56 -> 7900.8726 | J10: =+J33+J56 -> 1766.9388 | ... S10: =+S33+S56 -> 5613.7779 | T10: =SUM(C10:S10) -> 5079949.2
A11: 17 | B11: MSW | C11: =+C34+C57 -> 6702.7897 | D11: =+D34+D57 -> 19525.518 | E11: =+E34+E57 -> 0 | F11: =+F34+F57 -> 12531.303 | G11: =+G34+G57 -> 0 | H11: =+H34+H57 -> 0 | I11: =+I34+I57 -> 0 | J11: =+J34+J57 -> 1165.7026 | ... S11: =+S34+S57 -> 2039.9795 | T11: =SUM(C11:S11) -> 3230088.9
A12: 19 | B12: Public Health Graduate | C12: =+C35+C58 -> 5832.944 | D12: =+D35+D58 -> 116643.61 | E12: =+E35+E58 -> 481.00457 | F12: =+F35+F58 -> 1924.0183 | G12: =+G35+G58 -> 20683.197 | H12: =+H35+H58 -> 3367.032 | I12: =+I35+I58 -> 1443.0137 | J12: =+J35+J58 -> 0 | ... S12: =+S35+S58 -> 14070.911 | T12: =SUM(C12:S12) -> 2747438
A13: 21 | B13: MPH | C13: =+C36+C59 -> 3220.6839 | D13: =+D36+D59 -> 65865.025 | E13: =+E36+E59 -> 0 | F13: =+F36+F59 -> 0 | G13: =+G36+G59 -> 8642.848 | H13: =+H36+H59 -> 2791.2594 | I13: =+I36+I59 -> 214.71226 | J13: =+J36+J59 -> 3060.3292 | ... S13: =+S36+S59 -> 1502.9858 | T13: =SUM(C13:S13) -> 2460602.5
A14: 25 | B14: CBE Masters | C14: =+C37+C60 -> 4850817.8 | D14: =+D37+D60 -> 41096.542 | E14: =+E37+E60 -> 36896.895 | F14: =+F37+F60 -> 0 | G14: =+G37+G60 -> 26697.754 | H14: =+H37+H60 -> 74093.766 | I14: =+I37+I60 -> 0 | J14: =+J37+J60 -> 11699.016 | ... S14: =+S37+S60 -> 0 | T14: =SUM(C14:S14) -> 5103320.6
A15: 27 | B15: Engineering Masters | C15: =+C38+C61 -> 1958.1129 | D15: =+D38+D61 -> 16448.148 | E15: =+E38+E61 -> 0 | F15: =+F38+F61 -> 0 | G15: =+G38+G61 -> 1788508.1 | H15: =+H38+H61 -> 15296.563 | I15: =+I38+I61 -> 0 | J15: =+J38+J61 -> 0 | ... S15: =+S38+S61 -> 1174.8677 | T15: =SUM(C15:S15) -> 1945874.7
A16: 33 | B16: MPA | C16: =+C39+C62 -> 65224.528 | D16: =+D39+D62 -> 163216.02 | E16: =+E39+E62 -> 72054.714 | F16: =+F39+F62 -> 15024.174 | G16: =+G39+G62 -> 6745.5477 | H16: =+H39+H62 -> 65726.771 | I16: =+I39+I62 -> 4905.8529 | J16: =+J39+J62 -> 4292.6213 | ... S16: =+S39+S62 -> 3986.0055 | T16: =SUM(C16:S16) -> 5057244.4
... A24: 53 | B24: Graduate Dentistry | C24: =+C47+C70 -> 0 | D24: =+D47+D70 -> 0 | E24: =+E47+E70 -> 4632.9295 | F24: =+F47+F70 -> 0 | G24: =+G47+G70 -> 1323.6941 | H24: =+H47+H70 -> 0 | I24: =+I47+I70 -> 0 | J24: =+J47+J70 -> 0 | ... S24: =+S47+S70 -> 1654.6177 | T24: =SUM(C24:S24) -> 1201252.4
B25: Total | C25: =SUM(C5:C24) -> 10602081 | D25: =SUM(D5:D24) -> 1.8404639e+08 | E25: =SUM(E5:E24) -> 25843144 | F25: =SUM(F5:F24) -> 9389705.5 | G25: =SUM(G5:G24) -> 39295136 | H25: =SUM(H5:H24) -> 17796288 | I25: =SUM(I5:I24) -> 5510449 | J25: =SUM(J5:J24) -> 11640016 | ... S25: =SUM(S5:S24) -> 1255126.8 | T25: =SUM(C25:S25) -> 3.7850432e+08
B26: Distributed Based on SCH
A27: SCH | C27: 252 | D27: 254 | E27: 256 | F27: 258 | G27: 260 | H27: 263 | I27: 267 | J27: 268 | K27: 270 | L27: 272 | M27: 302 | N27: 304 | O27: 306 | P27: 308 | Q27: 310 | R27: =+R3 -> 350 | S27: =+S3 -> 351
A28: 1 | B28: Undergraduate | C28: =+UGPcntSCHNew*(VLOOKUP($A28,FY19ProjRev!$B$4:$L$23,11,FALSE))*VLOOKUP($A28,'FY17ProjSCH(revised)'!$A$3:$S$22,MATCH(C$27,'FY17ProjSCH(revised)'!$A$2:$S$2,0),FALSE) -> 4715076.1 | D28: =+UGPcntSCHNew*(VLOOKUP($A28,FY19ProjRev!$B$4:$L$23,11,FALSE))*VLOOKUP($A28,'FY17ProjSCH(revised)'!$A$3:$S$22,MATCH(D$27,'FY17ProjSCH(revised)'!$A$2:$S$2,0),FALSE) -> 1.3909182e+08 | E28: =+UGPcntSCHNew*(VLOOKUP($A28,FY19ProjRev!$B$4:$L$23,11,FALSE))*VLOOKUP($A28,'FY17ProjSCH(revised)'!$A$3:$S$22,MATCH(E$27,'FY17ProjSCH(revised)'!$A$2:$S$2,0),FALSE) -> 13986150 | F28: =+UGPcntSCHNew*(VLOOKUP($A28,FY19ProjRev!$B$4:$L$23,11,FALSE))*VLOOKUP($A28,'FY17ProjSCH(revised)'!$A$3:$S$22,MATCH(F$27,'FY17ProjSCH(revised)'!$A$2:$S$2,0),FALSE) -> 3489975.6 | G28: =+UGPcntSCHNew*(VLOOKUP($A28,FY19ProjRev!$B$4:$L$23,11,FALSE))*VLOOKUP($A28,'FY17ProjSCH(revised)'!$A$3:$S$22,MATCH(G$27,'FY17ProjSCH(revised)'!$A$2:$S$2,0),FALSE) -> 22597854 | H28: =+UGPcntSCHNew*(VLOOKUP($A28,FY19ProjRev!$B$4:$L$23,11,FALSE))*VLOOKUP($A28,'FY17ProjSCH(revised)'!$A$3:$S$22,MATCH(H$27,'FY17ProjSCH(revised)'!$A$2:$S$2,0),FALSE) -> 12435976 | I28: =+UGPcntSCHNew*(VLOOKUP($A28,FY19ProjRev!$B$4:$L$23,11,FALSE))*VLOOKUP($A28,'FY17ProjSCH(revised)'!$A$3:$S$22,MATCH(I$27,'FY17ProjSCH(revised)'!$A$2:$S$2,0),FALSE) -> 4397096.2 | J28: =+UGPcntSCHNew*(VLOOKUP($A28,FY19ProjRev!$B$4:$L$23,11,FALSE))*VLOOKUP($A28,'FY17ProjSCH(revised)'!$A$3:$S$22,MATCH(J$27,'FY17ProjSCH(revised)'!$A$2:$S$2,0),FALSE) -> 105875.07 | ... S28: =+UGPcntSCHNew*(VLOOKUP($A28,FY19ProjRev!$B$4:$L$23,11,FALSE))*VLOOKUP($A28,'FY17ProjSCH(revised)'!$A$3:$S$22,MATCH(S$27,'FY17ProjSCH(revised)'!$A$2:$S$2,0),FALSE) -> 61716.12 | T28: =SUM(C28:Q28)+R28+S28 -> 2.1823973e+08
A29: 3 | B29: Graduate Tier I | C29: =+GPPcntSCHNew*(VLOOKUP($A29,FY19ProjRev!$B$4:$L$23,11,FALSE))*VLOOKUP($A29,'FY17ProjSCH(revised)'!$A$3:$S$22,MATCH(C$27,'FY17ProjSCH(revised)'!$A$2:$S$2,0),FALSE) -> 96328.575 | D29: =+GPPcntSCHNew*(VLOOKUP($A29,FY19ProjRev!$B$4:$L$23,11,FALSE))*VLOOKUP($A29,'FY17ProjSCH(revised)'!$A$3:$S$22,MATCH(D$27,'FY17ProjSCH(revised)'!$A$2:$S$2,0),FALSE) -> 7872504.8 | E29: =+GPPcntSCHNew*(VLOOKUP($A29,FY19ProjRev!$B$4:$L$23,11,FALSE))*VLOOKUP($A29,'FY17ProjSCH(revised)'!$A$3:$S$22,MATCH(E$27,'FY17ProjSCH(revised)'!$A$2:$S$2,0),FALSE) -> 260711.39 | F29: =+GPPcntSCHNew*(VLOOKUP($A29,FY19ProjRev!$B$4:$L$23,11,FALSE))*VLOOKUP($A29,'FY17ProjSCH(revised)'!$A$3:$S$22,MATCH(F$27,'FY17ProjSCH(revised)'!$A$2:$S$2,0),FALSE) -> 47246.29 | G29: =+GPPcntSCHNew*(VLOOKUP($A29,FY19ProjRev!$B$4:$L$23,11,FALSE))*VLOOKUP($A29,'FY17ProjSCH(revised)'!$A$3:$S$22,MATCH(G$27,'FY17ProjSCH(revised)'!$A$2:$S$2,0),FALSE) -> 562671.49 | H29: =+GPPcntSCHNew*(VLOOKUP($A29,FY19ProjRev!$B$4:$L$23,11,FALSE))*VLOOKUP($A29,'FY17ProjSCH(revised)'!$A$3:$S$22,MATCH(H$27,'FY17ProjSCH(revised)'!$A$2:$S$2,0),FALSE) -> 50795.882 | I29: =+GPPcntSCHNew*(VLOOKUP($A29,FY19ProjRev!$B$4:$L$23,11,FALSE))*VLOOKUP($A29,'FY17ProjSCH(revised)'!$A$3:$S$22,MATCH(I$27,'FY17ProjSCH(revised)'!$A$2:$S$2,0),FALSE) -> 177969.18 | J29: =+GPPcntSCHNew*(VLOOKUP($A29,FY19ProjRev!$B$4:$L$23,11,FALSE))*VLOOKUP($A29,'FY17ProjSCH(revised)'!$A$3:$S$22,MATCH(J$27,'FY17ProjSCH(revised)'!$A$2:$S$2,0),FALSE) -> 5507.9872 | ... S29: =+GPPcntSCHNew*(VLOOKUP($A29,FY19ProjRev!$B$4:$L$23,11,FALSE))*VLOOKUP($A29,'FY17ProjSCH(revised)'!$A$3:$S$22,MATCH(S$27,'FY17ProjSCH(revised)'!$A$2:$S$2,0),FALSE) -> 723382.31 | T29: =SUM(C29:Q29)+R29+S29 -> 11693824
A30: 5 | B30: Graduate Tier II | C30: =+GPPcntSCHNew*(VLOOKUP($A30,FY19ProjRev!$B$4:$L$23,11,FALSE))*VLOOKUP($A30,'FY17ProjSCH(revised)'!$A$3:$S$22,MATCH(C$27,'FY17ProjSCH(revised)'!$A$2:$S$2,0),FALSE) -> 2896.4484 | D30: =+GPPcntSCHNew*(VLOOKUP($A30,FY19ProjRev!$B$4:$L$23,11,FALSE))*VLOOKUP($A30,'FY17ProjSCH(revised)'!$A$3:$S$22,MATCH(D$27,'FY17ProjSCH(revised)'!$A$2:$S$2,0),FALSE) -> 52136.072 | E30: =+GPPcntSCHNew*(VLOOKUP($A30,FY19ProjRev!$B$4:$L$23,11,FALSE))*VLOOKUP($A30,'FY17ProjSCH(revised)'!$A$3:$S$22,MATCH(E$27,'FY17ProjSCH(revised)'!$A$2:$S$2,0),FALSE) -> 482.7414 | F30: =+GPPcntSCHNew*(VLOOKUP($A30,FY19ProjRev!$B$4:$L$23,11,FALSE))*VLOOKUP($A30,'FY17ProjSCH(revised)'!$A$3:$S$22,MATCH(F$27,'FY17ProjSCH(revised)'!$A$2:$S$2,0),FALSE) -> 6034.2676 | G30: =+GPPcntSCHNew*(VLOOKUP($A30,FY19ProjRev!$B$4:$L$23,11,FALSE))*VLOOKUP($A30,'FY17ProjSCH(revised)'!$A$3:$S$22,MATCH(G$27,'FY17ProjSCH(revised)'!$A$2:$S$2,0),FALSE) -> 4827.414 | H30: =+GPPcntSCHNew*(VLOOKUP($A30,FY19ProjRev!$B$4:$L$23,11,FALSE))*VLOOKUP($A30,'FY17ProjSCH(revised)'!$A$3:$S$22,MATCH(H$27,'FY17ProjSCH(revised)'!$A$2:$S$2,0),FALSE) -> 0 | I30: =+GPPcntSCHNew*(VLOOKUP($A30,FY19ProjRev!$B$4:$L$23,11,FALSE))*VLOOKUP($A30,'FY17ProjSCH(revised)'!$A$3:$S$22,MATCH(I$27,'FY17ProjSCH(revised)'!$A$2:$S$2,0),FALSE) -> 2172.3363 | J30: =+GPPcntSCHNew*(VLOOKUP($A30,FY19ProjRev!$B$4:$L$23,11,FALSE))*VLOOKUP($A30,'FY17ProjSCH(revised)'!$A$3:$S$22,MATCH(J$27,'FY17ProjSCH(revised)'!$A$2:$S$2,0),FALSE) -> 0 | ... S30: =+GPPcntSCHNew*(VLOOKUP($A30,FY19ProjRev!$B$4:$L$23,11,FALSE))*VLOOKUP($A30,'FY17ProjSCH(revised)'!$A$3:$S$22,MATCH(S$27,'FY17ProjSCH(revised)'!$A$2:$S$2,0),FALSE) -> 965.48281 | T30: =SUM(C30:Q30)+R30+S30 -> 1285057.6
A31: 7 | B31: Graduate Tier III | C31: =+GPPcntSCHNew*(VLOOKUP($A31,FY19ProjRev!$B$4:$L$23,11,FALSE))*VLOOKUP($A31,'FY17ProjSCH(revised)'!$A$3:$S$22,MATCH(C$27,'FY17ProjSCH(revised)'!$A$2:$S$2,0),FALSE) -> 42151.907 | D31: =+GPPcntSCHNew*(VLOOKUP($A31,FY19ProjRev!$B$4:$L$23,11,FALSE))*VLOOKUP($A31,'FY17ProjSCH(revised)'!$A$3:$S$22,MATCH(D$27,'FY17ProjSCH(revised)'!$A$2:$S$2,0),FALSE) -> 404773.79 | E31: =+GPPcntSCHNew*(VLOOKUP($A31,FY19ProjRev!$B$4:$L$23,11,FALSE))*VLOOKUP($A31,'FY17ProjSCH(revised)'!$A$3:$S$22,MATCH(E$27,'FY17ProjSCH(revised)'!$A$2:$S$2,0),FALSE) -> 22134.563 | F31: =+GPPcntSCHNew*(VLOOKUP($A31,FY19ProjRev!$B$4:$L$23,11,FALSE))*VLOOKUP($A31,'FY17ProjSCH(revised)'!$A$3:$S$22,MATCH(F$27,'FY17ProjSCH(revised)'!$A$2:$S$2,0),FALSE) -> 26946.424 | G31: =+GPPcntSCHNew*(VLOOKUP($A31,FY19ProjRev!$B$4:$L$23,11,FALSE))*VLOOKUP($A31,'FY17ProjSCH(revised)'!$A$3:$S$22,MATCH(G$27,'FY17ProjSCH(revised)'!$A$2:$S$2,0),FALSE) -> 6378218.7 | H31: =+GPPcntSCHNew*(VLOOKUP($A31,FY19ProjRev!$B$4:$L$23,11,FALSE))*VLOOKUP($A31,'FY17ProjSCH(revised)'!$A$3:$S$22,MATCH(H$27,'FY17ProjSCH(revised)'!$A$2:$S$2,0),FALSE) -> 36185.199 | I31: =+GPPcntSCHNew*(VLOOKUP($A31,FY19ProjRev!$B$4:$L$23,11,FALSE))*VLOOKUP($A31,'FY17ProjSCH(revised)'!$A$3:$S$22,MATCH(I$27,'FY17ProjSCH(revised)'!$A$2:$S$2,0),FALSE) -> 11548.468 | J31: =+GPPcntSCHNew*(VLOOKUP($A31,FY19ProjRev!$B$4:$L$23,11,FALSE))*VLOOKUP($A31,'FY17ProjSCH(revised)'!$A$3:$S$22,MATCH(J$27,'FY17ProjSCH(revised)'!$A$2:$S$2,0),FALSE) -> 20402.293 | ... S31: =+GPPcntSCHNew*(VLOOKUP($A31,FY19ProjRev!$B$4:$L$23,11,FALSE))*VLOOKUP($A31,'FY17ProjSCH(revised)'!$A$3:$S$22,MATCH(S$27,'FY17ProjSCH(revised)'!$A$2:$S$2,0),FALSE) -> 126263.25 | T31: =SUM(C31:Q31)+R31+S31 -> 7563283.9
A32: 9 | B32: Coll Environ Graduate | C32: =+GPPcntSCHNew*(VLOOKUP($A32,FY19ProjRev!$B$4:$L$23,11,FALSE))*VLOOKUP($A32,'FY17ProjSCH(revised)'!$A$3:$S$22,MATCH(C$27,'FY17ProjSCH(revised)'!$A$2:$S$2,0),FALSE) -> 2896.3759 | D32: =+GPPcntSCHNew*(VLOOKUP($A32,FY19ProjRev!$B$4:$L$23,11,FALSE))*VLOOKUP($A32,'FY17ProjSCH(revised)'!$A$3:$S$22,MATCH(D$27,'FY17ProjSCH(revised)'!$A$2:$S$2,0),FALSE) -> 115173.54 | E32: =+GPPcntSCHNew*(VLOOKUP($A32,FY19ProjRev!$B$4:$L$23,11,FALSE))*VLOOKUP($A32,'FY17ProjSCH(revised)'!$A$3:$S$22,MATCH(E$27,'FY17ProjSCH(revised)'!$A$2:$S$2,0),FALSE) -> 1703.7505 | F32: =+GPPcntSCHNew*(VLOOKUP($A32,FY19ProjRev!$B$4:$L$23,11,FALSE))*VLOOKUP($A32,'FY17ProjSCH(revised)'!$A$3:$S$22,MATCH(F$27,'FY17ProjSCH(revised)'!$A$2:$S$2,0),FALSE) -> 6644.6271 | G32: =+GPPcntSCHNew*(VLOOKUP($A32,FY19ProjRev!$B$4:$L$23,11,FALSE))*VLOOKUP($A32,'FY17ProjSCH(revised)'!$A$3:$S$22,MATCH(G$27,'FY17ProjSCH(revised)'!$A$2:$S$2,0),FALSE) -> 26237.758 | H32: =+GPPcntSCHNew*(VLOOKUP($A32,FY19ProjRev!$B$4:$L$23,11,FALSE))*VLOOKUP($A32,'FY17ProjSCH(revised)'!$A$3:$S$22,MATCH(H$27,'FY17ProjSCH(revised)'!$A$2:$S$2,0),FALSE) -> 2549321.9 | I32: =+GPPcntSCHNew*(VLOOKUP($A32,FY19ProjRev!$B$4:$L$23,11,FALSE))*VLOOKUP($A32,'FY17ProjSCH(revised)'!$A$3:$S$22,MATCH(I$27,'FY17ProjSCH(revised)'!$A$2:$S$2,0),FALSE) -> 1363.0004 | J32: =+GPPcntSCHNew*(VLOOKUP($A32,FY19ProjRev!$B$4:$L$23,11,FALSE))*VLOOKUP($A32,'FY17ProjSCH(revised)'!$A$3:$S$22,MATCH(J$27,'FY17ProjSCH(revised)'!$A$2:$S$2,0),FALSE) -> 10052.128 | ... S32: =+GPPcntSCHNew*(VLOOKUP($A32,FY19ProjRev!$B$4:$L$23,11,FALSE))*VLOOKUP($A32,'FY17ProjSCH(revised)'!$A$3:$S$22,MATCH(S$27,'FY17ProjSCH(revised)'!$A$2:$S$2,0),FALSE) -> 12607.754 | T32: =SUM(C32:Q32)+R32+S32 -> 2761779.6
A33: 11 | B33: Education Graduate | C33: =+GPPcntSCHNew*(VLOOKUP($A33,FY19ProjRev!$B$4:$L$23,11,FALSE))*VLOOKUP($A33,'FY17ProjSCH(revised)'!$A$3:$S$22,MATCH(C$27,'FY17ProjSCH(revised)'!$A$2:$S$2,0),FALSE) -> 623.7531 | D33: =+GPPcntSCHNew*(VLOOKUP($A33,FY19ProjRev!$B$4:$L$23,11,FALSE))*VLOOKUP($A33,'FY17ProjSCH(revised)'!$A$3:$S$22,MATCH(D$27,'FY17ProjSCH(revised)'!$A$2:$S$2,0),FALSE) -> 129532.73 | E33: =+GPPcntSCHNew*(VLOOKUP($A33,FY19ProjRev!$B$4:$L$23,11,FALSE))*VLOOKUP($A33,'FY17ProjSCH(revised)'!$A$3:$S$22,MATCH(E$27,'FY17ProjSCH(revised)'!$A$2:$S$2,0),FALSE) -> 831.6708 | F33: =+GPPcntSCHNew*(VLOOKUP($A33,FY19ProjRev!$B$4:$L$23,11,FALSE))*VLOOKUP($A33,'FY17ProjSCH(revised)'!$A$3:$S$22,MATCH(F$27,'FY17ProjSCH(revised)'!$A$2:$S$2,0),FALSE) -> 3830051.9 | G33: =+GPPcntSCHNew*(VLOOKUP($A33,FY19ProjRev!$B$4:$L$23,11,FALSE))*VLOOKUP($A33,'FY17ProjSCH(revised)'!$A$3:$S$22,MATCH(G$27,'FY17ProjSCH(revised)'!$A$2:$S$2,0),FALSE) -> 8108.7903 | H33: =+GPPcntSCHNew*(VLOOKUP($A33,FY19ProjRev!$B$4:$L$23,11,FALSE))*VLOOKUP($A33,'FY17ProjSCH(revised)'!$A$3:$S$22,MATCH(H$27,'FY17ProjSCH(revised)'!$A$2:$S$2,0),FALSE) -> 17049.251 | I33: =+GPPcntSCHNew*(VLOOKUP($A33,FY19ProjRev!$B$4:$L$23,11,FALSE))*VLOOKUP($A33,'FY17ProjSCH(revised)'!$A$3:$S$22,MATCH(I$27,'FY17ProjSCH(revised)'!$A$2:$S$2,0),FALSE) -> 7900.8726 | J33: =+GPPcntSCHNew*(VLOOKUP($A33,FY19ProjRev!$B$4:$L$23,11,FALSE))*VLOOKUP($A33,'FY17ProjSCH(revised)'!$A$3:$S$22,MATCH(J$27,'FY17ProjSCH(revised)'!$A$2:$S$2,0),FALSE) -> 0 | ... S33: =+GPPcntSCHNew*(VLOOKUP($A33,FY19ProjRev!$B$4:$L$23,11,FALSE))*VLOOKUP($A33,'FY17ProjSCH(revised)'!$A$3:$S$22,MATCH(S$27,'FY17ProjSCH(revised)'!$A$2:$S$2,0),FALSE) -> 5613.7779 | T33: =SUM(C33:Q33)+R33+S33 -> 4063959.3
A34: 17 | B34: MSW | C34: =+GPPcntSCHNew*(VLOOKUP($A34,FY19ProjRev!$B$4:$L$23,11,FALSE))*VLOOKUP($A34,'FY17ProjSCH(revised)'!$A$3:$S$22,MATCH(C$27,'FY17ProjSCH(revised)'!$A$2:$S$2,0),FALSE) -> 6702.7897 | D34: =+GPPcntSCHNew*(VLOOKUP($A34,FY19ProjRev!$B$4:$L$23,11,FALSE))*VLOOKUP($A34,'FY17ProjSCH(revised)'!$A$3:$S$22,MATCH(D$27,'FY17ProjSCH(revised)'!$A$2:$S$2,0),FALSE) -> 19525.518 | E34: =+GPPcntSCHNew*(VLOOKUP($A34,FY19ProjRev!$B$4:$L$23,11,FALSE))*VLOOKUP($A34,'FY17ProjSCH(revised)'!$A$3:$S$22,MATCH(E$27,'FY17ProjSCH(revised)'!$A$2:$S$2,0),FALSE) -> 0 | F34: =+GPPcntSCHNew*(VLOOKUP($A34,FY19ProjRev!$B$4:$L$23,11,FALSE))*VLOOKUP($A34,'FY17ProjSCH(revised)'!$A$3:$S$22,MATCH(F$27,'FY17ProjSCH(revised)'!$A$2:$S$2,0),FALSE) -> 12531.303 | G34: =+GPPcntSCHNew*(VLOOKUP($A34,FY19ProjRev!$B$4:$L$23,11,FALSE))*VLOOKUP($A34,'FY17ProjSCH(revised)'!$A$3:$S$22,MATCH(G$27,'FY17ProjSCH(revised)'!$A$2:$S$2,0),FALSE) -> 0 | H34: =+GPPcntSCHNew*(VLOOKUP($A34,FY19ProjRev!$B$4:$L$23,11,FALSE))*VLOOKUP($A34,'FY17ProjSCH(revised)'!$A$3:$S$22,MATCH(H$27,'FY17ProjSCH(revised)'!$A$2:$S$2,0),FALSE) -> 0 | I34: =+GPPcntSCHNew*(VLOOKUP($A34,FY19ProjRev!$B$4:$L$23,11,FALSE))*VLOOKUP($A34,'FY17ProjSCH(revised)'!$A$3:$S$22,MATCH(I$27,'FY17ProjSCH(revised)'!$A$2:$S$2,0),FALSE) -> 0 | J34: =+GPPcntSCHNew*(VLOOKUP($A34,FY19ProjRev!$B$4:$L$23,11,FALSE))*VLOOKUP($A34,'FY17ProjSCH(revised)'!$A$3:$S$22,MATCH(J$27,'FY17ProjSCH(revised)'!$A$2:$S$2,0),FALSE) -> 1165.7026 | ... S34: =+GPPcntSCHNew*(VLOOKUP($A34,FY19ProjRev!$B$4:$L$23,11,FALSE))*VLOOKUP($A34,'FY17ProjSCH(revised)'!$A$3:$S$22,MATCH(S$27,'FY17ProjSCH(revised)'!$A$2:$S$2,0),FALSE) -> 2039.9795 | T34: =SUM(C34:Q34)+R34+S34 -> 2584071.2
A35: 19 | B35: Public Health Graduate | C35: =+GPPcntSCHNew*(VLOOKUP($A35,FY19ProjRev!$B$4:$L$23,11,FALSE))*VLOOKUP($A35,'FY17ProjSCH(revised)'!$A$3:$S$22,MATCH(C$27,'FY17ProjSCH(revised)'!$A$2:$S$2,0),FALSE) -> 4088.5389 | D35: =+GPPcntSCHNew*(VLOOKUP($A35,FY19ProjRev!$B$4:$L$23,11,FALSE))*VLOOKUP($A35,'FY17ProjSCH(revised)'!$A$3:$S$22,MATCH(D$27,'FY17ProjSCH(revised)'!$A$2:$S$2,0),FALSE) -> 116643.61 | E35: =+GPPcntSCHNew*(VLOOKUP($A35,FY19ProjRev!$B$4:$L$23,11,FALSE))*VLOOKUP($A35,'FY17ProjSCH(revised)'!$A$3:$S$22,MATCH(E$27,'FY17ProjSCH(revised)'!$A$2:$S$2,0),FALSE) -> 481.00457 | F35: =+GPPcntSCHNew*(VLOOKUP($A35,FY19ProjRev!$B$4:$L$23,11,FALSE))*VLOOKUP($A35,'FY17ProjSCH(revised)'!$A$3:$S$22,MATCH(F$27,'FY17ProjSCH(revised)'!$A$2:$S$2,0),FALSE) -> 1924.0183 | G35: =+GPPcntSCHNew*(VLOOKUP($A35,FY19ProjRev!$B$4:$L$23,11,FALSE))*VLOOKUP($A35,'FY17ProjSCH(revised)'!$A$3:$S$22,MATCH(G$27,'FY17ProjSCH(revised)'!$A$2:$S$2,0),FALSE) -> 20683.197 | H35: =+GPPcntSCHNew*(VLOOKUP($A35,FY19ProjRev!$B$4:$L$23,11,FALSE))*VLOOKUP($A35,'FY17ProjSCH(revised)'!$A$3:$S$22,MATCH(H$27,'FY17ProjSCH(revised)'!$A$2:$S$2,0),FALSE) -> 3367.032 | I35: =+GPPcntSCHNew*(VLOOKUP($A35,FY19ProjRev!$B$4:$L$23,11,FALSE))*VLOOKUP($A35,'FY17ProjSCH(revised)'!$A$3:$S$22,MATCH(I$27,'FY17ProjSCH(revised)'!$A$2:$S$2,0),FALSE) -> 1443.0137 | J35: =+GPPcntSCHNew*(VLOOKUP($A35,FY19ProjRev!$B$4:$L$23,11,FALSE))*VLOOKUP($A35,'FY17ProjSCH(revised)'!$A$3:$S$22,MATCH(J$27,'FY17ProjSCH(revised)'!$A$2:$S$2,0),FALSE) -> 0 | ... S35: =+GPPcntSCHNew*(VLOOKUP($A35,FY19ProjRev!$B$4:$L$23,11,FALSE))*VLOOKUP($A35,'FY17ProjSCH(revised)'!$A$3:$S$22,MATCH(S$27,'FY17ProjSCH(revised)'!$A$2:$S$2,0),FALSE) -> 10582.101 | T35: =SUM(C35:Q35)+R35+S35 -> 2197950.4
A36: 21 | B36: MPH | C36: =+GPPcntSCHNew*(VLOOKUP($A36,FY19ProjRev!$B$4:$L$23,11,FALSE))*VLOOKUP($A36,'FY17ProjSCH(revised)'!$A$3:$S$22,MATCH(C$27,'FY17ProjSCH(revised)'!$A$2:$S$2,0),FALSE) -> 3220.6839 | D36: =+GPPcntSCHNew*(VLOOKUP($A36,FY19ProjRev!$B$4:$L$23,11,FALSE))*VLOOKUP($A36,'FY17ProjSCH(revised)'!$A$3:$S$22,MATCH(D$27,'FY17ProjSCH(revised)'!$A$2:$S$2,0),FALSE) -> 61192.995 | E36: =+GPPcntSCHNew*(VLOOKUP($A36,FY19ProjRev!$B$4:$L$23,11,FALSE))*VLOOKUP($A36,'FY17ProjSCH(revised)'!$A$3:$S$22,MATCH(E$27,'FY17ProjSCH(revised)'!$A$2:$S$2,0),FALSE) -> 0 | F36: =+GPPcntSCHNew*(VLOOKUP($A36,FY19ProjRev!$B$4:$L$23,11,FALSE))*VLOOKUP($A36,'FY17ProjSCH(revised)'!$A$3:$S$22,MATCH(F$27,'FY17ProjSCH(revised)'!$A$2:$S$2,0),FALSE) -> 0 | G36: =+GPPcntSCHNew*(VLOOKUP($A36,FY19ProjRev!$B$4:$L$23,11,FALSE))*VLOOKUP($A36,'FY17ProjSCH(revised)'!$A$3:$S$22,MATCH(G$27,'FY17ProjSCH(revised)'!$A$2:$S$2,0),FALSE) -> 7085.5047 | H36: =+GPPcntSCHNew*(VLOOKUP($A36,FY19ProjRev!$B$4:$L$23,11,FALSE))*VLOOKUP($A36,'FY17ProjSCH(revised)'!$A$3:$S$22,MATCH(H$27,'FY17ProjSCH(revised)'!$A$2:$S$2,0),FALSE) -> 2791.2594 | I36: =+GPPcntSCHNew*(VLOOKUP($A36,FY19ProjRev!$B$4:$L$23,11,FALSE))*VLOOKUP($A36,'FY17ProjSCH(revised)'!$A$3:$S$22,MATCH(I$27,'FY17ProjSCH(revised)'!$A$2:$S$2,0),FALSE) -> 214.71226 | J36: =+GPPcntSCHNew*(VLOOKUP($A36,FY19ProjRev!$B$4:$L$23,11,FALSE))*VLOOKUP($A36,'FY17ProjSCH(revised)'!$A$3:$S$22,MATCH(J$27,'FY17ProjSCH(revised)'!$A$2:$S$2,0),FALSE) -> 1502.9858 | ... S36: =+GPPcntSCHNew*(VLOOKUP($A36,FY19ProjRev!$B$4:$L$23,11,FALSE))*VLOOKUP($A36,'FY17ProjSCH(revised)'!$A$3:$S$22,MATCH(S$27,'FY17ProjSCH(revised)'!$A$2:$S$2,0),FALSE) -> 1502.9858 | T36: =SUM(C36:Q36)+R36+S36 -> 1968482
A37: 25 | B37: CBE Masters | C37: =+GPPcntSCHNew*(VLOOKUP($A37,FY19ProjRev!$B$4:$L$23,11,FALSE))*VLOOKUP($A37,'FY17ProjSCH(revised)'!$A$3:$S$22,MATCH(C$27,'FY17ProjSCH(revised)'!$A$2:$S$2,0),FALSE) -> 3832777.5 | D37: =+GPPcntSCHNew*(VLOOKUP($A37,FY19ProjRev!$B$4:$L$23,11,FALSE))*VLOOKUP($A37,'FY17ProjSCH(revised)'!$A$3:$S$22,MATCH(D$27,'FY17ProjSCH(revised)'!$A$2:$S$2,0),FALSE) -> 41096.542 | E37: =+GPPcntSCHNew*(VLOOKUP($A37,FY19ProjRev!$B$4:$L$23,11,FALSE))*VLOOKUP($A37,'FY17ProjSCH(revised)'!$A$3:$S$22,MATCH(E$27,'FY17ProjSCH(revised)'!$A$2:$S$2,0),FALSE) -> 36896.895 | F37: =+GPPcntSCHNew*(VLOOKUP($A37,FY19ProjRev!$B$4:$L$23,11,FALSE))*VLOOKUP($A37,'FY17ProjSCH(revised)'!$A$3:$S$22,MATCH(F$27,'FY17ProjSCH(revised)'!$A$2:$S$2,0),FALSE) -> 0 | G37: =+GPPcntSCHNew*(VLOOKUP($A37,FY19ProjRev!$B$4:$L$23,11,FALSE))*VLOOKUP($A37,'FY17ProjSCH(revised)'!$A$3:$S$22,MATCH(G$27,'FY17ProjSCH(revised)'!$A$2:$S$2,0),FALSE) -> 26697.754 | H37: =+GPPcntSCHNew*(VLOOKUP($A37,FY19ProjRev!$B$4:$L$23,11,FALSE))*VLOOKUP($A37,'FY17ProjSCH(revised)'!$A$3:$S$22,MATCH(H$27,'FY17ProjSCH(revised)'!$A$2:$S$2,0),FALSE) -> 74093.766 | I37: =+GPPcntSCHNew*(VLOOKUP($A37,FY19ProjRev!$B$4:$L$23,11,FALSE))*VLOOKUP($A37,'FY17ProjSCH(revised)'!$A$3:$S$22,MATCH(I$27,'FY17ProjSCH(revised)'!$A$2:$S$2,0),FALSE) -> 0 | J37: =+GPPcntSCHNew*(VLOOKUP($A37,FY19ProjRev!$B$4:$L$23,11,FALSE))*VLOOKUP($A37,'FY17ProjSCH(revised)'!$A$3:$S$22,MATCH(J$27,'FY17ProjSCH(revised)'!$A$2:$S$2,0),FALSE) -> 11699.016 | ... S37: =+GPPcntSCHNew*(VLOOKUP($A37,FY19ProjRev!$B$4:$L$23,11,FALSE))*VLOOKUP($A37,'FY17ProjSCH(revised)'!$A$3:$S$22,MATCH(S$27,'FY17ProjSCH(revised)'!$A$2:$S$2,0),FALSE) -> 0 | T37: =SUM(C37:Q37)+R37+S37 -> 4082656.5
A38: 27 | B38: Engineering Masters | C38: =+GPPcntSCHNew*(VLOOKUP($A38,FY19ProjRev!$B$4:$L$23,11,FALSE))*VLOOKUP($A38,'FY17ProjSCH(revised)'!$A$3:$S$22,MATCH(C$27,'FY17ProjSCH(revised)'!$A$2:$S$2,0),FALSE) -> 1958.1129 | D38: =+GPPcntSCHNew*(VLOOKUP($A38,FY19ProjRev!$B$4:$L$23,11,FALSE))*VLOOKUP($A38,'FY17ProjSCH(revised)'!$A$3:$S$22,MATCH(D$27,'FY17ProjSCH(revised)'!$A$2:$S$2,0),FALSE) -> 16448.148 | E38: =+GPPcntSCHNew*(VLOOKUP($A38,FY19ProjRev!$B$4:$L$23,11,FALSE))*VLOOKUP($A38,'FY17ProjSCH(revised)'!$A$3:$S$22,MATCH(E$27,'FY17ProjSCH(revised)'!$A$2:$S$2,0),FALSE) -> 0 | F38: =+GPPcntSCHNew*(VLOOKUP($A38,FY19ProjRev!$B$4:$L$23,11,FALSE))*VLOOKUP($A38,'FY17ProjSCH(revised)'!$A$3:$S$22,MATCH(F$27,'FY17ProjSCH(revised)'!$A$2:$S$2,0),FALSE) -> 0 | G38: =+GPPcntSCHNew*(VLOOKUP($A38,FY19ProjRev!$B$4:$L$23,11,FALSE))*VLOOKUP($A38,'FY17ProjSCH(revised)'!$A$3:$S$22,MATCH(G$27,'FY17ProjSCH(revised)'!$A$2:$S$2,0),FALSE) -> 1432555.4 | H38: =+GPPcntSCHNew*(VLOOKUP($A38,FY19ProjRev!$B$4:$L$23,11,FALSE))*VLOOKUP($A38,'FY17ProjSCH(revised)'!$A$3:$S$22,MATCH(H$27,'FY17ProjSCH(revised)'!$A$2:$S$2,0),FALSE) -> 12923.545 | I38: =+GPPcntSCHNew*(VLOOKUP($A38,FY19ProjRev!$B$4:$L$23,11,FALSE))*VLOOKUP($A38,'FY17ProjSCH(revised)'!$A$3:$S$22,MATCH(I$27,'FY17ProjSCH(revised)'!$A$2:$S$2,0),FALSE) -> 0 | J38: =+GPPcntSCHNew*(VLOOKUP($A38,FY19ProjRev!$B$4:$L$23,11,FALSE))*VLOOKUP($A38,'FY17ProjSCH(revised)'!$A$3:$S$22,MATCH(J$27,'FY17ProjSCH(revised)'!$A$2:$S$2,0),FALSE) -> 0 | ... S38: =+GPPcntSCHNew*(VLOOKUP($A38,FY19ProjRev!$B$4:$L$23,11,FALSE))*VLOOKUP($A38,'FY17ProjSCH(revised)'!$A$3:$S$22,MATCH(S$27,'FY17ProjSCH(revised)'!$A$2:$S$2,0),FALSE) -> 1174.8677 | T38: =SUM(C38:Q38)+R38+S38 -> 1556699.8
A39: 33 | B39: MPA | C39: =+GPPcntSCHNew*(VLOOKUP($A39,FY19ProjRev!$B$4:$L$23,11,FALSE))*VLOOKUP($A39,'FY17ProjSCH(revised)'!$A$3:$S$22,MATCH(C$27,'FY17ProjSCH(revised)'!$A$2:$S$2,0),FALSE) -> 44152.676 | D39: =+GPPcntSCHNew*(VLOOKUP($A39,FY19ProjRev!$B$4:$L$23,11,FALSE))*VLOOKUP($A39,'FY17ProjSCH(revised)'!$A$3:$S$22,MATCH(D$27,'FY17ProjSCH(revised)'!$A$2:$S$2,0),FALSE) -> 139510.19 | E39: =+GPPcntSCHNew*(VLOOKUP($A39,FY19ProjRev!$B$4:$L$23,11,FALSE))*VLOOKUP($A39,'FY17ProjSCH(revised)'!$A$3:$S$22,MATCH(E$27,'FY17ProjSCH(revised)'!$A$2:$S$2,0),FALSE) -> 72054.714 | F39: =+GPPcntSCHNew*(VLOOKUP($A39,FY19ProjRev!$B$4:$L$23,11,FALSE))*VLOOKUP($A39,'FY17ProjSCH(revised)'!$A$3:$S$22,MATCH(F$27,'FY17ProjSCH(revised)'!$A$2:$S$2,0),FALSE) -> 15024.174 | G39: =+GPPcntSCHNew*(VLOOKUP($A39,FY19ProjRev!$B$4:$L$23,11,FALSE))*VLOOKUP($A39,'FY17ProjSCH(revised)'!$A$3:$S$22,MATCH(G$27,'FY17ProjSCH(revised)'!$A$2:$S$2,0),FALSE) -> 6745.5477 | H39: =+GPPcntSCHNew*(VLOOKUP($A39,FY19ProjRev!$B$4:$L$23,11,FALSE))*VLOOKUP($A39,'FY17ProjSCH(revised)'!$A$3:$S$22,MATCH(H$27,'FY17ProjSCH(revised)'!$A$2:$S$2,0),FALSE) -> 55190.845 | I39: =+GPPcntSCHNew*(VLOOKUP($A39,FY19ProjRev!$B$4:$L$23,11,FALSE))*VLOOKUP($A39,'FY17ProjSCH(revised)'!$A$3:$S$22,MATCH(I$27,'FY17ProjSCH(revised)'!$A$2:$S$2,0),FALSE) -> 4905.8529 | J39: =+GPPcntSCHNew*(VLOOKUP($A39,FY19ProjRev!$B$4:$L$23,11,FALSE))*VLOOKUP($A39,'FY17ProjSCH(revised)'!$A$3:$S$22,MATCH(J$27,'FY17ProjSCH(revised)'!$A$2:$S$2,0),FALSE) -> 4292.6213 | ... S39: =+GPPcntSCHNew*(VLOOKUP($A39,FY19ProjRev!$B$4:$L$23,11,FALSE))*VLOOKUP($A39,'FY17ProjSCH(revised)'!$A$3:$S$22,MATCH(S$27,'FY17ProjSCH(revised)'!$A$2:$S$2,0),FALSE) -> 3986.0055 | T39: =SUM(C39:Q39)+R39+S39 -> 4045795.5
A40: 37 | B40: MBA | C40: =+GPPcntSCHNew*(VLOOKUP($A40,FY19ProjRev!$B$4:$L$23,11,FALSE))*VLOOKUP($A40,'FY17ProjSCH(revised)'!$A$3:$S$22,MATCH(C$27,'FY17ProjSCH(revised)'!$A$2:$S$2,0),FALSE) -> 3894.8092 | D40: =+GPPcntSCHNew*(VLOOKUP($A40,FY19ProjRev!$B$4:$L$23,11,FALSE))*VLOOKUP($A40,'FY17ProjSCH(revised)'!$A$3:$S$22,MATCH(D$27,'FY17ProjSCH(revised)'!$A$2:$S$2,0),FALSE) -> 6231.6947 | E40: =+GPPcntSCHNew*(VLOOKUP($A40,FY19ProjRev!$B$4:$L$23,11,FALSE))*VLOOKUP($A40,'FY17ProjSCH(revised)'!$A$3:$S$22,MATCH(E$27,'FY17ProjSCH(revised)'!$A$2:$S$2,0),FALSE) -> 4455661.7 | F40: =+GPPcntSCHNew*(VLOOKUP($A40,FY19ProjRev!$B$4:$L$23,11,FALSE))*VLOOKUP($A40,'FY17ProjSCH(revised)'!$A$3:$S$22,MATCH(F$27,'FY17ProjSCH(revised)'!$A$2:$S$2,0),FALSE) -> 0 | G40: =+GPPcntSCHNew*(VLOOKUP($A40,FY19ProjRev!$B$4:$L$23,11,FALSE))*VLOOKUP($A40,'FY17ProjSCH(revised)'!$A$3:$S$22,MATCH(G$27,'FY17ProjSCH(revised)'!$A$2:$S$2,0),FALSE) -> 6621.1756 | H40: =+GPPcntSCHNew*(VLOOKUP($A40,FY19ProjRev!$B$4:$L$23,11,FALSE))*VLOOKUP($A40,'FY17ProjSCH(revised)'!$A$3:$S$22,MATCH(H$27,'FY17ProjSCH(revised)'!$A$2:$S$2,0),FALSE) -> 0 | I40: =+GPPcntSCHNew*(VLOOKUP($A40,FY19ProjRev!$B$4:$L$23,11,FALSE))*VLOOKUP($A40,'FY17ProjSCH(revised)'!$A$3:$S$22,MATCH(I$27,'FY17ProjSCH(revised)'!$A$2:$S$2,0),FALSE) -> 3505.3283 | J40: =+GPPcntSCHNew*(VLOOKUP($A40,FY19ProjRev!$B$4:$L$23,11,FALSE))*VLOOKUP($A40,'FY17ProjSCH(revised)'!$A$3:$S$22,MATCH(J$27,'FY17ProjSCH(revised)'!$A$2:$S$2,0),FALSE) -> 21421.45 | ... S40: =+GPPcntSCHNew*(VLOOKUP($A40,FY19ProjRev!$B$4:$L$23,11,FALSE))*VLOOKUP($A40,'FY17ProjSCH(revised)'!$A$3:$S$22,MATCH(S$27,'FY17ProjSCH(revised)'!$A$2:$S$2,0),FALSE) -> 0 | T40: =SUM(C40:Q40)+R40+S40 -> 4530442
... A47: 53 | B47: Graduate Dentistry | C47: =+GPPcntSCHNew*(VLOOKUP($A47,FY19ProjRev!$B$4:$L$23,11,FALSE))*VLOOKUP($A47,'FY17ProjSCH(revised)'!$A$3:$S$22,MATCH(C$27,'FY17ProjSCH(revised)'!$A$2:$S$2,0),FALSE) -> 0 | D47: =+GPPcntSCHNew*(VLOOKUP($A47,FY19ProjRev!$B$4:$L$23,11,FALSE))*VLOOKUP($A47,'FY17ProjSCH(revised)'!$A$3:$S$22,MATCH(D$27,'FY17ProjSCH(revised)'!$A$2:$S$2,0),FALSE) -> 0 | E47: =+GPPcntSCHNew*(VLOOKUP($A47,FY19ProjRev!$B$4:$L$23,11,FALSE))*VLOOKUP($A47,'FY17ProjSCH(revised)'!$A$3:$S$22,MATCH(E$27,'FY17ProjSCH(revised)'!$A$2:$S$2,0),FALSE) -> 4632.9295 | F47: =+GPPcntSCHNew*(VLOOKUP($A47,FY19ProjRev!$B$4:$L$23,11,FALSE))*VLOOKUP($A47,'FY17ProjSCH(revised)'!$A$3:$S$22,MATCH(F$27,'FY17ProjSCH(revised)'!$A$2:$S$2,0),FALSE) -> 0 | G47: =+GPPcntSCHNew*(VLOOKUP($A47,FY19ProjRev!$B$4:$L$23,11,FALSE))*VLOOKUP($A47,'FY17ProjSCH(revised)'!$A$3:$S$22,MATCH(G$27,'FY17ProjSCH(revised)'!$A$2:$S$2,0),FALSE) -> 1323.6941 | H47: =+GPPcntSCHNew*(VLOOKUP($A47,FY19ProjRev!$B$4:$L$23,11,FALSE))*VLOOKUP($A47,'FY17ProjSCH(revised)'!$A$3:$S$22,MATCH(H$27,'FY17ProjSCH(revised)'!$A$2:$S$2,0),FALSE) -> 0 | I47: =+GPPcntSCHNew*(VLOOKUP($A47,FY19ProjRev!$B$4:$L$23,11,FALSE))*VLOOKUP($A47,'FY17ProjSCH(revised)'!$A$3:$S$22,MATCH(I$27,'FY17ProjSCH(revised)'!$A$2:$S$2,0),FALSE) -> 0 | J47: =+GPPcntSCHNew*(VLOOKUP($A47,FY19ProjRev!$B$4:$L$23,11,FALSE))*VLOOKUP($A47,'FY17ProjSCH(revised)'!$A$3:$S$22,MATCH(J$27,'FY17ProjSCH(revised)'!$A$2:$S$2,0),FALSE) -> 0 | ... S47: =+GPPcntSCHNew*(VLOOKUP($A47,FY19ProjRev!$B$4:$L$23,11,FALSE))*VLOOKUP($A47,'FY17ProjSCH(revised)'!$A$3:$S$22,MATCH(S$27,'FY17ProjSCH(revised)'!$A$2:$S$2,0),FALSE) -> 1654.6177 | T47: =SUM(C47:Q47)+R47+S47 -> 961001.95
B48: Total | C48: =SUM(C28:C47) -> 8756768.3 | D48: =SUM(D28:D47) -> 1.4815896e+08 | E48: =SUM(E28:E47) -> 18878329 | F48: =SUM(F28:F47) -> 7436763.2 | G48: =SUM(G28:G47) -> 31081764 | H48: =SUM(H28:H47) -> 15245190 | I48: =SUM(I28:I47) -> 4608119 | J48: =SUM(J28:J47) -> 9323497.2 | ... S48: =SUM(S28:S47) -> 951489.25 | T48: =SUM(C48:S48) -> 3.0280345e+08
B49: Distributed Based on Degrees (UG)/Majors (Grad)
C50: Built Environments | D50: Coll Arts & Sciences | E50: Foster Business School | F50: College Of Education | G50: College Of Engineering | H50: College Of Environment | I50: The Information School | J50: School Of Law | K50: Evans Sch Of Public Af | L50: School Of Social Work | M50: School Of Dentistry | N50: School Of Medicine | O50: School Of Nursing | P50: School Of Pharmacy | Q50: Sch Of Public Health | R50: Undergrad Acad Affairs | S50: Dean-Graduate School | T50: TOTAL
A51: 1 | B51: Undergraduate | C51: =+UGPcntDegNew*(VLOOKUP($A51,FY19ProjRev!$B$4:$L$23,11,FALSE))*VLOOKUP($A51,'FY17ProjMjrs(revised)'!$A$3:$S$22,MATCH(C$27,'FY17ProjMjrs(revised)'!$A$2:$S$2,0),FALSE) -> 782133.64 | D51: =+UGPcntDegNew*(VLOOKUP($A51,FY19ProjRev!$B$4:$L$23,11,FALSE))*VLOOKUP($A51,'FY17ProjMjrs(revised)'!$A$3:$S$22,MATCH(D$27,'FY17ProjMjrs(revised)'!$A$2:$S$2,0),FALSE) -> 33955599 | E51: =+UGPcntDegNew*(VLOOKUP($A51,FY19ProjRev!$B$4:$L$23,11,FALSE))*VLOOKUP($A51,'FY17ProjMjrs(revised)'!$A$3:$S$22,MATCH(E$27,'FY17ProjMjrs(revised)'!$A$2:$S$2,0),FALSE) -> 5786566.9 | F51: =+UGPcntDegNew*(VLOOKUP($A51,FY19ProjRev!$B$4:$L$23,11,FALSE))*VLOOKUP($A51,'FY17ProjMjrs(revised)'!$A$3:$S$22,MATCH(F$27,'FY17ProjMjrs(revised)'!$A$2:$S$2,0),FALSE) -> 941004.54 | G51: =+UGPcntDegNew*(VLOOKUP($A51,FY19ProjRev!$B$4:$L$23,11,FALSE))*VLOOKUP($A51,'FY17ProjMjrs(revised)'!$A$3:$S$22,MATCH(G$27,'FY17ProjMjrs(revised)'!$A$2:$S$2,0),FALSE) -> 6073756.6 | H51: =+UGPcntDegNew*(VLOOKUP($A51,FY19ProjRev!$B$4:$L$23,11,FALSE))*VLOOKUP($A51,'FY17ProjMjrs(revised)'!$A$3:$S$22,MATCH(H$27,'FY17ProjMjrs(revised)'!$A$2:$S$2,0),FALSE) -> 1857567.4 | I51: =+UGPcntDegNew*(VLOOKUP($A51,FY19ProjRev!$B$4:$L$23,11,FALSE))*VLOOKUP($A51,'FY17ProjMjrs(revised)'!$A$3:$S$22,MATCH(I$27,'FY17ProjMjrs(revised)'!$A$2:$S$2,0),FALSE) -> 849348.25 | J51: =+UGPcntDegNew*(VLOOKUP($A51,FY19ProjRev!$B$4:$L$23,11,FALSE))*VLOOKUP($A51,'FY17ProjMjrs(revised)'!$A$3:$S$22,MATCH(J$27,'FY17ProjMjrs(revised)'!$A$2:$S$2,0),FALSE) -> 0 | ... S51: =+UGPcntDegNew*(VLOOKUP($A51,FY19ProjRev!$B$4:$L$23,11,FALSE))*VLOOKUP($A51,'FY17ProjMjrs(revised)'!$A$3:$S$22,MATCH(S$27,'FY17ProjMjrs(revised)'!$A$2:$S$2,0),FALSE) -> 0 | T51: =SUM(C51:Q51)+R51+S51 -> 54559932
A52: 3 | B52: Graduate Tier I | C52: =+GPPcntMjrNew*(VLOOKUP($A52,FY19ProjRev!$B$4:$L$23,11,FALSE))*VLOOKUP($A52,'FY17ProjMjrs(revised)'!$A$3:$S$22,MATCH(C$27,'FY17ProjMjrs(revised)'!$A$2:$S$2,0),FALSE) -> 20814.25 | D52: =+GPPcntMjrNew*(VLOOKUP($A52,FY19ProjRev!$B$4:$L$23,11,FALSE))*VLOOKUP($A52,'FY17ProjMjrs(revised)'!$A$3:$S$22,MATCH(D$27,'FY17ProjMjrs(revised)'!$A$2:$S$2,0),FALSE) -> 1864767.6 | E52: =+GPPcntMjrNew*(VLOOKUP($A52,FY19ProjRev!$B$4:$L$23,11,FALSE))*VLOOKUP($A52,'FY17ProjMjrs(revised)'!$A$3:$S$22,MATCH(E$27,'FY17ProjMjrs(revised)'!$A$2:$S$2,0),FALSE) -> 77580.385 | F52: =+GPPcntMjrNew*(VLOOKUP($A52,FY19ProjRev!$B$4:$L$23,11,FALSE))*VLOOKUP($A52,'FY17ProjMjrs(revised)'!$A$3:$S$22,MATCH(F$27,'FY17ProjMjrs(revised)'!$A$2:$S$2,0),FALSE) -> 0 | G52: =+GPPcntMjrNew*(VLOOKUP($A52,FY19ProjRev!$B$4:$L$23,11,FALSE))*VLOOKUP($A52,'FY17ProjMjrs(revised)'!$A$3:$S$22,MATCH(G$27,'FY17ProjMjrs(revised)'!$A$2:$S$2,0),FALSE) -> 124885.5 | H52: =+GPPcntMjrNew*(VLOOKUP($A52,FY19ProjRev!$B$4:$L$23,11,FALSE))*VLOOKUP($A52,'FY17ProjMjrs(revised)'!$A$3:$S$22,MATCH(H$27,'FY17ProjMjrs(revised)'!$A$2:$S$2,0),FALSE) -> 0 | I52: =+GPPcntMjrNew*(VLOOKUP($A52,FY19ProjRev!$B$4:$L$23,11,FALSE))*VLOOKUP($A52,'FY17ProjMjrs(revised)'!$A$3:$S$22,MATCH(I$27,'FY17ProjMjrs(revised)'!$A$2:$S$2,0),FALSE) -> 52981.727 | J52: =+GPPcntMjrNew*(VLOOKUP($A52,FY19ProjRev!$B$4:$L$23,11,FALSE))*VLOOKUP($A52,'FY17ProjMjrs(revised)'!$A$3:$S$22,MATCH(J$27,'FY17ProjMjrs(revised)'!$A$2:$S$2,0),FALSE) -> 1892.2045 | ... S52: =+GPPcntMjrNew*(VLOOKUP($A52,FY19ProjRev!$B$4:$L$23,11,FALSE))*VLOOKUP($A52,'FY17ProjMjrs(revised)'!$A$3:$S$22,MATCH(S$27,'FY17ProjMjrs(revised)'!$A$2:$S$2,0),FALSE) -> 240309.97 | T52: =SUM(C52:Q52)+R52+S52 -> 2923456
A53: 5 | B53: Graduate Tier II | C53: =+GPPcntMjrNew*(VLOOKUP($A53,FY19ProjRev!$B$4:$L$23,11,FALSE))*VLOOKUP($A53,'FY17ProjMjrs(revised)'!$A$3:$S$22,MATCH(C$27,'FY17ProjMjrs(revised)'!$A$2:$S$2,0),FALSE) -> 0 | D53: =+GPPcntMjrNew*(VLOOKUP($A53,FY19ProjRev!$B$4:$L$23,11,FALSE))*VLOOKUP($A53,'FY17ProjMjrs(revised)'!$A$3:$S$22,MATCH(D$27,'FY17ProjMjrs(revised)'!$A$2:$S$2,0),FALSE) -> 0 | E53: =+GPPcntMjrNew*(VLOOKUP($A53,FY19ProjRev!$B$4:$L$23,11,FALSE))*VLOOKUP($A53,'FY17ProjMjrs(revised)'!$A$3:$S$22,MATCH(E$27,'FY17ProjMjrs(revised)'!$A$2:$S$2,0),FALSE) -> 0 | F53: =+GPPcntMjrNew*(VLOOKUP($A53,FY19ProjRev!$B$4:$L$23,11,FALSE))*VLOOKUP($A53,'FY17ProjMjrs(revised)'!$A$3:$S$22,MATCH(F$27,'FY17ProjMjrs(revised)'!$A$2:$S$2,0),FALSE) -> 0 | G53: =+GPPcntMjrNew*(VLOOKUP($A53,FY19ProjRev!$B$4:$L$23,11,FALSE))*VLOOKUP($A53,'FY17ProjMjrs(revised)'!$A$3:$S$22,MATCH(G$27,'FY17ProjMjrs(revised)'!$A$2:$S$2,0),FALSE) -> 0 | H53: =+GPPcntMjrNew*(VLOOKUP($A53,FY19ProjRev!$B$4:$L$23,11,FALSE))*VLOOKUP($A53,'FY17ProjMjrs(revised)'!$A$3:$S$22,MATCH(H$27,'FY17ProjMjrs(revised)'!$A$2:$S$2,0),FALSE) -> 0 | I53: =+GPPcntMjrNew*(VLOOKUP($A53,FY19ProjRev!$B$4:$L$23,11,FALSE))*VLOOKUP($A53,'FY17ProjMjrs(revised)'!$A$3:$S$22,MATCH(I$27,'FY17ProjMjrs(revised)'!$A$2:$S$2,0),FALSE) -> 0 | J53: =+GPPcntMjrNew*(VLOOKUP($A53,FY19ProjRev!$B$4:$L$23,11,FALSE))*VLOOKUP($A53,'FY17ProjMjrs(revised)'!$A$3:$S$22,MATCH(J$27,'FY17ProjMjrs(revised)'!$A$2:$S$2,0),FALSE) -> 0 | ... S53: =+GPPcntMjrNew*(VLOOKUP($A53,FY19ProjRev!$B$4:$L$23,11,FALSE))*VLOOKUP($A53,'FY17ProjMjrs(revised)'!$A$3:$S$22,MATCH(S$27,'FY17ProjMjrs(revised)'!$A$2:$S$2,0),FALSE) -> 0 | T53: =SUM(C53:Q53)+R53+S53 -> 321264.41
A54: 7 | B54: Graduate Tier III | C54: =+GPPcntMjrNew*(VLOOKUP($A54,FY19ProjRev!$B$4:$L$23,11,FALSE))*VLOOKUP($A54,'FY17ProjMjrs(revised)'!$A$3:$S$22,MATCH(C$27,'FY17ProjMjrs(revised)'!$A$2:$S$2,0),FALSE) -> 1507.8317 | D54: =+GPPcntMjrNew*(VLOOKUP($A54,FY19ProjRev!$B$4:$L$23,11,FALSE))*VLOOKUP($A54,'FY17ProjMjrs(revised)'!$A$3:$S$22,MATCH(D$27,'FY17ProjMjrs(revised)'!$A$2:$S$2,0),FALSE) -> 18093.981 | E54: =+GPPcntMjrNew*(VLOOKUP($A54,FY19ProjRev!$B$4:$L$23,11,FALSE))*VLOOKUP($A54,'FY17ProjMjrs(revised)'!$A$3:$S$22,MATCH(E$27,'FY17ProjMjrs(revised)'!$A$2:$S$2,0),FALSE) -> 0 | F54: =+GPPcntMjrNew*(VLOOKUP($A54,FY19ProjRev!$B$4:$L$23,11,FALSE))*VLOOKUP($A54,'FY17ProjMjrs(revised)'!$A$3:$S$22,MATCH(F$27,'FY17ProjMjrs(revised)'!$A$2:$S$2,0),FALSE) -> 3015.6634 | G54: =+GPPcntMjrNew*(VLOOKUP($A54,FY19ProjRev!$B$4:$L$23,11,FALSE))*VLOOKUP($A54,'FY17ProjMjrs(revised)'!$A$3:$S$22,MATCH(G$27,'FY17ProjMjrs(revised)'!$A$2:$S$2,0),FALSE) -> 1643536.6 | H54: =+GPPcntMjrNew*(VLOOKUP($A54,FY19ProjRev!$B$4:$L$23,11,FALSE))*VLOOKUP($A54,'FY17ProjMjrs(revised)'!$A$3:$S$22,MATCH(H$27,'FY17ProjMjrs(revised)'!$A$2:$S$2,0),FALSE) -> 3015.6634 | I54: =+GPPcntMjrNew*(VLOOKUP($A54,FY19ProjRev!$B$4:$L$23,11,FALSE))*VLOOKUP($A54,'FY17ProjMjrs(revised)'!$A$3:$S$22,MATCH(I$27,'FY17ProjMjrs(revised)'!$A$2:$S$2,0),FALSE) -> 0 | J54: =+GPPcntMjrNew*(VLOOKUP($A54,FY19ProjRev!$B$4:$L$23,11,FALSE))*VLOOKUP($A54,'FY17ProjMjrs(revised)'!$A$3:$S$22,MATCH(J$27,'FY17ProjMjrs(revised)'!$A$2:$S$2,0),FALSE) -> 1507.8317 | ... S54: =+GPPcntMjrNew*(VLOOKUP($A54,FY19ProjRev!$B$4:$L$23,11,FALSE))*VLOOKUP($A54,'FY17ProjMjrs(revised)'!$A$3:$S$22,MATCH(S$27,'FY17ProjMjrs(revised)'!$A$2:$S$2,0),FALSE) -> 43727.12 | T54: =SUM(C54:Q54)+R54+S54 -> 1890821
A55: 9 | B55: Coll Environ Graduate | C55: =+GPPcntMjrNew*(VLOOKUP($A55,FY19ProjRev!$B$4:$L$23,11,FALSE))*VLOOKUP($A55,'FY17ProjMjrs(revised)'!$A$3:$S$22,MATCH(C$27,'FY17ProjMjrs(revised)'!$A$2:$S$2,0),FALSE) -> 0 | D55: =+GPPcntMjrNew*(VLOOKUP($A55,FY19ProjRev!$B$4:$L$23,11,FALSE))*VLOOKUP($A55,'FY17ProjMjrs(revised)'!$A$3:$S$22,MATCH(D$27,'FY17ProjMjrs(revised)'!$A$2:$S$2,0),FALSE) -> 11412.313 | E55: =+GPPcntMjrNew*(VLOOKUP($A55,FY19ProjRev!$B$4:$L$23,11,FALSE))*VLOOKUP($A55,'FY17ProjMjrs(revised)'!$A$3:$S$22,MATCH(E$27,'FY17ProjMjrs(revised)'!$A$2:$S$2,0),FALSE) -> 0 | F55: =+GPPcntMjrNew*(VLOOKUP($A55,FY19ProjRev!$B$4:$L$23,11,FALSE))*VLOOKUP($A55,'FY17ProjMjrs(revised)'!$A$3:$S$22,MATCH(F$27,'FY17ProjMjrs(revised)'!$A$2:$S$2,0),FALSE) -> 0 | G55: =+GPPcntMjrNew*(VLOOKUP($A55,FY19ProjRev!$B$4:$L$23,11,FALSE))*VLOOKUP($A55,'FY17ProjMjrs(revised)'!$A$3:$S$22,MATCH(G$27,'FY17ProjMjrs(revised)'!$A$2:$S$2,0),FALSE) -> 1426.5391 | H55: =+GPPcntMjrNew*(VLOOKUP($A55,FY19ProjRev!$B$4:$L$23,11,FALSE))*VLOOKUP($A55,'FY17ProjMjrs(revised)'!$A$3:$S$22,MATCH(H$27,'FY17ProjMjrs(revised)'!$A$2:$S$2,0),FALSE) -> 677606.06 | I55: =+GPPcntMjrNew*(VLOOKUP($A55,FY19ProjRev!$B$4:$L$23,11,FALSE))*VLOOKUP($A55,'FY17ProjMjrs(revised)'!$A$3:$S$22,MATCH(I$27,'FY17ProjMjrs(revised)'!$A$2:$S$2,0),FALSE) -> 0 | J55: =+GPPcntMjrNew*(VLOOKUP($A55,FY19ProjRev!$B$4:$L$23,11,FALSE))*VLOOKUP($A55,'FY17ProjMjrs(revised)'!$A$3:$S$22,MATCH(J$27,'FY17ProjMjrs(revised)'!$A$2:$S$2,0),FALSE) -> 0 | ... S55: =+GPPcntMjrNew*(VLOOKUP($A55,FY19ProjRev!$B$4:$L$23,11,FALSE))*VLOOKUP($A55,'FY17ProjMjrs(revised)'!$A$3:$S$22,MATCH(S$27,'FY17ProjMjrs(revised)'!$A$2:$S$2,0),FALSE) -> 0 | T55: =SUM(C55:Q55)+R55+S55 -> 690444.91
A56: 11 | B56: Education Graduate | C56: =+GPPcntMjrNew*(VLOOKUP($A56,FY19ProjRev!$B$4:$L$23,11,FALSE))*VLOOKUP($A56,'FY17ProjMjrs(revised)'!$A$3:$S$22,MATCH(C$27,'FY17ProjMjrs(revised)'!$A$2:$S$2,0),FALSE) -> 0 | D56: =+GPPcntMjrNew*(VLOOKUP($A56,FY19ProjRev!$B$4:$L$23,11,FALSE))*VLOOKUP($A56,'FY17ProjMjrs(revised)'!$A$3:$S$22,MATCH(D$27,'FY17ProjMjrs(revised)'!$A$2:$S$2,0),FALSE) -> 5300.8165 | E56: =+GPPcntMjrNew*(VLOOKUP($A56,FY19ProjRev!$B$4:$L$23,11,FALSE))*VLOOKUP($A56,'FY17ProjMjrs(revised)'!$A$3:$S$22,MATCH(E$27,'FY17ProjMjrs(revised)'!$A$2:$S$2,0),FALSE) -> 0 | F56: =+GPPcntMjrNew*(VLOOKUP($A56,FY19ProjRev!$B$4:$L$23,11,FALSE))*VLOOKUP($A56,'FY17ProjMjrs(revised)'!$A$3:$S$22,MATCH(F$27,'FY17ProjMjrs(revised)'!$A$2:$S$2,0),FALSE) -> 1008922.1 | G56: =+GPPcntMjrNew*(VLOOKUP($A56,FY19ProjRev!$B$4:$L$23,11,FALSE))*VLOOKUP($A56,'FY17ProjMjrs(revised)'!$A$3:$S$22,MATCH(G$27,'FY17ProjMjrs(revised)'!$A$2:$S$2,0),FALSE) -> 0 | H56: =+GPPcntMjrNew*(VLOOKUP($A56,FY19ProjRev!$B$4:$L$23,11,FALSE))*VLOOKUP($A56,'FY17ProjMjrs(revised)'!$A$3:$S$22,MATCH(H$27,'FY17ProjMjrs(revised)'!$A$2:$S$2,0),FALSE) -> 0 | I56: =+GPPcntMjrNew*(VLOOKUP($A56,FY19ProjRev!$B$4:$L$23,11,FALSE))*VLOOKUP($A56,'FY17ProjMjrs(revised)'!$A$3:$S$22,MATCH(I$27,'FY17ProjMjrs(revised)'!$A$2:$S$2,0),FALSE) -> 0 | J56: =+GPPcntMjrNew*(VLOOKUP($A56,FY19ProjRev!$B$4:$L$23,11,FALSE))*VLOOKUP($A56,'FY17ProjMjrs(revised)'!$A$3:$S$22,MATCH(J$27,'FY17ProjMjrs(revised)'!$A$2:$S$2,0),FALSE) -> 1766.9388 | ... S56: =+GPPcntMjrNew*(VLOOKUP($A56,FY19ProjRev!$B$4:$L$23,11,FALSE))*VLOOKUP($A56,'FY17ProjMjrs(revised)'!$A$3:$S$22,MATCH(S$27,'FY17ProjMjrs(revised)'!$A$2:$S$2,0),FALSE) -> 0 | T56: =SUM(C56:Q56)+R56+S56 -> 1015989.8
A57: 17 | B57: MSW | C57: =+GPPcntMjrNew*(VLOOKUP($A57,FY19ProjRev!$B$4:$L$23,11,FALSE))*VLOOKUP($A57,'FY17ProjMjrs(revised)'!$A$3:$S$22,MATCH(C$27,'FY17ProjMjrs(revised)'!$A$2:$S$2,0),FALSE) -> 0 | D57: =+GPPcntMjrNew*(VLOOKUP($A57,FY19ProjRev!$B$4:$L$23,11,FALSE))*VLOOKUP($A57,'FY17ProjMjrs(revised)'!$A$3:$S$22,MATCH(D$27,'FY17ProjMjrs(revised)'!$A$2:$S$2,0),FALSE) -> 0 | E57: =+GPPcntMjrNew*(VLOOKUP($A57,FY19ProjRev!$B$4:$L$23,11,FALSE))*VLOOKUP($A57,'FY17ProjMjrs(revised)'!$A$3:$S$22,MATCH(E$27,'FY17ProjMjrs(revised)'!$A$2:$S$2,0),FALSE) -> 0 | F57: =+GPPcntMjrNew*(VLOOKUP($A57,FY19ProjRev!$B$4:$L$23,11,FALSE))*VLOOKUP($A57,'FY17ProjMjrs(revised)'!$A$3:$S$22,MATCH(F$27,'FY17ProjMjrs(revised)'!$A$2:$S$2,0),FALSE) -> 0 | G57: =+GPPcntMjrNew*(VLOOKUP($A57,FY19ProjRev!$B$4:$L$23,11,FALSE))*VLOOKUP($A57,'FY17ProjMjrs(revised)'!$A$3:$S$22,MATCH(G$27,'FY17ProjMjrs(revised)'!$A$2:$S$2,0),FALSE) -> 0 | H57: =+GPPcntMjrNew*(VLOOKUP($A57,FY19ProjRev!$B$4:$L$23,11,FALSE))*VLOOKUP($A57,'FY17ProjMjrs(revised)'!$A$3:$S$22,MATCH(H$27,'FY17ProjMjrs(revised)'!$A$2:$S$2,0),FALSE) -> 0 | I57: =+GPPcntMjrNew*(VLOOKUP($A57,FY19ProjRev!$B$4:$L$23,11,FALSE))*VLOOKUP($A57,'FY17ProjMjrs(revised)'!$A$3:$S$22,MATCH(I$27,'FY17ProjMjrs(revised)'!$A$2:$S$2,0),FALSE) -> 0 | J57: =+GPPcntMjrNew*(VLOOKUP($A57,FY19ProjRev!$B$4:$L$23,11,FALSE))*VLOOKUP($A57,'FY17ProjMjrs(revised)'!$A$3:$S$22,MATCH(J$27,'FY17ProjMjrs(revised)'!$A$2:$S$2,0),FALSE) -> 0 | ... S57: =+GPPcntMjrNew*(VLOOKUP($A57,FY19ProjRev!$B$4:$L$23,11,FALSE))*VLOOKUP($A57,'FY17ProjMjrs(revised)'!$A$3:$S$22,MATCH(S$27,'FY17ProjMjrs(revised)'!$A$2:$S$2,0),FALSE) -> 0 | T57: =SUM(C57:Q57)+R57+S57 -> 646017.79
A58: 19 | B58: Public Health Graduate | C58: =+GPPcntMjrNew*(VLOOKUP($A58,FY19ProjRev!$B$4:$L$23,11,FALSE))*VLOOKUP($A58,'FY17ProjMjrs(revised)'!$A$3:$S$22,MATCH(C$27,'FY17ProjMjrs(revised)'!$A$2:$S$2,0),FALSE) -> 1744.4051 | D58: =+GPPcntMjrNew*(VLOOKUP($A58,FY19ProjRev!$B$4:$L$23,11,FALSE))*VLOOKUP($A58,'FY17ProjMjrs(revised)'!$A$3:$S$22,MATCH(D$27,'FY17ProjMjrs(revised)'!$A$2:$S$2,0),FALSE) -> 0 | E58: =+GPPcntMjrNew*(VLOOKUP($A58,FY19ProjRev!$B$4:$L$23,11,FALSE))*VLOOKUP($A58,'FY17ProjMjrs(revised)'!$A$3:$S$22,MATCH(E$27,'FY17ProjMjrs(revised)'!$A$2:$S$2,0),FALSE) -> 0 | F58: =+GPPcntMjrNew*(VLOOKUP($A58,FY19ProjRev!$B$4:$L$23,11,FALSE))*VLOOKUP($A58,'FY17ProjMjrs(revised)'!$A$3:$S$22,MATCH(F$27,'FY17ProjMjrs(revised)'!$A$2:$S$2,0),FALSE) -> 0 | G58: =+GPPcntMjrNew*(VLOOKUP($A58,FY19ProjRev!$B$4:$L$23,11,FALSE))*VLOOKUP($A58,'FY17ProjMjrs(revised)'!$A$3:$S$22,MATCH(G$27,'FY17ProjMjrs(revised)'!$A$2:$S$2,0),FALSE) -> 0 | H58: =+GPPcntMjrNew*(VLOOKUP($A58,FY19ProjRev!$B$4:$L$23,11,FALSE))*VLOOKUP($A58,'FY17ProjMjrs(revised)'!$A$3:$S$22,MATCH(H$27,'FY17ProjMjrs(revised)'!$A$2:$S$2,0),FALSE) -> 0 | I58: =+GPPcntMjrNew*(VLOOKUP($A58,FY19ProjRev!$B$4:$L$23,11,FALSE))*VLOOKUP($A58,'FY17ProjMjrs(revised)'!$A$3:$S$22,MATCH(I$27,'FY17ProjMjrs(revised)'!$A$2:$S$2,0),FALSE) -> 0 | J58: =+GPPcntMjrNew*(VLOOKUP($A58,FY19ProjRev!$B$4:$L$23,11,FALSE))*VLOOKUP($A58,'FY17ProjMjrs(revised)'!$A$3:$S$22,MATCH(J$27,'FY17ProjMjrs(revised)'!$A$2:$S$2,0),FALSE) -> 0 | ... S58: =+GPPcntMjrNew*(VLOOKUP($A58,FY19ProjRev!$B$4:$L$23,11,FALSE))*VLOOKUP($A58,'FY17ProjMjrs(revised)'!$A$3:$S$22,MATCH(S$27,'FY17ProjMjrs(revised)'!$A$2:$S$2,0),FALSE) -> 3488.8102 | T58: =SUM(C58:Q58)+R58+S58 -> 549487.6
A59: 21 | B59: MPH | C59: =+GPPcntMjrNew*(VLOOKUP($A59,FY19ProjRev!$B$4:$L$23,11,FALSE))*VLOOKUP($A59,'FY17ProjMjrs(revised)'!$A$3:$S$22,MATCH(C$27,'FY17ProjMjrs(revised)'!$A$2:$S$2,0),FALSE) -> 0 | D59: =+GPPcntMjrNew*(VLOOKUP($A59,FY19ProjRev!$B$4:$L$23,11,FALSE))*VLOOKUP($A59,'FY17ProjMjrs(revised)'!$A$3:$S$22,MATCH(D$27,'FY17ProjMjrs(revised)'!$A$2:$S$2,0),FALSE) -> 4672.0301 | E59: =+GPPcntMjrNew*(VLOOKUP($A59,FY19ProjRev!$B$4:$L$23,11,FALSE))*VLOOKUP($A59,'FY17ProjMjrs(revised)'!$A$3:$S$22,MATCH(E$27,'FY17ProjMjrs(revised)'!$A$2:$S$2,0),FALSE) -> 0 | F59: =+GPPcntMjrNew*(VLOOKUP($A59,FY19ProjRev!$B$4:$L$23,11,FALSE))*VLOOKUP($A59,'FY17ProjMjrs(revised)'!$A$3:$S$22,MATCH(F$27,'FY17ProjMjrs(revised)'!$A$2:$S$2,0),FALSE) -> 0 | G59: =+GPPcntMjrNew*(VLOOKUP($A59,FY19ProjRev!$B$4:$L$23,11,FALSE))*VLOOKUP($A59,'FY17ProjMjrs(revised)'!$A$3:$S$22,MATCH(G$27,'FY17ProjMjrs(revised)'!$A$2:$S$2,0),FALSE) -> 1557.3434 | H59: =+GPPcntMjrNew*(VLOOKUP($A59,FY19ProjRev!$B$4:$L$23,11,FALSE))*VLOOKUP($A59,'FY17ProjMjrs(revised)'!$A$3:$S$22,MATCH(H$27,'FY17ProjMjrs(revised)'!$A$2:$S$2,0),FALSE) -> 0 | I59: =+GPPcntMjrNew*(VLOOKUP($A59,FY19ProjRev!$B$4:$L$23,11,FALSE))*VLOOKUP($A59,'FY17ProjMjrs(revised)'!$A$3:$S$22,MATCH(I$27,'FY17ProjMjrs(revised)'!$A$2:$S$2,0),FALSE) -> 0 | J59: =+GPPcntMjrNew*(VLOOKUP($A59,FY19ProjRev!$B$4:$L$23,11,FALSE))*VLOOKUP($A59,'FY17ProjMjrs(revised)'!$A$3:$S$22,MATCH(J$27,'FY17ProjMjrs(revised)'!$A$2:$S$2,0),FALSE) -> 1557.3434 | ... S59: =+GPPcntMjrNew*(VLOOKUP($A59,FY19ProjRev!$B$4:$L$23,11,FALSE))*VLOOKUP($A59,'FY17ProjMjrs(revised)'!$A$3:$S$22,MATCH(S$27,'FY17ProjMjrs(revised)'!$A$2:$S$2,0),FALSE) -> 0 | T59: =SUM(C59:Q59)+R59+S59 -> 492120.51
A60: 25 | B60: CBE Masters | C60: =+GPPcntMjrNew*(VLOOKUP($A60,FY19ProjRev!$B$4:$L$23,11,FALSE))*VLOOKUP($A60,'FY17ProjMjrs(revised)'!$A$3:$S$22,MATCH(C$27,'FY17ProjMjrs(revised)'!$A$2:$S$2,0),FALSE) -> 1018040.3 | D60: =+GPPcntMjrNew*(VLOOKUP($A60,FY19ProjRev!$B$4:$L$23,11,FALSE))*VLOOKUP($A60,'FY17ProjMjrs(revised)'!$A$3:$S$22,MATCH(D$27,'FY17ProjMjrs(revised)'!$A$2:$S$2,0),FALSE) -> 0 | E60: =+GPPcntMjrNew*(VLOOKUP($A60,FY19ProjRev!$B$4:$L$23,11,FALSE))*VLOOKUP($A60,'FY17ProjMjrs(revised)'!$A$3:$S$22,MATCH(E$27,'FY17ProjMjrs(revised)'!$A$2:$S$2,0),FALSE) -> 0 | F60: =+GPPcntMjrNew*(VLOOKUP($A60,FY19ProjRev!$B$4:$L$23,11,FALSE))*VLOOKUP($A60,'FY17ProjMjrs(revised)'!$A$3:$S$22,MATCH(F$27,'FY17ProjMjrs(revised)'!$A$2:$S$2,0),FALSE) -> 0 | G60: =+GPPcntMjrNew*(VLOOKUP($A60,FY19ProjRev!$B$4:$L$23,11,FALSE))*VLOOKUP($A60,'FY17ProjMjrs(revised)'!$A$3:$S$22,MATCH(G$27,'FY17ProjMjrs(revised)'!$A$2:$S$2,0),FALSE) -> 0 | H60: =+GPPcntMjrNew*(VLOOKUP($A60,FY19ProjRev!$B$4:$L$23,11,FALSE))*VLOOKUP($A60,'FY17ProjMjrs(revised)'!$A$3:$S$22,MATCH(H$27,'FY17ProjMjrs(revised)'!$A$2:$S$2,0),FALSE) -> 0 | I60: =+GPPcntMjrNew*(VLOOKUP($A60,FY19ProjRev!$B$4:$L$23,11,FALSE))*VLOOKUP($A60,'FY17ProjMjrs(revised)'!$A$3:$S$22,MATCH(I$27,'FY17ProjMjrs(revised)'!$A$2:$S$2,0),FALSE) -> 0 | J60: =+GPPcntMjrNew*(VLOOKUP($A60,FY19ProjRev!$B$4:$L$23,11,FALSE))*VLOOKUP($A60,'FY17ProjMjrs(revised)'!$A$3:$S$22,MATCH(J$27,'FY17ProjMjrs(revised)'!$A$2:$S$2,0),FALSE) -> 0 | ... S60: =+GPPcntMjrNew*(VLOOKUP($A60,FY19ProjRev!$B$4:$L$23,11,FALSE))*VLOOKUP($A60,'FY17ProjMjrs(revised)'!$A$3:$S$22,MATCH(S$27,'FY17ProjMjrs(revised)'!$A$2:$S$2,0),FALSE) -> 0 | T60: =SUM(C60:Q60)+R60+S60 -> 1020664.1
A61: 27 | B61: Engineering Masters | C61: =+GPPcntMjrNew*(VLOOKUP($A61,FY19ProjRev!$B$4:$L$23,11,FALSE))*VLOOKUP($A61,'FY17ProjMjrs(revised)'!$A$3:$S$22,MATCH(C$27,'FY17ProjMjrs(revised)'!$A$2:$S$2,0),FALSE) -> 0 | D61: =+GPPcntMjrNew*(VLOOKUP($A61,FY19ProjRev!$B$4:$L$23,11,FALSE))*VLOOKUP($A61,'FY17ProjMjrs(revised)'!$A$3:$S$22,MATCH(D$27,'FY17ProjMjrs(revised)'!$A$2:$S$2,0),FALSE) -> 0 | E61: =+GPPcntMjrNew*(VLOOKUP($A61,FY19ProjRev!$B$4:$L$23,11,FALSE))*VLOOKUP($A61,'FY17ProjMjrs(revised)'!$A$3:$S$22,MATCH(E$27,'FY17ProjMjrs(revised)'!$A$2:$S$2,0),FALSE) -> 0 | F61: =+GPPcntMjrNew*(VLOOKUP($A61,FY19ProjRev!$B$4:$L$23,11,FALSE))*VLOOKUP($A61,'FY17ProjMjrs(revised)'!$A$3:$S$22,MATCH(F$27,'FY17ProjMjrs(revised)'!$A$2:$S$2,0),FALSE) -> 0 | G61: =+GPPcntMjrNew*(VLOOKUP($A61,FY19ProjRev!$B$4:$L$23,11,FALSE))*VLOOKUP($A61,'FY17ProjMjrs(revised)'!$A$3:$S$22,MATCH(G$27,'FY17ProjMjrs(revised)'!$A$2:$S$2,0),FALSE) -> 355952.69 | H61: =+GPPcntMjrNew*(VLOOKUP($A61,FY19ProjRev!$B$4:$L$23,11,FALSE))*VLOOKUP($A61,'FY17ProjMjrs(revised)'!$A$3:$S$22,MATCH(H$27,'FY17ProjMjrs(revised)'!$A$2:$S$2,0),FALSE) -> 2373.0179 | I61: =+GPPcntMjrNew*(VLOOKUP($A61,FY19ProjRev!$B$4:$L$23,11,FALSE))*VLOOKUP($A61,'FY17ProjMjrs(revised)'!$A$3:$S$22,MATCH(I$27,'FY17ProjMjrs(revised)'!$A$2:$S$2,0),FALSE) -> 0 | J61: =+GPPcntMjrNew*(VLOOKUP($A61,FY19ProjRev!$B$4:$L$23,11,FALSE))*VLOOKUP($A61,'FY17ProjMjrs(revised)'!$A$3:$S$22,MATCH(J$27,'FY17ProjMjrs(revised)'!$A$2:$S$2,0),FALSE) -> 0 | ... S61: =+GPPcntMjrNew*(VLOOKUP($A61,FY19ProjRev!$B$4:$L$23,11,FALSE))*VLOOKUP($A61,'FY17ProjMjrs(revised)'!$A$3:$S$22,MATCH(S$27,'FY17ProjMjrs(revised)'!$A$2:$S$2,0),FALSE) -> 0 | T61: =SUM(C61:Q61)+R61+S61 -> 389174.94
A62: 33 | B62: MPA | C62: =+GPPcntMjrNew*(VLOOKUP($A62,FY19ProjRev!$B$4:$L$23,11,FALSE))*VLOOKUP($A62,'FY17ProjMjrs(revised)'!$A$3:$S$22,MATCH(C$27,'FY17ProjMjrs(revised)'!$A$2:$S$2,0),FALSE) -> 21071.852 | D62: =+GPPcntMjrNew*(VLOOKUP($A62,FY19ProjRev!$B$4:$L$23,11,FALSE))*VLOOKUP($A62,'FY17ProjMjrs(revised)'!$A$3:$S$22,MATCH(D$27,'FY17ProjMjrs(revised)'!$A$2:$S$2,0),FALSE) -> 23705.833 | E62: =+GPPcntMjrNew*(VLOOKUP($A62,FY19ProjRev!$B$4:$L$23,11,FALSE))*VLOOKUP($A62,'FY17ProjMjrs(revised)'!$A$3:$S$22,MATCH(E$27,'FY17ProjMjrs(revised)'!$A$2:$S$2,0),FALSE) -> 0 | F62: =+GPPcntMjrNew*(VLOOKUP($A62,FY19ProjRev!$B$4:$L$23,11,FALSE))*VLOOKUP($A62,'FY17ProjMjrs(revised)'!$A$3:$S$22,MATCH(F$27,'FY17ProjMjrs(revised)'!$A$2:$S$2,0),FALSE) -> 0 | G62: =+GPPcntMjrNew*(VLOOKUP($A62,FY19ProjRev!$B$4:$L$23,11,FALSE))*VLOOKUP($A62,'FY17ProjMjrs(revised)'!$A$3:$S$22,MATCH(G$27,'FY17ProjMjrs(revised)'!$A$2:$S$2,0),FALSE) -> 0 | H62: =+GPPcntMjrNew*(VLOOKUP($A62,FY19ProjRev!$B$4:$L$23,11,FALSE))*VLOOKUP($A62,'FY17ProjMjrs(revised)'!$A$3:$S$22,MATCH(H$27,'FY17ProjMjrs(revised)'!$A$2:$S$2,0),FALSE) -> 10535.926 | I62: =+GPPcntMjrNew*(VLOOKUP($A62,FY19ProjRev!$B$4:$L$23,11,FALSE))*VLOOKUP($A62,'FY17ProjMjrs(revised)'!$A$3:$S$22,MATCH(I$27,'FY17ProjMjrs(revised)'!$A$2:$S$2,0),FALSE) -> 0 | J62: =+GPPcntMjrNew*(VLOOKUP($A62,FY19ProjRev!$B$4:$L$23,11,FALSE))*VLOOKUP($A62,'FY17ProjMjrs(revised)'!$A$3:$S$22,MATCH(J$27,'FY17ProjMjrs(revised)'!$A$2:$S$2,0),FALSE) -> 0 | ... S62: =+GPPcntMjrNew*(VLOOKUP($A62,FY19ProjRev!$B$4:$L$23,11,FALSE))*VLOOKUP($A62,'FY17ProjMjrs(revised)'!$A$3:$S$22,MATCH(S$27,'FY17ProjMjrs(revised)'!$A$2:$S$2,0),FALSE) -> 0 | T62: =SUM(C62:Q62)+R62+S62 -> 1011448.9
A63: 37 | B63: MBA | C63: =+GPPcntMjrNew*(VLOOKUP($A63,FY19ProjRev!$B$4:$L$23,11,FALSE))*VLOOKUP($A63,'FY17ProjMjrs(revised)'!$A$3:$S$22,MATCH(C$27,'FY17ProjMjrs(revised)'!$A$2:$S$2,0),FALSE) -> 0 | D63: =+GPPcntMjrNew*(VLOOKUP($A63,FY19ProjRev!$B$4:$L$23,11,FALSE))*VLOOKUP($A63,'FY17ProjMjrs(revised)'!$A$3:$S$22,MATCH(D$27,'FY17ProjMjrs(revised)'!$A$2:$S$2,0),FALSE) -> 0 | E63: =+GPPcntMjrNew*(VLOOKUP($A63,FY19ProjRev!$B$4:$L$23,11,FALSE))*VLOOKUP($A63,'FY17ProjMjrs(revised)'!$A$3:$S$22,MATCH(E$27,'FY17ProjMjrs(revised)'!$A$2:$S$2,0),FALSE) -> 1089048.6 | F63: =+GPPcntMjrNew*(VLOOKUP($A63,FY19ProjRev!$B$4:$L$23,11,FALSE))*VLOOKUP($A63,'FY17ProjMjrs(revised)'!$A$3:$S$22,MATCH(F$27,'FY17ProjMjrs(revised)'!$A$2:$S$2,0),FALSE) -> 0 | G63: =+GPPcntMjrNew*(VLOOKUP($A63,FY19ProjRev!$B$4:$L$23,11,FALSE))*VLOOKUP($A63,'FY17ProjMjrs(revised)'!$A$3:$S$22,MATCH(G$27,'FY17ProjMjrs(revised)'!$A$2:$S$2,0),FALSE) -> 4356.1943 | H63: =+GPPcntMjrNew*(VLOOKUP($A63,FY19ProjRev!$B$4:$L$23,11,FALSE))*VLOOKUP($A63,'FY17ProjMjrs(revised)'!$A$3:$S$22,MATCH(H$27,'FY17ProjMjrs(revised)'!$A$2:$S$2,0),FALSE) -> 0 | I63: =+GPPcntMjrNew*(VLOOKUP($A63,FY19ProjRev!$B$4:$L$23,11,FALSE))*VLOOKUP($A63,'FY17ProjMjrs(revised)'!$A$3:$S$22,MATCH(I$27,'FY17ProjMjrs(revised)'!$A$2:$S$2,0),FALSE) -> 0 | J63: =+GPPcntMjrNew*(VLOOKUP($A63,FY19ProjRev!$B$4:$L$23,11,FALSE))*VLOOKUP($A63,'FY17ProjMjrs(revised)'!$A$3:$S$22,MATCH(J$27,'FY17ProjMjrs(revised)'!$A$2:$S$2,0),FALSE) -> 21780.971 | ... S63: =+GPPcntMjrNew*(VLOOKUP($A63,FY19ProjRev!$B$4:$L$23,11,FALSE))*VLOOKUP($A63,'FY17ProjMjrs(revised)'!$A$3:$S$22,MATCH(S$27,'FY17ProjMjrs(revised)'!$A$2:$S$2,0),FALSE) -> 0 | T63: =SUM(C63:Q63)+R63+S63 -> 1132610.5
... A70: 53 | B70: Graduate Dentistry | C70: =+GPPcntMjrNew*(VLOOKUP($A70,FY19ProjRev!$B$4:$L$23,11,FALSE))*VLOOKUP($A70,'FY17ProjMjrs(revised)'!$A$3:$S$22,MATCH(C$27,'FY17ProjMjrs(revised)'!$A$2:$S$2,0),FALSE) -> 0 | D70: =+GPPcntMjrNew*(VLOOKUP($A70,FY19ProjRev!$B$4:$L$23,11,FALSE))*VLOOKUP($A70,'FY17ProjMjrs(revised)'!$A$3:$S$22,MATCH(D$27,'FY17ProjMjrs(revised)'!$A$2:$S$2,0),FALSE) -> 0 | E70: =+GPPcntMjrNew*(VLOOKUP($A70,FY19ProjRev!$B$4:$L$23,11,FALSE))*VLOOKUP($A70,'FY17ProjMjrs(revised)'!$A$3:$S$22,MATCH(E$27,'FY17ProjMjrs(revised)'!$A$2:$S$2,0),FALSE) -> 0 | F70: =+GPPcntMjrNew*(VLOOKUP($A70,FY19ProjRev!$B$4:$L$23,11,FALSE))*VLOOKUP($A70,'FY17ProjMjrs(revised)'!$A$3:$S$22,MATCH(F$27,'FY17ProjMjrs(revised)'!$A$2:$S$2,0),FALSE) -> 0 | G70: =+GPPcntMjrNew*(VLOOKUP($A70,FY19ProjRev!$B$4:$L$23,11,FALSE))*VLOOKUP($A70,'FY17ProjMjrs(revised)'!$A$3:$S$22,MATCH(G$27,'FY17ProjMjrs(revised)'!$A$2:$S$2,0),FALSE) -> 0 | H70: =+GPPcntMjrNew*(VLOOKUP($A70,FY19ProjRev!$B$4:$L$23,11,FALSE))*VLOOKUP($A70,'FY17ProjMjrs(revised)'!$A$3:$S$22,MATCH(H$27,'FY17ProjMjrs(revised)'!$A$2:$S$2,0),FALSE) -> 0 | I70: =+GPPcntMjrNew*(VLOOKUP($A70,FY19ProjRev!$B$4:$L$23,11,FALSE))*VLOOKUP($A70,'FY17ProjMjrs(revised)'!$A$3:$S$22,MATCH(I$27,'FY17ProjMjrs(revised)'!$A$2:$S$2,0),FALSE) -> 0 | J70: =+GPPcntMjrNew*(VLOOKUP($A70,FY19ProjRev!$B$4:$L$23,11,FALSE))*VLOOKUP($A70,'FY17ProjMjrs(revised)'!$A$3:$S$22,MATCH(J$27,'FY17ProjMjrs(revised)'!$A$2:$S$2,0),FALSE) -> 0 | ... S70: =+GPPcntMjrNew*(VLOOKUP($A70,FY19ProjRev!$B$4:$L$23,11,FALSE))*VLOOKUP($A70,'FY17ProjMjrs(revised)'!$A$3:$S$22,MATCH(S$27,'FY17ProjMjrs(revised)'!$A$2:$S$2,0),FALSE) -> 0 | T70: =SUM(C70:Q70)+R70+S70 -> 240250.49
B71: Total | C71: =SUM(C51:C70) -> 1845312.3 | D71: =SUM(D51:D70) -> 35887424 | E71: =SUM(E51:E70) -> 6964815.2 | F71: =SUM(F51:F70) -> 1952942.3 | G71: =SUM(G51:G70) -> 8213372.4 | H71: =SUM(H51:H70) -> 2551098.1 | I71: =SUM(I51:I70) -> 902329.98 | J71: =SUM(J51:J70) -> 2316518.4 | ... S71: =SUM(S51:S70) -> 303637.54 | T71: =SUM(C71:Q71)+R71+S71 -> 75700863

Sheet FY19ProjRev
C1: FY19 Projected Tuition (Net Operating Fee) Revenue by Tuition Group
C2: Tuition Group | D2: HC | E2: FTE | F2: NetOp | G2: UWT UWB Adjustment | H2: Add'l Aid | I2: NR Aid | J2: Net Op After Add'l Aid | K2: After Subtraction of Risk Pool | L2: 70% of Total
K3: 0.01
A4: 0 | B4: 1 | C4: Undergraduate | D4: =SUMIFS(FY19Calculations!$I$3:$I$120,FY19Calculations!$A$3:$A$120,$A4,FY19Calculations!$B$3:$B$120,$B4) -> 28226 | E4: =SUMIFS(FY19Calculations!$H$3:$H$120,FY19Calculations!$A$3:$A$120,$A4,FY19Calculations!$B$3:$B$120,$B4) -> 27213 | F4: =SUMIFS(FY19Calculations!$R$3:$R$120,FY19Calculations!$A$3:$A$120,$A4,FY19Calculations!$B$3:$B$120,$B4) -> 419171181 | H4: =FY18ProjRev!H4*(TuitionRates!S4)*(1+HeadcountChgs!K3) -> 16520878 | I4: 9000000 | J4: =+F4-H4-I4 -> 3.936503e+08 | K4: =+(1-$K$3)*J4 -> 3.897138e+08 | L4: =+K4*0.7 -> 2.7279966e+08 | P4: =+E4-#REF! -> #REF!
A5: 0 | B5: 3 | C5: Graduate Tier I | D5: =SUMIFS(FY19Calculations!$I$3:$I$120,FY19Calculations!$A$3:$A$120,$A5,FY19Calculations!$B$3:$B$120,$B5) -> 2793 | E5: =SUMIFS(FY19Calculations!$H$3:$H$120,FY19Calculations!$A$3:$A$120,$A5,FY19Calculations!$B$3:$B$120,$B5) -> 3008 | F5: =SUMIFS(FY19Calculations!$R$3:$R$120,FY19Calculations!$A$3:$A$120,$A5,FY19Calculations!$B$3:$B$120,$B5) -> 21092756 | J5: =+F5-H5-I5 -> 21092756 | K5: =+(1-$K$3)*J5 -> 20881828 | L5: =+K5*0.7 -> 14617280 | P5: =+E5-#REF! -> #REF!
A6: 0 | B6: 5 | C6: Graduate Tier II | D6: =SUMIFS(FY19Calculations!$I$3:$I$120,FY19Calculations!$A$3:$A$120,$A6,FY19Calculations!$B$3:$B$120,$B6) -> 148 | E6: =SUMIFS(FY19Calculations!$H$3:$H$120,FY19Calculations!$A$3:$A$120,$A6,FY19Calculations!$B$3:$B$120,$B6) -> 180 | F6: =SUMIFS(FY19Calculations!$R$3:$R$120,FY19Calculations!$A$3:$A$120,$A6,FY19Calculations!$B$3:$B$120,$B6) -> 2317925 | J6: =+F6-H6-I6 -> 2317925 | K6: =+(1-$K$3)*J6 -> 2294745.8 | L6: =+K6*0.7 -> 1606322 | P6: =+E6-#REF! -> #REF!
A7: 0 | B7: 7 | C7: Graduate Tier III | D7: =SUMIFS(FY19Calculations!$I$3:$I$120,FY19Calculations!$A$3:$A$120,$A7,FY19Calculations!$B$3:$B$120,$B7) -> 1194 | E7: =SUMIFS(FY19Calculations!$H$3:$H$120,FY19Calculations!$A$3:$A$120,$A7,FY19Calculations!$B$3:$B$120,$B7) -> 1276 | F7: =SUMIFS(FY19Calculations!$R$3:$R$120,FY19Calculations!$A$3:$A$120,$A7,FY19Calculations!$B$3:$B$120,$B7) -> 13642287 | J7: =+F7-H7-I7 -> 13642287 | K7: =+(1-$K$3)*J7 -> 13505864 | L7: =+K7*0.7 -> 9454104.9 | P7: =+E7-#REF! -> #REF!
A8: 0 | B8: 9 | C8: Coll Environ Graduate | D8: =SUMIFS(FY19Calculations!$I$3:$I$120,FY19Calculations!$A$3:$A$120,$A8,FY19Calculations!$B$3:$B$120,$B8) -> 448 | E8: =SUMIFS(FY19Calculations!$H$3:$H$120,FY19Calculations!$A$3:$A$120,$A8,FY19Calculations!$B$3:$B$120,$B8) -> 524 | F8: =SUMIFS(FY19Calculations!$R$3:$R$120,FY19Calculations!$A$3:$A$120,$A8,FY19Calculations!$B$3:$B$120,$B8) -> 4981565 | J8: =+F8-H8-I8 -> 4981565 | K8: =+(1-$K$3)*J8 -> 4931749.3 | L8: =+K8*0.7 -> 3452224.5 | P8: =+E8-#REF! -> #REF!
A9: 0 | B9: 11 | C9: Education Graduate | D9: =SUMIFS(FY19Calculations!$I$3:$I$120,FY19Calculations!$A$3:$A$120,$A9,FY19Calculations!$B$3:$B$120,$B9) -> 555 | E9: =SUMIFS(FY19Calculations!$H$3:$H$120,FY19Calculations!$A$3:$A$120,$A9,FY19Calculations!$B$3:$B$120,$B9) -> 641 | F9: =SUMIFS(FY19Calculations!$R$3:$R$120,FY19Calculations!$A$3:$A$120,$A9,FY19Calculations!$B$3:$B$120,$B9) -> 7330374 | J9: =+F9-H9-I9 -> 7330374 | K9: =+(1-$K$3)*J9 -> 7257070.3 | L9: =+K9*0.7 -> 5079949.2 | P9: =+E9-#REF! -> #REF!
A10: 0 | B10: 17 | C10: MSW | D10: =SUMIFS(FY19Calculations!$I$3:$I$120,FY19Calculations!$A$3:$A$120,$A10,FY19Calculations!$B$3:$B$120,$B10) -> 248 | E10: =SUMIFS(FY19Calculations!$H$3:$H$120,FY19Calculations!$A$3:$A$120,$A10,FY19Calculations!$B$3:$B$120,$B10) -> 296 | F10: =SUMIFS(FY19Calculations!$R$3:$R$120,FY19Calculations!$A$3:$A$120,$A10,FY19Calculations!$B$3:$B$120,$B10) -> 4661023 | J10: =+F10-H10-I10 -> 4661023 | K10: =+(1-$K$3)*J10 -> 4614412.8 | L10: =+K10*0.7 -> 3230088.9 | P10: =+E10-#REF! -> #REF!
A11: 0 | B11: 19 | C11: Public Health Graduate | D11: =SUMIFS(FY19Calculations!$I$3:$I$120,FY19Calculations!$A$3:$A$120,$A11,FY19Calculations!$B$3:$B$120,$B11) -> 290 | E11: =SUMIFS(FY19Calculations!$H$3:$H$120,FY19Calculations!$A$3:$A$120,$A11,FY19Calculations!$B$3:$B$120,$B11) -> 300 | F11: =SUMIFS(FY19Calculations!$R$3:$R$120,FY19Calculations!$A$3:$A$120,$A11,FY19Calculations!$B$3:$B$120,$B11) -> 3964557 | J11: =+F11-H11-I11 -> 3964557 | K11: =+(1-$K$3)*J11 -> 3924911.4 | L11: =+K11*0.7 -> 2747438 | P11: =+E11-#REF! -> #REF!
A12: 0 | B12: 21 | C12: MPH | D12: =SUMIFS(FY19Calculations!$I$3:$I$120,FY19Calculations!$A$3:$A$120,$A12,FY19Calculations!$B$3:$B$120,$B12) -> 220 | E12: =SUMIFS(FY19Calculations!$H$3:$H$120,FY19Calculations!$A$3:$A$120,$A12,FY19Calculations!$B$3:$B$120,$B12) -> 259 | F12: =SUMIFS(FY19Calculations!$R$3:$R$120,FY19Calculations!$A$3:$A$120,$A12,FY19Calculations!$B$3:$B$120,$B12) -> 3550653 | J12: =+F12-H12-I12 -> 3550653 | K12: =+(1-$K$3)*J12 -> 3515146.5 | L12: =+K12*0.7 -> 2460602.5 | P12: =+E12-#REF! -> #REF!
A13: 0 | B13: 25 | C13: CBE Masters | D13: =SUMIFS(FY19Calculations!$I$3:$I$120,FY19Calculations!$A$3:$A$120,$A13,FY19Calculations!$B$3:$B$120,$B13) -> 359 | E13: =SUMIFS(FY19Calculations!$H$3:$H$120,FY19Calculations!$A$3:$A$120,$A13,FY19Calculations!$B$3:$B$120,$B13) -> 426 | F13: =SUMIFS(FY19Calculations!$R$3:$R$120,FY19Calculations!$A$3:$A$120,$A13,FY19Calculations!$B$3:$B$120,$B13) -> 7364099 | J13: =+F13-H13-I13 -> 7364099 | K13: =+(1-$K$3)*J13 -> 7290458 | L13: =+K13*0.7 -> 5103320.6 | P13: =+E13-#REF! -> #REF!
A14: 0 | B14: 27 | C14: Engineering Masters | D14: =SUMIFS(FY19Calculations!$I$3:$I$120,FY19Calculations!$A$3:$A$120,$A14,FY19Calculations!$B$3:$B$120,$B14) -> 146 | E14: =SUMIFS(FY19Calculations!$H$3:$H$120,FY19Calculations!$A$3:$A$120,$A14,FY19Calculations!$B$3:$B$120,$B14) -> 108 | F14: =SUMIFS(FY19Calculations!$R$3:$R$120,FY19Calculations!$A$3:$A$120,$A14,FY19Calculations!$B$3:$B$120,$B14) -> 2807900 | J14: =+F14-H14-I14 -> 2807900 | K14: =+(1-$K$3)*J14 -> 2779821 | L14: =+K14*0.7 -> 1945874.7 | P14: =+E14-#REF! -> #REF!
A15: 0 | B15: 33 | C15: MPA | D15: =SUMIFS(FY19Calculations!$I$3:$I$120,FY19Calculations!$A$3:$A$120,$A15,FY19Calculations!$B$3:$B$120,$B15) -> 340 | E15: =SUMIFS(FY19Calculations!$H$3:$H$120,FY19Calculations!$A$3:$A$120,$A15,FY19Calculations!$B$3:$B$120,$B15) -> 435 | F15: =SUMIFS(FY19Calculations!$R$3:$R$120,FY19Calculations!$A$3:$A$120,$A15,FY19Calculations!$B$3:$B$120,$B15) -> 7297611 | J15: =+F15-H15-I15 -> 7297611 | K15: =+(1-$K$3)*J15 -> 7224634.9 | L15: =+K15*0.7 -> 5057244.4 | P15: =+E15-#REF! -> #REF!
A16: 0 | B16: 37 | C16: MBA | D16: =SUMIFS(FY19Calculations!$I$3:$I$120,FY19Calculations!$A$3:$A$120,$A16,FY19Calculations!$B$3:$B$120,$B16) -> 255 | E16: =SUMIFS(FY19Calculations!$H$3:$H$120,FY19Calculations!$A$3:$A$120,$A16,FY19Calculations!$B$3:$B$120,$B16) -> 387 | F16: =SUMIFS(FY19Calculations!$R$3:$R$120,FY19Calculations!$A$3:$A$120,$A16,FY19Calculations!$B$3:$B$120,$B16) -> 8171793 | J16: =+F16-H16-I16 -> 8171793 | K16: =+(1-$K$3)*J16 -> 8090075.1 | L16: =+K16*0.7 -> 5663052.5 | P16: =+E16-#REF! -> #REF!
... A22: 0 | B22: 51 | C22: Dentistry (DDS) | D22: =SUMIFS(FY19Calculations!$I$3:$I$120,FY19Calculations!$A$3:$A$120,$A22,FY19Calculations!$B$3:$B$120,$B22) -> 240 | E22: =SUMIFS(FY19Calculations!$H$3:$H$120,FY19Calculations!$A$3:$A$120,$A22,FY19Calculations!$B$3:$B$120,$B22) -> 531 | F22: =SUMIFS(FY19Calculations!$R$3:$R$120,FY19Calculations!$A$3:$A$120,$A22,FY19Calculations!$B$3:$B$120,$B22) -> 9946577 | J22: =+F22-H22-I22 -> 9946577 | K22: =+(1-$K$3)*J22 -> 9847111.2 | L22: =+K22*0.7 -> 6892977.9 | P22: =+E22-#REF! -> #REF!
A23: 0 | B23: 53 | C23: Dentistry Graduate | D23: =SUMIFS(FY19Calculations!$I$3:$I$120,FY19Calculations!$A$3:$A$120,$A23,FY19Calculations!$B$3:$B$120,$B23) -> 79 | E23: =SUMIFS(FY19Calculations!$H$3:$H$120,FY19Calculations!$A$3:$A$120,$A23,FY19Calculations!$B$3:$B$120,$B23) -> 96 | F23: =SUMIFS(FY19Calculations!$R$3:$R$120,FY19Calculations!$A$3:$A$120,$A23,FY19Calculations!$B$3:$B$120,$B23) -> 1733409 | J23: =+F23-H23-I23 -> 1733409 | K23: =+(1-$K$3)*J23 -> 1716074.9 | L23: =+K23*0.7 -> 1201252.4 | M23: 30% Tax | P23: =+E23-#REF! -> #REF!
C24: UW Seattle Total | D24: =SUM(D4:D23) -> 37463 | E24: =SUM(E4:E23) -> 37278 | F24: =SUM(F4:F23) -> 571703154 | H24: =SUM(H4:H23) -> 16520878 | I24: =SUM(I4:I23) -> 9000000 | J24: =SUM(J4:J23) -> 5.4618228e+08 | K24: =SUM(K4:K23) -> 5.4072045e+08 | L24: =SUM(L4:L23) -> 3.7850432e+08 | M24: =+K24-L24 -> 1.6221614e+08 | P24: =+E24-#REF! -> #REF!
A25: 1 | B25: 0 | C25: UW Bothell | D25: =SUMIFS(FY19Calculations!$I$3:$I$120,FY19Calculations!$A$3:$A$120,$A25,FY19Calculations!$B$3:$B$120,$B25) -> 5316 | E25: =SUMIFS(FY19Calculations!$H$3:$H$120,FY19Calculations!$A$3:$A$120,$A25,FY19Calculations!$B$3:$B$120,$B25) -> 5027 | F25: =SUMIFS(FY19Calculations!$R$3:$R$120,FY19Calculations!$A$3:$A$120,$A25,FY19Calculations!$B$3:$B$120,$B25) -> 60331426 | H25: =FY18ProjRev!H25*(1+HeadcountChgs!K85)*TuitionRates!S4 -> 2983586.8 | J25: =+F25-H25-I25+G25 -> 57347839 | K25: =+(1-$K$3)*J25 -> 56774361 | P25: =+E25-#REF! -> #REF!
A26: 2 | B26: 0 | C26: UW Tacoma | D26: =SUMIFS(FY19Calculations!$I$3:$I$120,FY19Calculations!$A$3:$A$120,$A26,FY19Calculations!$B$3:$B$120,$B26) -> 4819 | E26: =SUMIFS(FY19Calculations!$H$3:$H$120,FY19Calculations!$A$3:$A$120,$A26,FY19Calculations!$B$3:$B$120,$B26) -> 4449 | F26: =SUMIFS(FY19Calculations!$R$3:$R$120,FY19Calculations!$A$3:$A$120,$A26,FY19Calculations!$B$3:$B$120,$B26) -> 48901325 | H26: =FY18ProjRev!H26*(1+HeadcountChgs!K86)*TuitionRates!S5 -> 2676061.9 | J26: =+F26-H26-I26+G26 -> 46225263 | K26: =+(1-$K$3)*J26 -> 45763011 | P26: =+E26-#REF! -> #REF!
C27: UW Total | D27: =SUM(D24:D26) -> 47598 | E27: =SUM(E24:E26) -> 46754 | F27: =SUM(F24:F26) -> 680935905 | H27: =SUM(H24:H26) -> 22180527 | I27: =SUM(I24:I26) -> 9000000 | J27: =SUM(J24:J26) -> 6.4975538e+08 | K27: =SUM(K24:K26) -> 6.4325782e+08 | P27: =+E27-#REF! -> #REF!
K30: ICA | L30: 3905334.9
B32: By TG by Campus

Sheet FY19Calculations
L1: 0.04 | Q1: 0.05
A2: TuitionCampus | B2: OldTG | C2: TuitionGroupName | D2: TuitionCategory | E2: TuitionCategoryName | F2: TuitionResidency | G2: TuitionResidencyName | H2: FTE | I2: Headcount | J2: GrossOp | K2: GrossROp | L2: NMOp | M2: OGWvr | N2: ORWvr | O2: ONWvr | P2: Owvr | Q2: SetAside | R2: NetOp | T2: S | U2: B | V2: T | W2: S | X2: B | Y2: T
A3: 0 | B3: 1 | C3: Undergraduate | D3: 1 | E3: Undergraduate | F3: 1 | G3: Resident | H3: =ROUND(FY18Calculations!H3*(1+HeadcountChgs!$K3),0) -> 19014 | I3: =ROUND(FY18Calculations!I3*(1+HeadcountChgs!$K3),0) -> 19952 | J3: =+ROUND(FY18Calculations!J3*(1+HeadcountChgs!$K3)*(TuitionRates!S4),0) -> 185426458 | K3: =+ROUND(FY18Calculations!K3*(1+HeadcountChgs!$K3)*(TuitionRates!T4),0) -> 185426458 | L3: =ROUND($L$1*K3,0) -> 7417058 | M3: =+ROUND(FY18Calculations!M3*TuitionRates!S4*(1+HeadcountChgs!$K3),0) -> 0 | N3: =+ROUND(FY18Calculations!N3*TuitionRates!T4*(1+HeadcountChgs!$K3),0) -> 910878 | O3: =+ROUND(FY18Calculations!O3*TuitionRates!U4*(1+HeadcountChgs!$K3),0) -> 0 | P3: =+M3+N3+O3 -> 910878 | Q3: =ROUND($Q$1*(J3-L3-P3),0) -> 8854926 | R3: =+J3-L3-P3-Q3 -> 168243596 | T3: 1 | U3: 0 | V3: 0 | W3: =+$R3*T3 -> 168243596 | X3: =+$R3*U3 -> 0 | Y3: =+$R3*V3 -> 0
A4: 0 | B4: 1 | C4: Undergraduate | D4: 1 | E4: Undergraduate | F4: 2 | G4: Nonresident | H4: =ROUND(FY18Calculations!H4*(1+HeadcountChgs!$K4),0) -> 8067 | I4: =ROUND(FY18Calculations!I4*(1+HeadcountChgs!$K4),0) -> 8080 | J4: =+ROUND(FY18Calculations!J4*(1+HeadcountChgs!$K4)*(TuitionRates!S5),0) -> 265719752 | K4: =+ROUND(FY18Calculations!K4*(1+HeadcountChgs!$K4)*(TuitionRates!T5),0) -> 75482096 | L4: =ROUND($L$1*K4,0) -> 3019284 | M4: =+ROUND(FY18Calculations!M4*TuitionRates!S5*(1+HeadcountChgs!$K4),0) -> 0 | N4: =+ROUND(FY18Calculations!N4*TuitionRates!T5*(1+HeadcountChgs!$K4),0) -> 0 | O4: =+ROUND(FY18Calculations!O4*TuitionRates!U5*(1+HeadcountChgs!$K4),0) -> 60155 | P4: =+M4+N4+O4 -> 60155 | Q4: =ROUND($Q$1*(J4-L4-P4),0) -> 13132016 | R4: =+J4-L4-P4-Q4 -> 249508297 | T4: 1 | U4: 0 | V4: 0 | W4: =+$R4*T4 -> 249508297 | X4: =+$R4*U4 -> 0 | Y4: =+$R4*V4 -> 0
A5: 0 | B5: 1 | C5: Undergraduate | D5: 3 | E5: Undergraduate Post-Bacc / Non-Matric | F5: 1 | G5: Resident | H5: =ROUND(FY18Calculations!H5*(1+HeadcountChgs!$K5),0) -> 125 | I5: =ROUND(FY18Calculations!I5*(1+HeadcountChgs!$K5),0) -> 186 | J5: =+ROUND(FY18Calculations!J5*(1+HeadcountChgs!$K5)*(TuitionRates!S6),0) -> 1294222 | K5: =+ROUND(FY18Calculations!K5*(1+HeadcountChgs!$K5)*(TuitionRates!T6),0) -> 1294222 | L5: =ROUND($L$1*K5,0) -> 51769 | M5: =+ROUND(FY18Calculations!M5*TuitionRates!S6*(1+HeadcountChgs!$K5),0) -> 0 | N5: =+ROUND(FY18Calculations!N5*TuitionRates!T6*(1+HeadcountChgs!$K5),0) -> 0 | O5: =+ROUND(FY18Calculations!O5*TuitionRates!U6*(1+HeadcountChgs!$K5),0) -> 0 | P5: =+M5+N5+O5 -> 0 | Q5: =ROUND($Q$1*(J5-L5-P5),0) -> 62123 | R5: =+J5-L5-P5-Q5 -> 1180330 | T5: 1 | U5: 0 | V5: 0 | W5: =+$R5*T5 -> 1180330 | X5: =+$R5*U5 -> 0 | Y5: =+$R5*V5 -> 0
A6: 0 | B6: 1 | C6: Undergraduate | D6: 3 | E6: Undergraduate Post-Bacc / Non-Matric | F6: 2 | G6: Nonresident | H6: =ROUND(FY18Calculations!H6*(1+HeadcountChgs!$K6),0) -> 7 | I6: =ROUND(FY18Calculations!I6*(1+HeadcountChgs!$K6),0) -> 8 | J6: =+ROUND(FY18Calculations!J6*(1+HeadcountChgs!$K6)*(TuitionRates!S7),0) -> 254426 | K6: =+ROUND(FY18Calculations!K6*(1+HeadcountChgs!$K6)*(TuitionRates!T7),0) -> 72271 | L6: =ROUND($L$1*K6,0) -> 2891 | M6: =+ROUND(FY18Calculations!M6*TuitionRates!S7*(1+HeadcountChgs!$K6),0) -> 0 | N6: =+ROUND(FY18Calculations!N6*TuitionRates!T7*(1+HeadcountChgs!$K6),0) -> 0 | O6: =+ROUND(FY18Calculations!O6*TuitionRates!U7*(1+HeadcountChgs!$K6),0) -> 0 | P6: =+M6+N6+O6 -> 0 | Q6: =ROUND($Q$1*(J6-L6-P6),0) -> 12577 | R6: =+J6-L6-P6-Q6 -> 238958 | T6: 1 | U6: 0 | V6: 0 | W6: =+$R6*T6 -> 238958 | X6: =+$R6*U6 -> 0 | Y6: =+$R6*V6 -> 0
A7: 0 | B7: 3 | C7: Graduate Tier I | D7: 5 | E7: Graduate Tier I | F7: 1 | G7: Resident | H7: =ROUND(FY18Calculations!H7*(1+HeadcountChgs!$K7),0) -> 822 | I7: =ROUND(FY18Calculations!I7*(1+HeadcountChgs!$K7),0) -> 802 | J7: =+ROUND(FY18Calculations!J7*(1+HeadcountChgs!$K7)*(TuitionRates!S8),0) -> 11562546 | K7: =+ROUND(FY18Calculations!K7*(1+HeadcountChgs!$K7)*(TuitionRates!T8),0) -> 11562546 | L7: =ROUND($L$1*K7,0) -> 462502 | M7: =+ROUND(FY18Calculations!M7*TuitionRates!S8*(1+HeadcountChgs!$K7),0) -> 0 | N7: =+ROUND(FY18Calculations!N7*TuitionRates!T8*(1+HeadcountChgs!$K7),0) -> 4109370 | O7: =+ROUND(FY18Calculations!O7*TuitionRates!U8*(1+HeadcountChgs!$K7),0) -> 0 | P7: =+M7+N7+O7 -> 4109370 | Q7: =ROUND($Q$1*(J7-L7-P7),0) -> 349534 | R7: =+J7-L7-P7-Q7 -> 6641140 | T7: 1 | U7: 0 | V7: 0 | W7: =+$R7*T7 -> 6641140 | X7: =+$R7*U7 -> 0 | Y7: =+$R7*V7 -> 0
A8: 0 | B8: 3 | C8: Graduate Tier I | D8: 5 | E8: Graduate Tier I | F8: 2 | G8: Nonresident | H8: =ROUND(FY18Calculations!H8*(1+HeadcountChgs!$K8),0) -> 2186 | I8: =ROUND(FY18Calculations!I8*(1+HeadcountChgs!$K8),0) -> 1991 | J8: =+ROUND(FY18Calculations!J8*(1+HeadcountChgs!$K8)*(TuitionRates!S9),0) -> 52928734 | K8: =+ROUND(FY18Calculations!K8*(1+HeadcountChgs!$K8)*(TuitionRates!T9),0) -> 29688619 | L8: =ROUND($L$1*K8,0) -> 1187545 | M8: =+ROUND(FY18Calculations!M8*TuitionRates!S9*(1+HeadcountChgs!$K8),0) -> 0 | N8: =+ROUND(FY18Calculations!N8*TuitionRates!T9*(1+HeadcountChgs!$K8),0) -> 14755040 | O8: =+ROUND(FY18Calculations!O8*TuitionRates!U9*(1+HeadcountChgs!$K8),0) -> 21773922 | P8: =+M8+N8+O8 -> 36528962 | Q8: =ROUND($Q$1*(J8-L8-P8),0) -> 760611 | R8: =+J8-L8-P8-Q8 -> 14451616 | T8: 1 | U8: 0 | V8: 0 | W8: =+$R8*T8 -> 14451616 | X8: =+$R8*U8 -> 0 | Y8: =+$R8*V8 -> 0
A9: 0 | B9: 5 | C9: Graduate Tier II | D9: 7 | E9: Graduate Tier II | F9: 1 | G9: Resident | H9: =ROUND(FY18Calculations!H9*(1+HeadcountChgs!$K9),0) -> 77 | I9: =ROUND(FY18Calculations!I9*(1+HeadcountChgs!$K9),0) -> 65 | J9: =+ROUND(FY18Calculations!J9*(1+HeadcountChgs!$K9)*(TuitionRates!S10),0) -> 949901 | K9: =+ROUND(FY18Calculations!K9*(1+HeadcountChgs!$K9)*(TuitionRates!T10),0) -> 949901 | L9: =ROUND($L$1*K9,0) -> 37996 | M9: =+ROUND(FY18Calculations!M9*TuitionRates!S10*(1+HeadcountChgs!$K9),0) -> 0 | N9: =+ROUND(FY18Calculations!N9*TuitionRates!T10*(1+HeadcountChgs!$K9),0) -> 75467 | O9: =+ROUND(FY18Calculations!O9*TuitionRates!U10*(1+HeadcountChgs!$K9),0) -> 0 | P9: =+M9+N9+O9 -> 75467 | Q9: =ROUND($Q$1*(J9-L9-P9),0) -> 41822 | R9: =+J9-L9-P9-Q9 -> 794616 | T9: 1 | U9: 0 | V9: 0 | W9: =+$R9*T9 -> 794616 | X9: =+$R9*U9 -> 0 | Y9: =+$R9*V9 -> 0
A10: 0 | B10: 5 | C10: Graduate Tier II | D10: 7 | E10: Graduate Tier II | F10: 2 | G10: Nonresident | H10: =ROUND(FY18Calculations!H10*(1+HeadcountChgs!$K10),0) -> 103 | I10: =ROUND(FY18Calculations!I10*(1+HeadcountChgs!$K10),0) -> 83 | J10: =+ROUND(FY18Calculations!J10*(1+HeadcountChgs!$K10)*(TuitionRates!S11),0) -> 2224191 | K10: =+ROUND(FY18Calculations!K10*(1+HeadcountChgs!$K10)*(TuitionRates!T11),0) -> 1252484 | L10: =ROUND($L$1*K10,0) -> 50099 | M10: =+ROUND(FY18Calculations!M10*TuitionRates!S11*(1+HeadcountChgs!$K10),0) -> 0 | N10: =+ROUND(FY18Calculations!N10*TuitionRates!T11*(1+HeadcountChgs!$K10),0) -> 200095 | O10: =+ROUND(FY18Calculations!O10*TuitionRates!U11*(1+HeadcountChgs!$K10),0) -> 370514 | P10: =+M10+N10+O10 -> 570609 | Q10: =ROUND($Q$1*(J10-L10-P10),0) -> 80174 | R10: =+J10-L10-P10-Q10 -> 1523309 | T10: 1 | U10: 0 | V10: 0 | W10: =+$R10*T10 -> 1523309 | X10: =+$R10*U10 -> 0 | Y10: =+$R10*V10 -> 0
A11: 0 | B11: 7 | C11: Graduate Tier III | D11: 9 | E11: Graduate Tier III | F11: 1 | G11: Resident | H11: =ROUND(FY18Calculations!H11*(1+HeadcountChgs!$K11),0) -> 259 | I11: =ROUND(FY18Calculations!I11*(1+HeadcountChgs!$K11),0) -> 269 | J11: =+ROUND(FY18Calculations!J11*(1+HeadcountChgs!$K11)*(TuitionRates!S12),0) -> 4054196 | K11: =+ROUND(FY18Calculations!K11*(1+HeadcountChgs!$K11)*(TuitionRates!T12),0) -> 4054196 | L11: =ROUND($L$1*K11,0) -> 162168 | M11: =+ROUND(FY18Calculations!M11*TuitionRates!S12*(1+HeadcountChgs!$K11),0) -> 0 | N11: =+ROUND(FY18Calculations!N11*TuitionRates!T12*(1+HeadcountChgs!$K11),0) -> 1042587 | O11: =+ROUND(FY18Calculations!O11*TuitionRates!U12*(1+HeadcountChgs!$K11),0) -> 0 | P11: =+M11+N11+O11 -> 1042587 | Q11: =ROUND($Q$1*(J11-L11-P11),0) -> 142472 | R11: =+J11-L11-P11-Q11 -> 2706969 | T11: 1 | U11: 0 | V11: 0 | W11: =+$R11*T11 -> 2706969 | X11: =+$R11*U11 -> 0 | Y11: =+$R11*V11 -> 0
A12: 0 | B12: 7 | C12: Graduate Tier III | D12: 9 | E12: Graduate Tier III | F12: 2 | G12: Nonresident | H12: =ROUND(FY18Calculations!H12*(1+HeadcountChgs!$K12),0) -> 1001 | I12: =ROUND(FY18Calculations!I12*(1+HeadcountChgs!$K12),0) -> 897 | J12: =+ROUND(FY18Calculations!J12*(1+HeadcountChgs!$K12)*(TuitionRates!S13),0) -> 26268736 | K12: =+ROUND(FY18Calculations!K12*(1+HeadcountChgs!$K12)*(TuitionRates!T13),0) -> 14813696 | L12: =ROUND($L$1*K12,0) -> 592548 | M12: =+ROUND(FY18Calculations!M12*TuitionRates!S13*(1+HeadcountChgs!$K12),0) -> 0 | N12: =+ROUND(FY18Calculations!N12*TuitionRates!T13*(1+HeadcountChgs!$K12),0) -> 4037567 | O12: =+ROUND(FY18Calculations!O12*TuitionRates!U13*(1+HeadcountChgs!$K12),0) -> 10369095 | P12: =+M12+N12+O12 -> 14406662 | Q12: =ROUND($Q$1*(J12-L12-P12),0) -> 563476 | R12: =+J12-L12-P12-Q12 -> 10706050 | T12: 1 | U12: 0 | V12: 0 | W12: =+$R12*T12 -> 10706050 | X12: =+$R12*U12 -> 0 | Y12: =+$R12*V12 -> 0
A13: 0 | B13: 7 | C13: Graduate Tier III | D13: 11 | E13: Graduate Post-Bacc / Non-Matric | F13: 1 | G13: Resident | H13: =ROUND(FY18Calculations!H13*(1+HeadcountChgs!$K13),0) -> 16 | I13: =ROUND(FY18Calculations!I13*(1+HeadcountChgs!$K13),0) -> 25 | J13: =+ROUND(FY18Calculations!J13*(1+HeadcountChgs!$K13)*(TuitionRates!S14),0) -> 265732 | K13: =+ROUND(FY18Calculations!K13*(1+HeadcountChgs!$K13)*(TuitionRates!T14),0) -> 265732 | L13: =ROUND($L$1*K13,0) -> 10629 | M13: =+ROUND(FY18Calculations!M13*TuitionRates!S14*(1+HeadcountChgs!$K13),0) -> 0 | N13: =+ROUND(FY18Calculations!N13*TuitionRates!T14*(1+HeadcountChgs!$K13),0) -> 0 | O13: =+ROUND(FY18Calculations!O13*TuitionRates!U14*(1+HeadcountChgs!$K13),0) -> 0 | P13: =+M13+N13+O13 -> 0 | Q13: =ROUND($Q$1*(J13-L13-P13),0) -> 12755 | R13: =+J13-L13-P13-Q13 -> 242348 | T13: 1 | U13: 0 | V13: 0 | W13: =+$R13*T13 -> 242348 | X13: =+$R13*U13 -> 0 | Y13: =+$R13*V13 -> 0
A14: 0 | B14: 7 | C14: Graduate Tier III | D14: 11 | E14: Graduate Post-Bacc / Non-Matric | F14: 2 | G14: Nonresident | H14: =ROUND(FY18Calculations!H14*(1+HeadcountChgs!$K14),0) -> 0 | I14: =ROUND(FY18Calculations!I14*(1+HeadcountChgs!$K14),0) -> 3 | J14: =+ROUND(FY18Calculations!J14*(1+HeadcountChgs!$K14)*(TuitionRates!S15),0) -> 21517 | K14: =+ROUND(FY18Calculations!K14*(1+HeadcountChgs!$K14)*(TuitionRates!T15),0) -> 12128 | L14: =ROUND($L$1*K14,0) -> 485 | M14: =+ROUND(FY18Calculations!M14*TuitionRates!S15*(1+HeadcountChgs!$K14),0) -> 0 | N14: =+ROUND(FY18Calculations!N14*TuitionRates!T15*(1+HeadcountChgs!$K14),0) -> 0 | O14: =+ROUND(FY18Calculations!O14*TuitionRates!U15*(1+HeadcountChgs!$K14),0) -> 34800 | P14: =+M14+N14+O14 -> 34800 | Q14: =ROUND($Q$1*(J14-L14-P14),0) -> -688 | R14: =+J14-L14-P14-Q14 -> -13080 | T14: 1 | U14: 0 | V14: 0 | W14: =+$R14*T14 -> -13080 | X14: =+$R14*U14 -> 0 | Y14: =+$R14*V14 -> 0
... A70: 0 | B70: 51 | C70: Dentistry (DDS) | D70: 91 | E70: Dentistry (DDS) - Year 1 | F70: 2 | G70: Nonresident | H70: =ROUND(FY18Calculations!H70*(1+HeadcountChgs!$K70),0) -> 11 | I70: =ROUND(FY18Calculations!I70*(1+HeadcountChgs!$K70),0) -> 4 | J70: =+ROUND(FY18Calculations!J70*(1+HeadcountChgs!$K70)*(TuitionRates!S71),0) -> 313174 | K70: =+ROUND(FY18Calculations!K70*(1+HeadcountChgs!$K70)*(TuitionRates!T71),0) -> 198927 | L70: =ROUND($L$1*K70,0) -> 7957 | M70: =+ROUND(FY18Calculations!M70*TuitionRates!S71*(1+HeadcountChgs!$K70),0) -> 0 | N70: =+ROUND(FY18Calculations!N70*TuitionRates!T71*(1+HeadcountChgs!$K70),0) -> 0 | O70: =+ROUND(FY18Calculations!O70*TuitionRates!U71*(1+HeadcountChgs!$K70),0) -> 25706 | P70: =+M70+N70+O70 -> 25706 | Q70: =ROUND($Q$1*(J70-L70-P70),0) -> 13976 | R70: =+J70-L70-P70-Q70 -> 265535 | T70: 1 | U70: 0 | V70: 0 | W70: =+$R70*T70 -> 265535 | X70: =+$R70*U70 -> 0 | Y70: =+$R70*V70 -> 0
A71: 0 | B71: 51 | C71: Dentistry (DDS) | D71: 92 | E71: Dentistry (DDS) -Year 2 | F71: 1 | G71: Resident | H71: =ROUND(FY18Calculations!H71*(1+HeadcountChgs!$K71),0) -> 160 | I71: =ROUND(FY18Calculations!I71*(1+HeadcountChgs!$K71),0) -> 58 | J71: =+ROUND(FY18Calculations!J71*(1+HeadcountChgs!$K71)*(TuitionRates!S72),0) -> 2560180 | K71: =+ROUND(FY18Calculations!K71*(1+HeadcountChgs!$K71)*(TuitionRates!T72),0) -> 2560180 | L71: =ROUND($L$1*K71,0) -> 102407 | M71: =+ROUND(FY18Calculations!M71*TuitionRates!S72*(1+HeadcountChgs!$K71),0) -> 0 | N71: =+ROUND(FY18Calculations!N71*TuitionRates!T72*(1+HeadcountChgs!$K71),0) -> 0 | O71: =+ROUND(FY18Calculations!O71*TuitionRates!U72*(1+HeadcountChgs!$K71),0) -> 0 | P71: =+M71+N71+O71 -> 0 | Q71: =ROUND($Q$1*(J71-L71-P71),0) -> 122889 | R71: =+J71-L71-P71-Q71 -> 2334884
A72: 0 | B72: 51 | C72: Dentistry (DDS) | D72: 92 | E72: Dentistry (DDS) -Year 2 | F72: 2 | G72: Nonresident | H72: =ROUND(FY18Calculations!H72*(1+HeadcountChgs!$K72),0) -> 15 | I72: =ROUND(FY18Calculations!I72*(1+HeadcountChgs!$K72),0) -> 5 | J72: =+ROUND(FY18Calculations!J72*(1+HeadcountChgs!$K72)*(TuitionRates!S73),0) -> 371538 | K72: =+ROUND(FY18Calculations!K72*(1+HeadcountChgs!$K72)*(TuitionRates!T73),0) -> 236000 | L72: =ROUND($L$1*K72,0) -> 9440 | M72: =+ROUND(FY18Calculations!M72*TuitionRates!S73*(1+HeadcountChgs!$K72),0) -> 0 | N72: =+ROUND(FY18Calculations!N72*TuitionRates!T73*(1+HeadcountChgs!$K72),0) -> 0 | O72: =+ROUND(FY18Calculations!O72*TuitionRates!U73*(1+HeadcountChgs!$K72),0) -> 25706 | P72: =+M72+N72+O72 -> 25706 | Q72: =ROUND($Q$1*(J72-L72-P72),0) -> 16820 | R72: =+J72-L72-P72-Q72 -> 319572
A73: 0 | B73: 51 | C73: Dentistry (DDS) | D73: 93 | E73: Dentistry (DDS) - Year 3 | F73: 1 | G73: Resident | H73: =ROUND(FY18Calculations!H73*(1+HeadcountChgs!$K73),0) -> 98 | I73: =ROUND(FY18Calculations!I73*(1+HeadcountChgs!$K73),0) -> 51 | J73: =+ROUND(FY18Calculations!J73*(1+HeadcountChgs!$K73)*(TuitionRates!S74),0) -> 2275885 | K73: =+ROUND(FY18Calculations!K73*(1+HeadcountChgs!$K73)*(TuitionRates!T74),0) -> 2275885 | L73: =ROUND($L$1*K73,0) -> 91035 | M73: =+ROUND(FY18Calculations!M73*TuitionRates!S74*(1+HeadcountChgs!$K73),0) -> 0 | N73: =+ROUND(FY18Calculations!N73*TuitionRates!T74*(1+HeadcountChgs!$K73),0) -> 22377 | O73: =+ROUND(FY18Calculations!O73*TuitionRates!U74*(1+HeadcountChgs!$K73),0) -> 0 | P73: =+M73+N73+O73 -> 22377 | Q73: =ROUND($Q$1*(J73-L73-P73),0) -> 108124 | R73: =+J73-L73-P73-Q73 -> 2054349
A74: 0 | B74: 51 | C74: Dentistry (DDS) | D74: 93 | E74: Dentistry (DDS) - Year 3 | F74: 2 | G74: Nonresident | H74: =ROUND(FY18Calculations!H74*(1+HeadcountChgs!$K74),0) -> 12 | I74: =ROUND(FY18Calculations!I74*(1+HeadcountChgs!$K74),0) -> 6 | J74: =+ROUND(FY18Calculations!J74*(1+HeadcountChgs!$K74)*(TuitionRates!S75),0) -> 446273 | K74: =+ROUND(FY18Calculations!K74*(1+HeadcountChgs!$K74)*(TuitionRates!T75),0) -> 283433 | L74: =ROUND($L$1*K74,0) -> 11337 | M74: =+ROUND(FY18Calculations!M74*TuitionRates!S75*(1+HeadcountChgs!$K74),0) -> 0 | N74: =+ROUND(FY18Calculations!N74*TuitionRates!T75*(1+HeadcountChgs!$K74),0) -> 0 | O74: =+ROUND(FY18Calculations!O74*TuitionRates!U75*(1+HeadcountChgs!$K74),0) -> 77135 | P74: =+M74+N74+O74 -> 77135 | Q74: =ROUND($Q$1*(J74-L74-P74),0) -> 17890 | R74: =+J74-L74-P74-Q74 -> 339911
A75: 0 | B75: 51 | C75: Dentistry (DDS) | D75: 94 | E75: Dentistry (DDS) - Year 4 | F75: 1 | G75: Resident | H75: =ROUND(FY18Calculations!H75*(1+HeadcountChgs!$K75),0) -> 96 | I75: =ROUND(FY18Calculations!I75*(1+HeadcountChgs!$K75),0) -> 59 | J75: =+ROUND(FY18Calculations!J75*(1+HeadcountChgs!$K75)*(TuitionRates!S76),0) -> 2437741 | K75: =+ROUND(FY18Calculations!K75*(1+HeadcountChgs!$K75)*(TuitionRates!T76),0) -> 2437741 | L75: =ROUND($L$1*K75,0) -> 97510 | M75: =+ROUND(FY18Calculations!M75*TuitionRates!S76*(1+HeadcountChgs!$K75),0) -> 0 | N75: =+ROUND(FY18Calculations!N75*TuitionRates!T76*(1+HeadcountChgs!$K75),0) -> 0 | O75: =+ROUND(FY18Calculations!O75*TuitionRates!U76*(1+HeadcountChgs!$K75),0) -> 0 | P75: =+M75+N75+O75 -> 0 | Q75: =ROUND($Q$1*(J75-L75-P75),0) -> 117012 | R75: =+J75-L75-P75-Q75 -> 2223219
A76: 0 | B76: 51 | C76: Dentistry (DDS) | D76: 94 | E76: Dentistry (DDS) - Year 4 | F76: 2 | G76: Nonresident | H76: =ROUND(FY18Calculations!H76*(1+HeadcountChgs!$K76),0) -> 10 | I76: =ROUND(FY18Calculations!I76*(1+HeadcountChgs!$K76),0) -> 6 | J76: =+ROUND(FY18Calculations!J76*(1+HeadcountChgs!$K76)*(TuitionRates!S77),0) -> 422784 | K76: =+ROUND(FY18Calculations!K76*(1+HeadcountChgs!$K76)*(TuitionRates!T77),0) -> 248230 | L76: =ROUND($L$1*K76,0) -> 9929 | M76: =+ROUND(FY18Calculations!M76*TuitionRates!S77*(1+HeadcountChgs!$K76),0) -> 0 | N76: =+ROUND(FY18Calculations!N76*TuitionRates!T77*(1+HeadcountChgs!$K76),0) -> 0 | O76: =+ROUND(FY18Calculations!O76*TuitionRates!U77*(1+HeadcountChgs!$K76),0) -> 58185 | P76: =+M76+N76+O76 -> 58185 | Q76: =ROUND($Q$1*(J76-L76-P76),0) -> 17734 | R76: =+J76-L76-P76-Q76 -> 336936
A77: 0 | B77: 53 | C77: Dentistry Graduate | D77: 98 | E77: Grad Dentistry - Oral Biology | F77: 1 | G77: Resident | H77: =ROUND(FY18Calculations!H77*(1+HeadcountChgs!$K77),0) -> 7 | I77: =ROUND(FY18Calculations!I77*(1+HeadcountChgs!$K77),0) -> 6 | J77: =+ROUND(FY18Calculations!J77*(1+HeadcountChgs!$K77)*(TuitionRates!S78),0) -> 96497 | K77: =+ROUND(FY18Calculations!K77*(1+HeadcountChgs!$K77)*(TuitionRates!T78),0) -> 96497 | L77: =ROUND($L$1*K77,0) -> 3860 | M77: =+ROUND(FY18Calculations!M77*TuitionRates!S78*(1+HeadcountChgs!$K77),0) -> 0 | N77: =+ROUND(FY18Calculations!N77*TuitionRates!T78*(1+HeadcountChgs!$K77),0) -> 0 | O77: =+ROUND(FY18Calculations!O77*TuitionRates!U78*(1+HeadcountChgs!$K77),0) -> 0 | P77: =+M77+N77+O77 -> 0 | Q77: =ROUND($Q$1*(J77-L77-P77),0) -> 4632 | R77: =+J77-L77-P77-Q77 -> 88005
A78: 0 | B78: 53 | C78: Dentistry Graduate | D78: 98 | E78: Grad Dentistry - Oral Biology | F78: 2 | G78: Nonresident | H78: =ROUND(FY18Calculations!H78*(1+HeadcountChgs!$K78),0) -> 9 | I78: =ROUND(FY18Calculations!I78*(1+HeadcountChgs!$K78),0) -> 11 | J78: =+ROUND(FY18Calculations!J78*(1+HeadcountChgs!$K78)*(TuitionRates!S79),0) -> 262587 | K78: =+ROUND(FY18Calculations!K78*(1+HeadcountChgs!$K78)*(TuitionRates!T79),0) -> 136696 | L78: =ROUND($L$1*K78,0) -> 5468 | M78: =+ROUND(FY18Calculations!M78*TuitionRates!S79*(1+HeadcountChgs!$K78),0) -> 0 | N78: =+ROUND(FY18Calculations!N78*TuitionRates!T79*(1+HeadcountChgs!$K78),0) -> 0 | O78: =+ROUND(FY18Calculations!O78*TuitionRates!U79*(1+HeadcountChgs!$K78),0) -> 23485 | P78: =+M78+N78+O78 -> 23485 | Q78: =ROUND($Q$1*(J78-L78-P78),0) -> 11682 | R78: =+J78-L78-P78-Q78 -> 221952 | T78: 0 | U78: 1 | V78: 0 | W78: =+$R78*T78 -> 0 | X78: =+$R78*U78 -> 221952 | Y78: =+$R78*V78 -> 0
A79: 0 | B79: 53 | C79: Dentistry Graduate | D79: 100 | E79: Grad Dent - Oral Med, Ped Dent, Perio, Prosth | F79: 1 | G79: Resident | H79: =ROUND(FY18Calculations!H79*(1+HeadcountChgs!$K79),0) -> 14 | I79: =ROUND(FY18Calculations!I79*(1+HeadcountChgs!$K79),0) -> 14 | J79: =+ROUND(FY18Calculations!J79*(1+HeadcountChgs!$K79)*(TuitionRates!S80),0) -> 218433 | K79: =+ROUND(FY18Calculations!K79*(1+HeadcountChgs!$K79)*(TuitionRates!T80),0) -> 218433 | L79: =ROUND($L$1*K79,0) -> 8737 | M79: =+ROUND(FY18Calculations!M79*TuitionRates!S80*(1+HeadcountChgs!$K79),0) -> 0 | N79: =+ROUND(FY18Calculations!N79*TuitionRates!T80*(1+HeadcountChgs!$K79),0) -> 0 | O79: =+ROUND(FY18Calculations!O79*TuitionRates!U80*(1+HeadcountChgs!$K79),0) -> 0 | P79: =+M79+N79+O79 -> 0 | Q79: =ROUND($Q$1*(J79-L79-P79),0) -> 10485 | R79: =+J79-L79-P79-Q79 -> 199211 | T79: 0 | U79: 1 | V79: 0 | W79: =+$R79*T79 -> 0 | X79: =+$R79*U79 -> 199211 | Y79: =+$R79*V79 -> 0
A80: 0 | B80: 53 | C80: Dentistry Graduate | D80: 100 | E80: Grad Dent - Oral Med, Ped Dent, Perio, Prosth | F80: 2 | G80: Nonresident | H80: =ROUND(FY18Calculations!H80*(1+HeadcountChgs!$K80),0) -> 32 | I80: =ROUND(FY18Calculations!I80*(1+HeadcountChgs!$K80),0) -> 26 | J80: =+ROUND(FY18Calculations!J80*(1+HeadcountChgs!$K80)*(TuitionRates!S81),0) -> 787618 | K80: =+ROUND(FY18Calculations!K80*(1+HeadcountChgs!$K80)*(TuitionRates!T81),0) -> 417707 | L80: =ROUND($L$1*K80,0) -> 16708 | M80: =+ROUND(FY18Calculations!M80*TuitionRates!S81*(1+HeadcountChgs!$K80),0) -> 0 | N80: =+ROUND(FY18Calculations!N80*TuitionRates!T81*(1+HeadcountChgs!$K80),0) -> 0 | O80: =+ROUND(FY18Calculations!O80*TuitionRates!U81*(1+HeadcountChgs!$K80),0) -> 75219 | P80: =+M80+N80+O80 -> 75219 | Q80: =ROUND($Q$1*(J80-L80-P80),0) -> 34785 | R80: =+J80-L80-P80-Q80 -> 660906 | T80: 0 | U80: 1 | V80: 0 | W80: =+$R80*T80 -> 0 | X80: =+$R80*U80 -> 660906 | Y80: =+$R80*V80 -> 0
A81: 0 | B81: 53 | C81: Dentistry Graduate | D81: 102 | E81: Grad Dentistry - Endodontics | F81: 1 | G81: Resident | H81: =ROUND(FY18Calculations!H81*(1+HeadcountChgs!$K81),0) -> 3 | I81: =ROUND(FY18Calculations!I81*(1+HeadcountChgs!$K81),0) -> 2 | J81: =+ROUND(FY18Calculations!J81*(1+HeadcountChgs!$K81)*(TuitionRates!S82),0) -> 37368 | K81: =+ROUND(FY18Calculations!K81*(1+HeadcountChgs!$K81)*(TuitionRates!T82),0) -> 37368 | L81: =ROUND($L$1*K81,0) -> 1495 | M81: =+ROUND(FY18Calculations!M81*TuitionRates!S82*(1+HeadcountChgs!$K81),0) -> 0 | N81: =+ROUND(FY18Calculations!N81*TuitionRates!T82*(1+HeadcountChgs!$K81),0) -> 0 | O81: =+ROUND(FY18Calculations!O81*TuitionRates!U82*(1+HeadcountChgs!$K81),0) -> 0 | P81: =+M81+N81+O81 -> 0 | Q81: =ROUND($Q$1*(J81-L81-P81),0) -> 1794 | R81: =+J81-L81-P81-Q81 -> 34079 | T81: 0 | U81: 1 | V81: 0 | W81: =+$R81*T81 -> 0 | X81: =+$R81*U81 -> 34079 | Y81: =+$R81*V81 -> 0
A82: 0 | B82: 53 | C82: Dentistry Graduate | D82: 102 | E82: Grad Dentistry - Endodontics | F82: 2 | G82: Nonresident | H82: =ROUND(FY18Calculations!H82*(1+HeadcountChgs!$K82),0) -> 10 | I82: =ROUND(FY18Calculations!I82*(1+HeadcountChgs!$K82),0) -> 6 | J82: =+ROUND(FY18Calculations!J82*(1+HeadcountChgs!$K82)*(TuitionRates!S83),0) -> 192194 | K82: =+ROUND(FY18Calculations!K82*(1+HeadcountChgs!$K82)*(TuitionRates!T83),0) -> 112106 | L82: =ROUND($L$1*K82,0) -> 4484 | M82: =+ROUND(FY18Calculations!M82*TuitionRates!S83*(1+HeadcountChgs!$K82),0) -> 0 | N82: =+ROUND(FY18Calculations!N82*TuitionRates!T83*(1+HeadcountChgs!$K82),0) -> 0 | O82: =+ROUND(FY18Calculations!O82*TuitionRates!U83*(1+HeadcountChgs!$K82),0) -> 0 | P82: =+M82+N82+O82 -> 0 | Q82: =ROUND($Q$1*(J82-L82-P82),0) -> 9386 | R82: =+J82-L82-P82-Q82 -> 178324 | T82: 0 | U82: 1 | V82: 0 | W82: =+$R82*T82 -> 0 | X82: =+$R82*U82 -> 178324 | Y82: =+$R82*V82 -> 0
A83: 0 | B83: 53 | C83: Dentistry Graduate | D83: 104 | E83: Grad Dentistry - Orthodontics | F83: 1 | G83: Resident | H83: =ROUND(FY18Calculations!H83*(1+HeadcountChgs!$K83),0) -> 9 | I83: =ROUND(FY18Calculations!I83*(1+HeadcountChgs!$K83),0) -> 6 | J83: =+ROUND(FY18Calculations!J83*(1+HeadcountChgs!$K83)*(TuitionRates!S84),0) -> 135045 | K83: =+ROUND(FY18Calculations!K83*(1+HeadcountChgs!$K83)*(TuitionRates!T84),0) -> 135045 | L83: =ROUND($L$1*K83,0) -> 5402 | M83: =+ROUND(FY18Calculations!M83*TuitionRates!S84*(1+HeadcountChgs!$K83),0) -> 0 | N83: =+ROUND(FY18Calculations!N83*TuitionRates!T84*(1+HeadcountChgs!$K83),0) -> 0 | O83: =+ROUND(FY18Calculations!O83*TuitionRates!U84*(1+HeadcountChgs!$K83),0) -> 0 | P83: =+M83+N83+O83 -> 0 | Q83: =ROUND($Q$1*(J83-L83-P83),0) -> 6482 | R83: =+J83-L83-P83-Q83 -> 123161 | T83: 0 | U83: 1 | V83: 0 | W83: =+$R83*T83 -> 0 | X83: =+$R83*U83 -> 123161 | Y83: =+$R83*V83 -> 0
A84: 0 | B84: 53 | C84: Dentistry Graduate | D84: 104 | E84: Grad Dentistry - Orthodontics | F84: 2 | G84: Nonresident | H84: =ROUND(FY18Calculations!H84*(1+HeadcountChgs!$K84),0) -> 12 | I84: =ROUND(FY18Calculations!I84*(1+HeadcountChgs!$K84),0) -> 8 | J84: =+ROUND(FY18Calculations!J84*(1+HeadcountChgs!$K84)*(TuitionRates!S85),0) -> 247102 | K84: =+ROUND(FY18Calculations!K84*(1+HeadcountChgs!$K84)*(TuitionRates!T85),0) -> 183580 | L84: =ROUND($L$1*K84,0) -> 7343 | M84: =+ROUND(FY18Calculations!M84*TuitionRates!S85*(1+HeadcountChgs!$K84),0) -> 0 | N84: =+ROUND(FY18Calculations!N84*TuitionRates!T85*(1+HeadcountChgs!$K84),0) -> 0 | O84: =+ROUND(FY18Calculations!O84*TuitionRates!U85*(1+HeadcountChgs!$K84),0) -> 0 | P84: =+M84+N84+O84 -> 0 | Q84: =ROUND($Q$1*(J84-L84-P84),0) -> 11988 | R84: =+J84-L84-P84-Q84 -> 227771 | T84: 0 | U84: 1 | V84: 0 | W84: =+$R84*T84 -> 0 | X84: =+$R84*U84 -> 227771 | Y84: =+$R84*V84 -> 0
A85: 1 | B85: 0 | C85: Undergraduate | D85: 1 | E85: Undergraduate | F85: 1 | G85: Resident | H85: =ROUND(FY18Calculations!H85*(1+HeadcountChgs!$K85),0) -> 4003 | I85: =ROUND(FY18Calculations!I85*(1+HeadcountChgs!$K85),0) -> 4217 | J85: =+ROUND(FY18Calculations!J85*(1+HeadcountChgs!$K85)*(TuitionRates!S86),0) -> 39210662 | K85: =+ROUND(FY18Calculations!K85*(1+HeadcountChgs!$K85)*(TuitionRates!T86),0) -> 39210662 | L85: =ROUND($L$1*K85,0) -> 1568426 | M85: =+ROUND(FY18Calculations!M85*TuitionRates!S86*(1+HeadcountChgs!$K85),0) -> 0 | N85: =+ROUND(FY18Calculations!N85*TuitionRates!T86*(1+HeadcountChgs!$K85),0) -> 211120 | O85: =+ROUND(FY18Calculations!O85*TuitionRates!U86*(1+HeadcountChgs!$K85),0) -> 0 | P85: =+M85+N85+O85 -> 211120 | Q85: =ROUND($Q$1*(J85-L85-P85),0) -> 1871556 | R85: =+J85-L85-P85-Q85 -> 35559560 | T85: 0 | U85: 1 | V85: 0 | W85: =+$R85*T85 -> 0 | X85: =+$R85*U85 -> 35559560 | Y85: =+$R85*V85 -> 0
A86: 1 | B86: 0 | C86: Undergraduate | D86: 1 | E86: Undergraduate | F86: 2 | G86: Nonresident | H86: =ROUND(FY18Calculations!H86*(1+HeadcountChgs!$K86),0) -> 584 | I86: =ROUND(FY18Calculations!I86*(1+HeadcountChgs!$K86),0) -> 591 | J86: =+ROUND(FY18Calculations!J86*(1+HeadcountChgs!$K86)*(TuitionRates!S87),0) -> 19512996 | K86: =+ROUND(FY18Calculations!K86*(1+HeadcountChgs!$K86)*(TuitionRates!T87),0) -> 5543291 | L86: =ROUND($L$1*K86,0) -> 221732 | M86: =+ROUND(FY18Calculations!M86*TuitionRates!S87*(1+HeadcountChgs!$K86),0) -> 0 | N86: =+ROUND(FY18Calculations!N86*TuitionRates!T87*(1+HeadcountChgs!$K86),0) -> 0 | O86: =+ROUND(FY18Calculations!O86*TuitionRates!U87*(1+HeadcountChgs!$K86),0) -> 0 | P86: =+M86+N86+O86 -> 0 | Q86: =ROUND($Q$1*(J86-L86-P86),0) -> 964563 | R86: =+J86-L86-P86-Q86 -> 18326701 | T86: 0 | U86: 1 | V86: 0 | W86: =+$R86*T86 -> 0 | X86: =+$R86*U86 -> 18326701 | Y86: =+$R86*V86 -> 0
A87: 1 | B87: 0 | C87: Undergraduate | D87: 3 | E87: Undergraduate Post-Bacc / Non-Matric | F87: 1 | G87: Resident | H87: =ROUND(FY18Calculations!H87*(1+HeadcountChgs!$K87),0) -> 128 | I87: =ROUND(FY18Calculations!I87*(1+HeadcountChgs!$K87),0) -> 170 | J87: =+ROUND(FY18Calculations!J87*(1+HeadcountChgs!$K87)*(TuitionRates!S88),0) -> 1392865 | K87: =+ROUND(FY18Calculations!K87*(1+HeadcountChgs!$K87)*(TuitionRates!T88),0) -> 1392865 | L87: =ROUND($L$1*K87,0) -> 55715 | M87: =+ROUND(FY18Calculations!M87*TuitionRates!S88*(1+HeadcountChgs!$K87),0) -> 0 | N87: =+ROUND(FY18Calculations!N87*TuitionRates!T88*(1+HeadcountChgs!$K87),0) -> 0 | O87: =+ROUND(FY18Calculations!O87*TuitionRates!U88*(1+HeadcountChgs!$K87),0) -> 0 | P87: =+M87+N87+O87 -> 0 | Q87: =ROUND($Q$1*(J87-L87-P87),0) -> 66858 | R87: =+J87-L87-P87-Q87 -> 1270292 | T87: 0 | U87: 1 | V87: 0 | W87: =+$R87*T87 -> 0 | X87: =+$R87*U87 -> 1270292 | Y87: =+$R87*V87 -> 0
A88: 1 | B88: 0 | C88: Undergraduate | D88: 3 | E88: Undergraduate Post-Bacc / Non-Matric | F88: 2 | G88: Nonresident | H88: =ROUND(FY18Calculations!H88*(1+HeadcountChgs!$K88),0) -> 4 | I88: =ROUND(FY18Calculations!I88*(1+HeadcountChgs!$K88),0) -> 3 | J88: =+ROUND(FY18Calculations!J88*(1+HeadcountChgs!$K88)*(TuitionRates!S89),0) -> 115979 | K88: =+ROUND(FY18Calculations!K88*(1+HeadcountChgs!$K88)*(TuitionRates!T89),0) -> 32944 | L88: =ROUND($L$1*K88,0) -> 1318 | M88: =+ROUND(FY18Calculations!M88*TuitionRates!S89*(1+HeadcountChgs!$K88),0) -> 0 | N88: =+ROUND(FY18Calculations!N88*TuitionRates!T89*(1+HeadcountChgs!$K88),0) -> 0 | O88: =+ROUND(FY18Calculations!O88*TuitionRates!U89*(1+HeadcountChgs!$K88),0) -> 0 | P88: =+M88+N88+O88 -> 0 | Q88: =ROUND($Q$1*(J88-L88-P88),0) -> 5733 | R88: =+J88-L88-P88-Q88 -> 108928 | T88: 0 | U88: 1 | V88: 0 | W88: =+$R88*T88 -> 0 | X88: =+$R88*U88 -> 108928 | Y88: =+$R88*V88 -> 0
A89: 1 | B89: 0 | C89: Graduate Tier I | D89: 5 | E89: Graduate Tier I | F89: 1 | G89: Resident | H89: =ROUND(FY18Calculations!H89*(1+HeadcountChgs!$K89),0) -> 22 | I89: =ROUND(FY18Calculations!I89*(1+HeadcountChgs!$K89),0) -> 22 | J89: =+ROUND(FY18Calculations!J89*(1+HeadcountChgs!$K89)*(TuitionRates!S90),0) -> 330970 | K89: =+ROUND(FY18Calculations!K89*(1+HeadcountChgs!$K89)*(TuitionRates!T90),0) -> 330970 | L89: =ROUND($L$1*K89,0) -> 13239 | M89: =+ROUND(FY18Calculations!M89*TuitionRates!S90*(1+HeadcountChgs!$K89),0) -> 0 | N89: =+ROUND(FY18Calculations!N89*TuitionRates!T90*(1+HeadcountChgs!$K89),0) -> 0 | O89: =+ROUND(FY18Calculations!O89*TuitionRates!U90*(1+HeadcountChgs!$K89),0) -> 0 | P89: =+M89+N89+O89 -> 0 | Q89: =ROUND($Q$1*(J89-L89-P89),0) -> 15887 | R89: =+J89-L89-P89-Q89 -> 301844 | T89: 0 | U89: 1 | V89: 0 | W89: =+$R89*T89 -> 0 | X89: =+$R89*U89 -> 301844 | Y89: =+$R89*V89 -> 0
... A95: 1 | B95: 0 | C95: Graduate Tier III | D95: 11 | E95: Graduate Post-Bacc / Non-Matric | F95: 1 | G95: Resident | H95: =ROUND(FY18Calculations!H95*(1+HeadcountChgs!$K95),0) -> 3 | I95: =ROUND(FY18Calculations!I95*(1+HeadcountChgs!$K95),0) -> 1 | J95: =+ROUND(FY18Calculations!J95*(1+HeadcountChgs!$K95)*(TuitionRates!S96),0) -> 22594 | K95: =+ROUND(FY18Calculations!K95*(1+HeadcountChgs!$K95)*(TuitionRates!T96),0) -> 22594 | L95: =ROUND($L$1*K95,0) -> 904 | M95: =+ROUND(FY18Calculations!M95*TuitionRates!S96*(1+HeadcountChgs!$K95),0) -> 0 | N95: =+ROUND(FY18Calculations!N95*TuitionRates!T96*(1+HeadcountChgs!$K95),0) -> 0 | O95: =+ROUND(FY18Calculations!O95*TuitionRates!U96*(1+HeadcountChgs!$K95),0) -> 0 | P95: =+M95+N95+O95 -> 0 | Q95: =ROUND($Q$1*(J95-L95-P95),0) -> 1085 | R95: =+J95-L95-P95-Q95 -> 20605 | T95: 0 | U95: 1 | V95: 0 | W95: =+$R95*T95 -> 0 | X95: =+$R95*U95 -> 20605 | Y95: =+$R95*V95 -> 0
A96: 1 | B96: 0 | C96: Graduate Tier III | D96: 11 | E96: Graduate Post-Bacc / Non-Matric | F96: 2 | G96: Nonresident | H96: =ROUND(FY18Calculations!H96*(1+HeadcountChgs!$K96),0) -> 0 | I96: =ROUND(FY18Calculations!I96*(1+HeadcountChgs!$K96),0) -> 0 | J96: =+ROUND(FY18Calculations!J96*(1+HeadcountChgs!$K96)*(TuitionRates!S97),0) -> 0 | K96: =+ROUND(FY18Calculations!K96*(1+HeadcountChgs!$K96)*(TuitionRates!T97),0) -> 0 | L96: =ROUND($L$1*K96,0) -> 0 | M96: =+ROUND(FY18Calculations!M96*TuitionRates!S97*(1+HeadcountChgs!$K96),0) -> 0 | N96: =+ROUND(FY18Calculations!N96*TuitionRates!T97*(1+HeadcountChgs!$K96),0) -> 0 | O96: =+ROUND(FY18Calculations!O96*TuitionRates!U97*(1+HeadcountChgs!$K96),0) -> 0 | P96: =+M96+N96+O96 -> 0 | Q96: =ROUND($Q$1*(J96-L96-P96),0) -> 0 | R96: =+J96-L96-P96-Q96 -> 0
A97: 1 | B97: 0 | C97: Nursing | D97: 71 | E97: Master of Nursing | F97: 1 | G97: Resident | H97: =ROUND(FY18Calculations!H97*(1+HeadcountChgs!$K97),0) -> 34 | I97: =ROUND(FY18Calculations!I97*(1+HeadcountChgs!$K97),0) -> 62 | J97: =+ROUND(FY18Calculations!J97*(1+HeadcountChgs!$K97)*(TuitionRates!S98),0) -> 758322 | K97: =+ROUND(FY18Calculations!K97*(1+HeadcountChgs!$K97)*(TuitionRates!T98),0) -> 758322 | L97: =ROUND($L$1*K97,0) -> 30333 | M97: =+ROUND(FY18Calculations!M97*TuitionRates!S98*(1+HeadcountChgs!$K97),0) -> 0 | N97: =+ROUND(FY18Calculations!N97*TuitionRates!T98*(1+HeadcountChgs!$K97),0) -> 0 | O97: =+ROUND(FY18Calculations!O97*TuitionRates!U98*(1+HeadcountChgs!$K97),0) -> 0 | P97: =+M97+N97+O97 -> 0 | Q97: =ROUND($Q$1*(J97-L97-P97),0) -> 36399 | R97: =+J97-L97-P97-Q97 -> 691590
A98: 1 | B98: 0 | C98: Nursing | D98: 71 | E98: Master of Nursing | F98: 2 | G98: Nonresident | H98: =ROUND(FY18Calculations!H98*(1+HeadcountChgs!$K98),0) -> 2 | I98: =ROUND(FY18Calculations!I98*(1+HeadcountChgs!$K98),0) -> 3 | J98: =+ROUND(FY18Calculations!J98*(1+HeadcountChgs!$K98)*(TuitionRates!S99),0) -> 71340 | K98: =+ROUND(FY18Calculations!K98*(1+HeadcountChgs!$K98)*(TuitionRates!T99),0) -> 40173 | L98: =ROUND($L$1*K98,0) -> 1607 | M98: =+ROUND(FY18Calculations!M98*TuitionRates!S99*(1+HeadcountChgs!$K98),0) -> 0 | N98: =+ROUND(FY18Calculations!N98*TuitionRates!T99*(1+HeadcountChgs!$K98),0) -> 0 | O98: =+ROUND(FY18Calculations!O98*TuitionRates!U99*(1+HeadcountChgs!$K98),0) -> 0 | P98: =+M98+N98+O98 -> 0 | Q98: =ROUND($Q$1*(J98-L98-P98),0) -> 3487 | R98: =+J98-L98-P98-Q98 -> 66246
A99: 1 | B99: 0 | C99: MBA | D99: 52 | E99: Master of Bus Admin (Incoming) | F99: 1 | G99: Resident | H99: =ROUND(FY18Calculations!H99*(1+HeadcountChgs!$K99),0) -> 48 | I99: =ROUND(FY18Calculations!I99*(1+HeadcountChgs!$K99),0) -> 46 | J99: =+ROUND(FY18Calculations!J99*(1+HeadcountChgs!$K99)*(TuitionRates!S100),0) -> 986737 | K99: =+ROUND(FY18Calculations!K99*(1+HeadcountChgs!$K99)*(TuitionRates!T100),0) -> 986737 | L99: =ROUND($L$1*K99,0) -> 39469 | M99: =+ROUND(FY18Calculations!M99*TuitionRates!S100*(1+HeadcountChgs!$K99),0) -> 0 | N99: =+ROUND(FY18Calculations!N99*TuitionRates!T100*(1+HeadcountChgs!$K99),0) -> 9485 | O99: =+ROUND(FY18Calculations!O99*TuitionRates!U100*(1+HeadcountChgs!$K99),0) -> 0 | P99: =+M99+N99+O99 -> 9485 | Q99: =ROUND($Q$1*(J99-L99-P99),0) -> 46889 | R99: =+J99-L99-P99-Q99 -> 890894
A100: 1 | B100: 0 | C100: MBA | D100: 52 | E100: Master of Bus Admin (Incoming) | F100: 2 | G100: Nonresident | H100: =ROUND(FY18Calculations!H100*(1+HeadcountChgs!$K100),0) -> 3 | I100: =ROUND(FY18Calculations!I100*(1+HeadcountChgs!$K100),0) -> 3 | J100: =+ROUND(FY18Calculations!J100*(1+HeadcountChgs!$K100)*(TuitionRates!S101),0) -> 79652 | K100: =+ROUND(FY18Calculations!K100*(1+HeadcountChgs!$K100)*(TuitionRates!T101),0) -> 63866 | L100: =ROUND($L$1*K100,0) -> 2555 | M100: =+ROUND(FY18Calculations!M100*TuitionRates!S101*(1+HeadcountChgs!$K100),0) -> 0 | N100: =+ROUND(FY18Calculations!N100*TuitionRates!T101*(1+HeadcountChgs!$K100),0) -> 0 | O100: =+ROUND(FY18Calculations!O100*TuitionRates!U101*(1+HeadcountChgs!$K100),0) -> 0 | P100: =+M100+N100+O100 -> 0 | Q100: =ROUND($Q$1*(J100-L100-P100),0) -> 3855 | R100: =+J100-L100-P100-Q100 -> 73242
A101: 1 | B101: 0 | C101: MBA | D101: 53 | E101: Master of Bus Admin (Continuing) | F101: 1 | G101: Resident | H101: =ROUND(FY18Calculations!H101*(1+HeadcountChgs!$K101),0) -> 60 | I101: =ROUND(FY18Calculations!I101*(1+HeadcountChgs!$K101),0) -> 55 | J101: =+ROUND(FY18Calculations!J101*(1+HeadcountChgs!$K101)*(TuitionRates!S102),0) -> 1173271 | K101: =+ROUND(FY18Calculations!K101*(1+HeadcountChgs!$K101)*(TuitionRates!T102),0) -> 1173271 | L101: =ROUND($L$1*K101,0) -> 46931 | M101: =+ROUND(FY18Calculations!M101*TuitionRates!S102*(1+HeadcountChgs!$K101),0) -> 0 | N101: =+ROUND(FY18Calculations!N101*TuitionRates!T102*(1+HeadcountChgs!$K101),0) -> 23347 | O101: =+ROUND(FY18Calculations!O101*TuitionRates!U102*(1+HeadcountChgs!$K101),0) -> 0 | P101: =+M101+N101+O101 -> 23347 | Q101: =ROUND($Q$1*(J101-L101-P101),0) -> 55150 | R101: =+J101-L101-P101-Q101 -> 1047843
A102: 1 | B102: 0 | C102: MBA | D102: 53 | E102: Master of Bus Admin (Continuing) | F102: 2 | G102: Nonresident | H102: =ROUND(FY18Calculations!H102*(1+HeadcountChgs!$K102),0) -> 8 | I102: =ROUND(FY18Calculations!I102*(1+HeadcountChgs!$K102),0) -> 7 | J102: =+ROUND(FY18Calculations!J102*(1+HeadcountChgs!$K102)*(TuitionRates!S103),0) -> 194481 | K102: =+ROUND(FY18Calculations!K102*(1+HeadcountChgs!$K102)*(TuitionRates!T103),0) -> 154406 | L102: =ROUND($L$1*K102,0) -> 6176 | M102: =+ROUND(FY18Calculations!M102*TuitionRates!S103*(1+HeadcountChgs!$K102),0) -> 0 | N102: =+ROUND(FY18Calculations!N102*TuitionRates!T103*(1+HeadcountChgs!$K102),0) -> 0 | O102: =+ROUND(FY18Calculations!O102*TuitionRates!U103*(1+HeadcountChgs!$K102),0) -> 0 | P102: =+M102+N102+O102 -> 0 | Q102: =ROUND($Q$1*(J102-L102-P102),0) -> 9415 | R102: =+J102-L102-P102-Q102 -> 178890
A103: 2 | B103: 0 | C103: Undergraduate | D103: 1 | E103: Undergraduate | F103: 1 | G103: Resident | H103: =ROUND(FY18Calculations!H103*(1+HeadcountChgs!$K103),0) -> 3632 | I103: =ROUND(FY18Calculations!I103*(1+HeadcountChgs!$K103),0) -> 3883 | J103: =+ROUND(FY18Calculations!J103*(1+HeadcountChgs!$K103)*(TuitionRates!S104),0) -> 35883350 | K103: =+ROUND(FY18Calculations!K103*(1+HeadcountChgs!$K103)*(TuitionRates!T104),0) -> 35883350 | L103: =ROUND($L$1*K103,0) -> 1435334 | M103: =+ROUND(FY18Calculations!M103*TuitionRates!S104*(1+HeadcountChgs!$K103),0) -> 0 | N103: =+ROUND(FY18Calculations!N103*TuitionRates!T104*(1+HeadcountChgs!$K103),0) -> 739517 | O103: =+ROUND(FY18Calculations!O103*TuitionRates!U104*(1+HeadcountChgs!$K103),0) -> 0 | P103: =+M103+N103+O103 -> 739517 | Q103: =ROUND($Q$1*(J103-L103-P103),0) -> 1685425 | R103: =+J103-L103-P103-Q103 -> 32023074 | T103: 0 | U103: 0 | V103: 1 | W103: =+$R103*T103 -> 0 | X103: =+$R103*U103 -> 0 | Y103: =+$R103*V103 -> 32023074
A104: 2 | B104: 0 | C104: Undergraduate | D104: 1 | E104: Undergraduate | F104: 2 | G104: Nonresident | H104: =ROUND(FY18Calculations!H104*(1+HeadcountChgs!$K104),0) -> 235 | I104: =ROUND(FY18Calculations!I104*(1+HeadcountChgs!$K104),0) -> 239 | J104: =+ROUND(FY18Calculations!J104*(1+HeadcountChgs!$K104)*(TuitionRates!S105),0) -> 7843266 | K104: =+ROUND(FY18Calculations!K104*(1+HeadcountChgs!$K104)*(TuitionRates!T105),0) -> 2228313 | L104: =ROUND($L$1*K104,0) -> 89133 | M104: =+ROUND(FY18Calculations!M104*TuitionRates!S105*(1+HeadcountChgs!$K104),0) -> 0 | N104: =+ROUND(FY18Calculations!N104*TuitionRates!T105*(1+HeadcountChgs!$K104),0) -> 0 | O104: =+ROUND(FY18Calculations!O104*TuitionRates!U105*(1+HeadcountChgs!$K104),0) -> 42869 | P104: =+M104+N104+O104 -> 42869 | Q104: =ROUND($Q$1*(J104-L104-P104),0) -> 385563 | R104: =+J104-L104-P104-Q104 -> 7325701 | T104: 0 | U104: 0 | V104: 1 | W104: =+$R104*T104 -> 0 | X104: =+$R104*U104 -> 0 | Y104: =+$R104*V104 -> 7325701
A105: 2 | B105: 0 | C105: Undergraduate | D105: 3 | E105: Undergraduate Post-Bacc / Non-Matric | F105: 1 | G105: Resident | H105: =ROUND(FY18Calculations!H105*(1+HeadcountChgs!$K105),0) -> 71 | I105: =ROUND(FY18Calculations!I105*(1+HeadcountChgs!$K105),0) -> 108 | J105: =+ROUND(FY18Calculations!J105*(1+HeadcountChgs!$K105)*(TuitionRates!S106),0) -> 812297 | K105: =+ROUND(FY18Calculations!K105*(1+HeadcountChgs!$K105)*(TuitionRates!T106),0) -> 812297 | L105: =ROUND($L$1*K105,0) -> 32492 | M105: =+ROUND(FY18Calculations!M105*TuitionRates!S106*(1+HeadcountChgs!$K105),0) -> 0 | N105: =+ROUND(FY18Calculations!N105*TuitionRates!T106*(1+HeadcountChgs!$K105),0) -> 0 | O105: =+ROUND(FY18Calculations!O105*TuitionRates!U106*(1+HeadcountChgs!$K105),0) -> 0 | P105: =+M105+N105+O105 -> 0 | Q105: =ROUND($Q$1*(J105-L105-P105),0) -> 38990 | R105: =+J105-L105-P105-Q105 -> 740815 | T105: 0 | U105: 0 | V105: 1 | W105: =+$R105*T105 -> 0 | X105: =+$R105*U105 -> 0 | Y105: =+$R105*V105 -> 740815
A106: 2 | B106: 0 | C106: Undergraduate | D106: 3 | E106: Undergraduate Post-Bacc / Non-Matric | F106: 2 | G106: Nonresident | H106: =ROUND(FY18Calculations!H106*(1+HeadcountChgs!$K106),0) -> 8 | I106: =ROUND(FY18Calculations!I106*(1+HeadcountChgs!$K106),0) -> 7 | J106: =+ROUND(FY18Calculations!J106*(1+HeadcountChgs!$K106)*(TuitionRates!S107),0) -> 262629 | K106: =+ROUND(FY18Calculations!K106*(1+HeadcountChgs!$K106)*(TuitionRates!T107),0) -> 74628 | L106: =ROUND($L$1*K106,0) -> 2985 | M106: =+ROUND(FY18Calculations!M106*TuitionRates!S107*(1+HeadcountChgs!$K106),0) -> 0 | N106: =+ROUND(FY18Calculations!N106*TuitionRates!T107*(1+HeadcountChgs!$K106),0) -> 0 | O106: =+ROUND(FY18Calculations!O106*TuitionRates!U107*(1+HeadcountChgs!$K106),0) -> 0 | P106: =+M106+N106+O106 -> 0 | Q106: =ROUND($Q$1*(J106-L106-P106),0) -> 12982 | R106: =+J106-L106-P106-Q106 -> 246662 | T106: 0 | U106: 0 | V106: 1 | W106: =+$R106*T106 -> 0 | X106: =+$R106*U106 -> 0 | Y106: =+$R106*V106 -> 246662
A107: 2 | B107: 0 | C107: Graduate Tier I | D107: 5 | E107: Graduate Tier I | F107: 1 | G107: Resident | H107: =ROUND(FY18Calculations!H107*(1+HeadcountChgs!$K107),0) -> 141 | I107: =ROUND(FY18Calculations!I107*(1+HeadcountChgs!$K107),0) -> 179 | J107: =+ROUND(FY18Calculations!J107*(1+HeadcountChgs!$K107)*(TuitionRates!S108),0) -> 2453565 | K107: =+ROUND(FY18Calculations!K107*(1+HeadcountChgs!$K107)*(TuitionRates!T108),0) -> 2453565 | L107: =ROUND($L$1*K107,0) -> 98143 | M107: =+ROUND(FY18Calculations!M107*TuitionRates!S108*(1+HeadcountChgs!$K107),0) -> 0 | N107: =+ROUND(FY18Calculations!N107*TuitionRates!T108*(1+HeadcountChgs!$K107),0) -> 0 | O107: =+ROUND(FY18Calculations!O107*TuitionRates!U108*(1+HeadcountChgs!$K107),0) -> 0 | P107: =+M107+N107+O107 -> 0 | Q107: =ROUND($Q$1*(J107-L107-P107),0) -> 117771 | R107: =+J107-L107-P107-Q107 -> 2237651 | T107: 0 | U107: 0 | V107: 1 | W107: =+$R107*T107 -> 0 | X107: =+$R107*U107 -> 0 | Y107: =+$R107*V107 -> 2237651
A108: 2 | B108: 0 | C108: Graduate Tier I | D108: 5 | E108: Graduate Tier I | F108: 2 | G108: Nonresident | H108: =ROUND(FY18Calculations!H108*(1+HeadcountChgs!$K108),0) -> 3 | I108: =ROUND(FY18Calculations!I108*(1+HeadcountChgs!$K108),0) -> 5 | J108: =+ROUND(FY18Calculations!J108*(1+HeadcountChgs!$K108)*(TuitionRates!S109),0) -> 113196 | K108: =+ROUND(FY18Calculations!K108*(1+HeadcountChgs!$K108)*(TuitionRates!T109),0) -> 63498 | L108: =ROUND($L$1*K108,0) -> 2540 | M108: =+ROUND(FY18Calculations!M108*TuitionRates!S109*(1+HeadcountChgs!$K108),0) -> 0 | N108: =+ROUND(FY18Calculations!N108*TuitionRates!T109*(1+HeadcountChgs!$K108),0) -> 0 | O108: =+ROUND(FY18Calculations!O108*TuitionRates!U109*(1+HeadcountChgs!$K108),0) -> 0 | P108: =+M108+N108+O108 -> 0 | Q108: =ROUND($Q$1*(J108-L108-P108),0) -> 5533 | R108: =+J108-L108-P108-Q108 -> 105123 | T108: 0 | U108: 0 | V108: 1 | W108: =+$R108*T108 -> 0 | X108: =+$R108*U108 -> 0 | Y108: =+$R108*V108 -> 105123
A109: 2 | B109: 0 | C109: Graduate Tier II | D109: 7 | E109: Graduate Tier II | F109: 1 | G109: Resident | H109: =ROUND(FY18Calculations!H109*(1+HeadcountChgs!$K109),0) -> 151 | I109: =ROUND(FY18Calculations!I109*(1+HeadcountChgs!$K109),0) -> 153 | J109: =+ROUND(FY18Calculations!J109*(1+HeadcountChgs!$K109)*(TuitionRates!S110),0) -> 1938640 | K109: =+ROUND(FY18Calculations!K109*(1+HeadcountChgs!$K109)*(TuitionRates!T110),0) -> 1938640 | L109: =ROUND($L$1*K109,0) -> 77546 | M109: =+ROUND(FY18Calculations!M109*TuitionRates!S110*(1+HeadcountChgs!$K109),0) -> 0 | N109: =+ROUND(FY18Calculations!N109*TuitionRates!T110*(1+HeadcountChgs!$K109),0) -> 23438 | O109: =+ROUND(FY18Calculations!O109*TuitionRates!U110*(1+HeadcountChgs!$K109),0) -> 0 | P109: =+M109+N109+O109 -> 23438 | Q109: =ROUND($Q$1*(J109-L109-P109),0) -> 91883 | R109: =+J109-L109-P109-Q109 -> 1745773 | T109: 0 | U109: 0 | V109: 1 | W109: =+$R109*T109 -> 0 | X109: =+$R109*U109 -> 0 | Y109: =+$R109*V109 -> 1745773
A110: 2 | B110: 0 | C110: Graduate Tier II | D110: 7 | E110: Graduate Tier II | F110: 2 | G110: Nonresident | H110: =ROUND(FY18Calculations!H110*(1+HeadcountChgs!$K110),0) -> 5 | I110: =ROUND(FY18Calculations!I110*(1+HeadcountChgs!$K110),0) -> 3 | J110: =+ROUND(FY18Calculations!J110*(1+HeadcountChgs!$K110)*(TuitionRates!S111),0) -> 88774 | K110: =+ROUND(FY18Calculations!K110*(1+HeadcountChgs!$K110)*(TuitionRates!T111),0) -> 49991 | L110: =ROUND($L$1*K110,0) -> 2000 | M110: =+ROUND(FY18Calculations!M110*TuitionRates!S111*(1+HeadcountChgs!$K110),0) -> 0 | N110: =+ROUND(FY18Calculations!N110*TuitionRates!T111*(1+HeadcountChgs!$K110),0) -> 24961 | O110: =+ROUND(FY18Calculations!O110*TuitionRates!U111*(1+HeadcountChgs!$K110),0) -> 20200 | P110: =+M110+N110+O110 -> 45161 | Q110: =ROUND($Q$1*(J110-L110-P110),0) -> 2081 | R110: =+J110-L110-P110-Q110 -> 39532 | T110: 0 | U110: 0 | V110: 1 | W110: =+$R110*T110 -> 0 | X110: =+$R110*U110 -> 0 | Y110: =+$R110*V110 -> 39532
A111: 2 | B111: 0 | C111: Graduate Tier III | D111: 9 | E111: Graduate Tier III | F111: 1 | G111: Resident | H111: =ROUND(FY18Calculations!H111*(1+HeadcountChgs!$K111),0) -> 56 | I111: =ROUND(FY18Calculations!I111*(1+HeadcountChgs!$K111),0) -> 66 | J111: =+ROUND(FY18Calculations!J111*(1+HeadcountChgs!$K111)*(TuitionRates!S112),0) -> 1037533 | K111: =+ROUND(FY18Calculations!K111*(1+HeadcountChgs!$K111)*(TuitionRates!T112),0) -> 1037533 | L111: =ROUND($L$1*K111,0) -> 41501 | M111: =+ROUND(FY18Calculations!M111*TuitionRates!S112*(1+HeadcountChgs!$K111),0) -> 0 | N111: =+ROUND(FY18Calculations!N111*TuitionRates!T112*(1+HeadcountChgs!$K111),0) -> 0 | O111: =+ROUND(FY18Calculations!O111*TuitionRates!U112*(1+HeadcountChgs!$K111),0) -> 0 | P111: =+M111+N111+O111 -> 0 | Q111: =ROUND($Q$1*(J111-L111-P111),0) -> 49802 | R111: =+J111-L111-P111-Q111 -> 946230 | T111: 0 | U111: 0 | V111: 1 | W111: =+$R111*T111 -> 0 | X111: =+$R111*U111 -> 0 | Y111: =+$R111*V111 -> 946230
A112: 2 | B112: 0 | C112: Graduate Tier III | D112: 9 | E112: Graduate Tier III | F112: 2 | G112: Nonresident | H112: =ROUND(FY18Calculations!H112*(1+HeadcountChgs!$K112),0) -> 89 | I112: =ROUND(FY18Calculations!I112*(1+HeadcountChgs!$K112),0) -> 89 | J112: =+ROUND(FY18Calculations!J112*(1+HeadcountChgs!$K112)*(TuitionRates!S113),0) -> 2479078 | K112: =+ROUND(FY18Calculations!K112*(1+HeadcountChgs!$K112)*(TuitionRates!T113),0) -> 1397993 | L112: =ROUND($L$1*K112,0) -> 55920 | M112: =+ROUND(FY18Calculations!M112*TuitionRates!S113*(1+HeadcountChgs!$K112),0) -> 0 | N112: =+ROUND(FY18Calculations!N112*TuitionRates!T113*(1+HeadcountChgs!$K112),0) -> 0 | O112: =+ROUND(FY18Calculations!O112*TuitionRates!U113*(1+HeadcountChgs!$K112),0) -> 0 | P112: =+M112+N112+O112 -> 0 | Q112: =ROUND($Q$1*(J112-L112-P112),0) -> 121158 | R112: =+J112-L112-P112-Q112 -> 2302000 | T112: 0 | U112: 0 | V112: 1 | W112: =+$R112*T112 -> 0 | X112: =+$R112*U112 -> 0 | Y112: =+$R112*V112 -> 2302000
A113: 2 | B113: 0 | C113: Graduate Tier III | D113: 11 | E113: Graduate Post-Bacc / Non-Matric | F113: 1 | G113: Resident | H113: =ROUND(FY18Calculations!H113*(1+HeadcountChgs!$K113),0) -> 4 | I113: =ROUND(FY18Calculations!I113*(1+HeadcountChgs!$K113),0) -> 5 | J113: =+ROUND(FY18Calculations!J113*(1+HeadcountChgs!$K113)*(TuitionRates!S114),0) -> 65491 | K113: =+ROUND(FY18Calculations!K113*(1+HeadcountChgs!$K113)*(TuitionRates!T114),0) -> 65491 | L113: =ROUND($L$1*K113,0) -> 2620 | M113: =+ROUND(FY18Calculations!M113*TuitionRates!S114*(1+HeadcountChgs!$K113),0) -> 0 | N113: =+ROUND(FY18Calculations!N113*TuitionRates!T114*(1+HeadcountChgs!$K113),0) -> 0 | O113: =+ROUND(FY18Calculations!O113*TuitionRates!U114*(1+HeadcountChgs!$K113),0) -> 0 | P113: =+M113+N113+O113 -> 0 | Q113: =ROUND($Q$1*(J113-L113-P113),0) -> 3144 | R113: =+J113-L113-P113-Q113 -> 59727 | T113: 0 | U113: 0 | V113: 1 | W113: =+$R113*T113 -> 0 | X113: =+$R113*U113 -> 0 | Y113: =+$R113*V113 -> 59727
A114: 2 | B114: 0 | C114: Graduate Tier III | D114: 11 | E114: Graduate Post-Bacc / Non-Matric | F114: 2 | G114: Nonresident | H114: =ROUND(FY18Calculations!H114*(1+HeadcountChgs!$K114),0) -> 0 | I114: =ROUND(FY18Calculations!I114*(1+HeadcountChgs!$K114),0) -> 0 | J114: =+ROUND(FY18Calculations!J114*(1+HeadcountChgs!$K114)*(TuitionRates!S115),0) -> 0 | K114: =+ROUND(FY18Calculations!K114*(1+HeadcountChgs!$K114)*(TuitionRates!T115),0) -> 0 | L114: =ROUND($L$1*K114,0) -> 0 | M114: =+ROUND(FY18Calculations!M114*TuitionRates!S115*(1+HeadcountChgs!$K114),0) -> 0 | N114: =+ROUND(FY18Calculations!N114*TuitionRates!T115*(1+HeadcountChgs!$K114),0) -> 0 | O114: =+ROUND(FY18Calculations!O114*TuitionRates!U115*(1+HeadcountChgs!$K114),0) -> 0 | P114: =+M114+N114+O114 -> 0 | Q114: =ROUND($Q$1*(J114-L114-P114),0) -> 0 | R114: =+J114-L114-P114-Q114 -> 0 | T114: 0 | U114: 0 | V114: 1 | W114: =+$R114*T114 -> 0 | X114: =+$R114*U114 -> 0 | Y114: =+$R114*V114 -> 0
... A118: 2 | B118: 0 | C118: MBA | D118: 52 | E118: Master of Bus Admin (Incoming) | F118: 2 | G118: Nonresident | H118: =ROUND(FY18Calculations!H118*(1+HeadcountChgs!$K118),0) -> 0 | I118: =ROUND(FY18Calculations!I118*(1+HeadcountChgs!$K118),0) -> 1 | J118: =+ROUND(FY18Calculations!J118*(1+HeadcountChgs!$K118)*(TuitionRates!S119),0) -> 19263 | K118: =+ROUND(FY18Calculations!K118*(1+HeadcountChgs!$K118)*(TuitionRates!T119),0) -> 11634 | L118: =ROUND($L$1*K118,0) -> 465 | M118: =+ROUND(FY18Calculations!M118*TuitionRates!S119*(1+HeadcountChgs!$K118),0) -> 0 | N118: =+ROUND(FY18Calculations!N118*TuitionRates!T119*(1+HeadcountChgs!$K118),0) -> 0 | O118: =+ROUND(FY18Calculations!O118*TuitionRates!U119*(1+HeadcountChgs!$K118),0) -> 0 | P118: =+M118+N118+O118 -> 0 | Q118: =ROUND($Q$1*(J118-L118-P118),0) -> 940 | R118: =+J118-L118-P118-Q118 -> 17858 | T118: 0 | U118: 0 | V118: 1 | W118: =+$R118*T118 -> 0 | X118: =+$R118*U118 -> 0 | Y118: =+$R118*V118 -> 17858
A119: 2 | B119: 0 | C119: MBA | D119: 53 | E119: Master of Bus Admin (Continuing) | F119: 1 | G119: Resident | H119: =ROUND(FY18Calculations!H119*(1+HeadcountChgs!$K119),0) -> 14 | I119: =ROUND(FY18Calculations!I119*(1+HeadcountChgs!$K119),0) -> 20 | J119: =+ROUND(FY18Calculations!J119*(1+HeadcountChgs!$K119)*(TuitionRates!S120),0) -> 337117 | K119: =+ROUND(FY18Calculations!K119*(1+HeadcountChgs!$K119)*(TuitionRates!T120),0) -> 337117 | L119: =ROUND($L$1*K119,0) -> 13485 | M119: =+ROUND(FY18Calculations!M119*TuitionRates!S120*(1+HeadcountChgs!$K119),0) -> 0 | N119: =+ROUND(FY18Calculations!N119*TuitionRates!T120*(1+HeadcountChgs!$K119),0) -> 0 | O119: =+ROUND(FY18Calculations!O119*TuitionRates!U120*(1+HeadcountChgs!$K119),0) -> 0 | P119: =+M119+N119+O119 -> 0 | Q119: =ROUND($Q$1*(J119-L119-P119),0) -> 16182 | R119: =+J119-L119-P119-Q119 -> 307450
A120: 2 | B120: 0 | C120: MBA | D120: 53 | E120: Master of Bus Admin (Continuing) | F120: 2 | G120: Nonresident | H120: =ROUND(FY18Calculations!H120*(1+HeadcountChgs!$K120),0) -> 0 | I120: =ROUND(FY18Calculations!I120*(1+HeadcountChgs!$K120),0) -> 0 | J120: =+ROUND(FY18Calculations!J120*(1+HeadcountChgs!$K120)*(TuitionRates!S121),0) -> 0 | K120: =+ROUND(FY18Calculations!K120*(1+HeadcountChgs!$K120)*(TuitionRates!T121),0) -> 0 | L120: =ROUND($L$1*K120,0) -> 0 | M120: =+ROUND(FY18Calculations!M120*TuitionRates!S121*(1+HeadcountChgs!$K120),0) -> 0 | N120: =+ROUND(FY18Calculations!N120*TuitionRates!T121*(1+HeadcountChgs!$K120),0) -> 0 | O120: =+ROUND(FY18Calculations!O120*TuitionRates!U121*(1+HeadcountChgs!$K120),0) -> 0 | P120: =+M120+N120+O120 -> 0 | Q120: =ROUND($Q$1*(J120-L120-P120),0) -> 0 | R120: =+J120-L120-P120-Q120 -> 0

Sheet FY18ProjRevToColl(new)
B1: Projected Distribution of FY18 Tuition Revenue (with new distribution parameters) - Distribution based on UG: 80% SCH, 20% Degrees; Grad: 80% SCH, 20% Major Enrollments
B2: Tuition Category | C2: Built Environments | D2: Coll Arts & Sciences | E2: Foster Business School | F2: College Of Education | G2: College Of Engineering | H2: College Of Environment | I2: The Information School | J2: School Of Law | K2: Evans Sch Of Public Af | L2: School Of Social Work | M2: School Of Dentistry | N2: School Of Medicine | O2: School Of Nursing | P2: School Of Pharmacy | Q2: Sch Of Public Health | R2: Undergrad Acad Affairs | S2: Dean-Graduate School | T2: TOTAL
C3: 252 | D3: 254 | E3: 256 | F3: 258 | G3: 260 | H3: 263 | I3: 267 | J3: 268 | K3: 270 | L3: 272 | M3: 302 | N3: 304 | O3: 306 | P3: 308 | Q3: 310 | R3: 350 | S3: 351
B4: Total Distributed
A5: 1 | B5: Undergraduate | C5: =+C28+C51 -> 5384335.2 | D5: =+D28+D51 -> 1.6949423e+08 | E5: =+E28+E51 -> 19366722 | F5: =+F28+F51 -> 4339998.6 | G5: =+G28+G51 -> 28082895 | H5: =+H28+H51 -> 14000053 | I5: =+I28+I51 -> 5138718.9 | J5: =+J28+J51 -> 103701.13 | ... S5: =+S28+S51 -> 60448.9 | T5: =SUM(C5:S5) -> 2.6719825e+08
A6: 3 | B6: Graduate Tier I | C6: =+C29+C52 -> 114834.04 | D6: =+D29+D52 -> 9545359.2 | E6: =+E29+E52 -> 331624.34 | F6: =+F29+F52 -> 46315.106 | G6: =+G29+G52 -> 674005.83 | H6: =+H29+H52 -> 49794.739 | I6: =+I29+I52 -> 226399.07 | J6: =+J29+J52 -> 7254.3403 | ... S6: =+S29+S52 -> 944698.74 | T6: =SUM(C6:S6) -> 14329186
A7: 5 | B7: Graduate Tier II | C7: =+C30+C53 -> 2839.3198 | D7: =+D30+D53 -> 51107.757 | E7: =+E30+E53 -> 473.21997 | F7: =+F30+F53 -> 5915.2496 | G7: =+G30+G53 -> 4732.1997 | H7: =+H30+H53 -> 0 | I7: =+I30+I53 -> 2129.4899 | J7: =+J30+J53 -> 0 | ... S7: =+S30+S53 -> 946.43994 | T7: =SUM(C7:S7) -> 1574639.5
A8: 7 | B8: Graduate Tier III | C8: =+C31+C54 -> 42797.229 | D8: =+D31+D54 -> 414513.91 | E8: =+E31+E54 -> 21697.289 | F8: =+F31+F54 -> 29370.179 | G8: =+G31+G54 -> 7863283.3 | H8: =+H31+H54 -> 38426.439 | I8: =+I31+I54 -> 11320.325 | J8: =+J31+J54 -> 21477.284 | ... S8: =+S31+S54 -> 166632.16 | T8: =SUM(C8:S8) -> 9267336.5
A9: 9 | B9: Coll Environ Graduate | C9: =+C32+C55 -> 2839.155 | D9: =+D32+D55 -> 124085.01 | E9: =+E32+E55 -> 1670.0912 | F9: =+F32+F55 -> 6513.3556 | G9: =+G32+G55 -> 27117.761 | H9: =+H32+H55 -> 3163176.7 | I9: =+I32+I55 -> 1336.0729 | J9: =+J32+J55 -> 9853.538 | ... S9: =+S32+S55 -> 12358.675 | T9: =SUM(C9:S9) -> 3384022.3
A10: 11 | B10: Education Graduate | C10: =+C33+C56 -> 611.4674 | D10: =+D33+D56 -> 132177.81 | E10: =+E33+E56 -> 815.28987 | F10: =+F33+F56 -> 4743663.6 | G10: =+G33+G56 -> 7949.0763 | H10: =+H33+H56 -> 16713.442 | I10: =+I33+I56 -> 7745.2538 | J10: =+J33+J56 -> 1732.1365 | ... S10: =+S33+S56 -> 5503.2066 | T10: =SUM(C10:S10) -> 4979892.5
A11: 17 | B11: MSW | C11: =+C34+C57 -> 6571.1174 | D11: =+D34+D57 -> 19141.951 | E11: =+E34+E57 -> 0 | F11: =+F34+F57 -> 12285.133 | G11: =+G34+G57 -> 0 | H11: =+H34+H57 -> 0 | I11: =+I34+I57 -> 0 | J11: =+J34+J57 -> 1142.803 | ... S11: =+S34+S57 -> 1999.9053 | T11: =SUM(C11:S11) -> 3166635.8
A12: 19 | B12: Public Health Graduate | C12: =+C35+C58 -> 5718.1582 | D12: =+D35+D58 -> 114348.19 | E12: =+E35+E58 -> 471.53895 | F12: =+F35+F58 -> 1886.1558 | G12: =+G35+G58 -> 20276.175 | H12: =+H35+H58 -> 3300.7726 | I12: =+I35+I58 -> 1414.6168 | J12: =+J35+J58 -> 0 | ... S12: =+S35+S58 -> 13794.011 | T12: =SUM(C12:S12) -> 2693371.5
A13: 21 | B13: MPH | C13: =+C36+C59 -> 3157.3361 | D13: =+D36+D59 -> 64569.522 | E13: =+E36+E59 -> 0 | F13: =+F36+F59 -> 0 | G13: =+G36+G59 -> 8472.8514 | H13: =+H36+H59 -> 2736.358 | I13: =+I36+I59 -> 210.48907 | J13: =+J36+J59 -> 3000.1354 | ... S13: =+S36+S59 -> 1473.4235 | T13: =SUM(C13:S13) -> 2412204.8
A14: 25 | B14: CBE Masters | C14: =+C37+C60 -> 4755418.6 | D14: =+D37+D60 -> 40288.312 | E14: =+E37+E60 -> 36171.258 | F14: =+F37+F60 -> 0 | G14: =+G37+G60 -> 26172.699 | H14: =+H37+H60 -> 72636.591 | I14: =+I37+I60 -> 0 | J14: =+J37+J60 -> 11468.935 | ... S14: =+S37+S60 -> 0 | T14: =SUM(C14:S14) -> 5002955.5
A15: 27 | B15: Engineering Masters | C15: =+C38+C61 -> 1919.6508 | D15: =+D38+D61 -> 16125.067 | E15: =+E38+E61 -> 0 | F15: =+F38+F61 -> 0 | G15: =+G38+G61 -> 1753377.4 | H15: =+H38+H61 -> 14996.101 | I15: =+I38+I61 -> 0 | J15: =+J38+J61 -> 0 | ... S15: =+S38+S61 -> 1151.7905 | T15: =SUM(C15:S15) -> 1907653
A16: 33 | B16: MPA | C16: =+C39+C62 -> 63942.687 | D16: =+D39+D62 -> 160008.38 | E16: =+E39+E62 -> 70638.642 | F16: =+F39+F62 -> 14728.908 | G16: =+G39+G62 -> 6612.9792 | H16: =+H39+H62 -> 64435.06 | I16: =+I39+I62 -> 4809.4395 | J16: =+J39+J62 -> 4208.2595 | ... S16: =+S39+S62 -> 3907.6696 | T16: =SUM(C16:S16) -> 4957855.7
... A24: 53 | B24: Graduate Dentistry | C24: =+C47+C70 -> 0 | D24: =+D47+D70 -> 0 | E24: =+E47+E70 -> 4541.8456 | F24: =+F47+F70 -> 0 | G24: =+G47+G70 -> 1297.6702 | H24: =+H47+H70 -> 0 | I24: =+I47+I70 -> 0 | J24: =+J47+J70 -> 0 | ... S24: =+S47+S70 -> 1622.0877 | T24: =SUM(C24:S24) -> 1177635.7
B25: Total | C25: =SUM(C5:C24) -> 10388802 | D25: =SUM(D5:D24) -> 1.8027651e+08 | E25: =SUM(E5:E24) -> 25317918 | F25: =SUM(F5:F24) -> 9201053.3 | G25: =SUM(G5:G24) -> 38496871 | H25: =SUM(H5:H24) -> 17433617 | I25: =SUM(I5:I24) -> 5397520.2 | J25: =SUM(J5:J24) -> 11411002 | ... S25: =SUM(S5:S24) -> 1230648.7 | T25: =SUM(C25:S25) -> 3.7114654e+08
B26: Distributed Based on SCH
A27: SCH | C27: 252 | D27: 254 | E27: 256 | F27: 258 | G27: 260 | H27: 263 | I27: 267 | J27: 268 | K27: 270 | L27: 272 | M27: 302 | N27: 304 | O27: 306 | P27: 308 | Q27: 310 | R27: =+R3 -> 350 | S27: =+S3 -> 351
A28: 1 | B28: Undergraduate | C28: =+UGPcntSCHNew*(VLOOKUP($A28,FY18ProjRev!$B$4:$L$23,11,FALSE))*VLOOKUP($A28,'FY17ProjSCH(revised)'!$A$3:$S$22,MATCH(C$27,'FY17ProjSCH(revised)'!$A$2:$S$2,0),FALSE) -> 4618261.2 | D28: =+UGPcntSCHNew*(VLOOKUP($A28,FY18ProjRev!$B$4:$L$23,11,FALSE))*VLOOKUP($A28,'FY17ProjSCH(revised)'!$A$3:$S$22,MATCH(D$27,'FY17ProjSCH(revised)'!$A$2:$S$2,0),FALSE) -> 1.3623584e+08 | E28: =+UGPcntSCHNew*(VLOOKUP($A28,FY18ProjRev!$B$4:$L$23,11,FALSE))*VLOOKUP($A28,'FY17ProjSCH(revised)'!$A$3:$S$22,MATCH(E$27,'FY17ProjSCH(revised)'!$A$2:$S$2,0),FALSE) -> 13698971 | F28: =+UGPcntSCHNew*(VLOOKUP($A28,FY18ProjRev!$B$4:$L$23,11,FALSE))*VLOOKUP($A28,'FY17ProjSCH(revised)'!$A$3:$S$22,MATCH(F$27,'FY17ProjSCH(revised)'!$A$2:$S$2,0),FALSE) -> 3418315.8 | G28: =+UGPcntSCHNew*(VLOOKUP($A28,FY18ProjRev!$B$4:$L$23,11,FALSE))*VLOOKUP($A28,'FY17ProjSCH(revised)'!$A$3:$S$22,MATCH(G$27,'FY17ProjSCH(revised)'!$A$2:$S$2,0),FALSE) -> 22133851 | H28: =+UGPcntSCHNew*(VLOOKUP($A28,FY18ProjRev!$B$4:$L$23,11,FALSE))*VLOOKUP($A28,'FY17ProjSCH(revised)'!$A$3:$S$22,MATCH(H$27,'FY17ProjSCH(revised)'!$A$2:$S$2,0),FALSE) -> 12180627 | I28: =+UGPcntSCHNew*(VLOOKUP($A28,FY18ProjRev!$B$4:$L$23,11,FALSE))*VLOOKUP($A28,'FY17ProjSCH(revised)'!$A$3:$S$22,MATCH(I$27,'FY17ProjSCH(revised)'!$A$2:$S$2,0),FALSE) -> 4306810.4 | J28: =+UGPcntSCHNew*(VLOOKUP($A28,FY18ProjRev!$B$4:$L$23,11,FALSE))*VLOOKUP($A28,'FY17ProjSCH(revised)'!$A$3:$S$22,MATCH(J$27,'FY17ProjSCH(revised)'!$A$2:$S$2,0),FALSE) -> 103701.13 | ... S28: =+UGPcntSCHNew*(VLOOKUP($A28,FY18ProjRev!$B$4:$L$23,11,FALSE))*VLOOKUP($A28,'FY17ProjSCH(revised)'!$A$3:$S$22,MATCH(S$27,'FY17ProjSCH(revised)'!$A$2:$S$2,0),FALSE) -> 60448.9 | T28: =SUM(C28:Q28)+R28+S28 -> 2.137586e+08
A29: 3 | B29: Graduate Tier I | C29: =+GPPcntSCHNew*(VLOOKUP($A29,FY18ProjRev!$B$4:$L$23,11,FALSE))*VLOOKUP($A29,'FY17ProjSCH(revised)'!$A$3:$S$22,MATCH(C$27,'FY17ProjSCH(revised)'!$A$2:$S$2,0),FALSE) -> 94430.022 | D29: =+GPPcntSCHNew*(VLOOKUP($A29,FY18ProjRev!$B$4:$L$23,11,FALSE))*VLOOKUP($A29,'FY17ProjSCH(revised)'!$A$3:$S$22,MATCH(D$27,'FY17ProjSCH(revised)'!$A$2:$S$2,0),FALSE) -> 7717344.6 | E29: =+GPPcntSCHNew*(VLOOKUP($A29,FY18ProjRev!$B$4:$L$23,11,FALSE))*VLOOKUP($A29,'FY17ProjSCH(revised)'!$A$3:$S$22,MATCH(E$27,'FY17ProjSCH(revised)'!$A$2:$S$2,0),FALSE) -> 255573 | F29: =+GPPcntSCHNew*(VLOOKUP($A29,FY18ProjRev!$B$4:$L$23,11,FALSE))*VLOOKUP($A29,'FY17ProjSCH(revised)'!$A$3:$S$22,MATCH(F$27,'FY17ProjSCH(revised)'!$A$2:$S$2,0),FALSE) -> 46315.106 | G29: =+GPPcntSCHNew*(VLOOKUP($A29,FY18ProjRev!$B$4:$L$23,11,FALSE))*VLOOKUP($A29,'FY17ProjSCH(revised)'!$A$3:$S$22,MATCH(G$27,'FY17ProjSCH(revised)'!$A$2:$S$2,0),FALSE) -> 551581.72 | H29: =+GPPcntSCHNew*(VLOOKUP($A29,FY18ProjRev!$B$4:$L$23,11,FALSE))*VLOOKUP($A29,'FY17ProjSCH(revised)'!$A$3:$S$22,MATCH(H$27,'FY17ProjSCH(revised)'!$A$2:$S$2,0),FALSE) -> 49794.739 | I29: =+GPPcntSCHNew*(VLOOKUP($A29,FY18ProjRev!$B$4:$L$23,11,FALSE))*VLOOKUP($A29,'FY17ProjSCH(revised)'!$A$3:$S$22,MATCH(I$27,'FY17ProjSCH(revised)'!$A$2:$S$2,0),FALSE) -> 174461.57 | J29: =+GPPcntSCHNew*(VLOOKUP($A29,FY18ProjRev!$B$4:$L$23,11,FALSE))*VLOOKUP($A29,'FY17ProjSCH(revised)'!$A$3:$S$22,MATCH(J$27,'FY17ProjSCH(revised)'!$A$2:$S$2,0),FALSE) -> 5399.4295 | ... S29: =+GPPcntSCHNew*(VLOOKUP($A29,FY18ProjRev!$B$4:$L$23,11,FALSE))*VLOOKUP($A29,'FY17ProjSCH(revised)'!$A$3:$S$22,MATCH(S$27,'FY17ProjSCH(revised)'!$A$2:$S$2,0),FALSE) -> 709125.07 | T29: =SUM(C29:Q29)+R29+S29 -> 11463349
A30: 5 | B30: Graduate Tier II | C30: =+GPPcntSCHNew*(VLOOKUP($A30,FY18ProjRev!$B$4:$L$23,11,FALSE))*VLOOKUP($A30,'FY17ProjSCH(revised)'!$A$3:$S$22,MATCH(C$27,'FY17ProjSCH(revised)'!$A$2:$S$2,0),FALSE) -> 2839.3198 | D30: =+GPPcntSCHNew*(VLOOKUP($A30,FY18ProjRev!$B$4:$L$23,11,FALSE))*VLOOKUP($A30,'FY17ProjSCH(revised)'!$A$3:$S$22,MATCH(D$27,'FY17ProjSCH(revised)'!$A$2:$S$2,0),FALSE) -> 51107.757 | E30: =+GPPcntSCHNew*(VLOOKUP($A30,FY18ProjRev!$B$4:$L$23,11,FALSE))*VLOOKUP($A30,'FY17ProjSCH(revised)'!$A$3:$S$22,MATCH(E$27,'FY17ProjSCH(revised)'!$A$2:$S$2,0),FALSE) -> 473.21997 | F30: =+GPPcntSCHNew*(VLOOKUP($A30,FY18ProjRev!$B$4:$L$23,11,FALSE))*VLOOKUP($A30,'FY17ProjSCH(revised)'!$A$3:$S$22,MATCH(F$27,'FY17ProjSCH(revised)'!$A$2:$S$2,0),FALSE) -> 5915.2496 | G30: =+GPPcntSCHNew*(VLOOKUP($A30,FY18ProjRev!$B$4:$L$23,11,FALSE))*VLOOKUP($A30,'FY17ProjSCH(revised)'!$A$3:$S$22,MATCH(G$27,'FY17ProjSCH(revised)'!$A$2:$S$2,0),FALSE) -> 4732.1997 | H30: =+GPPcntSCHNew*(VLOOKUP($A30,FY18ProjRev!$B$4:$L$23,11,FALSE))*VLOOKUP($A30,'FY17ProjSCH(revised)'!$A$3:$S$22,MATCH(H$27,'FY17ProjSCH(revised)'!$A$2:$S$2,0),FALSE) -> 0 | I30: =+GPPcntSCHNew*(VLOOKUP($A30,FY18ProjRev!$B$4:$L$23,11,FALSE))*VLOOKUP($A30,'FY17ProjSCH(revised)'!$A$3:$S$22,MATCH(I$27,'FY17ProjSCH(revised)'!$A$2:$S$2,0),FALSE) -> 2129.4899 | J30: =+GPPcntSCHNew*(VLOOKUP($A30,FY18ProjRev!$B$4:$L$23,11,FALSE))*VLOOKUP($A30,'FY17ProjSCH(revised)'!$A$3:$S$22,MATCH(J$27,'FY17ProjSCH(revised)'!$A$2:$S$2,0),FALSE) -> 0 | ... S30: =+GPPcntSCHNew*(VLOOKUP($A30,FY18ProjRev!$B$4:$L$23,11,FALSE))*VLOOKUP($A30,'FY17ProjSCH(revised)'!$A$3:$S$22,MATCH(S$27,'FY17ProjSCH(revised)'!$A$2:$S$2,0),FALSE) -> 946.43994 | T30: =SUM(C30:Q30)+R30+S30 -> 1259711.6
A31: 7 | B31: Graduate Tier III | C31: =+GPPcntSCHNew*(VLOOKUP($A31,FY18ProjRev!$B$4:$L$23,11,FALSE))*VLOOKUP($A31,'FY17ProjSCH(revised)'!$A$3:$S$22,MATCH(C$27,'FY17ProjSCH(revised)'!$A$2:$S$2,0),FALSE) -> 41319.185 | D31: =+GPPcntSCHNew*(VLOOKUP($A31,FY18ProjRev!$B$4:$L$23,11,FALSE))*VLOOKUP($A31,'FY17ProjSCH(revised)'!$A$3:$S$22,MATCH(D$27,'FY17ProjSCH(revised)'!$A$2:$S$2,0),FALSE) -> 396777.38 | E31: =+GPPcntSCHNew*(VLOOKUP($A31,FY18ProjRev!$B$4:$L$23,11,FALSE))*VLOOKUP($A31,'FY17ProjSCH(revised)'!$A$3:$S$22,MATCH(E$27,'FY17ProjSCH(revised)'!$A$2:$S$2,0),FALSE) -> 21697.289 | F31: =+GPPcntSCHNew*(VLOOKUP($A31,FY18ProjRev!$B$4:$L$23,11,FALSE))*VLOOKUP($A31,'FY17ProjSCH(revised)'!$A$3:$S$22,MATCH(F$27,'FY17ProjSCH(revised)'!$A$2:$S$2,0),FALSE) -> 26414.091 | G31: =+GPPcntSCHNew*(VLOOKUP($A31,FY18ProjRev!$B$4:$L$23,11,FALSE))*VLOOKUP($A31,'FY17ProjSCH(revised)'!$A$3:$S$22,MATCH(G$27,'FY17ProjSCH(revised)'!$A$2:$S$2,0),FALSE) -> 6252215.3 | H31: =+GPPcntSCHNew*(VLOOKUP($A31,FY18ProjRev!$B$4:$L$23,11,FALSE))*VLOOKUP($A31,'FY17ProjSCH(revised)'!$A$3:$S$22,MATCH(H$27,'FY17ProjSCH(revised)'!$A$2:$S$2,0),FALSE) -> 35470.35 | I31: =+GPPcntSCHNew*(VLOOKUP($A31,FY18ProjRev!$B$4:$L$23,11,FALSE))*VLOOKUP($A31,'FY17ProjSCH(revised)'!$A$3:$S$22,MATCH(I$27,'FY17ProjSCH(revised)'!$A$2:$S$2,0),FALSE) -> 11320.325 | J31: =+GPPcntSCHNew*(VLOOKUP($A31,FY18ProjRev!$B$4:$L$23,11,FALSE))*VLOOKUP($A31,'FY17ProjSCH(revised)'!$A$3:$S$22,MATCH(J$27,'FY17ProjSCH(revised)'!$A$2:$S$2,0),FALSE) -> 19999.24 | ... S31: =+GPPcntSCHNew*(VLOOKUP($A31,FY18ProjRev!$B$4:$L$23,11,FALSE))*VLOOKUP($A31,'FY17ProjSCH(revised)'!$A$3:$S$22,MATCH(S$27,'FY17ProjSCH(revised)'!$A$2:$S$2,0),FALSE) -> 123768.88 | T31: =SUM(C31:Q31)+R31+S31 -> 7413869.2
A32: 9 | B32: Coll Environ Graduate | C32: =+GPPcntSCHNew*(VLOOKUP($A32,FY18ProjRev!$B$4:$L$23,11,FALSE))*VLOOKUP($A32,'FY17ProjSCH(revised)'!$A$3:$S$22,MATCH(C$27,'FY17ProjSCH(revised)'!$A$2:$S$2,0),FALSE) -> 2839.155 | D32: =+GPPcntSCHNew*(VLOOKUP($A32,FY18ProjRev!$B$4:$L$23,11,FALSE))*VLOOKUP($A32,'FY17ProjSCH(revised)'!$A$3:$S$22,MATCH(D$27,'FY17ProjSCH(revised)'!$A$2:$S$2,0),FALSE) -> 112898.16 | E32: =+GPPcntSCHNew*(VLOOKUP($A32,FY18ProjRev!$B$4:$L$23,11,FALSE))*VLOOKUP($A32,'FY17ProjSCH(revised)'!$A$3:$S$22,MATCH(E$27,'FY17ProjSCH(revised)'!$A$2:$S$2,0),FALSE) -> 1670.0912 | F32: =+GPPcntSCHNew*(VLOOKUP($A32,FY18ProjRev!$B$4:$L$23,11,FALSE))*VLOOKUP($A32,'FY17ProjSCH(revised)'!$A$3:$S$22,MATCH(F$27,'FY17ProjSCH(revised)'!$A$2:$S$2,0),FALSE) -> 6513.3556 | G32: =+GPPcntSCHNew*(VLOOKUP($A32,FY18ProjRev!$B$4:$L$23,11,FALSE))*VLOOKUP($A32,'FY17ProjSCH(revised)'!$A$3:$S$22,MATCH(G$27,'FY17ProjSCH(revised)'!$A$2:$S$2,0),FALSE) -> 25719.404 | H32: =+GPPcntSCHNew*(VLOOKUP($A32,FY18ProjRev!$B$4:$L$23,11,FALSE))*VLOOKUP($A32,'FY17ProjSCH(revised)'!$A$3:$S$22,MATCH(H$27,'FY17ProjSCH(revised)'!$A$2:$S$2,0),FALSE) -> 2498957.4 | I32: =+GPPcntSCHNew*(VLOOKUP($A32,FY18ProjRev!$B$4:$L$23,11,FALSE))*VLOOKUP($A32,'FY17ProjSCH(revised)'!$A$3:$S$22,MATCH(I$27,'FY17ProjSCH(revised)'!$A$2:$S$2,0),FALSE) -> 1336.0729 | J32: =+GPPcntSCHNew*(VLOOKUP($A32,FY18ProjRev!$B$4:$L$23,11,FALSE))*VLOOKUP($A32,'FY17ProjSCH(revised)'!$A$3:$S$22,MATCH(J$27,'FY17ProjSCH(revised)'!$A$2:$S$2,0),FALSE) -> 9853.538 | ... S32: =+GPPcntSCHNew*(VLOOKUP($A32,FY18ProjRev!$B$4:$L$23,11,FALSE))*VLOOKUP($A32,'FY17ProjSCH(revised)'!$A$3:$S$22,MATCH(S$27,'FY17ProjSCH(revised)'!$A$2:$S$2,0),FALSE) -> 12358.675 | T32: =SUM(C32:Q32)+R32+S32 -> 2707217.8
A33: 11 | B33: Education Graduate | C33: =+GPPcntSCHNew*(VLOOKUP($A33,FY18ProjRev!$B$4:$L$23,11,FALSE))*VLOOKUP($A33,'FY17ProjSCH(revised)'!$A$3:$S$22,MATCH(C$27,'FY17ProjSCH(revised)'!$A$2:$S$2,0),FALSE) -> 611.4674 | D33: =+GPPcntSCHNew*(VLOOKUP($A33,FY18ProjRev!$B$4:$L$23,11,FALSE))*VLOOKUP($A33,'FY17ProjSCH(revised)'!$A$3:$S$22,MATCH(D$27,'FY17ProjSCH(revised)'!$A$2:$S$2,0),FALSE) -> 126981.4 | E33: =+GPPcntSCHNew*(VLOOKUP($A33,FY18ProjRev!$B$4:$L$23,11,FALSE))*VLOOKUP($A33,'FY17ProjSCH(revised)'!$A$3:$S$22,MATCH(E$27,'FY17ProjSCH(revised)'!$A$2:$S$2,0),FALSE) -> 815.28987 | F33: =+GPPcntSCHNew*(VLOOKUP($A33,FY18ProjRev!$B$4:$L$23,11,FALSE))*VLOOKUP($A33,'FY17ProjSCH(revised)'!$A$3:$S$22,MATCH(F$27,'FY17ProjSCH(revised)'!$A$2:$S$2,0),FALSE) -> 3754613.7 | G33: =+GPPcntSCHNew*(VLOOKUP($A33,FY18ProjRev!$B$4:$L$23,11,FALSE))*VLOOKUP($A33,'FY17ProjSCH(revised)'!$A$3:$S$22,MATCH(G$27,'FY17ProjSCH(revised)'!$A$2:$S$2,0),FALSE) -> 7949.0763 | H33: =+GPPcntSCHNew*(VLOOKUP($A33,FY18ProjRev!$B$4:$L$23,11,FALSE))*VLOOKUP($A33,'FY17ProjSCH(revised)'!$A$3:$S$22,MATCH(H$27,'FY17ProjSCH(revised)'!$A$2:$S$2,0),FALSE) -> 16713.442 | I33: =+GPPcntSCHNew*(VLOOKUP($A33,FY18ProjRev!$B$4:$L$23,11,FALSE))*VLOOKUP($A33,'FY17ProjSCH(revised)'!$A$3:$S$22,MATCH(I$27,'FY17ProjSCH(revised)'!$A$2:$S$2,0),FALSE) -> 7745.2538 | J33: =+GPPcntSCHNew*(VLOOKUP($A33,FY18ProjRev!$B$4:$L$23,11,FALSE))*VLOOKUP($A33,'FY17ProjSCH(revised)'!$A$3:$S$22,MATCH(J$27,'FY17ProjSCH(revised)'!$A$2:$S$2,0),FALSE) -> 0 | ... S33: =+GPPcntSCHNew*(VLOOKUP($A33,FY18ProjRev!$B$4:$L$23,11,FALSE))*VLOOKUP($A33,'FY17ProjSCH(revised)'!$A$3:$S$22,MATCH(S$27,'FY17ProjSCH(revised)'!$A$2:$S$2,0),FALSE) -> 5503.2066 | T33: =SUM(C33:Q33)+R33+S33 -> 3983914
A34: 17 | B34: MSW | C34: =+GPPcntSCHNew*(VLOOKUP($A34,FY18ProjRev!$B$4:$L$23,11,FALSE))*VLOOKUP($A34,'FY17ProjSCH(revised)'!$A$3:$S$22,MATCH(C$27,'FY17ProjSCH(revised)'!$A$2:$S$2,0),FALSE) -> 6571.1174 | D34: =+GPPcntSCHNew*(VLOOKUP($A34,FY18ProjRev!$B$4:$L$23,11,FALSE))*VLOOKUP($A34,'FY17ProjSCH(revised)'!$A$3:$S$22,MATCH(D$27,'FY17ProjSCH(revised)'!$A$2:$S$2,0),FALSE) -> 19141.951 | E34: =+GPPcntSCHNew*(VLOOKUP($A34,FY18ProjRev!$B$4:$L$23,11,FALSE))*VLOOKUP($A34,'FY17ProjSCH(revised)'!$A$3:$S$22,MATCH(E$27,'FY17ProjSCH(revised)'!$A$2:$S$2,0),FALSE) -> 0 | F34: =+GPPcntSCHNew*(VLOOKUP($A34,FY18ProjRev!$B$4:$L$23,11,FALSE))*VLOOKUP($A34,'FY17ProjSCH(revised)'!$A$3:$S$22,MATCH(F$27,'FY17ProjSCH(revised)'!$A$2:$S$2,0),FALSE) -> 12285.133 | G34: =+GPPcntSCHNew*(VLOOKUP($A34,FY18ProjRev!$B$4:$L$23,11,FALSE))*VLOOKUP($A34,'FY17ProjSCH(revised)'!$A$3:$S$22,MATCH(G$27,'FY17ProjSCH(revised)'!$A$2:$S$2,0),FALSE) -> 0 | H34: =+GPPcntSCHNew*(VLOOKUP($A34,FY18ProjRev!$B$4:$L$23,11,FALSE))*VLOOKUP($A34,'FY17ProjSCH(revised)'!$A$3:$S$22,MATCH(H$27,'FY17ProjSCH(revised)'!$A$2:$S$2,0),FALSE) -> 0 | I34: =+GPPcntSCHNew*(VLOOKUP($A34,FY18ProjRev!$B$4:$L$23,11,FALSE))*VLOOKUP($A34,'FY17ProjSCH(revised)'!$A$3:$S$22,MATCH(I$27,'FY17ProjSCH(revised)'!$A$2:$S$2,0),FALSE) -> 0 | J34: =+GPPcntSCHNew*(VLOOKUP($A34,FY18ProjRev!$B$4:$L$23,11,FALSE))*VLOOKUP($A34,'FY17ProjSCH(revised)'!$A$3:$S$22,MATCH(J$27,'FY17ProjSCH(revised)'!$A$2:$S$2,0),FALSE) -> 1142.803 | ... S34: =+GPPcntSCHNew*(VLOOKUP($A34,FY18ProjRev!$B$4:$L$23,11,FALSE))*VLOOKUP($A34,'FY17ProjSCH(revised)'!$A$3:$S$22,MATCH(S$27,'FY17ProjSCH(revised)'!$A$2:$S$2,0),FALSE) -> 1999.9053 | T34: =SUM(C34:Q34)+R34+S34 -> 2533308.6
