Workbook

Sheet All Funds Rollup
A2: =CONCATENATE(LEFT(GOF!A2:N2,(FIND("-",GOF!A2:N2) -1 )), "ALL FUNDS ROLLUP") -> #VALUE!
A3: **Do Not Modify Sheet**
A4: Instructions: 1) Please read the instructions on the individual fund source worksheets (purple tabs) and provide the requested budget authority/revenues and expenditure forecasts for FY's 2020-2023. 2) All data from the purple tabs will automatically calculate for this tab. No input is needed on this sheet by end users. 3) This worksheet is a reflection of the unit's annual net operating position. Therefore, opening and ending balances are not included. Net contributions to (or Use of) Fund Balance figures on this sheet are presented for purposes of providing a contextual scale of the unit's operations only. 4) Many of the underlying funds presented here are restricted to a specific use and are, therefore, not freely accessible to be directed towards initiatives or operations outside of the restricted scope. 5) If applicable, UWC2 Fee-Based program activity is included to represent the unit's total scope of responsibility.
B8: Biennium 17 (Actuals/Plan) | H8: Biennium 19 (Plan) | L8: Biennium 21 (Plan)
B9: FY18 Actuals | C9: FY19 Actuals | D9: Bien Total | E9: FY19 Submitted Plan | F9: FY19 Variance (Actuals Over [Under] Plan) | H9: FY20 Plan | I9: FY21 Plan | J9: Bien Total | L9: FY22 Plan | M9: FY23 Plan | N9: Bien Total
A10: BUDGET AUTHORITY/REVENUES
A11: General Operating Fund (includes provisos)
A12: Permanent Budget | B12: =+GOF!B10+GOF!B13 -> 0 | C12: =+GOF!C10+GOF!C13 -> 0 | E12: =+GOF!D10+GOF!D13 -> 0 | F12: =+GOF!E10+GOF!E13 -> 0 | H12: =+GOF!H10+GOF!H13 -> 0 | I12: =+GOF!I10+GOF!I13 -> 0 | L12: =+GOF!L10+GOF!L13 -> 0 | M12: =+GOF!M10+GOF!M13 -> 0
A13: Temporary Budget | B13: =+GOF!B11+GOF!B14 -> 0 | C13: =+GOF!C11+GOF!C14 -> 0 | E13: =+GOF!D11+GOF!D14 -> 0 | F13: =+GOF!E11+GOF!E14 -> 0 | H13: =+GOF!H11+GOF!H14 -> 0 | I13: =+GOF!I11+GOF!I14 -> 0 | L13: =+GOF!L11+GOF!L14 -> 0 | M13: =+GOF!M11+GOF!M14 -> 0
A14: Designated Operating Fund
A15: Permanent Budget | B15: =+DOF!B10 -> 0 | C15: =+DOF!C10 -> 0 | E15: =+DOF!D10 -> 0 | F15: =+DOF!E10 -> 0 | H15: =+DOF!H10 -> 0 | I15: =+DOF!I10 -> 0 | L15: =+DOF!L10 -> 0 | M15: =+DOF!M10 -> 0
A16: Temporary Budget | B16: =+DOF!B11 -> 0 | C16: =+DOF!C11 -> 0 | E16: =+DOF!D11 -> 0 | F16: =+DOF!E11 -> 0 | H16: =+DOF!H11 -> 0 | I16: =+DOF!I11 -> 0 | L16: =+DOF!L11 -> 0 | M16: =+DOF!M11 -> 0
A17: Restricted Operating Fund
A18: Special State Appropriations - Perm & Temp | B18: =+'Special State Appropriations'!B12 -> 0 | C18: =+'Special State Appropriations'!C12 -> 0 | E18: =+'Special State Appropriations'!D12 -> 0 | F18: =+'Special State Appropriations'!E12 -> 0 | H18: =+'Special State Appropriations'!H12 -> 0 | I18: =+'Special State Appropriations'!I12 -> 0 | L18: =+'Special State Appropriations'!L12 -> 0 | M18: =+'Special State Appropriations'!M12 -> 0
A19: Grants & Contracts Sponsored Projects | B19: =+'Sponsored Projects'!B11 -> 0 | C19: =+'Sponsored Projects'!C11 -> 0 | E19: =+'Sponsored Projects'!D11 -> 0 | F19: =+'Sponsored Projects'!E11 -> 0 | H19: =+'Sponsored Projects'!H11 -> 0 | I19: =+'Sponsored Projects'!I11 -> 0 | L19: =+'Sponsored Projects'!L11 -> 0 | M19: =+'Sponsored Projects'!M11 -> 0
A20: Grants & Contracts Student Aid | B20: =+'Student Aid'!B11 -> 0 | C20: =+'Student Aid'!C11 -> 0 | E20: =+'Student Aid'!D11 -> 0 | F20: =+'Student Aid'!E11 -> 0 | H20: =+'Student Aid'!H11 -> 0 | I20: =+'Student Aid'!I11 -> 0 | L20: =+'Student Aid'!L11 -> 0 | M20: =+'Student Aid'!M11 -> 0
A21: Grants & Contracts Others | B21: =+'Other Grant-Contract Types'!B11 -> 0 | C21: =+'Other Grant-Contract Types'!C11 -> 0 | E21: =+'Other Grant-Contract Types'!D11 -> 0 | F21: =+'Other Grant-Contract Types'!E11 -> 0 | H21: =+'Other Grant-Contract Types'!H11 -> 0 | I21: =+'Other Grant-Contract Types'!I11 -> 0 | L21: =+'Other Grant-Contract Types'!L11 -> 0 | M21: =+'Other Grant-Contract Types'!M11 -> 0
A22: Gifts and Discretionary | B22: =+'Gifts-Discretionary'!B11 -> 0 | C22: =+'Gifts-Discretionary'!C11 -> 0 | E22: =+'Gifts-Discretionary'!D11 -> 0 | F22: =+'Gifts-Discretionary'!E11 -> 0 | H22: =+'Gifts-Discretionary'!H11 -> 0 | I22: =+'Gifts-Discretionary'!I11 -> 0 | L22: =+'Gifts-Discretionary'!L11 -> 0 | M22: =+'Gifts-Discretionary'!M11 -> 0
A23: Self-Sustaining | B23: =+'Self Sustaining'!B11 -> 0 | C23: =+'Self Sustaining'!C11 -> 0 | E23: =+'Self Sustaining'!D11 -> 0 | F23: =+'Self Sustaining'!E11 -> 0 | H23: =+'Self Sustaining'!H11 -> 0 | I23: =+'Self Sustaining'!I11 -> 0 | L23: =+'Self Sustaining'!L11 -> 0 | M23: =+'Self Sustaining'!M11 -> 0
A24: UWC2 Fee Based Programs | B24: =+'UWC2 Fee Based Programs'!B11 -> 0 | C24: =+'UWC2 Fee Based Programs'!C11 -> 0 | E24: =+'UWC2 Fee Based Programs'!D11 -> 0 | F24: =+'UWC2 Fee Based Programs'!E11 -> 0 | H24: =+'UWC2 Fee Based Programs'!H11 -> 0 | I24: =+'UWC2 Fee Based Programs'!I11 -> 0 | L24: =+'UWC2 Fee Based Programs'!L11 -> 0 | M24: =+'UWC2 Fee Based Programs'!M11 -> 0 | N24: =+'Self Sustaining'!N12 -> 0
A25: Practice Plan Dept of Public Assistance | B25: =+'Practice Plan'!B11 -> 0 | C25: =+'Practice Plan'!C11 -> 0 | E25: =+'Practice Plan'!D11 -> 0 | F25: =+'Practice Plan'!E11 -> 0 | H25: =+'Practice Plan'!H11 -> 0 | I25: =+'Practice Plan'!I11 -> 0 | J25: =+'Practice Plan'!J11 -> 0 | L25: =+'Practice Plan'!L11 -> 0 | M25: =+'Practice Plan'!M11 -> 0
A26: Total Budget Authority & Revenues | B26: =SUM(B12:B25) -> 0 | C26: =SUM(C12:C25) -> 0 | E26: =SUM(E12:E25) -> 0 | F26: =SUM(F12:F25) -> 0 | H26: =SUM(H12:H25) -> 0 | I26: =SUM(I12:I25) -> 0 | L26: =SUM(L12:L25) -> 0 | M26: =SUM(M12:M25) -> 0
A28: EXPENDITURES
A29: Salaries, Wages and Benefits
A30: Faculty and academic personnel (01-10) | B30: =GOF!B19+DOF!B16+'Special State Appropriations'!B16+'Sponsored Projects'!B15+'Student Aid'!B15+'Other Grant-Contract Types'!B15+'Gifts-Discretionary'!B15+'Self Sustaining'!B15+'UWC2 Fee Based Programs'!B15+'Practice Plan'!B15 -> 0 | C30: =GOF!C19+DOF!C16+'Special State Appropriations'!C16+'Sponsored Projects'!C15+'Student Aid'!C15+'Other Grant-Contract Types'!C15+'Gifts-Discretionary'!C15+'Self Sustaining'!C15+'UWC2 Fee Based Programs'!C15+'Practice Plan'!C15 -> 0 | E30: =GOF!D19+DOF!D16+'Special State Appropriations'!D16+'Sponsored Projects'!D15+'Student Aid'!D15+'Other Grant-Contract Types'!D15+'Gifts-Discretionary'!D15+'Self Sustaining'!D15+'UWC2 Fee Based Programs'!D15+'Practice Plan'!D15 -> 0 | F30: =GOF!E19+DOF!E16+'Special State Appropriations'!E16+'Sponsored Projects'!E15+'Student Aid'!E15+'Other Grant-Contract Types'!E15+'Gifts-Discretionary'!E15+'Self Sustaining'!E15+'UWC2 Fee Based Programs'!E15+'Practice Plan'!E15 -> 0 | H30: =GOF!H19+DOF!H16+'Special State Appropriations'!H16+'Sponsored Projects'!H15+'Student Aid'!H15+'Other Grant-Contract Types'!H15+'Gifts-Discretionary'!H15+'Self Sustaining'!H15+'UWC2 Fee Based Programs'!H15+'Practice Plan'!H15 -> 0 | I30: =GOF!I19+DOF!I16+'Special State Appropriations'!I16+'Sponsored Projects'!I15+'Student Aid'!I15+'Other Grant-Contract Types'!I15+'Gifts-Discretionary'!I15+'Self Sustaining'!I15+'UWC2 Fee Based Programs'!I15+'Practice Plan'!I15 -> 0 | L30: =GOF!L19+DOF!L16+'Special State Appropriations'!L16+'Sponsored Projects'!L15+'Student Aid'!L15+'Other Grant-Contract Types'!L15+'Gifts-Discretionary'!L15+'Self Sustaining'!L15+'UWC2 Fee Based Programs'!L15+'Practice Plan'!L15 -> 0 | M30: =GOF!M19+DOF!M16+'Special State Appropriations'!M16+'Sponsored Projects'!M15+'Student Aid'!M15+'Other Grant-Contract Types'!M15+'Gifts-Discretionary'!M15+'Self Sustaining'!M15+'UWC2 Fee Based Programs'!M15+'Practice Plan'!M15 -> 0 | N30: =+GOF!N19+DOF!N16+'Special State Appropriations'!N16+'Practice Plan'!N14+'Sponsored Projects'!N15+'Student Aid'!N15+'Other Grant-Contract Types'!N15+'Gifts-Discretionary'!N15+'Self Sustaining'!N15 -> 0
A31: Auxiliary teaching (01-20) | B31: =GOF!B20+DOF!B17+'Special State Appropriations'!B17+'Sponsored Projects'!B16+'Student Aid'!B16+'Other Grant-Contract Types'!B16+'Gifts-Discretionary'!B16+'Self Sustaining'!B16+'UWC2 Fee Based Programs'!B16+'Practice Plan'!B16 -> 0 | C31: =GOF!C20+DOF!C17+'Special State Appropriations'!C17+'Sponsored Projects'!C16+'Student Aid'!C16+'Other Grant-Contract Types'!C16+'Gifts-Discretionary'!C16+'Self Sustaining'!C16+'UWC2 Fee Based Programs'!C16+'Practice Plan'!C16 -> 0 | E31: =GOF!D20+DOF!D17+'Special State Appropriations'!D17+'Sponsored Projects'!D16+'Student Aid'!D16+'Other Grant-Contract Types'!D16+'Gifts-Discretionary'!D16+'Self Sustaining'!D16+'UWC2 Fee Based Programs'!D16+'Practice Plan'!D16 -> 0 | F31: =GOF!E20+DOF!E17+'Special State Appropriations'!E17+'Sponsored Projects'!E16+'Student Aid'!E16+'Other Grant-Contract Types'!E16+'Gifts-Discretionary'!E16+'Self Sustaining'!E16+'UWC2 Fee Based Programs'!E16+'Practice Plan'!E16 -> 0 | H31: =GOF!H20+DOF!H17+'Special State Appropriations'!H17+'Sponsored Projects'!H16+'Student Aid'!H16+'Other Grant-Contract Types'!H16+'Gifts-Discretionary'!H16+'Self Sustaining'!H16+'UWC2 Fee Based Programs'!H16+'Practice Plan'!H16 -> 0 | I31: =GOF!I20+DOF!I17+'Special State Appropriations'!I17+'Sponsored Projects'!I16+'Student Aid'!I16+'Other Grant-Contract Types'!I16+'Gifts-Discretionary'!I16+'Self Sustaining'!I16+'UWC2 Fee Based Programs'!I16+'Practice Plan'!I16 -> 0 | L31: =GOF!L20+DOF!L17+'Special State Appropriations'!L17+'Sponsored Projects'!L16+'Student Aid'!L16+'Other Grant-Contract Types'!L16+'Gifts-Discretionary'!L16+'Self Sustaining'!L16+'UWC2 Fee Based Programs'!L16+'Practice Plan'!L16 -> 0 | M31: =GOF!M20+DOF!M17+'Special State Appropriations'!M17+'Sponsored Projects'!M16+'Student Aid'!M16+'Other Grant-Contract Types'!M16+'Gifts-Discretionary'!M16+'Self Sustaining'!M16+'UWC2 Fee Based Programs'!M16+'Practice Plan'!M16 -> 0
A32: Graduate Students (01-30, 01-40) | B32: =GOF!B21+DOF!B18+'Special State Appropriations'!B18+'Sponsored Projects'!B17+'Student Aid'!B17+'Other Grant-Contract Types'!B17+'Gifts-Discretionary'!B17+'Self Sustaining'!B17+'UWC2 Fee Based Programs'!B17+'Practice Plan'!B17 -> 0 | C32: =GOF!C21+DOF!C18+'Special State Appropriations'!C18+'Sponsored Projects'!C17+'Student Aid'!C17+'Other Grant-Contract Types'!C17+'Gifts-Discretionary'!C17+'Self Sustaining'!C17+'UWC2 Fee Based Programs'!C17+'Practice Plan'!C17 -> 0 | E32: =GOF!D21+DOF!D18+'Special State Appropriations'!D18+'Sponsored Projects'!D17+'Student Aid'!D17+'Other Grant-Contract Types'!D17+'Gifts-Discretionary'!D17+'Self Sustaining'!D17+'UWC2 Fee Based Programs'!D17+'Practice Plan'!D17 -> 0 | F32: =GOF!E21+DOF!E18+'Special State Appropriations'!E18+'Sponsored Projects'!E17+'Student Aid'!E17+'Other Grant-Contract Types'!E17+'Gifts-Discretionary'!E17+'Self Sustaining'!E17+'UWC2 Fee Based Programs'!E17+'Practice Plan'!E17 -> 0 | H32: =GOF!H21+DOF!H18+'Special State Appropriations'!H18+'Sponsored Projects'!H17+'Student Aid'!H17+'Other Grant-Contract Types'!H17+'Gifts-Discretionary'!H17+'Self Sustaining'!H17+'UWC2 Fee Based Programs'!H17+'Practice Plan'!H17 -> 0 | I32: =GOF!I21+DOF!I18+'Special State Appropriations'!I18+'Sponsored Projects'!I17+'Student Aid'!I17+'Other Grant-Contract Types'!I17+'Gifts-Discretionary'!I17+'Self Sustaining'!I17+'UWC2 Fee Based Programs'!I17+'Practice Plan'!I17 -> 0 | L32: =GOF!L21+DOF!L18+'Special State Appropriations'!L18+'Sponsored Projects'!L17+'Student Aid'!L17+'Other Grant-Contract Types'!L17+'Gifts-Discretionary'!L17+'Self Sustaining'!L17+'UWC2 Fee Based Programs'!L17+'Practice Plan'!L17 -> 0 | M32: =GOF!M21+DOF!M18+'Special State Appropriations'!M18+'Sponsored Projects'!M17+'Student Aid'!M17+'Other Grant-Contract Types'!M17+'Gifts-Discretionary'!M17+'Self Sustaining'!M17+'UWC2 Fee Based Programs'!M17+'Practice Plan'!M17 -> 0
A33: Post-doc research trainee (01-50) | B33: =GOF!B22+DOF!B19+'Special State Appropriations'!B19+'Sponsored Projects'!B18+'Student Aid'!B18+'Other Grant-Contract Types'!B18+'Gifts-Discretionary'!B18+'Self Sustaining'!B18+'UWC2 Fee Based Programs'!B18+'Practice Plan'!B18 -> 0 | C33: =GOF!C22+DOF!C19+'Special State Appropriations'!C19+'Sponsored Projects'!C18+'Student Aid'!C18+'Other Grant-Contract Types'!C18+'Gifts-Discretionary'!C18+'Self Sustaining'!C18+'UWC2 Fee Based Programs'!C18+'Practice Plan'!C18 -> 0 | E33: =GOF!D22+DOF!D19+'Special State Appropriations'!D19+'Sponsored Projects'!D18+'Student Aid'!D18+'Other Grant-Contract Types'!D18+'Gifts-Discretionary'!D18+'Self Sustaining'!D18+'UWC2 Fee Based Programs'!D18+'Practice Plan'!D18 -> 0 | F33: =GOF!E22+DOF!E19+'Special State Appropriations'!E19+'Sponsored Projects'!E18+'Student Aid'!E18+'Other Grant-Contract Types'!E18+'Gifts-Discretionary'!E18+'Self Sustaining'!E18+'UWC2 Fee Based Programs'!E18+'Practice Plan'!E18 -> 0 | H33: =GOF!H22+DOF!H19+'Special State Appropriations'!H19+'Sponsored Projects'!H18+'Student Aid'!H18+'Other Grant-Contract Types'!H18+'Gifts-Discretionary'!H18+'Self Sustaining'!H18+'UWC2 Fee Based Programs'!H18+'Practice Plan'!H18 -> 0 | I33: =GOF!I22+DOF!I19+'Special State Appropriations'!I19+'Sponsored Projects'!I18+'Student Aid'!I18+'Other Grant-Contract Types'!I18+'Gifts-Discretionary'!I18+'Self Sustaining'!I18+'UWC2 Fee Based Programs'!I18+'Practice Plan'!I18 -> 0 | L33: =GOF!L22+DOF!L19+'Special State Appropriations'!L19+'Sponsored Projects'!L18+'Student Aid'!L18+'Other Grant-Contract Types'!L18+'Gifts-Discretionary'!L18+'Self Sustaining'!L18+'UWC2 Fee Based Programs'!L18+'Practice Plan'!L18 -> 0 | M33: =GOF!M22+DOF!M19+'Special State Appropriations'!M19+'Sponsored Projects'!M18+'Student Aid'!M18+'Other Grant-Contract Types'!M18+'Gifts-Discretionary'!M18+'Self Sustaining'!M18+'UWC2 Fee Based Programs'!M18+'Practice Plan'!M18 -> 0
A34: Classified staff (01-60) | B34: =GOF!B23+DOF!B20+'Special State Appropriations'!B20+'Sponsored Projects'!B19+'Student Aid'!B19+'Other Grant-Contract Types'!B19+'Gifts-Discretionary'!B19+'Self Sustaining'!B19+'UWC2 Fee Based Programs'!B19+'Practice Plan'!B19 -> 0 | C34: =GOF!C23+DOF!C20+'Special State Appropriations'!C20+'Sponsored Projects'!C19+'Student Aid'!C19+'Other Grant-Contract Types'!C19+'Gifts-Discretionary'!C19+'Self Sustaining'!C19+'UWC2 Fee Based Programs'!C19+'Practice Plan'!C19 -> 0 | E34: =GOF!D23+DOF!D20+'Special State Appropriations'!D20+'Sponsored Projects'!D19+'Student Aid'!D19+'Other Grant-Contract Types'!D19+'Gifts-Discretionary'!D19+'Self Sustaining'!D19+'UWC2 Fee Based Programs'!D19+'Practice Plan'!D19 -> 0 | F34: =GOF!E23+DOF!E20+'Special State Appropriations'!E20+'Sponsored Projects'!E19+'Student Aid'!E19+'Other Grant-Contract Types'!E19+'Gifts-Discretionary'!E19+'Self Sustaining'!E19+'UWC2 Fee Based Programs'!E19+'Practice Plan'!E19 -> 0 | H34: =GOF!H23+DOF!H20+'Special State Appropriations'!H20+'Sponsored Projects'!H19+'Student Aid'!H19+'Other Grant-Contract Types'!H19+'Gifts-Discretionary'!H19+'Self Sustaining'!H19+'UWC2 Fee Based Programs'!H19+'Practice Plan'!H19 -> 0 | I34: =GOF!I23+DOF!I20+'Special State Appropriations'!I20+'Sponsored Projects'!I19+'Student Aid'!I19+'Other Grant-Contract Types'!I19+'Gifts-Discretionary'!I19+'Self Sustaining'!I19+'UWC2 Fee Based Programs'!I19+'Practice Plan'!I19 -> 0 | L34: =GOF!L23+DOF!L20+'Special State Appropriations'!L20+'Sponsored Projects'!L19+'Student Aid'!L19+'Other Grant-Contract Types'!L19+'Gifts-Discretionary'!L19+'Self Sustaining'!L19+'UWC2 Fee Based Programs'!L19+'Practice Plan'!L19 -> 0 | M34: =GOF!M23+DOF!M20+'Special State Appropriations'!M20+'Sponsored Projects'!M19+'Student Aid'!M19+'Other Grant-Contract Types'!M19+'Gifts-Discretionary'!M19+'Self Sustaining'!M19+'UWC2 Fee Based Programs'!M19+'Practice Plan'!M19 -> 0
A35: Professional staff (01-70) | B35: =GOF!B24+DOF!B21+'Special State Appropriations'!B21+'Sponsored Projects'!B20+'Student Aid'!B20+'Other Grant-Contract Types'!B20+'Gifts-Discretionary'!B20+'Self Sustaining'!B20+'UWC2 Fee Based Programs'!B20+'Practice Plan'!B20 -> 0 | C35: =GOF!C24+DOF!C21+'Special State Appropriations'!C21+'Sponsored Projects'!C20+'Student Aid'!C20+'Other Grant-Contract Types'!C20+'Gifts-Discretionary'!C20+'Self Sustaining'!C20+'UWC2 Fee Based Programs'!C20+'Practice Plan'!C20 -> 0 | E35: =GOF!D24+DOF!D21+'Special State Appropriations'!D21+'Sponsored Projects'!D20+'Student Aid'!D20+'Other Grant-Contract Types'!D20+'Gifts-Discretionary'!D20+'Self Sustaining'!D20+'UWC2 Fee Based Programs'!D20+'Practice Plan'!D20 -> 0 | F35: =GOF!E24+DOF!E21+'Special State Appropriations'!E21+'Sponsored Projects'!E20+'Student Aid'!E20+'Other Grant-Contract Types'!E20+'Gifts-Discretionary'!E20+'Self Sustaining'!E20+'UWC2 Fee Based Programs'!E20+'Practice Plan'!E20 -> 0 | H35: =GOF!H24+DOF!H21+'Special State Appropriations'!H21+'Sponsored Projects'!H20+'Student Aid'!H20+'Other Grant-Contract Types'!H20+'Gifts-Discretionary'!H20+'Self Sustaining'!H20+'UWC2 Fee Based Programs'!H20+'Practice Plan'!H20 -> 0 | I35: =GOF!I24+DOF!I21+'Special State Appropriations'!I21+'Sponsored Projects'!I20+'Student Aid'!I20+'Other Grant-Contract Types'!I20+'Gifts-Discretionary'!I20+'Self Sustaining'!I20+'UWC2 Fee Based Programs'!I20+'Practice Plan'!I20 -> 0 | L35: =GOF!L24+DOF!L21+'Special State Appropriations'!L21+'Sponsored Projects'!L20+'Student Aid'!L20+'Other Grant-Contract Types'!L20+'Gifts-Discretionary'!L20+'Self Sustaining'!L20+'UWC2 Fee Based Programs'!L20+'Practice Plan'!L20 -> 0 | M35: =GOF!M24+DOF!M21+'Special State Appropriations'!M21+'Sponsored Projects'!M20+'Student Aid'!M20+'Other Grant-Contract Types'!M20+'Gifts-Discretionary'!M20+'Self Sustaining'!M20+'UWC2 Fee Based Programs'!M20+'Practice Plan'!M20 -> 0
A36: Temporary staff (01-80) | B36: =GOF!B25+DOF!B22+'Special State Appropriations'!B22+'Sponsored Projects'!B21+'Student Aid'!B21+'Other Grant-Contract Types'!B21+'Gifts-Discretionary'!B21+'Self Sustaining'!B21+'UWC2 Fee Based Programs'!B21+'Practice Plan'!B21 -> 0 | C36: =GOF!C25+DOF!C22+'Special State Appropriations'!C22+'Sponsored Projects'!C21+'Student Aid'!C21+'Other Grant-Contract Types'!C21+'Gifts-Discretionary'!C21+'Self Sustaining'!C21+'UWC2 Fee Based Programs'!C21+'Practice Plan'!C21 -> 0 | E36: =GOF!D25+DOF!D22+'Special State Appropriations'!D22+'Sponsored Projects'!D21+'Student Aid'!D21+'Other Grant-Contract Types'!D21+'Gifts-Discretionary'!D21+'Self Sustaining'!D21+'UWC2 Fee Based Programs'!D21+'Practice Plan'!D21 -> 0 | F36: =GOF!E25+DOF!E22+'Special State Appropriations'!E22+'Sponsored Projects'!E21+'Student Aid'!E21+'Other Grant-Contract Types'!E21+'Gifts-Discretionary'!E21+'Self Sustaining'!E21+'UWC2 Fee Based Programs'!E21+'Practice Plan'!E21 -> 0 | H36: =GOF!H25+DOF!H22+'Special State Appropriations'!H22+'Sponsored Projects'!H21+'Student Aid'!H21+'Other Grant-Contract Types'!H21+'Gifts-Discretionary'!H21+'Self Sustaining'!H21+'UWC2 Fee Based Programs'!H21+'Practice Plan'!H21 -> 0 | I36: =GOF!I25+DOF!I22+'Special State Appropriations'!I22+'Sponsored Projects'!I21+'Student Aid'!I21+'Other Grant-Contract Types'!I21+'Gifts-Discretionary'!I21+'Self Sustaining'!I21+'UWC2 Fee Based Programs'!I21+'Practice Plan'!I21 -> 0 | L36: =GOF!L25+DOF!L22+'Special State Appropriations'!L22+'Sponsored Projects'!L21+'Student Aid'!L21+'Other Grant-Contract Types'!L21+'Gifts-Discretionary'!L21+'Self Sustaining'!L21+'UWC2 Fee Based Programs'!L21+'Practice Plan'!L21 -> 0 | M36: =GOF!M25+DOF!M22+'Special State Appropriations'!M22+'Sponsored Projects'!M21+'Student Aid'!M21+'Other Grant-Contract Types'!M21+'Gifts-Discretionary'!M21+'Self Sustaining'!M21+'UWC2 Fee Based Programs'!M21+'Practice Plan'!M21 -> 0
A37: Pre-doc Trainees (01-90) | B37: =GOF!B26+DOF!B23+'Special State Appropriations'!B23+'Sponsored Projects'!B22+'Student Aid'!B22+'Other Grant-Contract Types'!B22+'Gifts-Discretionary'!B22+'Self Sustaining'!B22+'UWC2 Fee Based Programs'!B22+'Practice Plan'!B22 -> 0 | C37: =GOF!C26+DOF!C23+'Special State Appropriations'!C23+'Sponsored Projects'!C22+'Student Aid'!C22+'Other Grant-Contract Types'!C22+'Gifts-Discretionary'!C22+'Self Sustaining'!C22+'UWC2 Fee Based Programs'!C22+'Practice Plan'!C22 -> 0 | E37: =GOF!D26+DOF!D23+'Special State Appropriations'!D23+'Sponsored Projects'!D22+'Student Aid'!D22+'Other Grant-Contract Types'!D22+'Gifts-Discretionary'!D22+'Self Sustaining'!D22+'UWC2 Fee Based Programs'!D22+'Practice Plan'!D22 -> 0 | F37: =GOF!E26+DOF!E23+'Special State Appropriations'!E23+'Sponsored Projects'!E22+'Student Aid'!E22+'Other Grant-Contract Types'!E22+'Gifts-Discretionary'!E22+'Self Sustaining'!E22+'UWC2 Fee Based Programs'!E22+'Practice Plan'!E22 -> 0 | H37: =GOF!H26+DOF!H23+'Special State Appropriations'!H23+'Sponsored Projects'!H22+'Student Aid'!H22+'Other Grant-Contract Types'!H22+'Gifts-Discretionary'!H22+'Self Sustaining'!H22+'UWC2 Fee Based Programs'!H22+'Practice Plan'!H22 -> 0 | I37: =GOF!I26+DOF!I23+'Special State Appropriations'!I23+'Sponsored Projects'!I22+'Student Aid'!I22+'Other Grant-Contract Types'!I22+'Gifts-Discretionary'!I22+'Self Sustaining'!I22+'UWC2 Fee Based Programs'!I22+'Practice Plan'!I22 -> 0 | L37: =GOF!L26+DOF!L23+'Special State Appropriations'!L23+'Sponsored Projects'!L22+'Student Aid'!L22+'Other Grant-Contract Types'!L22+'Gifts-Discretionary'!L22+'Self Sustaining'!L22+'UWC2 Fee Based Programs'!L22+'Practice Plan'!L22 -> 0 | M37: =GOF!M26+DOF!M23+'Special State Appropriations'!M23+'Sponsored Projects'!M22+'Student Aid'!M22+'Other Grant-Contract Types'!M22+'Gifts-Discretionary'!M22+'Self Sustaining'!M22+'UWC2 Fee Based Programs'!M22+'Practice Plan'!M22 -> 0
A38: Employee benefits (07) | B38: =GOF!B27+DOF!B24+'Special State Appropriations'!B24+'Sponsored Projects'!B23+'Student Aid'!B23+'Other Grant-Contract Types'!B23+'Gifts-Discretionary'!B23+'Self Sustaining'!B23+'UWC2 Fee Based Programs'!B23+'Practice Plan'!B23 -> 0 | C38: =GOF!C27+DOF!C24+'Special State Appropriations'!C24+'Sponsored Projects'!C23+'Student Aid'!C23+'Other Grant-Contract Types'!C23+'Gifts-Discretionary'!C23+'Self Sustaining'!C23+'UWC2 Fee Based Programs'!C23+'Practice Plan'!C23 -> 0 | E38: =GOF!D27+DOF!D24+'Special State Appropriations'!D24+'Sponsored Projects'!D23+'Student Aid'!D23+'Other Grant-Contract Types'!D23+'Gifts-Discretionary'!D23+'Self Sustaining'!D23+'UWC2 Fee Based Programs'!D23+'Practice Plan'!D23 -> 0 | F38: =GOF!E27+DOF!E24+'Special State Appropriations'!E24+'Sponsored Projects'!E23+'Student Aid'!E23+'Other Grant-Contract Types'!E23+'Gifts-Discretionary'!E23+'Self Sustaining'!E23+'UWC2 Fee Based Programs'!E23+'Practice Plan'!E23 -> 0 | H38: =GOF!H27+DOF!H24+'Special State Appropriations'!H24+'Sponsored Projects'!H23+'Student Aid'!H23+'Other Grant-Contract Types'!H23+'Gifts-Discretionary'!H23+'Self Sustaining'!H23+'UWC2 Fee Based Programs'!H23+'Practice Plan'!H23 -> 0 | I38: =GOF!I27+DOF!I24+'Special State Appropriations'!I24+'Sponsored Projects'!I23+'Student Aid'!I23+'Other Grant-Contract Types'!I23+'Gifts-Discretionary'!I23+'Self Sustaining'!I23+'UWC2 Fee Based Programs'!I23+'Practice Plan'!I23 -> 0 | L38: =GOF!L27+DOF!L24+'Special State Appropriations'!L24+'Sponsored Projects'!L23+'Student Aid'!L23+'Other Grant-Contract Types'!L23+'Gifts-Discretionary'!L23+'Self Sustaining'!L23+'UWC2 Fee Based Programs'!L23+'Practice Plan'!L23 -> 0 | M38: =GOF!M27+DOF!M24+'Special State Appropriations'!M24+'Sponsored Projects'!M23+'Student Aid'!M23+'Other Grant-Contract Types'!M23+'Gifts-Discretionary'!M23+'Self Sustaining'!M23+'UWC2 Fee Based Programs'!M23+'Practice Plan'!M23 -> 0
A39: Subtotal Salaries, Wages and Benefits | B39: =SUM(B30:B38) -> 0 | C39: =SUM(C30:C38) -> 0 | D39: =SUM(D30:D38) -> 0 | E39: =SUM(E30:E38) -> 0 | F39: =SUM(F30:F38) -> 0 | H39: =SUM(H30:H38) -> 0 | I39: =SUM(I30:I38) -> 0 | L39: =SUM(L30:L38) -> 0 | M39: =SUM(M30:M38) -> 0
A40: Operations (All exp obj codes except 01, 07, 21 and 25) | B40: =+GOF!B29+DOF!B26+'Special State Appropriations'!B26+'Practice Plan'!B25+'Sponsored Projects'!B25+'Student Aid'!B25+'Other Grant-Contract Types'!B25+'Gifts-Discretionary'!B25+'Self Sustaining'!B25+'UWC2 Fee Based Programs'!B25 -> 0 | C40: =+GOF!C29+DOF!C26+'Special State Appropriations'!C26+'Practice Plan'!C25+'Sponsored Projects'!C25+'Student Aid'!C25+'Other Grant-Contract Types'!C25+'Gifts-Discretionary'!C25+'Self Sustaining'!C25+'UWC2 Fee Based Programs'!C25 -> 0 | E40: =+GOF!D29+DOF!D26+'Special State Appropriations'!D26+'Practice Plan'!D25+'Sponsored Projects'!D25+'Student Aid'!D25+'Other Grant-Contract Types'!D25+'Gifts-Discretionary'!D25+'Self Sustaining'!D25+'UWC2 Fee Based Programs'!D25 -> 0 | F40: =+GOF!E29+DOF!E26+'Special State Appropriations'!E26+'Practice Plan'!E25+'Sponsored Projects'!E25+'Student Aid'!E25+'Other Grant-Contract Types'!E25+'Gifts-Discretionary'!E25+'Self Sustaining'!E25+'UWC2 Fee Based Programs'!E25 -> 0 | H40: =+GOF!H29+DOF!H26+'Special State Appropriations'!H26+'Practice Plan'!H25+'Sponsored Projects'!H25+'Student Aid'!H25+'Other Grant-Contract Types'!H25+'Gifts-Discretionary'!H25+'Self Sustaining'!H25+'UWC2 Fee Based Programs'!H25 -> 0 | I40: =+GOF!I29+DOF!I26+'Special State Appropriations'!I26+'Practice Plan'!I25+'Sponsored Projects'!I25+'Student Aid'!I25+'Other Grant-Contract Types'!I25+'Gifts-Discretionary'!I25+'Self Sustaining'!I25+'UWC2 Fee Based Programs'!I25 -> 0 | L40: =+GOF!L29+DOF!L26+'Special State Appropriations'!L26+'Practice Plan'!L25+'Sponsored Projects'!L25+'Student Aid'!L25+'Other Grant-Contract Types'!L25+'Gifts-Discretionary'!L25+'Self Sustaining'!L25+'UWC2 Fee Based Programs'!L25 -> 0 | M40: =+GOF!M29+DOF!M26+'Special State Appropriations'!M26+'Practice Plan'!M25+'Sponsored Projects'!M25+'Student Aid'!M25+'Other Grant-Contract Types'!M25+'Gifts-Discretionary'!M25+'Self Sustaining'!M25+'UWC2 Fee Based Programs'!M25 -> 0
A41: Cost transfer invoices (CTIs) (21) | B41: =+GOF!B30+DOF!B27+'Special State Appropriations'!B27+'Practice Plan'!B26+'Sponsored Projects'!B26+'Student Aid'!B26+'Other Grant-Contract Types'!B26+'Gifts-Discretionary'!B26+'Self Sustaining'!B26+'UWC2 Fee Based Programs'!B26 -> 0 | C41: =+GOF!C30+DOF!C27+'Special State Appropriations'!C27+'Practice Plan'!C26+'Sponsored Projects'!C26+'Student Aid'!C26+'Other Grant-Contract Types'!C26+'Gifts-Discretionary'!C26+'Self Sustaining'!C26+'UWC2 Fee Based Programs'!C26 -> 0 | E41: =+GOF!D30+DOF!D27+'Special State Appropriations'!D27+'Practice Plan'!D26+'Sponsored Projects'!D26+'Student Aid'!D26+'Other Grant-Contract Types'!D26+'Gifts-Discretionary'!D26+'Self Sustaining'!D26+'UWC2 Fee Based Programs'!D26 -> 0 | F41: =+GOF!E30+DOF!E27+'Special State Appropriations'!E27+'Practice Plan'!E26+'Sponsored Projects'!E26+'Student Aid'!E26+'Other Grant-Contract Types'!E26+'Gifts-Discretionary'!E26+'Self Sustaining'!E26+'UWC2 Fee Based Programs'!E26 -> 0 | H41: =+GOF!H30+DOF!H27+'Special State Appropriations'!H27+'Practice Plan'!H26+'Sponsored Projects'!H26+'Student Aid'!H26+'Other Grant-Contract Types'!H26+'Gifts-Discretionary'!H26+'Self Sustaining'!H26+'UWC2 Fee Based Programs'!H26 -> 0 | I41: =+GOF!I30+DOF!I27+'Special State Appropriations'!I27+'Practice Plan'!I26+'Sponsored Projects'!I26+'Student Aid'!I26+'Other Grant-Contract Types'!I26+'Gifts-Discretionary'!I26+'Self Sustaining'!I26+'UWC2 Fee Based Programs'!I26 -> 0 | L41: =+GOF!L30+DOF!L27+'Special State Appropriations'!L27+'Practice Plan'!L26+'Sponsored Projects'!L26+'Student Aid'!L26+'Other Grant-Contract Types'!L26+'Gifts-Discretionary'!L26+'Self Sustaining'!L26+'UWC2 Fee Based Programs'!L26 -> 0 | M41: =+GOF!M30+DOF!M27+'Special State Appropriations'!M27+'Practice Plan'!M26+'Sponsored Projects'!M26+'Student Aid'!M26+'Other Grant-Contract Types'!M26+'Gifts-Discretionary'!M26+'Self Sustaining'!M26+'UWC2 Fee Based Programs'!M26 -> 0
A42: Indirect Cost (25) | B42: =+GOF!B31+DOF!B28+'Special State Appropriations'!B28+'Practice Plan'!B27+'Sponsored Projects'!B27+'Student Aid'!B27+'Other Grant-Contract Types'!B27+'Gifts-Discretionary'!B27+'Self Sustaining'!B27+'UWC2 Fee Based Programs'!B27 -> 0 | C42: =+GOF!C31+DOF!C28+'Special State Appropriations'!C28+'Practice Plan'!C27+'Sponsored Projects'!C27+'Student Aid'!C27+'Other Grant-Contract Types'!C27+'Gifts-Discretionary'!C27+'Self Sustaining'!C27+'UWC2 Fee Based Programs'!C27 -> 0 | E42: =+GOF!D31+DOF!D28+'Special State Appropriations'!D28+'Practice Plan'!D27+'Sponsored Projects'!D27+'Student Aid'!D27+'Other Grant-Contract Types'!D27+'Gifts-Discretionary'!D27+'Self Sustaining'!D27+'UWC2 Fee Based Programs'!D27 -> 0 | F42: =+GOF!E31+DOF!E28+'Special State Appropriations'!E28+'Practice Plan'!E27+'Sponsored Projects'!E27+'Student Aid'!E27+'Other Grant-Contract Types'!E27+'Gifts-Discretionary'!E27+'Self Sustaining'!E27+'UWC2 Fee Based Programs'!E27 -> 0 | H42: =+GOF!H31+DOF!H28+'Special State Appropriations'!H28+'Practice Plan'!H27+'Sponsored Projects'!H27+'Student Aid'!H27+'Other Grant-Contract Types'!H27+'Gifts-Discretionary'!H27+'Self Sustaining'!H27+'UWC2 Fee Based Programs'!H27 -> 0 | I42: =+GOF!I31+DOF!I28+'Special State Appropriations'!I28+'Practice Plan'!I27+'Sponsored Projects'!I27+'Student Aid'!I27+'Other Grant-Contract Types'!I27+'Gifts-Discretionary'!I27+'Self Sustaining'!I27+'UWC2 Fee Based Programs'!I27 -> 0 | L42: =+GOF!L31+DOF!L28+'Special State Appropriations'!L28+'Practice Plan'!L27+'Sponsored Projects'!L27+'Student Aid'!L27+'Other Grant-Contract Types'!L27+'Gifts-Discretionary'!L27+'Self Sustaining'!L27+'UWC2 Fee Based Programs'!L27 -> 0 | M42: =+GOF!M31+DOF!M28+'Special State Appropriations'!M28+'Practice Plan'!M27+'Sponsored Projects'!M27+'Student Aid'!M27+'Other Grant-Contract Types'!M27+'Gifts-Discretionary'!M27+'Self Sustaining'!M27+'UWC2 Fee Based Programs'!M27 -> 0
A43: TOTAL EXPENDITURES | B43: =SUM(B39:B42) -> 0 | C43: =SUM(C39:C42) -> 0 | E43: =SUM(E39:E42) -> 0 | F43: =SUM(F39:F42) -> 0 | H43: =SUM(H39:H42) -> 0 | I43: =SUM(I39:I42) -> 0 | L43: =SUM(L39:L42) -> 0 | M43: =SUM(M39:M42) -> 0
A44: Net Contribution to (Use of) Fund Balance | B44: =+B26-B43 -> 0 | C44: =+C26-C43 -> 0 | E44: =+E26-E43 -> 0 | F44: =+F26-F43 -> 0 | H44: =+H26-H43 -> 0 | I44: =+I26-I43 -> 0 | L44: =+L26-L43 -> 0 | M44: =+M26-M43 -> 0

Sheet Revenue-Expense Summary
A2: =LEFT(GOF!A2:N2,(FIND("-",GOF!A2:N2) -1 )) -> #VALUE! | C2: Budget Authority, Revenue and Expenditure Summary | G2: **Do Not Modify Sheet**
C10: ='OPB Analysis Tab'!M5 -> GOF
C11: ='OPB Analysis Tab'!M13 -> DOF
C12: ='OPB Analysis Tab'!M21 -> Special Appropriations
C13: ='OPB Analysis Tab'!M29 -> Practice Plan
C14: ='OPB Analysis Tab'!M37 -> Sponsored Projects
C15: ='OPB Analysis Tab'!M45 -> Student Aid
C16: ='OPB Analysis Tab'!M53 -> Grants & Contracts - Others
C17: ='OPB Analysis Tab'!M61 -> Philanthropy - Gifts & Discretionary
C18: ='OPB Analysis Tab'!M69 -> Self Sustaining
A24: Revenues & Budget Authority, by Fiscal Year
B25: FY18 Actuals | C25: FY19 Actuals | D25: FY20 Plan | E25: FY21 Plan | F25: FY22 Plan | G25: FY23 Plan
A26: GOF - Permanent Budget | B26: =+'All Funds Rollup'!B12 -> 0 | C26: =+'All Funds Rollup'!C12 -> 0 | D26: =+'All Funds Rollup'!H12 -> 0 | E26: =+'All Funds Rollup'!I12 -> 0 | F26: =+'All Funds Rollup'!L12 -> 0 | G26: =+'All Funds Rollup'!M12 -> 0
A27: GOF - Temporary Budget | B27: =+'All Funds Rollup'!B13 -> 0 | C27: =+'All Funds Rollup'!C13 -> 0 | D27: =+'All Funds Rollup'!H13 -> 0 | E27: =+'All Funds Rollup'!I13 -> 0 | F27: =+'All Funds Rollup'!L13 -> 0 | G27: =+'All Funds Rollup'!M13 -> 0
A28: DOF - Permanent Budget | B28: =+'All Funds Rollup'!B15 -> 0 | C28: =+'All Funds Rollup'!C15 -> 0 | D28: =+'All Funds Rollup'!H15 -> 0 | E28: =+'All Funds Rollup'!I15 -> 0 | F28: =+'All Funds Rollup'!L15 -> 0 | G28: =+'All Funds Rollup'!M15 -> 0
A29: DOF - Temporary Budget | B29: =+'All Funds Rollup'!B16 -> 0 | C29: =+'All Funds Rollup'!C16 -> 0 | D29: =+'All Funds Rollup'!H16 -> 0 | E29: =+'All Funds Rollup'!I16 -> 0 | F29: =+'All Funds Rollup'!L16 -> 0 | G29: =+'All Funds Rollup'!M16 -> 0
A30: Special State Appropriations | B30: =+'All Funds Rollup'!B18 -> 0 | C30: =+'All Funds Rollup'!C18 -> 0 | D30: =+'All Funds Rollup'!H18 -> 0 | E30: =+'All Funds Rollup'!I18 -> 0 | F30: =+'All Funds Rollup'!L18 -> 0 | G30: =+'All Funds Rollup'!M18 -> 0
A31: Grants & Contracts Sponsored Projects | B31: =+'All Funds Rollup'!B19 -> 0 | C31: =+'All Funds Rollup'!C19 -> 0 | D31: =+'All Funds Rollup'!H19 -> 0 | E31: =+'All Funds Rollup'!I19 -> 0 | F31: =+'All Funds Rollup'!L19 -> 0 | G31: =+'All Funds Rollup'!M19 -> 0
A32: Grants & Contracts Student Aid | B32: =+'All Funds Rollup'!B20 -> 0 | C32: =+'All Funds Rollup'!C20 -> 0 | D32: =+'All Funds Rollup'!H20 -> 0 | E32: =+'All Funds Rollup'!I20 -> 0 | F32: =+'All Funds Rollup'!L20 -> 0 | G32: =+'All Funds Rollup'!M20 -> 0
A33: Grants & Contracts Others | B33: =+'All Funds Rollup'!B21 -> 0 | C33: =+'All Funds Rollup'!C21 -> 0 | D33: =+'All Funds Rollup'!H21 -> 0 | E33: =+'All Funds Rollup'!I21 -> 0 | F33: =+'All Funds Rollup'!L21 -> 0 | G33: =+'All Funds Rollup'!M21 -> 0
A34: Gifts and Discretionary | B34: =+'All Funds Rollup'!B22 -> 0 | C34: =+'All Funds Rollup'!C22 -> 0 | D34: =+'All Funds Rollup'!H22 -> 0 | E34: =+'All Funds Rollup'!I22 -> 0 | F34: =+'All Funds Rollup'!L22 -> 0 | G34: =+'All Funds Rollup'!M22 -> 0
A35: Self-Sustaining | B35: =+'All Funds Rollup'!B23 -> 0 | C35: =+'All Funds Rollup'!C23 -> 0 | D35: =+'All Funds Rollup'!H23 -> 0 | E35: =+'All Funds Rollup'!I23 -> 0 | F35: =+'All Funds Rollup'!L23 -> 0 | G35: =+'All Funds Rollup'!M23 -> 0
A36: UWC2 Fee Based Programs | B36: =+'All Funds Rollup'!B24 -> 0 | C36: =+'All Funds Rollup'!C24 -> 0 | D36: =+'All Funds Rollup'!H24 -> 0 | E36: =+'All Funds Rollup'!I24 -> 0 | F36: =+'All Funds Rollup'!L24 -> 0 | G36: =+'All Funds Rollup'!M24 -> 0
A37: Practice Plan Dept of Public Assistance | B37: =+'All Funds Rollup'!B25 -> 0 | C37: =+'All Funds Rollup'!C25 -> 0 | D37: =+'All Funds Rollup'!H25 -> 0 | E37: =+'All Funds Rollup'!I25 -> 0 | F37: =+'All Funds Rollup'!L25 -> 0 | G37: =+'All Funds Rollup'!M25 -> 0
A39: Year over Year Change
B40: FY18 Actuals | C40: FY19 Actuals | D40: FY20 Plan | E40: FY21 Plan | F40: FY22 Plan | G40: FY23 Plan
A41: GOF - Permanent Budget | C41: =IFERROR(+(C26-B26)/B26,0) -> 0 | D41: =IFERROR(+(D26-C26)/C26,0) -> 0 | E41: =IFERROR(+(E26-D26)/D26,0) -> 0 | F41: =IFERROR(+(F26-E26)/E26,0) -> 0 | G41: =IFERROR(+(G26-F26)/F26,0) -> 0
A42: GOF - Temporary Budget | C42: =IFERROR(+(C27-B27)/B27,0) -> 0 | D42: =IFERROR(+(D27-C27)/C27,0) -> 0 | E42: =IFERROR(+(E27-D27)/D27,0) -> 0 | F42: =IFERROR(+(F27-E27)/E27,0) -> 0 | G42: =IFERROR(+(G27-F27)/F27,0) -> 0
A43: DOF - Permanent Budget | C43: =IFERROR(+(C28-B28)/B28,0) -> 0 | D43: =IFERROR(+(D28-C28)/C28,0) -> 0 | E43: =IFERROR(+(E28-D28)/D28,0) -> 0 | F43: =IFERROR(+(F28-E28)/E28,0) -> 0 | G43: =IFERROR(+(G28-F28)/F28,0) -> 0
A44: DOF - Temporary Budget | C44: =IFERROR(+(C29-B29)/B29,0) -> 0 | D44: =IFERROR(+(D29-C29)/C29,0) -> 0 | E44: =IFERROR(+(E29-D29)/D29,0) -> 0 | F44: =IFERROR(+(F29-E29)/E29,0) -> 0 | G44: =IFERROR(+(G29-F29)/F29,0) -> 0
A45: Special State Appropriations | C45: =IFERROR(+(C30-B30)/B30,0) -> 0 | D45: =IFERROR(+(D30-C30)/C30,0) -> 0 | E45: =IFERROR(+(E30-D30)/D30,0) -> 0 | F45: =IFERROR(+(F30-E30)/E30,0) -> 0 | G45: =IFERROR(+(G30-F30)/F30,0) -> 0
A46: Grants & Contracts Sponsored Projects | C46: =IFERROR(+(C31-B31)/B31,0) -> 0 | D46: =IFERROR(+(D31-C31)/C31,0) -> 0 | E46: =IFERROR(+(E31-D31)/D31,0) -> 0 | F46: =IFERROR(+(F31-E31)/E31,0) -> 0 | G46: =IFERROR(+(G31-F31)/F31,0) -> 0
A47: Grants & Contracts Student Aid | C47: =IFERROR(+(C32-B32)/B32,0) -> 0 | D47: =IFERROR(+(D32-C32)/C32,0) -> 0 | E47: =IFERROR(+(E32-D32)/D32,0) -> 0 | F47: =IFERROR(+(F32-E32)/E32,0) -> 0 | G47: =IFERROR(+(G32-F32)/F32,0) -> 0
A48: Grants & Contracts Others | C48: =IFERROR(+(C33-B33)/B33,0) -> 0 | D48: =IFERROR(+(D33-C33)/C33,0) -> 0 | E48: =IFERROR(+(E33-D33)/D33,0) -> 0 | F48: =IFERROR(+(F33-E33)/E33,0) -> 0 | G48: =IFERROR(+(G33-F33)/F33,0) -> 0
A49: Gifts and Discretionary | C49: =IFERROR(+(C34-B34)/B34,0) -> 0 | D49: =IFERROR(+(D34-C34)/C34,0) -> 0 | E49: =IFERROR(+(E34-D34)/D34,0) -> 0 | F49: =IFERROR(+(F34-E34)/E34,0) -> 0 | G49: =IFERROR(+(G34-F34)/F34,0) -> 0
A50: Self-Sustaining | C50: =IFERROR(+(C35-B35)/B35,0) -> 0 | D50: =IFERROR(+(D35-C35)/C35,0) -> 0 | E50: =IFERROR(+(E35-D35)/D35,0) -> 0 | F50: =IFERROR(+(F35-E35)/E35,0) -> 0 | G50: =IFERROR(+(G35-F35)/F35,0) -> 0
A51: UWC2 Fee Based Programs | C51: =IFERROR(+(C36-B36)/B36,0) -> 0 | D51: =IFERROR(+(D36-C36)/C36,0) -> 0 | E51: =IFERROR(+(E36-D36)/D36,0) -> 0 | F51: =IFERROR(+(F36-E36)/E36,0) -> 0 | G51: =IFERROR(+(G36-F36)/F36,0) -> 0
A52: Practice Plan Dept of Public Assistance | C52: =IFERROR(+(C37-B37)/B37,0) -> 0 | D52: =IFERROR(+(D37-C37)/C37,0) -> 0 | E52: =IFERROR(+(E37-D37)/D37,0) -> 0 | F52: =IFERROR(+(F37-E37)/E37,0) -> 0 | G52: =IFERROR(+(G37-F37)/F37,0) -> 0
A57: Faculty and academic personnel (01-10) | B57: ='All Funds Rollup'!C30 -> 0
A58: Auxiliary teaching (01-20) | B58: ='All Funds Rollup'!C31 -> 0
...

Sheet Fund Balance Summary
A2: =LEFT(GOF!A2:N2,(FIND("-",GOF!A2:N2) -1 )) -> #VALUE! | E2: **Do Not Modify Sheet**
A28: Fund Type | B28: FY2018 | C28: FY2019 | D28: FY2020 | E28: FY2021 | F28: FY2022 | G28: FY2023
A29: GOF | B29: =+GOF!B38 -> 0 | C29: =+GOF!C38 -> 0 | D29: =+GOF!H38 -> 0 | E29: =+GOF!I38 -> 0 | F29: =+GOF!L38 -> 0 | G29: =+GOF!M38 -> 0
A30: DOF | B30: =+DOF!B34 -> 0 | C30: =+DOF!C34 -> 0 | D30: =+DOF!H34 -> 0 | E30: =+DOF!I34 -> 0 | F30: =+DOF!L34 -> 0 | G30: =+DOF!M34 -> 0
A31: Special State Appropriations | B31: =+'Special State Appropriations'!B35 -> 0 | C31: =+'Special State Appropriations'!C35 -> 0 | D31: =+'Special State Appropriations'!H35 -> 0 | E31: =+'Special State Appropriations'!I35 -> 0 | F31: =+'Special State Appropriations'!L35 -> 0 | G31: =+'Special State Appropriations'!M35 -> 0
A32: Practice Plan | B32: =+'Practice Plan'!B33 -> 0 | C32: =+'Practice Plan'!C33 -> 0 | D32: =+'Practice Plan'!H33 -> 0 | E32: =+'Practice Plan'!I33 -> 0 | F32: =+'Practice Plan'!L33 -> 0 | G32: =+'Practice Plan'!M33 -> 0
A33: Gifts and Discretionary | B33: =+'Gifts-Discretionary'!B33 -> 0 | C33: =+'Gifts-Discretionary'!C33 -> 0 | D33: =+'Gifts-Discretionary'!H33 -> 0 | E33: =+'Gifts-Discretionary'!I33 -> 0 | F33: =+'Gifts-Discretionary'!L33 -> 0 | G33: =+'Gifts-Discretionary'!M33 -> 0
A34: Other Grants-Contracts | B34: =+'Other Grant-Contract Types'!B33 -> 0 | C34: =+'Other Grant-Contract Types'!C33 -> 0 | D34: =+'Other Grant-Contract Types'!H33 -> 0 | E34: =+'Other Grant-Contract Types'!I33 -> 0 | F34: =+'Other Grant-Contract Types'!L33 -> 0 | G34: =+'Other Grant-Contract Types'!M33 -> 0
A35: UWC2 Fee Based Programs | B35: =+'UWC2 Fee Based Programs'!B33 -> 0 | C35: =+'UWC2 Fee Based Programs'!C33 -> 0 | D35: =+'UWC2 Fee Based Programs'!H33 -> 0 | E35: =+'UWC2 Fee Based Programs'!I33 -> 0 | F35: =+'UWC2 Fee Based Programs'!L33 -> 0 | G35: =+'UWC2 Fee Based Programs'!M33 -> 0
A36: Self Sustaining | B36: =+'Self Sustaining'!B33 -> 0 | C36: =+'Self Sustaining'!C33 -> 0 | D36: =+'Self Sustaining'!H33 -> 0 | E36: =+'Self Sustaining'!I33 -> 0 | F36: =+'Self Sustaining'!L33 -> 0 | G36: =+'Self Sustaining'!M33 -> 0
A38: GOF/DOF Fund Balance | B38: =+B29+B30 -> 0 | C38: =+C29+C30 -> 0 | D38: =+D29+D30 -> 0 | E38: =+E29+E30 -> 0 | F38: =+F29+F30 -> 0 | G38: =+G29+G30 -> 0
A39: Self Sustaining Fund Balance | B39: =+B36 -> 0 | C39: =+C36 -> 0 | D39: =+D36 -> 0 | E39: =+E36 -> 0 | F39: =+F36 -> 0 | G39: =+G36 -> 0

Sheet GOF-DOF-Approp-Self Sus Roll Up
A2: =CONCATENATE(LEFT(GOF!A2:N2,(FIND("-",GOF!A2:N2) -1 )),"GOF, DOF, SPECIAL STATE APPROPRIATIONS (ROF) AND SELF SUSTAINING") -> #VALUE!
A3: **Do Not Modify Sheet**
A4: Instructions: 1) Please read the instructions on the individual fund source worksheets (purple tabs) and provide the requested budget authority/revenue and expenditure plans for FY's 2020-2023 on those tabs. 2) All data from the purple "GOF", "DOF", "Special Appropriations" and "Self Sustaining" tabs will automatically calculate for this tab. No input is needed by end users. 3) The Foregone Proviso/Appropriation Funds line represents unspent or overspent funds that do not carryover into the 2019-2021 biennium. Fiscal year provisos/special appropriations cannot carryover any funds across fiscal years. Biennial provisos/special appropriations, however, can have unspent or overspent funds at the end of the 1st fiscal year which can carryover into the 2nd fiscal year. This can happen when the funds are distributed over several units. Some units can underspend and some can overspend as long as the total proviso/special apprpropriation nets to zero. Otherwise, provisos/special appropriations cannot be overspent. For FY’s 2020-2023, the assumption is that units will fully spend (not overspend) any proviso/special appropriation funds. Therefore, the Foregone Funds line is not applicable.
B7: Biennium 17 (Actuals/Plan) | I7: Biennium 19 (Plan) | M7: Biennium 21 (Plan)
B8: FY18 Actuals | C8: FY19 Actuals | D8: Bien Total | E8: FY19 Submitted Plan | F8: FY19 Variance (Actuals Over [Under] Plan) | G8: Bien Total | I8: FY20 Plan | J8: FY21 Plan | K8: Bien Total | M8: FY22 Plan | N8: FY23 Plan | O8: Bien Total
A9: BUDGET AUTHORITY/REVENUES
A10: General Operating Fund (includes provisos)
A11: Permanent Budget | B11: =+GOF!B10+GOF!B13 -> 0 | C11: =+GOF!C10+GOF!C13 -> 0 | E11: =+GOF!D10+GOF!D13 -> 0 | F11: =+GOF!E10+GOF!E13 -> 0 | I11: =+GOF!H10+GOF!H13 -> 0 | J11: =+GOF!I10+GOF!I13 -> 0 | M11: =+GOF!L10+GOF!L13 -> 0 | N11: =+GOF!M10+GOF!M13 -> 0
A12: Temporary Budget | B12: =+GOF!B11+GOF!B14 -> 0 | C12: =+GOF!C11+GOF!C14 -> 0 | E12: =+GOF!D11+GOF!D14 -> 0 | F12: =+GOF!E11+GOF!E14 -> 0 | I12: =+GOF!H11+GOF!H14 -> 0 | J12: =+GOF!I11+GOF!I14 -> 0 | M12: =+GOF!L11+GOF!L14 -> 0 | N12: =+GOF!M11+GOF!M14 -> 0
A13: Designated Operating Fund (excludes tech fee)
A14: Permanent Budget | B14: =+DOF!B10 -> 0 | C14: =+DOF!C10 -> 0 | E14: =+DOF!D10 -> 0 | F14: =+DOF!E10 -> 0 | I14: =+DOF!H10 -> 0 | J14: =+DOF!I10 -> 0 | M14: =+DOF!L10 -> 0 | N14: =+DOF!M10 -> 0
A15: Temporary Budget | B15: =+DOF!B11 -> 0 | C15: =+DOF!C11 -> 0 | E15: =+DOF!D11 -> 0 | F15: =+DOF!E11 -> 0 | I15: =+DOF!H11 -> 0 | J15: =+DOF!I11 -> 0 | M15: =+DOF!L11 -> 0 | N15: =+DOF!M11 -> 0
A16: Restricted Operating Fund
A17: Special State Appropriations - Perm & Temp | B17: =+'Special State Appropriations'!B12 -> 0 | C17: =+'Special State Appropriations'!C12 -> 0 | E17: =+'Special State Appropriations'!D12 -> 0 | F17: =+'Special State Appropriations'!E12 -> 0 | I17: =+'Special State Appropriations'!H12 -> 0 | J17: =+'Special State Appropriations'!I12 -> 0 | M17: =+'Special State Appropriations'!L12 -> 0 | N17: =+'Special State Appropriations'!M12 -> 0
A18: Self-Sustaining | B18: =+'Self Sustaining'!B11 -> 0 | C18: =+'Self Sustaining'!C11 -> 0 | E18: =+'Self Sustaining'!D11 -> 0 | F18: =+'Self Sustaining'!E11 -> 0 | I18: =+'Self Sustaining'!H11 -> 0 | J18: =+'Self Sustaining'!I11 -> 0 | M18: =+'Self Sustaining'!L11 -> 0 | N18: =+'Self Sustaining'!M11 -> 0
A19: Total Budget Authority & Revenues | B19: =SUM(B11:B18) -> 0 | C19: =SUM(C11:C18) -> 0 | E19: =SUM(E11:E18) -> 0 | F19: =SUM(F11:F18) -> 0 | I19: =SUM(I11:I18) -> 0 | J19: =SUM(J11:J18) -> 0 | M19: =SUM(M11:M18) -> 0 | N19: =SUM(N11:N18) -> 0
A21: EXPENDITURES
A22: Salaries, Wages and Benefits
A23: Faculty and academic personnel (01-10) | B23: =+GOF!B19+DOF!B16+'Special State Appropriations'!B16+'Self Sustaining'!B15 -> 0 | C23: =+GOF!C19+DOF!C16+'Special State Appropriations'!C16+'Self Sustaining'!C15 -> 0 | E23: =+GOF!D19+DOF!D16+'Special State Appropriations'!D16+'Self Sustaining'!D15 -> 0 | F23: =+GOF!E19+DOF!E16+'Special State Appropriations'!E16+'Self Sustaining'!E15 -> 0 | I23: =+GOF!H19+DOF!H16+'Special State Appropriations'!H16+'Self Sustaining'!H15 -> 0 | J23: =+GOF!I19+DOF!I16+'Special State Appropriations'!I16+'Self Sustaining'!I15 -> 0 | M23: =+GOF!L19+DOF!L16+'Special State Appropriations'!L16+'Self Sustaining'!L15 -> 0 | N23: =+GOF!M19+DOF!M16+'Special State Appropriations'!M16+'Self Sustaining'!M15 -> 0 | O23: =+GOF!N19+DOF!N16+'Special State Appropriations'!N16+'Practice Plan'!N14+'Sponsored Projects'!N15+'Student Aid'!N15+'Other Grant-Contract Types'!N15+'Gifts-Discretionary'!N15+'Self Sustaining'!N15 -> 0
A24: Auxiliary teaching (01-20) | B24: =+GOF!B20+DOF!B17+'Special State Appropriations'!B17+'Self Sustaining'!B16 -> 0 | C24: =+GOF!C20+DOF!C17+'Special State Appropriations'!C17+'Self Sustaining'!C16 -> 0 | E24: =+GOF!D20+DOF!D17+'Special State Appropriations'!D17+'Self Sustaining'!D16 -> 0 | F24: =+GOF!E20+DOF!E17+'Special State Appropriations'!E17+'Self Sustaining'!E16 -> 0 | I24: =+GOF!H20+DOF!H17+'Special State Appropriations'!H17+'Self Sustaining'!H16 -> 0 | J24: =+GOF!I20+DOF!I17+'Special State Appropriations'!I17+'Self Sustaining'!I16 -> 0 | M24: =+GOF!L20+DOF!L17+'Special State Appropriations'!L17+'Self Sustaining'!L16 -> 0 | N24: =+GOF!M20+DOF!M17+'Special State Appropriations'!M17+'Self Sustaining'!M16 -> 0
A25: Graduate Students (01-30, 01-40) | B25: =+GOF!B21+DOF!B18+'Special State Appropriations'!B18+'Self Sustaining'!B17 -> 0 | C25: =+GOF!C21+DOF!C18+'Special State Appropriations'!C18+'Self Sustaining'!C17 -> 0 | E25: =+GOF!D21+DOF!D18+'Special State Appropriations'!D18+'Self Sustaining'!D17 -> 0 | F25: =+GOF!E21+DOF!E18+'Special State Appropriations'!E18+'Self Sustaining'!E17 -> 0 | I25: =+GOF!H21+DOF!H18+'Special State Appropriations'!H18+'Self Sustaining'!H17 -> 0 | J25: =+GOF!I21+DOF!I18+'Special State Appropriations'!I18+'Self Sustaining'!I17 -> 0 | M25: =+GOF!L21+DOF!L18+'Special State Appropriations'!L18+'Self Sustaining'!L17 -> 0 | N25: =+GOF!M21+DOF!M18+'Special State Appropriations'!M18+'Self Sustaining'!M17 -> 0
A26: Post-doc research trainee (01-50) | B26: =+GOF!B22+DOF!B19+'Special State Appropriations'!B19+'Self Sustaining'!B18 -> 0 | C26: =+GOF!C22+DOF!C19+'Special State Appropriations'!C19+'Self Sustaining'!C18 -> 0 | E26: =+GOF!D22+DOF!D19+'Special State Appropriations'!D19+'Self Sustaining'!D18 -> 0 | F26: =+GOF!E22+DOF!E19+'Special State Appropriations'!E19+'Self Sustaining'!E18 -> 0 | I26: =+GOF!H22+DOF!H19+'Special State Appropriations'!H19+'Self Sustaining'!H18 -> 0 | J26: =+GOF!I22+DOF!I19+'Special State Appropriations'!I19+'Self Sustaining'!I18 -> 0 | M26: =+GOF!L22+DOF!L19+'Special State Appropriations'!L19+'Self Sustaining'!L18 -> 0 | N26: =+GOF!M22+DOF!M19+'Special State Appropriations'!M19+'Self Sustaining'!M18 -> 0
A27: Classified staff (01-60) | B27: =+GOF!B23+DOF!B20+'Special State Appropriations'!B20+'Self Sustaining'!B19 -> 0 | C27: =+GOF!C23+DOF!C20+'Special State Appropriations'!C20+'Self Sustaining'!C19 -> 0 | E27: =+GOF!D23+DOF!D20+'Special State Appropriations'!D20+'Self Sustaining'!D19 -> 0 | F27: =+GOF!E23+DOF!E20+'Special State Appropriations'!E20+'Self Sustaining'!E19 -> 0 | I27: =+GOF!H23+DOF!H20+'Special State Appropriations'!H20+'Self Sustaining'!H19 -> 0 | J27: =+GOF!I23+DOF!I20+'Special State Appropriations'!I20+'Self Sustaining'!I19 -> 0 | M27: =+GOF!L23+DOF!L20+'Special State Appropriations'!L20+'Self Sustaining'!L19 -> 0 | N27: =+GOF!M23+DOF!M20+'Special State Appropriations'!M20+'Self Sustaining'!M19 -> 0
A28: Professional staff (01-70) | B28: =+GOF!B24+DOF!B21+'Special State Appropriations'!B21+'Self Sustaining'!B20 -> 0 | C28: =+GOF!C24+DOF!C21+'Special State Appropriations'!C21+'Self Sustaining'!C20 -> 0 | E28: =+GOF!D24+DOF!D21+'Special State Appropriations'!D21+'Self Sustaining'!D20 -> 0 | F28: =+GOF!E24+DOF!E21+'Special State Appropriations'!E21+'Self Sustaining'!E20 -> 0 | I28: =+GOF!H24+DOF!H21+'Special State Appropriations'!H21+'Self Sustaining'!H20 -> 0 | J28: =+GOF!I24+DOF!I21+'Special State Appropriations'!I21+'Self Sustaining'!I20 -> 0 | M28: =+GOF!L24+DOF!L21+'Special State Appropriations'!L21+'Self Sustaining'!L20 -> 0 | N28: =+GOF!M24+DOF!M21+'Special State Appropriations'!M21+'Self Sustaining'!M20 -> 0
A29: Temporary staff (01-80) | B29: =+GOF!B25+DOF!B22+'Special State Appropriations'!B22+'Self Sustaining'!B21 -> 0 | C29: =+GOF!C25+DOF!C22+'Special State Appropriations'!C22+'Self Sustaining'!C21 -> 0 | E29: =+GOF!D25+DOF!D22+'Special State Appropriations'!D22+'Self Sustaining'!D21 -> 0 | F29: =+GOF!E25+DOF!E22+'Special State Appropriations'!E22+'Self Sustaining'!E21 -> 0 | I29: =+GOF!H25+DOF!H22+'Special State Appropriations'!H22+'Self Sustaining'!H21 -> 0 | J29: =+GOF!I25+DOF!I22+'Special State Appropriations'!I22+'Self Sustaining'!I21 -> 0 | M29: =+GOF!L25+DOF!L22+'Special State Appropriations'!L22+'Self Sustaining'!L21 -> 0 | N29: =+GOF!M25+DOF!M22+'Special State Appropriations'!M22+'Self Sustaining'!M21 -> 0
A30: Pre-doc Trainees (01-90) | B30: =+GOF!B26+DOF!B23+'Special State Appropriations'!B23+'Self Sustaining'!B22 -> 0 | C30: =+GOF!C26+DOF!C23+'Special State Appropriations'!C23+'Self Sustaining'!C22 -> 0 | E30: =+GOF!D26+DOF!D23+'Special State Appropriations'!D23+'Self Sustaining'!D22 -> 0 | F30: =+GOF!E26+DOF!E23+'Special State Appropriations'!E23+'Self Sustaining'!E22 -> 0 | I30: =+GOF!H26+DOF!H23+'Special State Appropriations'!H23+'Self Sustaining'!H22 -> 0 | J30: =+GOF!I26+DOF!I23+'Special State Appropriations'!I23+'Self Sustaining'!I22 -> 0 | M30: =+GOF!L26+DOF!L23+'Special State Appropriations'!L23+'Self Sustaining'!L22 -> 0 | N30: =+GOF!M26+DOF!M23+'Special State Appropriations'!M23+'Self Sustaining'!M22 -> 0
A31: Employee benefits (07) | B31: =+GOF!B27+DOF!B24+'Special State Appropriations'!B24+'Self Sustaining'!B23 -> 0 | C31: =+GOF!C27+DOF!C24+'Special State Appropriations'!C24+'Self Sustaining'!C23 -> 0 | E31: =+GOF!D27+DOF!D24+'Special State Appropriations'!D24+'Self Sustaining'!D23 -> 0 | F31: =+GOF!E27+DOF!E24+'Special State Appropriations'!E24+'Self Sustaining'!E23 -> 0 | I31: =+GOF!H27+DOF!H24+'Special State Appropriations'!H24+'Self Sustaining'!H23 -> 0 | J31: =+GOF!I27+DOF!I24+'Special State Appropriations'!I24+'Self Sustaining'!I23 -> 0 | M31: =+GOF!L27+DOF!L24+'Special State Appropriations'!L24+'Self Sustaining'!L23 -> 0 | N31: =+GOF!M27+DOF!M24+'Special State Appropriations'!M24+'Self Sustaining'!M23 -> 0
A32: Subtotal Salaries, Wages and Benefits | B32: =SUM(B23:B31) -> 0 | C32: =SUM(C23:C31) -> 0 | D32: =SUM(D23:D31) -> 0 | E32: =SUM(E23:E31) -> 0 | F32: =SUM(F23:F31) -> 0 | I32: =SUM(I23:I31) -> 0 | J32: =SUM(J23:J31) -> 0 | M32: =SUM(M23:M31) -> 0 | N32: =SUM(N23:N31) -> 0
A33: Operations (All exp obj codes except 01, 07, 21 and 25) | B33: =+GOF!B29+DOF!B26+'Special State Appropriations'!B26+'Self Sustaining'!B25 -> 0 | C33: =+GOF!C29+DOF!C26+'Special State Appropriations'!C26+'Self Sustaining'!C25 -> 0 | E33: =+GOF!D29+DOF!D26+'Special State Appropriations'!D26+'Self Sustaining'!D25 -> 0 | F33: =+GOF!E29+DOF!E26+'Special State Appropriations'!E26+'Self Sustaining'!E25 -> 0 | I33: =+GOF!H29+DOF!H26+'Special State Appropriations'!H26+'Self Sustaining'!H25 -> 0 | J33: =+GOF!I29+DOF!I26+'Special State Appropriations'!I26+'Self Sustaining'!I25 -> 0 | M33: =+GOF!L29+DOF!L26+'Special State Appropriations'!L26+'Self Sustaining'!L25 -> 0 | N33: =+GOF!M29+DOF!M26+'Special State Appropriations'!M26+'Self Sustaining'!M25 -> 0
A34: Cost transfer invoices (CTIs) (21) | B34: =+GOF!B30+DOF!B27+'Special State Appropriations'!B27+'Self Sustaining'!B26 -> 0 | C34: =+GOF!C30+DOF!C27+'Special State Appropriations'!C27+'Self Sustaining'!C26 -> 0 | E34: =+GOF!D30+DOF!D27+'Special State Appropriations'!D27+'Self Sustaining'!D26 -> 0 | F34: =+GOF!E30+DOF!E27+'Special State Appropriations'!E27+'Self Sustaining'!E26 -> 0 | I34: =+GOF!H30+DOF!H27+'Special State Appropriations'!H27+'Self Sustaining'!H26 -> 0 | J34: =+GOF!I30+DOF!I27+'Special State Appropriations'!I27+'Self Sustaining'!I26 -> 0 | M34: =+GOF!L30+DOF!L27+'Special State Appropriations'!L27+'Self Sustaining'!L26 -> 0 | N34: =+GOF!M30+DOF!M27+'Special State Appropriations'!M27+'Self Sustaining'!M26 -> 0
A35: Indirect Cost (25) | B35: =+GOF!B31+DOF!B28+'Special State Appropriations'!B28+'Self Sustaining'!B27 -> 0 | C35: =+GOF!C31+DOF!C28+'Special State Appropriations'!C28+'Self Sustaining'!C27 -> 0 | E35: =+GOF!D31+DOF!D28+'Special State Appropriations'!D28+'Self Sustaining'!D27 -> 0 | F35: =+GOF!E31+DOF!E28+'Special State Appropriations'!E28+'Self Sustaining'!E27 -> 0 | I35: =+GOF!H31+DOF!H28+'Special State Appropriations'!H28+'Self Sustaining'!H27 -> 0 | J35: =+GOF!I31+DOF!I28+'Special State Appropriations'!I28+'Self Sustaining'!I27 -> 0 | M35: =+GOF!L31+DOF!L28+'Special State Appropriations'!L28+'Self Sustaining'!L27 -> 0 | N35: =+GOF!M31+DOF!M28+'Special State Appropriations'!M28+'Self Sustaining'!M27 -> 0
A36: TOTAL EXPENDITURES | B36: =SUM(B32:B35) -> 0 | C36: =SUM(C32:C35) -> 0 | E36: =SUM(E32:E35) -> 0 | F36: =SUM(F32:F35) -> 0 | I36: =SUM(I32:I35) -> 0 | J36: =SUM(J32:J35) -> 0 | M36: =SUM(M32:M35) -> 0 | N36: =SUM(N32:N35) -> 0
A37: Net Contribution to (Use of) Fund Balance | B37: =+B19-B36 -> 0 | C37: =+C19-C36 -> 0 | E37: =+E19-E36 -> 0 | F37: =+F19-F36 -> 0 | I37: =+I19-I36 -> 0 | J37: =+J19-J36 -> 0 | M37: =+M19-M36 -> 0 | N37: =+N19-N36 -> 0
A39: Opening Balance | B39: =+GOF!B35+DOF!B32+'Special State Appropriations'!B32+'Self Sustaining'!B31 -> 0 | C39: =+B42 -> 0 | E39: =+C39 -> 0 | F39: =+GOF!E35+DOF!E32+'Special State Appropriations'!E32+'Self Sustaining'!E31 -> 0 | I39: =+GOF!H35+DOF!H32+'Special State Appropriations'!H32+'Self Sustaining'!H31 -> 0 | J39: =+I42 -> 0 | M39: =+GOF!L35+DOF!L32+'Special State Appropriations'!L32+'Self Sustaining'!L31 -> 0 | N39: =+M42 -> 0
A40: Net Contribution to (Use of) Fund Balance | B40: =+B37 -> 0 | C40: =+C37 -> 0 | E40: =+E37 -> 0 | F40: =+F37 -> 0 | I40: =+I37 -> 0 | J40: =+J37 -> 0 | M40: =+M37 -> 0 | N40: =+N37 -> 0
A41: Foregone Proviso/Appropriation Funds 3 | B41: =+GOF!B37+'Special State Appropriations'!B34 -> 0 | C41: =+GOF!C37+'Special State Appropriations'!C34 -> 0
A42: Closing Balance | B42: =+B39+B40+B41 -> 0 | C42: =+C39+C40+C41 -> 0 | E42: =+E39+E40 -> 0 | F42: =+F39+F40 -> 0 | I42: =+I39+I40 -> 0 | J42: =+J39+J40 -> 0 | M42: =+M39+M40 -> 0 | N42: =+N39+N40 -> 0

Sheet GOF
A4: Instructions: 1) Please review the budget authority, expenditures, and transfers for your unit for FYs 18-19 and refer to Fiscal Vitality Process Guide at https://www.washington.edu/opb/uw-budget/annual-budgets/fy21-annual-review-materials/ for the data parameters and definitions that were used to generate these figures. For detailed amounts down to the budget number level or other data exploration, please see the Fiscal Vitality Budget Tableau report titled Export to Crosstab at https://bitools.uw.edu/#/site/Transitional/views/FiscalVitalityBudget/DocumentationandResources 2) The Central Budget Policies and Assumptions document is available at https://www.washington.edu/opb/uw-budget/annual-budgets/fy21-annual-review-materials/. If you use alternative assumptions, you should briefly explain them in the Annual Review Submission Portal.
A5: 3) Provide full budget authority and expenditure plans for fiscal years 2020-2023 in the green colored cells. 4) The "Opening Balance" row includes carryover. Carryover amounts have been removed from the "temporary budget" line and should not be included in any projections of temporary budget. 5) The Foregone Proviso Funds line represents unspent or overspent funds that do not carryover into the 2019-2021 biennium. Fiscal year provisos cannot carryover any funds across fiscal years. Biennial provisos, however, can have unspent or overspent funds at the end of the 1st fiscal year which can carryover into the 2nd fiscal year. This can happen when the funds are distributed over several units. Some units can underspend and some can overspend as long as the total proviso nets to zero. Otherwise, provisos cannot be overspent. For FY’s 2020-2023, the assumption is that units will fully spend (not overspend) any proviso funds. Therefore, the Foregone Funds line is not applicable.
B6: Biennium 17 (Actuals/Plan) | H6: Biennium 19 (Plan) | L6: Biennium 21 (Plan)
B7: FY18 Actuals | C7: FY19 Actuals | D7: FY19 Submitted Plan | E7: FY19 Variance (Actuals Over [Under] Plan) | F7: Bien Total | H7: FY20 Plan | I7: FY21 Plan | J7: Bien Total | L7: FY22 Plan | M7: FY23 Plan | N7: Bien Total
A8: BUDGET AUTHORITY/REVENUES
A9: General Operating Fund
A10: Permanent Budget | E10: =+C10-D10 -> 0
A11: Temporary Budget | E11: =+C11-D11 -> 0
A12: Provisos - GOF Only
A13: Permanent Budget | E13: =+C13-D13 -> 0
A14: Temporary Budget | E14: =+C14-D14 -> 0
A15: TOTAL BUDGET AUTHORITY | B15: =SUM(B10:B14) -> 0 | C15: =SUM(C10:C14) -> 0 | D15: =SUM(D10:D14) -> 0 | E15: =SUM(E10:E14) -> 0 | H15: =SUM(H10:H14) -> 0 | I15: =SUM(I10:I14) -> 0 | J15: =SUM(J10:J14) -> 0 | L15: =SUM(L10:L14) -> 0 | M15: =SUM(M10:M14) -> 0
A17: EXPENDITURES
A18: Salaries, Wages and Benefits
A19: Faculty (01-10) | E19: =+C19-D19 -> 0
A20: Auxiliary teaching (01-20) | E20: =+C20-D20 -> 0
A21: Graduate students (01-30, 01-40) | E21: =+C21-D21 -> 0
A22: Post-doc research trainee (01-50) | E22: =+C22-D22 -> 0
A23: Classified staff (01-60) | E23: =+C23-D23 -> 0
A24: Professional staff (01-70) | E24: =+C24-D24 -> 0
A25: Temporary staff (01-80) | E25: =+C25-D25 -> 0
A26: Pre-doc trainees (01-90) | E26: =+C26-D26 -> 0
A27: Employee benefits (07) | E27: =+C27-D27 -> 0 | H27: =(_xlfn.IFNA(VLOOKUP($A19,'Benefits Drivers'!$A$6:$F$13,3,FALSE)*H$19,0))+(_xlfn.IFNA(VLOOKUP($A20,'Benefits Drivers'!$A$6:$F$13,3,FALSE)*H$20,0))+(_xlfn.IFNA(VLOOKUP($A21,'Benefits Drivers'!$A$6:$F$13,3,FALSE)*H$21,0))+(_xlfn.IFNA(VLOOKUP($A22,'Benefits Drivers'!$A$6:$F$13,3,FALSE)*H$22,0))+(_xlfn.IFNA(VLOOKUP($A23,'Benefits Drivers'!$A$6:$F$13,3,FALSE)*H$23,0))+(_xlfn.IFNA(VLOOKUP($A25,'Benefits Drivers'!$A$6:$F$13,3,FALSE)*H$25,0))+(_xlfn.IFNA(VLOOKUP($A26,'Benefits Drivers'!$A$6:$F$13,3,FALSE)*H$26,0))+(_xlfn.IFNA(VLOOKUP($A24,'Benefits Drivers'!$A$6:$F$13,3,FALSE)*H$24,0)) -> 0 | I27: =(_xlfn.IFNA(VLOOKUP($A19,'Benefits Drivers'!$A$6:$F$13,4,FALSE)*I$19,0))+(_xlfn.IFNA(VLOOKUP($A20,'Benefits Drivers'!$A$6:$F$13,4,FALSE)*I$20,0))+(_xlfn.IFNA(VLOOKUP($A21,'Benefits Drivers'!$A$6:$F$13,4,FALSE)*I$21,0))+(_xlfn.IFNA(VLOOKUP($A22,'Benefits Drivers'!$A$6:$F$13,4,FALSE)*I$22,0))+(_xlfn.IFNA(VLOOKUP($A23,'Benefits Drivers'!$A$6:$F$13,4,FALSE)*I$23,0))+(_xlfn.IFNA(VLOOKUP($A25,'Benefits Drivers'!$A$6:$F$13,4,FALSE)*I$25,0))+(_xlfn.IFNA(VLOOKUP($A26,'Benefits Drivers'!$A$6:$F$13,4,FALSE)*I$26,0))+(_xlfn.IFNA(VLOOKUP($A24,'Benefits Drivers'!$A$6:$F$13,4,FALSE)*I$24,0)) -> 0 | L27: =(_xlfn.IFNA(VLOOKUP($A19,'Benefits Drivers'!$A$6:$F$13,5,FALSE)*L$19,0))+(_xlfn.IFNA(VLOOKUP($A20,'Benefits Drivers'!$A$6:$F$13,5,FALSE)*L$20,0))+(_xlfn.IFNA(VLOOKUP($A21,'Benefits Drivers'!$A$6:$F$13,5,FALSE)*L$21,0))+(_xlfn.IFNA(VLOOKUP($A22,'Benefits Drivers'!$A$6:$F$13,5,FALSE)*L$22,0))+(_xlfn.IFNA(VLOOKUP($A23,'Benefits Drivers'!$A$6:$F$13,5,FALSE)*L$23,0))+(_xlfn.IFNA(VLOOKUP($A25,'Benefits Drivers'!$A$6:$F$13,5,FALSE)*L$25,0))+(_xlfn.IFNA(VLOOKUP($A26,'Benefits Drivers'!$A$6:$F$13,5,FALSE)*L$26,0))+(_xlfn.IFNA(VLOOKUP($A24,'Benefits Drivers'!$A$6:$F$13,5,FALSE)*L$24,0)) -> 0 | M27: =(_xlfn.IFNA(VLOOKUP($A19,'Benefits Drivers'!$A$6:$F$13,6,FALSE)*M$19,0))+(_xlfn.IFNA(VLOOKUP($A20,'Benefits Drivers'!$A$6:$F$13,6,FALSE)*M$20,0))+(_xlfn.IFNA(VLOOKUP($A21,'Benefits Drivers'!$A$6:$F$13,6,FALSE)*M$21,0))+(_xlfn.IFNA(VLOOKUP($A22,'Benefits Drivers'!$A$6:$F$13,6,FALSE)*M$22,0))+(_xlfn.IFNA(VLOOKUP($A23,'Benefits Drivers'!$A$6:$F$13,6,FALSE)*M$23,0))+(_xlfn.IFNA(VLOOKUP($A25,'Benefits Drivers'!$A$6:$F$13,6,FALSE)*M$25,0))+(_xlfn.IFNA(VLOOKUP($A26,'Benefits Drivers'!$A$6:$F$13,6,FALSE)*M$26,0))+(_xlfn.IFNA(VLOOKUP($A24,'Benefits Drivers'!$A$6:$F$13,6,FALSE)*M$24,0)) -> 0
A28: Subtotal Salaries, Wages and Benefits | B28: =SUM(B19:B27) -> 0 | C28: =SUM(C19:C27) -> 0 | D28: =SUM(D19:D27) -> 0 | E28: =SUM(E19:E27) -> 0 | F28: =SUM(F19:F27) -> 0 | H28: =SUM(H19:H27) -> 0 | I28: =SUM(I19:I27) -> 0 | J28: =SUM(J19:J27) -> 0 | L28: =SUM(L19:L27) -> 0 | M28: =SUM(M19:M27) -> 0
A29: Operations (All exp obj codes except 01, 07, 21 and 25) | E29: =+C29-D29 -> 0
A30: Cost transfer invoices (CTIs) (21) | E30: =+C30-D30 -> 0
A31: Indirect Cost (25) | E31: =+C31-D31 -> 0
