Workbook

Sheet All Funds Rollup
A2: =CONCATENATE(LEFT(GOF!A2:Q2,(FIND("-",GOF!A2:Q2) -1 )), "ALL FUNDS ROLLUP") -> #VALUE!
A3: **Do Not Modify Sheet**
A4: Instructions: 1) Please read the instructions on the individual fund source worksheets (purple tabs) and provide the requested budget authority/revenues and expenditure forecasts for FY's 2021-2025. 2) All data from the purple tabs will automatically populates to this tab. No input is needed on this sheet by end users. 3) This worksheet is a reflection of the unit's annual net operating position. Therefore, opening and ending balances are not included. Net contributions to (or Use of) Fund Balance figures on this sheet are presented for purposes of providing a contextual scale of the unit's operations only. 4) Many of the underlying funds presented here are restricted to a specific use and are, therefore, not freely accessible to be directed towards initiatives or operations outside of the restricted scope. 5) If applicable, UWC2 Fee-Based program activity is included to represent the unit's total scope of responsibility.
B8: Biennium 17 (Actuals/Plan) | F8: Biennium 19 (Actuals/Plan) | K8: Biennium 21 (Plan) | O8: Biennium 23 (Plan)
B9: FY18 Actuals | C9: FY19 Actuals | D9: Bien Total | F9: FY20 Actuals | G9: FY20 Submitted Plan | H9: FY20 Variance (Actuals Over [Under] Plan) | I9: FY21 Plan | K9: FY22 Plan | L9: FY23 Plan | M9: Bien Total | O9: FY24 Plan | P9: FY25 Plan | Q9: Bien Total
A10: BUDGET AUTHORITY/REVENUES
A11: General Operating Fund (includes provisos)
A12: Permanent Budget | B12: =+GOF!B10+GOF!B13 -> 0 | C12: =+GOF!C10+GOF!C13 -> 0 | F12: =+GOF!E10+GOF!E13 -> 0 | G12: =+GOF!F10+GOF!F13 -> 0 | H12: =+GOF!G10+GOF!G13 -> 0 | I12: =+GOF!H10+GOF!H13 -> 0 | K12: =+GOF!K10+GOF!K13 -> 0 | L12: =+GOF!L10+GOF!L13 -> 0 | O12: =+GOF!O10+GOF!O13 -> 0 | P12: =+GOF!P10+GOF!P13 -> 0
A13: Temporary Budget | B13: =+GOF!B11+GOF!B14 -> 0 | C13: =+GOF!C11+GOF!C14 -> 0 | F13: =+GOF!E11+GOF!E14 -> 0 | G13: =+GOF!F11+GOF!F14 -> 0 | H13: =+GOF!G11+GOF!G14 -> 0 | I13: =+GOF!H11+GOF!H14 -> 0 | K13: =+GOF!K11+GOF!K14 -> 0 | L13: =+GOF!L11+GOF!L14 -> 0 | O13: =+GOF!O11+GOF!O14 -> 0 | P13: =+GOF!P11+GOF!P14 -> 0
A14: Designated Operating Fund
A15: Permanent Budget | B15: =+DOF!B10 -> 0 | C15: =+DOF!C10 -> 0 | F15: =+DOF!E10 -> 0 | G15: =+DOF!F10 -> 0 | H15: =+DOF!G10 -> 0 | I15: =+DOF!H10 -> 0 | K15: =+DOF!K10 -> 0 | L15: =+DOF!L10 -> 0 | O15: =+DOF!O10 -> 0 | P15: =+DOF!P10 -> 0
A16: Temporary Budget | B16: =+DOF!B11 -> 0 | C16: =+DOF!C11 -> 0 | F16: =+DOF!E11 -> 0 | G16: =+DOF!F11 -> 0 | H16: =+DOF!G11 -> 0 | I16: =+DOF!H11 -> 0 | K16: =+DOF!K11 -> 0 | L16: =+DOF!L11 -> 0 | O16: =+DOF!O11 -> 0 | P16: =+DOF!P11 -> 0
A17: Restricted Operating Fund
A18: Special State Appropriations - Perm & Temp | B18: =+'Special State Appropriations'!B12 -> 0 | C18: =+'Special State Appropriations'!C12 -> 0 | F18: =+'Special State Appropriations'!E12 -> 0 | G18: =+'Special State Appropriations'!F12 -> 0 | H18: =+'Special State Appropriations'!G12 -> 0 | I18: =+'Special State Appropriations'!H12 -> 0 | K18: =+'Special State Appropriations'!K12 -> 0 | L18: =+'Special State Appropriations'!L12 -> 0 | O18: =+'Special State Appropriations'!O12 -> 0 | P18: =+'Special State Appropriations'!P12 -> 0
A19: Grants & Contracts Sponsored Projects | B19: =+'Sponsored Projects'!B11 -> 0 | C19: =+'Sponsored Projects'!C11 -> 0 | F19: =+'Sponsored Projects'!E11 -> 0 | G19: =+'Sponsored Projects'!F11 -> 0 | H19: =+'Sponsored Projects'!G11 -> 0 | I19: =+'Sponsored Projects'!H11 -> 0 | K19: =+'Sponsored Projects'!K11 -> 0 | L19: =+'Sponsored Projects'!L11 -> 0 | O19: =+'Sponsored Projects'!O11 -> 0 | P19: =+'Sponsored Projects'!P11 -> 0
A20: Grants & Contracts Student Aid | B20: =+'Student Aid'!B11 -> 0 | C20: =+'Student Aid'!C11 -> 0 | F20: =+'Student Aid'!E11 -> 0 | G20: =+'Student Aid'!F11 -> 0 | H20: =+'Student Aid'!G11 -> 0 | I20: =+'Student Aid'!H11 -> 0 | K20: =+'Student Aid'!K11 -> 0 | L20: =+'Student Aid'!L11 -> 0 | O20: =+'Student Aid'!O11 -> 0 | P20: =+'Student Aid'!P11 -> 0
A21: Grants & Contracts Others | B21: =+'Other Grant-Contract Types'!B11 -> 0 | C21: =+'Other Grant-Contract Types'!C11 -> 0 | F21: =+'Other Grant-Contract Types'!E11 -> 0 | G21: =+'Other Grant-Contract Types'!F11 -> 0 | H21: =+'Other Grant-Contract Types'!G11 -> 0 | I21: =+'Other Grant-Contract Types'!H11 -> 0 | K21: =+'Other Grant-Contract Types'!K11 -> 0 | L21: =+'Other Grant-Contract Types'!L11 -> 0 | O21: =+'Other Grant-Contract Types'!O11 -> 0 | P21: =+'Other Grant-Contract Types'!P11 -> 0
A22: Gifts and Discretionary | B22: =+'Gifts-Discretionary'!B11 -> 0 | C22: =+'Gifts-Discretionary'!C11 -> 0 | F22: =+'Gifts-Discretionary'!E11 -> 0 | G22: =+'Gifts-Discretionary'!F11 -> 0 | H22: =+'Gifts-Discretionary'!G11 -> 0 | I22: =+'Gifts-Discretionary'!H11 -> 0 | K22: =+'Gifts-Discretionary'!K11 -> 0 | L22: =+'Gifts-Discretionary'!L11 -> 0 | O22: =+'Gifts-Discretionary'!O11 -> 0 | P22: =+'Gifts-Discretionary'!P11 -> 0
A23: Self-Sustaining | B23: =+'Self Sustaining'!B11 -> 0 | C23: =+'Self Sustaining'!C11 -> 0 | F23: =+'Self Sustaining'!E11 -> 0 | G23: =+'Self Sustaining'!F11 -> 0 | H23: =+'Self Sustaining'!G11 -> 0 | I23: =+'Self Sustaining'!H11 -> 0 | K23: =+'Self Sustaining'!K11 -> 0 | L23: =+'Self Sustaining'!L11 -> 0 | O23: =+'Self Sustaining'!O11 -> 0 | P23: =+'Self Sustaining'!P11 -> 0
A24: UWC2 Fee Based Programs | B24: =+'UWC2 Fee Based Programs'!B11 -> 0 | C24: =+'UWC2 Fee Based Programs'!C11 -> 0 | F24: =+'UWC2 Fee Based Programs'!E11 -> 0 | G24: =+'UWC2 Fee Based Programs'!F11 -> 0 | H24: =+'UWC2 Fee Based Programs'!G11 -> 0 | I24: =+'UWC2 Fee Based Programs'!H11 -> 0 | K24: =+'UWC2 Fee Based Programs'!K11 -> 0 | L24: =+'UWC2 Fee Based Programs'!L11 -> 0 | O24: =+'UWC2 Fee Based Programs'!O11 -> 0 | P24: =+'UWC2 Fee Based Programs'!P11 -> 0 | Q24: =+'Self Sustaining'!Q12 -> 0
A25: Practice Plan Dept of Public Assistance | B25: =+'Practice Plan'!B11 -> 0 | C25: =+'Practice Plan'!C11 -> 0 | F25: =+'Practice Plan'!E11 -> 0 | G25: =+'Practice Plan'!F11 -> 0 | H25: =+'Practice Plan'!G11 -> 0 | I25: =+'Practice Plan'!H11 -> 0 | K25: =+'Practice Plan'!K11 -> 0 | L25: =+'Practice Plan'!L11 -> 0 | M25: =+'Practice Plan'!M11 -> 0 | O25: =+'Practice Plan'!O11 -> 0 | P25: =+'Practice Plan'!P11 -> 0
A26: Total Budget Authority & Revenues | B26: =SUM(B12:B25) -> 0 | C26: =SUM(C12:C25) -> 0 | F26: =SUM(F12:F25) -> 0 | G26: =SUM(G12:G25) -> 0 | H26: =SUM(H12:H25) -> 0 | I26: =SUM(I12:I25) -> 0 | K26: =SUM(K12:K25) -> 0 | L26: =SUM(L12:L25) -> 0 | O26: =SUM(O12:O25) -> 0 | P26: =SUM(P12:P25) -> 0
A28: EXPENDITURES
A29: Salaries, Wages and Benefits
A30: Faculty and academic personnel (01-10) | B30: =GOF!B19+DOF!B16+'Special State Appropriations'!B16+'Sponsored Projects'!B15+'Student Aid'!B15+'Other Grant-Contract Types'!B15+'Gifts-Discretionary'!B15+'Self Sustaining'!B15+'UWC2 Fee Based Programs'!B15+'Practice Plan'!B15 -> 0 | C30: =GOF!C19+DOF!C16+'Special State Appropriations'!C16+'Sponsored Projects'!C15+'Student Aid'!C15+'Other Grant-Contract Types'!C15+'Gifts-Discretionary'!C15+'Self Sustaining'!C15+'UWC2 Fee Based Programs'!C15+'Practice Plan'!C15 -> 0 | F30: =GOF!E19+DOF!E16+'Special State Appropriations'!E16+'Sponsored Projects'!E15+'Student Aid'!E15+'Other Grant-Contract Types'!E15+'Gifts-Discretionary'!E15+'Self Sustaining'!E15+'UWC2 Fee Based Programs'!E15+'Practice Plan'!E15 -> 0 | G30: =GOF!F19+DOF!F16+'Special State Appropriations'!F16+'Sponsored Projects'!F15+'Student Aid'!F15+'Other Grant-Contract Types'!F15+'Gifts-Discretionary'!F15+'Self Sustaining'!F15+'UWC2 Fee Based Programs'!F15+'Practice Plan'!F15 -> 0 | H30: =GOF!G19+DOF!G16+'Special State Appropriations'!G16+'Sponsored Projects'!G15+'Student Aid'!G15+'Other Grant-Contract Types'!G15+'Gifts-Discretionary'!G15+'Self Sustaining'!G15+'UWC2 Fee Based Programs'!G15+'Practice Plan'!G15 -> 0 | I30: =GOF!H19+DOF!H16+'Special State Appropriations'!H16+'Sponsored Projects'!H15+'Student Aid'!H15+'Other Grant-Contract Types'!H15+'Gifts-Discretionary'!H15+'Self Sustaining'!H15+'UWC2 Fee Based Programs'!H15+'Practice Plan'!H15 -> 0 | K30: =GOF!K19+DOF!K16+'Special State Appropriations'!K16+'Sponsored Projects'!K15+'Student Aid'!K15+'Other Grant-Contract Types'!K15+'Gifts-Discretionary'!K15+'Self Sustaining'!K15+'UWC2 Fee Based Programs'!K15+'Practice Plan'!K15 -> 0 | L30: =GOF!L19+DOF!L16+'Special State Appropriations'!L16+'Sponsored Projects'!L15+'Student Aid'!L15+'Other Grant-Contract Types'!L15+'Gifts-Discretionary'!L15+'Self Sustaining'!L15+'UWC2 Fee Based Programs'!L15+'Practice Plan'!L15 -> 0 | O30: =GOF!O19+DOF!O16+'Special State Appropriations'!O16+'Sponsored Projects'!O15+'Student Aid'!O15+'Other Grant-Contract Types'!O15+'Gifts-Discretionary'!O15+'Self Sustaining'!O15+'UWC2 Fee Based Programs'!O15+'Practice Plan'!O15 -> 0 | P30: =GOF!P19+DOF!P16+'Special State Appropriations'!P16+'Sponsored Projects'!P15+'Student Aid'!P15+'Other Grant-Contract Types'!P15+'Gifts-Discretionary'!P15+'Self Sustaining'!P15+'UWC2 Fee Based Programs'!P15+'Practice Plan'!P15 -> 0 | Q30: =+GOF!Q19+DOF!Q16+'Special State Appropriations'!Q16+'Practice Plan'!Q14+'Sponsored Projects'!Q15+'Student Aid'!Q15+'Other Grant-Contract Types'!Q15+'Gifts-Discretionary'!Q15+'Self Sustaining'!Q15 -> 0
A31: Auxiliary teaching (01-20) | B31: =GOF!B20+DOF!B17+'Special State Appropriations'!B17+'Sponsored Projects'!B16+'Student Aid'!B16+'Other Grant-Contract Types'!B16+'Gifts-Discretionary'!B16+'Self Sustaining'!B16+'UWC2 Fee Based Programs'!B16+'Practice Plan'!B16 -> 0 | C31: =GOF!C20+DOF!C17+'Special State Appropriations'!C17+'Sponsored Projects'!C16+'Student Aid'!C16+'Other Grant-Contract Types'!C16+'Gifts-Discretionary'!C16+'Self Sustaining'!C16+'UWC2 Fee Based Programs'!C16+'Practice Plan'!C16 -> 0 | F31: =GOF!E20+DOF!E17+'Special State Appropriations'!E17+'Sponsored Projects'!E16+'Student Aid'!E16+'Other Grant-Contract Types'!E16+'Gifts-Discretionary'!E16+'Self Sustaining'!E16+'UWC2 Fee Based Programs'!E16+'Practice Plan'!E16 -> 0 | G31: =GOF!F20+DOF!F17+'Special State Appropriations'!F17+'Sponsored Projects'!F16+'Student Aid'!F16+'Other Grant-Contract Types'!F16+'Gifts-Discretionary'!F16+'Self Sustaining'!F16+'UWC2 Fee Based Programs'!F16+'Practice Plan'!F16 -> 0 | H31: =GOF!G20+DOF!G17+'Special State Appropriations'!G17+'Sponsored Projects'!G16+'Student Aid'!G16+'Other Grant-Contract Types'!G16+'Gifts-Discretionary'!G16+'Self Sustaining'!G16+'UWC2 Fee Based Programs'!G16+'Practice Plan'!G16 -> 0 | I31: =GOF!H20+DOF!H17+'Special State Appropriations'!H17+'Sponsored Projects'!H16+'Student Aid'!H16+'Other Grant-Contract Types'!H16+'Gifts-Discretionary'!H16+'Self Sustaining'!H16+'UWC2 Fee Based Programs'!H16+'Practice Plan'!H16 -> 0 | K31: =GOF!K20+DOF!K17+'Special State Appropriations'!K17+'Sponsored Projects'!K16+'Student Aid'!K16+'Other Grant-Contract Types'!K16+'Gifts-Discretionary'!K16+'Self Sustaining'!K16+'UWC2 Fee Based Programs'!K16+'Practice Plan'!K16 -> 0 | L31: =GOF!L20+DOF!L17+'Special State Appropriations'!L17+'Sponsored Projects'!L16+'Student Aid'!L16+'Other Grant-Contract Types'!L16+'Gifts-Discretionary'!L16+'Self Sustaining'!L16+'UWC2 Fee Based Programs'!L16+'Practice Plan'!L16 -> 0 | O31: =GOF!O20+DOF!O17+'Special State Appropriations'!O17+'Sponsored Projects'!O16+'Student Aid'!O16+'Other Grant-Contract Types'!O16+'Gifts-Discretionary'!O16+'Self Sustaining'!O16+'UWC2 Fee Based Programs'!O16+'Practice Plan'!O16 -> 0 | P31: =GOF!P20+DOF!P17+'Special State Appropriations'!P17+'Sponsored Projects'!P16+'Student Aid'!P16+'Other Grant-Contract Types'!P16+'Gifts-Discretionary'!P16+'Self Sustaining'!P16+'UWC2 Fee Based Programs'!P16+'Practice Plan'!P16 -> 0
A32: Graduate Students (01-30, 01-40) | B32: =GOF!B21+DOF!B18+'Special State Appropriations'!B18+'Sponsored Projects'!B17+'Student Aid'!B17+'Other Grant-Contract Types'!B17+'Gifts-Discretionary'!B17+'Self Sustaining'!B17+'UWC2 Fee Based Programs'!B17+'Practice Plan'!B17 -> 0 | C32: =GOF!C21+DOF!C18+'Special State Appropriations'!C18+'Sponsored Projects'!C17+'Student Aid'!C17+'Other Grant-Contract Types'!C17+'Gifts-Discretionary'!C17+'Self Sustaining'!C17+'UWC2 Fee Based Programs'!C17+'Practice Plan'!C17 -> 0 | F32: =GOF!E21+DOF!E18+'Special State Appropriations'!E18+'Sponsored Projects'!E17+'Student Aid'!E17+'Other Grant-Contract Types'!E17+'Gifts-Discretionary'!E17+'Self Sustaining'!E17+'UWC2 Fee Based Programs'!E17+'Practice Plan'!E17 -> 0 | G32: =GOF!F21+DOF!F18+'Special State Appropriations'!F18+'Sponsored Projects'!F17+'Student Aid'!F17+'Other Grant-Contract Types'!F17+'Gifts-Discretionary'!F17+'Self Sustaining'!F17+'UWC2 Fee Based Programs'!F17+'Practice Plan'!F17 -> 0 | H32: =GOF!G21+DOF!G18+'Special State Appropriations'!G18+'Sponsored Projects'!G17+'Student Aid'!G17+'Other Grant-Contract Types'!G17+'Gifts-Discretionary'!G17+'Self Sustaining'!G17+'UWC2 Fee Based Programs'!G17+'Practice Plan'!G17 -> 0 | I32: =GOF!H21+DOF!H18+'Special State Appropriations'!H18+'Sponsored Projects'!H17+'Student Aid'!H17+'Other Grant-Contract Types'!H17+'Gifts-Discretionary'!H17+'Self Sustaining'!H17+'UWC2 Fee Based Programs'!H17+'Practice Plan'!H17 -> 0 | K32: =GOF!K21+DOF!K18+'Special State Appropriations'!K18+'Sponsored Projects'!K17+'Student Aid'!K17+'Other Grant-Contract Types'!K17+'Gifts-Discretionary'!K17+'Self Sustaining'!K17+'UWC2 Fee Based Programs'!K17+'Practice Plan'!K17 -> 0 | L32: =GOF!L21+DOF!L18+'Special State Appropriations'!L18+'Sponsored Projects'!L17+'Student Aid'!L17+'Other Grant-Contract Types'!L17+'Gifts-Discretionary'!L17+'Self Sustaining'!L17+'UWC2 Fee Based Programs'!L17+'Practice Plan'!L17 -> 0 | O32: =GOF!O21+DOF!O18+'Special State Appropriations'!O18+'Sponsored Projects'!O17+'Student Aid'!O17+'Other Grant-Contract Types'!O17+'Gifts-Discretionary'!O17+'Self Sustaining'!O17+'UWC2 Fee Based Programs'!O17+'Practice Plan'!O17 -> 0 | P32: =GOF!P21+DOF!P18+'Special State Appropriations'!P18+'Sponsored Projects'!P17+'Student Aid'!P17+'Other Grant-Contract Types'!P17+'Gifts-Discretionary'!P17+'Self Sustaining'!P17+'UWC2 Fee Based Programs'!P17+'Practice Plan'!P17 -> 0
A33: Post-doc research trainee (01-50) | B33: =GOF!B22+DOF!B19+'Special State Appropriations'!B19+'Sponsored Projects'!B18+'Student Aid'!B18+'Other Grant-Contract Types'!B18+'Gifts-Discretionary'!B18+'Self Sustaining'!B18+'UWC2 Fee Based Programs'!B18+'Practice Plan'!B18 -> 0 | C33: =GOF!C22+DOF!C19+'Special State Appropriations'!C19+'Sponsored Projects'!C18+'Student Aid'!C18+'Other Grant-Contract Types'!C18+'Gifts-Discretionary'!C18+'Self Sustaining'!C18+'UWC2 Fee Based Programs'!C18+'Practice Plan'!C18 -> 0 | F33: =GOF!E22+DOF!E19+'Special State Appropriations'!E19+'Sponsored Projects'!E18+'Student Aid'!E18+'Other Grant-Contract Types'!E18+'Gifts-Discretionary'!E18+'Self Sustaining'!E18+'UWC2 Fee Based Programs'!E18+'Practice Plan'!E18 -> 0 | G33: =GOF!F22+DOF!F19+'Special State Appropriations'!F19+'Sponsored Projects'!F18+'Student Aid'!F18+'Other Grant-Contract Types'!F18+'Gifts-Discretionary'!F18+'Self Sustaining'!F18+'UWC2 Fee Based Programs'!F18+'Practice Plan'!F18 -> 0 | H33: =GOF!G22+DOF!G19+'Special State Appropriations'!G19+'Sponsored Projects'!G18+'Student Aid'!G18+'Other Grant-Contract Types'!G18+'Gifts-Discretionary'!G18+'Self Sustaining'!G18+'UWC2 Fee Based Programs'!G18+'Practice Plan'!G18 -> 0 | I33: =GOF!H22+DOF!H19+'Special State Appropriations'!H19+'Sponsored Projects'!H18+'Student Aid'!H18+'Other Grant-Contract Types'!H18+'Gifts-Discretionary'!H18+'Self Sustaining'!H18+'UWC2 Fee Based Programs'!H18+'Practice Plan'!H18 -> 0 | K33: =GOF!K22+DOF!K19+'Special State Appropriations'!K19+'Sponsored Projects'!K18+'Student Aid'!K18+'Other Grant-Contract Types'!K18+'Gifts-Discretionary'!K18+'Self Sustaining'!K18+'UWC2 Fee Based Programs'!K18+'Practice Plan'!K18 -> 0 | L33: =GOF!L22+DOF!L19+'Special State Appropriations'!L19+'Sponsored Projects'!L18+'Student Aid'!L18+'Other Grant-Contract Types'!L18+'Gifts-Discretionary'!L18+'Self Sustaining'!L18+'UWC2 Fee Based Programs'!L18+'Practice Plan'!L18 -> 0 | O33: =GOF!O22+DOF!O19+'Special State Appropriations'!O19+'Sponsored Projects'!O18+'Student Aid'!O18+'Other Grant-Contract Types'!O18+'Gifts-Discretionary'!O18+'Self Sustaining'!O18+'UWC2 Fee Based Programs'!O18+'Practice Plan'!O18 -> 0 | P33: =GOF!P22+DOF!P19+'Special State Appropriations'!P19+'Sponsored Projects'!P18+'Student Aid'!P18+'Other Grant-Contract Types'!P18+'Gifts-Discretionary'!P18+'Self Sustaining'!P18+'UWC2 Fee Based Programs'!P18+'Practice Plan'!P18 -> 0
A34: Classified staff (01-60) | B34: =GOF!B23+DOF!B20+'Special State Appropriations'!B20+'Sponsored Projects'!B19+'Student Aid'!B19+'Other Grant-Contract Types'!B19+'Gifts-Discretionary'!B19+'Self Sustaining'!B19+'UWC2 Fee Based Programs'!B19+'Practice Plan'!B19 -> 0 | C34: =GOF!C23+DOF!C20+'Special State Appropriations'!C20+'Sponsored Projects'!C19+'Student Aid'!C19+'Other Grant-Contract Types'!C19+'Gifts-Discretionary'!C19+'Self Sustaining'!C19+'UWC2 Fee Based Programs'!C19+'Practice Plan'!C19 -> 0 | F34: =GOF!E23+DOF!E20+'Special State Appropriations'!E20+'Sponsored Projects'!E19+'Student Aid'!E19+'Other Grant-Contract Types'!E19+'Gifts-Discretionary'!E19+'Self Sustaining'!E19+'UWC2 Fee Based Programs'!E19+'Practice Plan'!E19 -> 0 | G34: =GOF!F23+DOF!F20+'Special State Appropriations'!F20+'Sponsored Projects'!F19+'Student Aid'!F19+'Other Grant-Contract Types'!F19+'Gifts-Discretionary'!F19+'Self Sustaining'!F19+'UWC2 Fee Based Programs'!F19+'Practice Plan'!F19 -> 0 | H34: =GOF!G23+DOF!G20+'Special State Appropriations'!G20+'Sponsored Projects'!G19+'Student Aid'!G19+'Other Grant-Contract Types'!G19+'Gifts-Discretionary'!G19+'Self Sustaining'!G19+'UWC2 Fee Based Programs'!G19+'Practice Plan'!G19 -> 0 | I34: =GOF!H23+DOF!H20+'Special State Appropriations'!H20+'Sponsored Projects'!H19+'Student Aid'!H19+'Other Grant-Contract Types'!H19+'Gifts-Discretionary'!H19+'Self Sustaining'!H19+'UWC2 Fee Based Programs'!H19+'Practice Plan'!H19 -> 0 | K34: =GOF!K23+DOF!K20+'Special State Appropriations'!K20+'Sponsored Projects'!K19+'Student Aid'!K19+'Other Grant-Contract Types'!K19+'Gifts-Discretionary'!K19+'Self Sustaining'!K19+'UWC2 Fee Based Programs'!K19+'Practice Plan'!K19 -> 0 | L34: =GOF!L23+DOF!L20+'Special State Appropriations'!L20+'Sponsored Projects'!L19+'Student Aid'!L19+'Other Grant-Contract Types'!L19+'Gifts-Discretionary'!L19+'Self Sustaining'!L19+'UWC2 Fee Based Programs'!L19+'Practice Plan'!L19 -> 0 | O34: =GOF!O23+DOF!O20+'Special State Appropriations'!O20+'Sponsored Projects'!O19+'Student Aid'!O19+'Other Grant-Contract Types'!O19+'Gifts-Discretionary'!O19+'Self Sustaining'!O19+'UWC2 Fee Based Programs'!O19+'Practice Plan'!O19 -> 0 | P34: =GOF!P23+DOF!P20+'Special State Appropriations'!P20+'Sponsored Projects'!P19+'Student Aid'!P19+'Other Grant-Contract Types'!P19+'Gifts-Discretionary'!P19+'Self Sustaining'!P19+'UWC2 Fee Based Programs'!P19+'Practice Plan'!P19 -> 0
A35: Professional staff (01-70) | B35: =GOF!B24+DOF!B21+'Special State Appropriations'!B21+'Sponsored Projects'!B20+'Student Aid'!B20+'Other Grant-Contract Types'!B20+'Gifts-Discretionary'!B20+'Self Sustaining'!B20+'UWC2 Fee Based Programs'!B20+'Practice Plan'!B20 -> 0 | C35: =GOF!C24+DOF!C21+'Special State Appropriations'!C21+'Sponsored Projects'!C20+'Student Aid'!C20+'Other Grant-Contract Types'!C20+'Gifts-Discretionary'!C20+'Self Sustaining'!C20+'UWC2 Fee Based Programs'!C20+'Practice Plan'!C20 -> 0 | F35: =GOF!E24+DOF!E21+'Special State Appropriations'!E21+'Sponsored Projects'!E20+'Student Aid'!E20+'Other Grant-Contract Types'!E20+'Gifts-Discretionary'!E20+'Self Sustaining'!E20+'UWC2 Fee Based Programs'!E20+'Practice Plan'!E20 -> 0 | G35: =GOF!F24+DOF!F21+'Special State Appropriations'!F21+'Sponsored Projects'!F20+'Student Aid'!F20+'Other Grant-Contract Types'!F20+'Gifts-Discretionary'!F20+'Self Sustaining'!F20+'UWC2 Fee Based Programs'!F20+'Practice Plan'!F20 -> 0 | H35: =GOF!G24+DOF!G21+'Special State Appropriations'!G21+'Sponsored Projects'!G20+'Student Aid'!G20+'Other Grant-Contract Types'!G20+'Gifts-Discretionary'!G20+'Self Sustaining'!G20+'UWC2 Fee Based Programs'!G20+'Practice Plan'!G20 -> 0 | I35: =GOF!H24+DOF!H21+'Special State Appropriations'!H21+'Sponsored Projects'!H20+'Student Aid'!H20+'Other Grant-Contract Types'!H20+'Gifts-Discretionary'!H20+'Self Sustaining'!H20+'UWC2 Fee Based Programs'!H20+'Practice Plan'!H20 -> 0 | K35: =GOF!K24+DOF!K21+'Special State Appropriations'!K21+'Sponsored Projects'!K20+'Student Aid'!K20+'Other Grant-Contract Types'!K20+'Gifts-Discretionary'!K20+'Self Sustaining'!K20+'UWC2 Fee Based Programs'!K20+'Practice Plan'!K20 -> 0 | L35: =GOF!L24+DOF!L21+'Special State Appropriations'!L21+'Sponsored Projects'!L20+'Student Aid'!L20+'Other Grant-Contract Types'!L20+'Gifts-Discretionary'!L20+'Self Sustaining'!L20+'UWC2 Fee Based Programs'!L20+'Practice Plan'!L20 -> 0 | O35: =GOF!O24+DOF!O21+'Special State Appropriations'!O21+'Sponsored Projects'!O20+'Student Aid'!O20+'Other Grant-Contract Types'!O20+'Gifts-Discretionary'!O20+'Self Sustaining'!O20+'UWC2 Fee Based Programs'!O20+'Practice Plan'!O20 -> 0 | P35: =GOF!P24+DOF!P21+'Special State Appropriations'!P21+'Sponsored Projects'!P20+'Student Aid'!P20+'Other Grant-Contract Types'!P20+'Gifts-Discretionary'!P20+'Self Sustaining'!P20+'UWC2 Fee Based Programs'!P20+'Practice Plan'!P20 -> 0
A36: Temporary staff (01-80) | B36: =GOF!B25+DOF!B22+'Special State Appropriations'!B22+'Sponsored Projects'!B21+'Student Aid'!B21+'Other Grant-Contract Types'!B21+'Gifts-Discretionary'!B21+'Self Sustaining'!B21+'UWC2 Fee Based Programs'!B21+'Practice Plan'!B21 -> 0 | C36: =GOF!C25+DOF!C22+'Special State Appropriations'!C22+'Sponsored Projects'!C21+'Student Aid'!C21+'Other Grant-Contract Types'!C21+'Gifts-Discretionary'!C21+'Self Sustaining'!C21+'UWC2 Fee Based Programs'!C21+'Practice Plan'!C21 -> 0 | F36: =GOF!E25+DOF!E22+'Special State Appropriations'!E22+'Sponsored Projects'!E21+'Student Aid'!E21+'Other Grant-Contract Types'!E21+'Gifts-Discretionary'!E21+'Self Sustaining'!E21+'UWC2 Fee Based Programs'!E21+'Practice Plan'!E21 -> 0 | G36: =GOF!F25+DOF!F22+'Special State Appropriations'!F22+'Sponsored Projects'!F21+'Student Aid'!F21+'Other Grant-Contract Types'!F21+'Gifts-Discretionary'!F21+'Self Sustaining'!F21+'UWC2 Fee Based Programs'!F21+'Practice Plan'!F21 -> 0 | H36: =GOF!G25+DOF!G22+'Special State Appropriations'!G22+'Sponsored Projects'!G21+'Student Aid'!G21+'Other Grant-Contract Types'!G21+'Gifts-Discretionary'!G21+'Self Sustaining'!G21+'UWC2 Fee Based Programs'!G21+'Practice Plan'!G21 -> 0 | I36: =GOF!H25+DOF!H22+'Special State Appropriations'!H22+'Sponsored Projects'!H21+'Student Aid'!H21+'Other Grant-Contract Types'!H21+'Gifts-Discretionary'!H21+'Self Sustaining'!H21+'UWC2 Fee Based Programs'!H21+'Practice Plan'!H21 -> 0 | K36: =GOF!K25+DOF!K22+'Special State Appropriations'!K22+'Sponsored Projects'!K21+'Student Aid'!K21+'Other Grant-Contract Types'!K21+'Gifts-Discretionary'!K21+'Self Sustaining'!K21+'UWC2 Fee Based Programs'!K21+'Practice Plan'!K21 -> 0 | L36: =GOF!L25+DOF!L22+'Special State Appropriations'!L22+'Sponsored Projects'!L21+'Student Aid'!L21+'Other Grant-Contract Types'!L21+'Gifts-Discretionary'!L21+'Self Sustaining'!L21+'UWC2 Fee Based Programs'!L21+'Practice Plan'!L21 -> 0 | O36: =GOF!O25+DOF!O22+'Special State Appropriations'!O22+'Sponsored Projects'!O21+'Student Aid'!O21+'Other Grant-Contract Types'!O21+'Gifts-Discretionary'!O21+'Self Sustaining'!O21+'UWC2 Fee Based Programs'!O21+'Practice Plan'!O21 -> 0 | P36: =GOF!P25+DOF!P22+'Special State Appropriations'!P22+'Sponsored Projects'!P21+'Student Aid'!P21+'Other Grant-Contract Types'!P21+'Gifts-Discretionary'!P21+'Self Sustaining'!P21+'UWC2 Fee Based Programs'!P21+'Practice Plan'!P21 -> 0
A37: Pre-doc Trainees (01-90) | B37: =GOF!B26+DOF!B23+'Special State Appropriations'!B23+'Sponsored Projects'!B22+'Student Aid'!B22+'Other Grant-Contract Types'!B22+'Gifts-Discretionary'!B22+'Self Sustaining'!B22+'UWC2 Fee Based Programs'!B22+'Practice Plan'!B22 -> 0 | C37: =GOF!C26+DOF!C23+'Special State Appropriations'!C23+'Sponsored Projects'!C22+'Student Aid'!C22+'Other Grant-Contract Types'!C22+'Gifts-Discretionary'!C22+'Self Sustaining'!C22+'UWC2 Fee Based Programs'!C22+'Practice Plan'!C22 -> 0 | F37: =GOF!E26+DOF!E23+'Special State Appropriations'!E23+'Sponsored Projects'!E22+'Student Aid'!E22+'Other Grant-Contract Types'!E22+'Gifts-Discretionary'!E22+'Self Sustaining'!E22+'UWC2 Fee Based Programs'!E22+'Practice Plan'!E22 -> 0 | G37: =GOF!F26+DOF!F23+'Special State Appropriations'!F23+'Sponsored Projects'!F22+'Student Aid'!F22+'Other Grant-Contract Types'!F22+'Gifts-Discretionary'!F22+'Self Sustaining'!F22+'UWC2 Fee Based Programs'!F22+'Practice Plan'!F22 -> 0 | H37: =GOF!G26+DOF!G23+'Special State Appropriations'!G23+'Sponsored Projects'!G22+'Student Aid'!G22+'Other Grant-Contract Types'!G22+'Gifts-Discretionary'!G22+'Self Sustaining'!G22+'UWC2 Fee Based Programs'!G22+'Practice Plan'!G22 -> 0 | I37: =GOF!H26+DOF!H23+'Special State Appropriations'!H23+'Sponsored Projects'!H22+'Student Aid'!H22+'Other Grant-Contract Types'!H22+'Gifts-Discretionary'!H22+'Self Sustaining'!H22+'UWC2 Fee Based Programs'!H22+'Practice Plan'!H22 -> 0 | K37: =GOF!K26+DOF!K23+'Special State Appropriations'!K23+'Sponsored Projects'!K22+'Student Aid'!K22+'Other Grant-Contract Types'!K22+'Gifts-Discretionary'!K22+'Self Sustaining'!K22+'UWC2 Fee Based Programs'!K22+'Practice Plan'!K22 -> 0 | L37: =GOF!L26+DOF!L23+'Special State Appropriations'!L23+'Sponsored Projects'!L22+'Student Aid'!L22+'Other Grant-Contract Types'!L22+'Gifts-Discretionary'!L22+'Self Sustaining'!L22+'UWC2 Fee Based Programs'!L22+'Practice Plan'!L22 -> 0 | O37: =GOF!O26+DOF!O23+'Special State Appropriations'!O23+'Sponsored Projects'!O22+'Student Aid'!O22+'Other Grant-Contract Types'!O22+'Gifts-Discretionary'!O22+'Self Sustaining'!O22+'UWC2 Fee Based Programs'!O22+'Practice Plan'!O22 -> 0 | P37: =GOF!P26+DOF!P23+'Special State Appropriations'!P23+'Sponsored Projects'!P22+'Student Aid'!P22+'Other Grant-Contract Types'!P22+'Gifts-Discretionary'!P22+'Self Sustaining'!P22+'UWC2 Fee Based Programs'!P22+'Practice Plan'!P22 -> 0
A38: Employee benefits (07) | B38: =GOF!B27+DOF!B24+'Special State Appropriations'!B24+'Sponsored Projects'!B23+'Student Aid'!B23+'Other Grant-Contract Types'!B23+'Gifts-Discretionary'!B23+'Self Sustaining'!B23+'UWC2 Fee Based Programs'!B23+'Practice Plan'!B23 -> 0 | C38: =GOF!C27+DOF!C24+'Special State Appropriations'!C24+'Sponsored Projects'!C23+'Student Aid'!C23+'Other Grant-Contract Types'!C23+'Gifts-Discretionary'!C23+'Self Sustaining'!C23+'UWC2 Fee Based Programs'!C23+'Practice Plan'!C23 -> 0 | F38: =GOF!E27+DOF!E24+'Special State Appropriations'!E24+'Sponsored Projects'!E23+'Student Aid'!E23+'Other Grant-Contract Types'!E23+'Gifts-Discretionary'!E23+'Self Sustaining'!E23+'UWC2 Fee Based Programs'!E23+'Practice Plan'!E23 -> 0 | G38: =GOF!F27+DOF!F24+'Special State Appropriations'!F24+'Sponsored Projects'!F23+'Student Aid'!F23+'Other Grant-Contract Types'!F23+'Gifts-Discretionary'!F23+'Self Sustaining'!F23+'UWC2 Fee Based Programs'!F23+'Practice Plan'!F23 -> 0 | H38: =GOF!G27+DOF!G24+'Special State Appropriations'!G24+'Sponsored Projects'!G23+'Student Aid'!G23+'Other Grant-Contract Types'!G23+'Gifts-Discretionary'!G23+'Self Sustaining'!G23+'UWC2 Fee Based Programs'!G23+'Practice Plan'!G23 -> 0 | I38: =GOF!H27+DOF!H24+'Special State Appropriations'!H24+'Sponsored Projects'!H23+'Student Aid'!H23+'Other Grant-Contract Types'!H23+'Gifts-Discretionary'!H23+'Self Sustaining'!H23+'UWC2 Fee Based Programs'!H23+'Practice Plan'!H23 -> 0 | K38: =GOF!K27+DOF!K24+'Special State Appropriations'!K24+'Sponsored Projects'!K23+'Student Aid'!K23+'Other Grant-Contract Types'!K23+'Gifts-Discretionary'!K23+'Self Sustaining'!K23+'UWC2 Fee Based Programs'!K23+'Practice Plan'!K23 -> 0 | L38: =GOF!L27+DOF!L24+'Special State Appropriations'!L24+'Sponsored Projects'!L23+'Student Aid'!L23+'Other Grant-Contract Types'!L23+'Gifts-Discretionary'!L23+'Self Sustaining'!L23+'UWC2 Fee Based Programs'!L23+'Practice Plan'!L23 -> 0 | O38: =GOF!O27+DOF!O24+'Special State Appropriations'!O24+'Sponsored Projects'!O23+'Student Aid'!O23+'Other Grant-Contract Types'!O23+'Gifts-Discretionary'!O23+'Self Sustaining'!O23+'UWC2 Fee Based Programs'!O23+'Practice Plan'!O23 -> 0 | P38: =GOF!P27+DOF!P24+'Special State Appropriations'!P24+'Sponsored Projects'!P23+'Student Aid'!P23+'Other Grant-Contract Types'!P23+'Gifts-Discretionary'!P23+'Self Sustaining'!P23+'UWC2 Fee Based Programs'!P23+'Practice Plan'!P23 -> 0
A39: Subtotal Salaries, Wages and Benefits | B39: =SUM(B30:B38) -> 0 | C39: =SUM(C30:C38) -> 0 | D39: =SUM(D30:D38) -> 0 | F39: =SUM(F30:F38) -> 0 | G39: =SUM(G30:G38) -> 0 | H39: =SUM(H30:H38) -> 0 | I39: =SUM(I30:I38) -> 0 | K39: =SUM(K30:K38) -> 0 | L39: =SUM(L30:L38) -> 0 | O39: =SUM(O30:O38) -> 0 | P39: =SUM(P30:P38) -> 0
A40: Operations (All exp obj codes except 01, 07, 21 and 25) | B40: =+GOF!B29+DOF!B26+'Special State Appropriations'!B26+'Practice Plan'!B25+'Sponsored Projects'!B25+'Student Aid'!B25+'Other Grant-Contract Types'!B25+'Gifts-Discretionary'!B25+'Self Sustaining'!B25+'UWC2 Fee Based Programs'!B25 -> 0 | C40: =+GOF!C29+DOF!C26+'Special State Appropriations'!C26+'Practice Plan'!C25+'Sponsored Projects'!C25+'Student Aid'!C25+'Other Grant-Contract Types'!C25+'Gifts-Discretionary'!C25+'Self Sustaining'!C25+'UWC2 Fee Based Programs'!C25 -> 0 | F40: =+GOF!E29+DOF!E26+'Special State Appropriations'!E26+'Practice Plan'!E25+'Sponsored Projects'!E25+'Student Aid'!E25+'Other Grant-Contract Types'!E25+'Gifts-Discretionary'!E25+'Self Sustaining'!E25+'UWC2 Fee Based Programs'!E25 -> 0 | G40: =+GOF!F29+DOF!F26+'Special State Appropriations'!F26+'Practice Plan'!F25+'Sponsored Projects'!F25+'Student Aid'!F25+'Other Grant-Contract Types'!F25+'Gifts-Discretionary'!F25+'Self Sustaining'!F25+'UWC2 Fee Based Programs'!F25 -> 0 | H40: =+GOF!G29+DOF!G26+'Special State Appropriations'!G26+'Practice Plan'!G25+'Sponsored Projects'!G25+'Student Aid'!G25+'Other Grant-Contract Types'!G25+'Gifts-Discretionary'!G25+'Self Sustaining'!G25+'UWC2 Fee Based Programs'!G25 -> 0 | I40: =+GOF!H29+DOF!H26+'Special State Appropriations'!H26+'Practice Plan'!H25+'Sponsored Projects'!H25+'Student Aid'!H25+'Other Grant-Contract Types'!H25+'Gifts-Discretionary'!H25+'Self Sustaining'!H25+'UWC2 Fee Based Programs'!H25 -> 0 | K40: =+GOF!K29+DOF!K26+'Special State Appropriations'!K26+'Practice Plan'!K25+'Sponsored Projects'!K25+'Student Aid'!K25+'Other Grant-Contract Types'!K25+'Gifts-Discretionary'!K25+'Self Sustaining'!K25+'UWC2 Fee Based Programs'!K25 -> 0 | L40: =+GOF!L29+DOF!L26+'Special State Appropriations'!L26+'Practice Plan'!L25+'Sponsored Projects'!L25+'Student Aid'!L25+'Other Grant-Contract Types'!L25+'Gifts-Discretionary'!L25+'Self Sustaining'!L25+'UWC2 Fee Based Programs'!L25 -> 0 | O40: =+GOF!O29+DOF!O26+'Special State Appropriations'!O26+'Practice Plan'!O25+'Sponsored Projects'!O25+'Student Aid'!O25+'Other Grant-Contract Types'!O25+'Gifts-Discretionary'!O25+'Self Sustaining'!O25+'UWC2 Fee Based Programs'!O25 -> 0 | P40: =+GOF!P29+DOF!P26+'Special State Appropriations'!P26+'Practice Plan'!P25+'Sponsored Projects'!P25+'Student Aid'!P25+'Other Grant-Contract Types'!P25+'Gifts-Discretionary'!P25+'Self Sustaining'!P25+'UWC2 Fee Based Programs'!P25 -> 0
A41: Cost transfer invoices (CTIs) (21) | B41: =+GOF!B30+DOF!B27+'Special State Appropriations'!B27+'Practice Plan'!B26+'Sponsored Projects'!B26+'Student Aid'!B26+'Other Grant-Contract Types'!B26+'Gifts-Discretionary'!B26+'Self Sustaining'!B26+'UWC2 Fee Based Programs'!B26 -> 0 | C41: =+GOF!C30+DOF!C27+'Special State Appropriations'!C27+'Practice Plan'!C26+'Sponsored Projects'!C26+'Student Aid'!C26+'Other Grant-Contract Types'!C26+'Gifts-Discretionary'!C26+'Self Sustaining'!C26+'UWC2 Fee Based Programs'!C26 -> 0 | F41: =+GOF!E30+DOF!E27+'Special State Appropriations'!E27+'Practice Plan'!E26+'Sponsored Projects'!E26+'Student Aid'!E26+'Other Grant-Contract Types'!E26+'Gifts-Discretionary'!E26+'Self Sustaining'!E26+'UWC2 Fee Based Programs'!E26 -> 0 | G41: =+GOF!F30+DOF!F27+'Special State Appropriations'!F27+'Practice Plan'!F26+'Sponsored Projects'!F26+'Student Aid'!F26+'Other Grant-Contract Types'!F26+'Gifts-Discretionary'!F26+'Self Sustaining'!F26+'UWC2 Fee Based Programs'!F26 -> 0 | H41: =+GOF!G30+DOF!G27+'Special State Appropriations'!G27+'Practice Plan'!G26+'Sponsored Projects'!G26+'Student Aid'!G26+'Other Grant-Contract Types'!G26+'Gifts-Discretionary'!G26+'Self Sustaining'!G26+'UWC2 Fee Based Programs'!G26 -> 0 | I41: =+GOF!H30+DOF!H27+'Special State Appropriations'!H27+'Practice Plan'!H26+'Sponsored Projects'!H26+'Student Aid'!H26+'Other Grant-Contract Types'!H26+'Gifts-Discretionary'!H26+'Self Sustaining'!H26+'UWC2 Fee Based Programs'!H26 -> 0 | K41: =+GOF!K30+DOF!K27+'Special State Appropriations'!K27+'Practice Plan'!K26+'Sponsored Projects'!K26+'Student Aid'!K26+'Other Grant-Contract Types'!K26+'Gifts-Discretionary'!K26+'Self Sustaining'!K26+'UWC2 Fee Based Programs'!K26 -> 0 | L41: =+GOF!L30+DOF!L27+'Special State Appropriations'!L27+'Practice Plan'!L26+'Sponsored Projects'!L26+'Student Aid'!L26+'Other Grant-Contract Types'!L26+'Gifts-Discretionary'!L26+'Self Sustaining'!L26+'UWC2 Fee Based Programs'!L26 -> 0 | O41: =+GOF!O30+DOF!O27+'Special State Appropriations'!O27+'Practice Plan'!O26+'Sponsored Projects'!O26+'Student Aid'!O26+'Other Grant-Contract Types'!O26+'Gifts-Discretionary'!O26+'Self Sustaining'!O26+'UWC2 Fee Based Programs'!O26 -> 0 | P41: =+GOF!P30+DOF!P27+'Special State Appropriations'!P27+'Practice Plan'!P26+'Sponsored Projects'!P26+'Student Aid'!P26+'Other Grant-Contract Types'!P26+'Gifts-Discretionary'!P26+'Self Sustaining'!P26+'UWC2 Fee Based Programs'!P26 -> 0
A42: Indirect Cost (25) | B42: =+GOF!B31+DOF!B28+'Special State Appropriations'!B28+'Practice Plan'!B27+'Sponsored Projects'!B27+'Student Aid'!B27+'Other Grant-Contract Types'!B27+'Gifts-Discretionary'!B27+'Self Sustaining'!B27+'UWC2 Fee Based Programs'!B27 -> 0 | C42: =+GOF!C31+DOF!C28+'Special State Appropriations'!C28+'Practice Plan'!C27+'Sponsored Projects'!C27+'Student Aid'!C27+'Other Grant-Contract Types'!C27+'Gifts-Discretionary'!C27+'Self Sustaining'!C27+'UWC2 Fee Based Programs'!C27 -> 0 | F42: =+GOF!E31+DOF!E28+'Special State Appropriations'!E28+'Practice Plan'!E27+'Sponsored Projects'!E27+'Student Aid'!E27+'Other Grant-Contract Types'!E27+'Gifts-Discretionary'!E27+'Self Sustaining'!E27+'UWC2 Fee Based Programs'!E27 -> 0 | G42: =+GOF!F31+DOF!F28+'Special State Appropriations'!F28+'Practice Plan'!F27+'Sponsored Projects'!F27+'Student Aid'!F27+'Other Grant-Contract Types'!F27+'Gifts-Discretionary'!F27+'Self Sustaining'!F27+'UWC2 Fee Based Programs'!F27 -> 0 | H42: =+GOF!G31+DOF!G28+'Special State Appropriations'!G28+'Practice Plan'!G27+'Sponsored Projects'!G27+'Student Aid'!G27+'Other Grant-Contract Types'!G27+'Gifts-Discretionary'!G27+'Self Sustaining'!G27+'UWC2 Fee Based Programs'!G27 -> 0 | I42: =+GOF!H31+DOF!H28+'Special State Appropriations'!H28+'Practice Plan'!H27+'Sponsored Projects'!H27+'Student Aid'!H27+'Other Grant-Contract Types'!H27+'Gifts-Discretionary'!H27+'Self Sustaining'!H27+'UWC2 Fee Based Programs'!H27 -> 0 | K42: =+GOF!K31+DOF!K28+'Special State Appropriations'!K28+'Practice Plan'!K27+'Sponsored Projects'!K27+'Student Aid'!K27+'Other Grant-Contract Types'!K27+'Gifts-Discretionary'!K27+'Self Sustaining'!K27+'UWC2 Fee Based Programs'!K27 -> 0 | L42: =+GOF!L31+DOF!L28+'Special State Appropriations'!L28+'Practice Plan'!L27+'Sponsored Projects'!L27+'Student Aid'!L27+'Other Grant-Contract Types'!L27+'Gifts-Discretionary'!L27+'Self Sustaining'!L27+'UWC2 Fee Based Programs'!L27 -> 0 | O42: =+GOF!O31+DOF!O28+'Special State Appropriations'!O28+'Practice Plan'!O27+'Sponsored Projects'!O27+'Student Aid'!O27+'Other Grant-Contract Types'!O27+'Gifts-Discretionary'!O27+'Self Sustaining'!O27+'UWC2 Fee Based Programs'!O27 -> 0 | P42: =+GOF!P31+DOF!P28+'Special State Appropriations'!P28+'Practice Plan'!P27+'Sponsored Projects'!P27+'Student Aid'!P27+'Other Grant-Contract Types'!P27+'Gifts-Discretionary'!P27+'Self Sustaining'!P27+'UWC2 Fee Based Programs'!P27 -> 0
A43: TOTAL EXPENDITURES | B43: =SUM(B39:B42) -> 0 | C43: =SUM(C39:C42) -> 0 | F43: =SUM(F39:F42) -> 0 | G43: =SUM(G39:G42) -> 0 | H43: =SUM(H39:H42) -> 0 | I43: =SUM(I39:I42) -> 0 | K43: =SUM(K39:K42) -> 0 | L43: =SUM(L39:L42) -> 0 | O43: =SUM(O39:O42) -> 0 | P43: =SUM(P39:P42) -> 0
A44: Net Contribution to (Use of) Fund Balance | B44: =+B26-B43 -> 0 | C44: =+C26-C43 -> 0 | F44: =+F26-F43 -> 0 | G44: =+G26-G43 -> 0 | H44: =+H26-H43 -> 0 | I44: =+I26-I43 -> 0 | K44: =+K26-K43 -> 0 | L44: =+L26-L43 -> 0 | O44: =+O26-O43 -> 0 | P44: =+P26-P43 -> 0

Sheet Revenue-Expense Summary
A2: =LEFT(GOF!A2:Q2,(FIND("-",GOF!A2:Q2) -1 )) -> #VALUE! | C2: Budget Authority, Revenue and Expenditure Summary | G2: **Do Not Modify Sheet**
C10: ='OPB Analysis Tab'!M5 -> GOF
C11: ='OPB Analysis Tab'!M13 -> DOF | J11: ok | K11: ok
C12: ='OPB Analysis Tab'!M21 -> Special Appropriations
C13: ='OPB Analysis Tab'!M29 -> Practice Plan | M13: ok
C14: ='OPB Analysis Tab'!M37 -> Sponsored Projects
C15: ='OPB Analysis Tab'!M45 -> Student Aid | K15: ok
C16: ='OPB Analysis Tab'!M53 -> Grants & Contracts - Others
C17: ='OPB Analysis Tab'!M61 -> Philanthropy - Gifts & Discretionary
C18: ='OPB Analysis Tab'!M69 -> Self Sustaining
A24: Revenues & Budget Authority, by Fiscal Year
B25: FY18 Actuals | C25: FY19 Actuals | D25: FY20 Actuals | E25: FY21 Plan | F25: FY22 Plan | G25: FY23 Plan | H25: FY24 Plan | I25: FY25 Plan
A26: GOF - Permanent Budget | B26: =+'All Funds Rollup'!B12 -> 0 | C26: =+'All Funds Rollup'!C12 -> 0 | D26: =+'All Funds Rollup'!F12 -> 0 | E26: =+'All Funds Rollup'!I12 -> 0 | F26: =+'All Funds Rollup'!K12 -> 0 | G26: =+'All Funds Rollup'!L12 -> 0 | H26: =+'All Funds Rollup'!O12 -> 0 | I26: =+'All Funds Rollup'!P12 -> 0
A27: GOF - Temporary Budget | B27: =+'All Funds Rollup'!B13 -> 0 | C27: =+'All Funds Rollup'!C13 -> 0 | D27: =+'All Funds Rollup'!F13 -> 0 | E27: =+'All Funds Rollup'!I13 -> 0 | F27: =+'All Funds Rollup'!K13 -> 0 | G27: =+'All Funds Rollup'!L13 -> 0 | H27: =+'All Funds Rollup'!O13 -> 0 | I27: =+'All Funds Rollup'!P13 -> 0
A28: DOF - Permanent Budget | B28: =+'All Funds Rollup'!B15 -> 0 | C28: =+'All Funds Rollup'!C15 -> 0 | D28: =+'All Funds Rollup'!F15 -> 0 | E28: =+'All Funds Rollup'!I15 -> 0 | F28: =+'All Funds Rollup'!K15 -> 0 | G28: =+'All Funds Rollup'!L15 -> 0 | H28: =+'All Funds Rollup'!O15 -> 0 | I28: =+'All Funds Rollup'!P15 -> 0
A29: DOF - Temporary Budget | B29: =+'All Funds Rollup'!B16 -> 0 | C29: =+'All Funds Rollup'!C16 -> 0 | D29: =+'All Funds Rollup'!F16 -> 0 | E29: =+'All Funds Rollup'!I16 -> 0 | F29: =+'All Funds Rollup'!K16 -> 0 | G29: =+'All Funds Rollup'!L16 -> 0 | H29: =+'All Funds Rollup'!O16 -> 0 | I29: =+'All Funds Rollup'!P16 -> 0
A30: Special State Appropriations | B30: =+'All Funds Rollup'!B18 -> 0 | C30: =+'All Funds Rollup'!C18 -> 0 | D30: =+'All Funds Rollup'!F18 -> 0 | E30: =+'All Funds Rollup'!I18 -> 0 | F30: =+'All Funds Rollup'!K18 -> 0 | G30: =+'All Funds Rollup'!L18 -> 0 | H30: =+'All Funds Rollup'!O18 -> 0 | I30: =+'All Funds Rollup'!P18 -> 0
A31: Grants & Contracts Sponsored Projects | B31: =+'All Funds Rollup'!B19 -> 0 | C31: =+'All Funds Rollup'!C19 -> 0 | D31: =+'All Funds Rollup'!F19 -> 0 | E31: =+'All Funds Rollup'!I19 -> 0 | F31: =+'All Funds Rollup'!K19 -> 0 | G31: =+'All Funds Rollup'!L19 -> 0 | H31: =+'All Funds Rollup'!O19 -> 0 | I31: =+'All Funds Rollup'!P19 -> 0
A32: Grants & Contracts Student Aid | B32: =+'All Funds Rollup'!B20 -> 0 | C32: =+'All Funds Rollup'!C20 -> 0 | D32: =+'All Funds Rollup'!F20 -> 0 | E32: =+'All Funds Rollup'!I20 -> 0 | F32: =+'All Funds Rollup'!K20 -> 0 | G32: =+'All Funds Rollup'!L20 -> 0 | H32: =+'All Funds Rollup'!O20 -> 0 | I32: =+'All Funds Rollup'!P20 -> 0
A33: Grants & Contracts Others | B33: =+'All Funds Rollup'!B21 -> 0 | C33: =+'All Funds Rollup'!C21 -> 0 | D33: =+'All Funds Rollup'!F21 -> 0 | E33: =+'All Funds Rollup'!I21 -> 0 | F33: =+'All Funds Rollup'!K21 -> 0 | G33: =+'All Funds Rollup'!L21 -> 0 | H33: =+'All Funds Rollup'!O21 -> 0 | I33: =+'All Funds Rollup'!P21 -> 0
A34: Gifts and Discretionary | B34: =+'All Funds Rollup'!B22 -> 0 | C34: =+'All Funds Rollup'!C22 -> 0 | D34: =+'All Funds Rollup'!F22 -> 0 | E34: =+'All Funds Rollup'!I22 -> 0 | F34: =+'All Funds Rollup'!K22 -> 0 | G34: =+'All Funds Rollup'!L22 -> 0 | H34: =+'All Funds Rollup'!O22 -> 0 | I34: =+'All Funds Rollup'!P22 -> 0
A35: Self-Sustaining | B35: =+'All Funds Rollup'!B23 -> 0 | C35: =+'All Funds Rollup'!C23 -> 0 | D35: =+'All Funds Rollup'!F23 -> 0 | E35: =+'All Funds Rollup'!I23 -> 0 | F35: =+'All Funds Rollup'!K23 -> 0 | G35: =+'All Funds Rollup'!L23 -> 0 | H35: =+'All Funds Rollup'!O23 -> 0 | I35: =+'All Funds Rollup'!P23 -> 0
A36: UWC2 Fee Based Programs | B36: =+'All Funds Rollup'!B24 -> 0 | C36: =+'All Funds Rollup'!C24 -> 0 | D36: =+'All Funds Rollup'!F24 -> 0 | E36: =+'All Funds Rollup'!I24 -> 0 | F36: =+'All Funds Rollup'!K24 -> 0 | G36: =+'All Funds Rollup'!L24 -> 0 | H36: =+'All Funds Rollup'!O24 -> 0 | I36: =+'All Funds Rollup'!P24 -> 0
A37: Practice Plan Dept of Public Assistance | B37: =+'All Funds Rollup'!B25 -> 0 | C37: =+'All Funds Rollup'!C25 -> 0 | D37: =+'All Funds Rollup'!F25 -> 0 | E37: =+'All Funds Rollup'!I25 -> 0 | F37: =+'All Funds Rollup'!K25 -> 0 | G37: =+'All Funds Rollup'!L25 -> 0 | H37: =+'All Funds Rollup'!O25 -> 0 | I37: =+'All Funds Rollup'!P25 -> 0
A39: Year over Year Change
B40: =+B25 -> FY18 Actuals | C40: =+C25 -> FY19 Actuals | D40: =+D25 -> FY20 Actuals | E40: =+E25 -> FY21 Plan | F40: =+F25 -> FY22 Plan | G40: =+G25 -> FY23 Plan | H40: =+H25 -> FY24 Plan | I40: =+I25 -> FY25 Plan
A41: GOF - Permanent Budget | C41: =IFERROR(+(C26-B26)/B26,0) -> 0 | D41: =IFERROR(+(D26-C26)/C26,0) -> 0 | E41: =IFERROR(+(E26-D26)/D26,0) -> 0 | F41: =IFERROR(+(F26-E26)/E26,0) -> 0 | G41: =IFERROR(+(G26-F26)/F26,0) -> 0 | H41: =IFERROR(+(H26-G26)/G26,0) -> 0 | I41: =IFERROR(+(I26-H26)/H26,0) -> 0
A42: GOF - Temporary Budget | C42: =IFERROR(+(C27-B27)/B27,0) -> 0 | D42: =IFERROR(+(D27-C27)/C27,0) -> 0 | E42: =IFERROR(+(E27-D27)/D27,0) -> 0 | F42: =IFERROR(+(F27-E27)/E27,0) -> 0 | G42: =IFERROR(+(G27-F27)/F27,0) -> 0 | H42: =IFERROR(+(H27-G27)/G27,0) -> 0 | I42: =IFERROR(+(I27-H27)/H27,0) -> 0
A43: DOF - Permanent Budget | C43: =IFERROR(+(C28-B28)/B28,0) -> 0 | D43: =IFERROR(+(D28-C28)/C28,0) -> 0 | E43: =IFERROR(+(E28-D28)/D28,0) -> 0 | F43: =IFERROR(+(F28-E28)/E28,0) -> 0 | G43: =IFERROR(+(G28-F28)/F28,0) -> 0 | H43: =IFERROR(+(H28-G28)/G28,0) -> 0 | I43: =IFERROR(+(I28-H28)/H28,0) -> 0
A44: DOF - Temporary Budget | C44: =IFERROR(+(C29-B29)/B29,0) -> 0 | D44: =IFERROR(+(D29-C29)/C29,0) -> 0 | E44: =IFERROR(+(E29-D29)/D29,0) -> 0 | F44: =IFERROR(+(F29-E29)/E29,0) -> 0 | G44: =IFERROR(+(G29-F29)/F29,0) -> 0 | H44: =IFERROR(+(H29-G29)/G29,0) -> 0 | I44: =IFERROR(+(I29-H29)/H29,0) -> 0
A45: Special State Appropriations | C45: =IFERROR(+(C30-B30)/B30,0) -> 0 | D45: =IFERROR(+(D30-C30)/C30,0) -> 0 | E45: =IFERROR(+(E30-D30)/D30,0) -> 0 | F45: =IFERROR(+(F30-E30)/E30,0) -> 0 | G45: =IFERROR(+(G30-F30)/F30,0) -> 0 | H45: =IFERROR(+(H30-G30)/G30,0) -> 0 | I45: =IFERROR(+(I30-H30)/H30,0) -> 0
A46: Grants & Contracts Sponsored Projects | C46: =IFERROR(+(C31-B31)/B31,0) -> 0 | D46: =IFERROR(+(D31-C31)/C31,0) -> 0 | E46: =IFERROR(+(E31-D31)/D31,0) -> 0 | F46: =IFERROR(+(F31-E31)/E31,0) -> 0 | G46: =IFERROR(+(G31-F31)/F31,0) -> 0 | H46: =IFERROR(+(H31-G31)/G31,0) -> 0 | I46: =IFERROR(+(I31-H31)/H31,0) -> 0
A47: Grants & Contracts Student Aid | C47: =IFERROR(+(C32-B32)/B32,0) -> 0 | D47: =IFERROR(+(D32-C32)/C32,0) -> 0 | E47: =IFERROR(+(E32-D32)/D32,0) -> 0 | F47: =IFERROR(+(F32-E32)/E32,0) -> 0 | G47: =IFERROR(+(G32-F32)/F32,0) -> 0 | H47: =IFERROR(+(H32-G32)/G32,0) -> 0 | I47: =IFERROR(+(I32-H32)/H32,0) -> 0
A48: Grants & Contracts Others | C48: =IFERROR(+(C33-B33)/B33,0) -> 0 | D48: =IFERROR(+(D33-C33)/C33,0) -> 0 | E48: =IFERROR(+(E33-D33)/D33,0) -> 0 | F48: =IFERROR(+(F33-E33)/E33,0) -> 0 | G48: =IFERROR(+(G33-F33)/F33,0) -> 0 | H48: =IFERROR(+(H33-G33)/G33,0) -> 0 | I48: =IFERROR(+(I33-H33)/H33,0) -> 0
A49: Gifts and Discretionary | C49: =IFERROR(+(C34-B34)/B34,0) -> 0 | D49: =IFERROR(+(D34-C34)/C34,0) -> 0 | E49: =IFERROR(+(E34-D34)/D34,0) -> 0 | F49: =IFERROR(+(F34-E34)/E34,0) -> 0 | G49: =IFERROR(+(G34-F34)/F34,0) -> 0 | H49: =IFERROR(+(H34-G34)/G34,0) -> 0 | I49: =IFERROR(+(I34-H34)/H34,0) -> 0
A50: Self-Sustaining | C50: =IFERROR(+(C35-B35)/B35,0) -> 0 | D50: =IFERROR(+(D35-C35)/C35,0) -> 0 | E50: =IFERROR(+(E35-D35)/D35,0) -> 0 | F50: =IFERROR(+(F35-E35)/E35,0) -> 0 | G50: =IFERROR(+(G35-F35)/F35,0) -> 0 | H50: =IFERROR(+(H35-G35)/G35,0) -> 0 | I50: =IFERROR(+(I35-H35)/H35,0) -> 0
A51: UWC2 Fee Based Programs | C51: =IFERROR(+(C36-B36)/B36,0) -> 0 | D51: =IFERROR(+(D36-C36)/C36,0) -> 0 | E51: =IFERROR(+(E36-D36)/D36,0) -> 0 | F51: =IFERROR(+(F36-E36)/E36,0) -> 0 | G51: =IFERROR(+(G36-F36)/F36,0) -> 0 | H51: =IFERROR(+(H36-G36)/G36,0) -> 0 | I51: =IFERROR(+(I36-H36)/H36,0) -> 0
A52: Practice Plan Dept of Public Assistance | C52: =IFERROR(+(C37-B37)/B37,0) -> 0 | D52: =IFERROR(+(D37-C37)/C37,0) -> 0 | E52: =IFERROR(+(E37-D37)/D37,0) -> 0 | F52: =IFERROR(+(F37-E37)/E37,0) -> 0 | G52: =IFERROR(+(G37-F37)/F37,0) -> 0 | H52: =IFERROR(+(H37-G37)/G37,0) -> 0 | I52: =IFERROR(+(I37-H37)/H37,0) -> 0
A57: Faculty and academic personnel (01-10) | B57: ='All Funds Rollup'!C30 -> 0
A58: Auxiliary teaching (01-20) | B58: ='All Funds Rollup'!C31 -> 0
...

Sheet Fund Balance Summary
A2: =LEFT(GOF!A2:Q2,(FIND("-",GOF!A2:Q2) -1 )) -> #VALUE! | E2: **Do Not Modify Sheet**
A28: Fund Type | B28: FY2018 | C28: FY2019 | D28: FY2020 | E28: FY2021 | F28: FY2022 | G28: FY2023 | H28: FY2024 | I28: FY2025
A29: GOF | B29: =+GOF!B39 -> 0 | C29: =+GOF!C39 -> 0 | D29: =+GOF!E39 -> 0 | E29: =+GOF!H39 -> 0 | F29: =+GOF!K39 -> 0 | G29: =+GOF!L39 -> 0 | H29: =+GOF!O39 -> 0 | I29: =+GOF!P39 -> 0
A30: DOF | B30: =+DOF!B35 -> 0 | C30: =+DOF!C35 -> 0 | D30: =+DOF!E35 -> 0 | E30: =+DOF!H35 -> 0 | F30: =+DOF!K35 -> 0 | G30: =+DOF!L35 -> 0 | H30: =+DOF!O35 -> 0 | I30: =+DOF!P35 -> 0
A31: Special State Appropriations | B31: =+'Special State Appropriations'!B35 -> 0 | C31: =+'Special State Appropriations'!C35 -> 0 | D31: =+'Special State Appropriations'!E35 -> 0 | E31: =+'Special State Appropriations'!H35 -> 0 | F31: =+'Special State Appropriations'!K35 -> 0 | G31: =+'Special State Appropriations'!L35 -> 0 | H31: =+'Special State Appropriations'!O35 -> 0 | I31: =+'Special State Appropriations'!P35 -> 0
A32: Practice Plan | B32: =+'Practice Plan'!B33 -> 0 | C32: =+'Practice Plan'!C33 -> 0 | D32: =+'Practice Plan'!E33 -> 0 | E32: =+'Practice Plan'!H33 -> 0 | F32: =+'Practice Plan'!K33 -> 0 | G32: =+'Practice Plan'!L33 -> 0 | H32: =+'Practice Plan'!O33 -> 0 | I32: =+'Practice Plan'!P33 -> 0
A33: Gifts and Discretionary | B33: =+'Gifts-Discretionary'!B33 -> 0 | C33: =+'Gifts-Discretionary'!C33 -> 0 | D33: =+'Gifts-Discretionary'!E33 -> 0 | E33: =+'Gifts-Discretionary'!H33 -> 0 | F33: =+'Gifts-Discretionary'!K33 -> 0 | G33: =+'Gifts-Discretionary'!L33 -> 0 | H33: =+'Gifts-Discretionary'!O33 -> 0 | I33: =+'Gifts-Discretionary'!P33 -> 0
A34: Other Grants-Contracts | B34: =+'Other Grant-Contract Types'!B33 -> 0 | C34: =+'Other Grant-Contract Types'!C33 -> 0 | D34: =+'Other Grant-Contract Types'!E33 -> 0 | E34: =+'Other Grant-Contract Types'!H33 -> 0 | F34: =+'Other Grant-Contract Types'!K33 -> 0 | G34: =+'Other Grant-Contract Types'!L33 -> 0 | H34: =+'Other Grant-Contract Types'!O33 -> 0 | I34: =+'Other Grant-Contract Types'!P33 -> 0
A35: UWC2 Fee Based Programs | B35: =+'UWC2 Fee Based Programs'!B33 -> 0 | C35: =+'UWC2 Fee Based Programs'!C33 -> 0 | D35: =+'UWC2 Fee Based Programs'!E33 -> 0 | E35: =+'UWC2 Fee Based Programs'!H33 -> 0 | F35: =+'UWC2 Fee Based Programs'!K33 -> 0 | G35: =+'UWC2 Fee Based Programs'!L33 -> 0 | H35: =+'UWC2 Fee Based Programs'!O33 -> 0 | I35: =+'UWC2 Fee Based Programs'!P33 -> 0
A36: Self Sustaining | B36: =+'Self Sustaining'!B33 -> 0 | C36: =+'Self Sustaining'!C33 -> 0 | D36: =+'Self Sustaining'!E33 -> 0 | E36: =+'Self Sustaining'!H33 -> 0 | F36: =+'Self Sustaining'!K33 -> 0 | G36: =+'Self Sustaining'!L33 -> 0 | H36: =+'Self Sustaining'!O33 -> 0 | I36: =+'Self Sustaining'!P33 -> 0
A38: GOF/DOF Fund Balance | B38: =+B29+B30 -> 0 | C38: =+C29+C30 -> 0 | D38: =+D29+D30 -> 0 | E38: =+E29+E30 -> 0 | F38: =+F29+F30 -> 0 | G38: =+G29+G30 -> 0 | H38: =+H29+H30 -> 0 | I38: =+I29+I30 -> 0
A39: Self Sustaining Fund Balance | B39: =+B36 -> 0 | C39: =+C36 -> 0 | D39: =+D36 -> 0 | E39: =+E36 -> 0 | F39: =+F36 -> 0 | G39: =+G36 -> 0 | H39: =+H36 -> 0 | I39: =+I36 -> 0

Sheet GOF-DOF-Approp-Self Sus Roll Up
A2: =CONCATENATE(LEFT(GOF!A2:Q2,(FIND("-",GOF!A2:Q2) -1 )),"GOF, DOF, SPECIAL STATE APPROPRIATIONS (ROF) AND SELF SUSTAINING") -> #VALUE!
A3: **Do Not Modify Sheet**
A4: Instructions: 1) Please read the instructions on the individual fund source worksheets (purple tabs) and provide the requested budget authority/revenue and expenditure plans for FY's 2021-2025 on those tabs. 2) All data from the purple "GOF", "DOF", "Special Appropriations" and "Self Sustaining" tabs will automatically populate to this tab. No input is needed by end users. 3) Forgone Proviso/Appropriation Funds row represents unspent or overspent funds from fiscal year provisos. Fiscal year provisos cannot carryover any unspent funds across fiscal years. For FY’s 2021-2025, the assumption is that units will fully spend (not overspend) any fiscal year proviso funds. Therefore, the Forgone Funds line is not applicable. 4) Other Adjustments row represents OPB approved manual/unique adjustments that are not derivable from system data or which do not fit anywhere else. 5) Closing Balance row includes biennial provisos' unspent or overspent funds at the end of the 1st fiscal year which can carryover into the 2nd fiscal year of a biennium. This can also happen when the funds are distributed over several units. Some units can underspend and some can overspend as long as the total proviso nets to zero. Otherwise, provisos cannot be overspent. Any carryover of over/underspent funds is included in the 1st fiscal year's closing balance and 2nd fiscal year's opening balance. 6) The Beginning GOF/DOF Carryover Balance amount on the Carryover Plan worksheet for FY's 2021-2025 does not incude proviso funds.
B7: Biennium 17 (Actuals/Plan) | F7: Biennium 19 (Actuals/Plan) | L7: Biennium 21 (Plan) | P7: Biennium 23 (Plan)
B8: FY18 Actuals | C8: FY19 Actuals | D8: Bien Total | F8: FY20 Actuals | G8: FY20 Submitted Plan | H8: FY20. Variance (Actuals Over [Under] Plan) | I8: Bien Total | J8: FY21 Plan | L8: FY22 Plan | M8: FY23 Plan | N8: Bien Total | P8: FY24 Plan | Q8: FY25 Plan | R8: Bien Total
A9: BUDGET AUTHORITY/REVENUES
A10: General Operating Fund (includes provisos)
A11: Permanent Budget | B11: =+GOF!B10+GOF!B13 -> 0 | C11: =+GOF!C10+GOF!C13 -> 0 | F11: =+GOF!E10+GOF!E13 -> 0 | G11: =+GOF!F10+GOF!F13 -> 0 | H11: =+GOF!G10+GOF!G13 -> 0 | J11: =+GOF!H10+GOF!H13 -> 0 | L11: =+GOF!K10+GOF!K13 -> 0 | M11: =+GOF!L10+GOF!L13 -> 0 | P11: =+GOF!O10+GOF!O13 -> 0 | Q11: =+GOF!P10+GOF!P13 -> 0
A12: Temporary Budget | B12: =+GOF!B11+GOF!B14 -> 0 | C12: =+GOF!C11+GOF!C14 -> 0 | F12: =+GOF!E11+GOF!E14 -> 0 | G12: =+GOF!F11+GOF!F14 -> 0 | H12: =+GOF!G11+GOF!G14 -> 0 | J12: =+GOF!H11+GOF!H14 -> 0 | L12: =+GOF!K11+GOF!K14 -> 0 | M12: =+GOF!L11+GOF!L14 -> 0 | P12: =+GOF!O11+GOF!O14 -> 0 | Q12: =+GOF!P11+GOF!P14 -> 0
A13: Designated Operating Fund (excludes tech fee)
A14: Permanent Budget | B14: =+DOF!B10 -> 0 | C14: =+DOF!C10 -> 0 | F14: =+DOF!E10 -> 0 | G14: =+DOF!F10 -> 0 | H14: =+DOF!G10 -> 0 | J14: =+DOF!H10 -> 0 | L14: =+DOF!K10 -> 0 | M14: =+DOF!L10 -> 0 | P14: =+DOF!O10 -> 0 | Q14: =+DOF!P10 -> 0
A15: Temporary Budget | B15: =+DOF!B11 -> 0 | C15: =+DOF!C11 -> 0 | F15: =+DOF!E11 -> 0 | G15: =+DOF!F11 -> 0 | H15: =+DOF!G11 -> 0 | J15: =+DOF!H11 -> 0 | L15: =+DOF!K11 -> 0 | M15: =+DOF!L11 -> 0 | P15: =+DOF!O11 -> 0 | Q15: =+DOF!P11 -> 0
A16: Restricted Operating Fund
A17: Special State Appropriations - Perm & Temp | B17: =+'Special State Appropriations'!B12 -> 0 | C17: =+'Special State Appropriations'!C12 -> 0 | F17: =+'Special State Appropriations'!E12 -> 0 | G17: =+'Special State Appropriations'!F12 -> 0 | H17: =+'Special State Appropriations'!G12 -> 0 | J17: =+'Special State Appropriations'!H12 -> 0 | L17: =+'Special State Appropriations'!K12 -> 0 | M17: =+'Special State Appropriations'!L12 -> 0 | P17: =+'Special State Appropriations'!O12 -> 0 | Q17: =+'Special State Appropriations'!P12 -> 0
A18: Self-Sustaining | B18: =+'Self Sustaining'!B11 -> 0 | C18: =+'Self Sustaining'!C11 -> 0 | F18: =+'Self Sustaining'!E11 -> 0 | G18: =+'Self Sustaining'!F11 -> 0 | H18: =+'Self Sustaining'!G11 -> 0 | J18: =+'Self Sustaining'!H11 -> 0 | L18: =+'Self Sustaining'!K11 -> 0 | M18: =+'Self Sustaining'!L11 -> 0 | P18: =+'Self Sustaining'!O11 -> 0 | Q18: =+'Self Sustaining'!P11 -> 0
A19: Total Budget Authority & Revenues | B19: =SUM(B11:B18) -> 0 | C19: =SUM(C11:C18) -> 0 | F19: =SUM(F11:F18) -> 0 | G19: =SUM(G11:G18) -> 0 | H19: =SUM(H11:H18) -> 0 | J19: =SUM(J11:J18) -> 0 | L19: =SUM(L11:L18) -> 0 | M19: =SUM(M11:M18) -> 0 | P19: =SUM(P11:P18) -> 0 | Q19: =SUM(Q11:Q18) -> 0
A21: EXPENDITURES
A22: Salaries, Wages and Benefits
A23: Faculty and academic personnel (01-10) | B23: =+GOF!B19+DOF!B16+'Special State Appropriations'!B16+'Self Sustaining'!B15 -> 0 | C23: =+GOF!C19+DOF!C16+'Special State Appropriations'!C16+'Self Sustaining'!C15 -> 0 | F23: =+GOF!E19+DOF!E16+'Special State Appropriations'!E16+'Self Sustaining'!E15 -> 0 | G23: =+GOF!F19+DOF!F16+'Special State Appropriations'!F16+'Self Sustaining'!F15 -> 0 | H23: =+GOF!G19+DOF!G16+'Special State Appropriations'!G16+'Self Sustaining'!G15 -> 0 | J23: =+GOF!H19+DOF!H16+'Special State Appropriations'!H16+'Self Sustaining'!H15 -> 0 | L23: =+GOF!K19+DOF!K16+'Special State Appropriations'!K16+'Self Sustaining'!K15 -> 0 | M23: =+GOF!L19+DOF!L16+'Special State Appropriations'!L16+'Self Sustaining'!L15 -> 0 | P23: =+GOF!O19+DOF!O16+'Special State Appropriations'!O16+'Self Sustaining'!O15 -> 0 | Q23: =+GOF!P19+DOF!P16+'Special State Appropriations'!P16+'Self Sustaining'!P15 -> 0 | R23: =+GOF!Q19+DOF!Q16+'Special State Appropriations'!Q16+'Practice Plan'!Q14+'Sponsored Projects'!Q15+'Student Aid'!Q15+'Other Grant-Contract Types'!Q15+'Gifts-Discretionary'!Q15+'Self Sustaining'!Q15 -> 0
A24: Auxiliary teaching (01-20) | B24: =+GOF!B20+DOF!B17+'Special State Appropriations'!B17+'Self Sustaining'!B16 -> 0 | C24: =+GOF!C20+DOF!C17+'Special State Appropriations'!C17+'Self Sustaining'!C16 -> 0 | F24: =+GOF!E20+DOF!E17+'Special State Appropriations'!E17+'Self Sustaining'!E16 -> 0 | G24: =+GOF!F20+DOF!F17+'Special State Appropriations'!F17+'Self Sustaining'!F16 -> 0 | H24: =+GOF!G20+DOF!G17+'Special State Appropriations'!G17+'Self Sustaining'!G16 -> 0 | J24: =+GOF!H20+DOF!H17+'Special State Appropriations'!H17+'Self Sustaining'!H16 -> 0 | L24: =+GOF!K20+DOF!K17+'Special State Appropriations'!K17+'Self Sustaining'!K16 -> 0 | M24: =+GOF!L20+DOF!L17+'Special State Appropriations'!L17+'Self Sustaining'!L16 -> 0 | P24: =+GOF!O20+DOF!O17+'Special State Appropriations'!O17+'Self Sustaining'!O16 -> 0 | Q24: =+GOF!P20+DOF!P17+'Special State Appropriations'!P17+'Self Sustaining'!P16 -> 0
A25: Graduate Students (01-30, 01-40) | B25: =+GOF!B21+DOF!B18+'Special State Appropriations'!B18+'Self Sustaining'!B17 -> 0 | C25: =+GOF!C21+DOF!C18+'Special State Appropriations'!C18+'Self Sustaining'!C17 -> 0 | F25: =+GOF!E21+DOF!E18+'Special State Appropriations'!E18+'Self Sustaining'!E17 -> 0 | G25: =+GOF!F21+DOF!F18+'Special State Appropriations'!F18+'Self Sustaining'!F17 -> 0 | H25: =+GOF!G21+DOF!G18+'Special State Appropriations'!G18+'Self Sustaining'!G17 -> 0 | J25: =+GOF!H21+DOF!H18+'Special State Appropriations'!H18+'Self Sustaining'!H17 -> 0 | L25: =+GOF!K21+DOF!K18+'Special State Appropriations'!K18+'Self Sustaining'!K17 -> 0 | M25: =+GOF!L21+DOF!L18+'Special State Appropriations'!L18+'Self Sustaining'!L17 -> 0 | P25: =+GOF!O21+DOF!O18+'Special State Appropriations'!O18+'Self Sustaining'!O17 -> 0 | Q25: =+GOF!P21+DOF!P18+'Special State Appropriations'!P18+'Self Sustaining'!P17 -> 0
A26: Post-doc research trainee (01-50) | B26: =+GOF!B22+DOF!B19+'Special State Appropriations'!B19+'Self Sustaining'!B18 -> 0 | C26: =+GOF!C22+DOF!C19+'Special State Appropriations'!C19+'Self Sustaining'!C18 -> 0 | F26: =+GOF!E22+DOF!E19+'Special State Appropriations'!E19+'Self Sustaining'!E18 -> 0 | G26: =+GOF!F22+DOF!F19+'Special State Appropriations'!F19+'Self Sustaining'!F18 -> 0 | H26: =+GOF!G22+DOF!G19+'Special State Appropriations'!G19+'Self Sustaining'!G18 -> 0 | J26: =+GOF!H22+DOF!H19+'Special State Appropriations'!H19+'Self Sustaining'!H18 -> 0 | L26: =+GOF!K22+DOF!K19+'Special State Appropriations'!K19+'Self Sustaining'!K18 -> 0 | M26: =+GOF!L22+DOF!L19+'Special State Appropriations'!L19+'Self Sustaining'!L18 -> 0 | P26: =+GOF!O22+DOF!O19+'Special State Appropriations'!O19+'Self Sustaining'!O18 -> 0 | Q26: =+GOF!P22+DOF!P19+'Special State Appropriations'!P19+'Self Sustaining'!P18 -> 0
A27: Classified staff (01-60) | B27: =+GOF!B23+DOF!B20+'Special State Appropriations'!B20+'Self Sustaining'!B19 -> 0 | C27: =+GOF!C23+DOF!C20+'Special State Appropriations'!C20+'Self Sustaining'!C19 -> 0 | F27: =+GOF!E23+DOF!E20+'Special State Appropriations'!E20+'Self Sustaining'!E19 -> 0 | G27: =+GOF!F23+DOF!F20+'Special State Appropriations'!F20+'Self Sustaining'!F19 -> 0 | H27: =+GOF!G23+DOF!G20+'Special State Appropriations'!G20+'Self Sustaining'!G19 -> 0 | J27: =+GOF!H23+DOF!H20+'Special State Appropriations'!H20+'Self Sustaining'!H19 -> 0 | L27: =+GOF!K23+DOF!K20+'Special State Appropriations'!K20+'Self Sustaining'!K19 -> 0 | M27: =+GOF!L23+DOF!L20+'Special State Appropriations'!L20+'Self Sustaining'!L19 -> 0 | P27: =+GOF!O23+DOF!O20+'Special State Appropriations'!O20+'Self Sustaining'!O19 -> 0 | Q27: =+GOF!P23+DOF!P20+'Special State Appropriations'!P20+'Self Sustaining'!P19 -> 0
A28: Professional staff (01-70) | B28: =+GOF!B24+DOF!B21+'Special State Appropriations'!B21+'Self Sustaining'!B20 -> 0 | C28: =+GOF!C24+DOF!C21+'Special State Appropriations'!C21+'Self Sustaining'!C20 -> 0 | F28: =+GOF!E24+DOF!E21+'Special State Appropriations'!E21+'Self Sustaining'!E20 -> 0 | G28: =+GOF!F24+DOF!F21+'Special State Appropriations'!F21+'Self Sustaining'!F20 -> 0 | H28: =+GOF!G24+DOF!G21+'Special State Appropriations'!G21+'Self Sustaining'!G20 -> 0 | J28: =+GOF!H24+DOF!H21+'Special State Appropriations'!H21+'Self Sustaining'!H20 -> 0 | L28: =+GOF!K24+DOF!K21+'Special State Appropriations'!K21+'Self Sustaining'!K20 -> 0 | M28: =+GOF!L24+DOF!L21+'Special State Appropriations'!L21+'Self Sustaining'!L20 -> 0 | P28: =+GOF!O24+DOF!O21+'Special State Appropriations'!O21+'Self Sustaining'!O20 -> 0 | Q28: =+GOF!P24+DOF!P21+'Special State Appropriations'!P21+'Self Sustaining'!P20 -> 0
A29: Temporary staff (01-80) | B29: =+GOF!B25+DOF!B22+'Special State Appropriations'!B22+'Self Sustaining'!B21 -> 0 | C29: =+GOF!C25+DOF!C22+'Special State Appropriations'!C22+'Self Sustaining'!C21 -> 0 | F29: =+GOF!E25+DOF!E22+'Special State Appropriations'!E22+'Self Sustaining'!E21 -> 0 | G29: =+GOF!F25+DOF!F22+'Special State Appropriations'!F22+'Self Sustaining'!F21 -> 0 | H29: =+GOF!G25+DOF!G22+'Special State Appropriations'!G22+'Self Sustaining'!G21 -> 0 | J29: =+GOF!H25+DOF!H22+'Special State Appropriations'!H22+'Self Sustaining'!H21 -> 0 | L29: =+GOF!K25+DOF!K22+'Special State Appropriations'!K22+'Self Sustaining'!K21 -> 0 | M29: =+GOF!L25+DOF!L22+'Special State Appropriations'!L22+'Self Sustaining'!L21 -> 0 | P29: =+GOF!O25+DOF!O22+'Special State Appropriations'!O22+'Self Sustaining'!O21 -> 0 | Q29: =+GOF!P25+DOF!P22+'Special State Appropriations'!P22+'Self Sustaining'!P21 -> 0
