Workbook

Sheet Footnotes
A3: Allocation Assumptions
A4: • Visit Central Budget Policies & Assumptions page for details related to allocations assumptions
A5: Central Budget Policies & Assumptions
A7: • Please note, as the "supplement" includes multiple resource types, it is unlikely, for example, that the "ICR" column value will equal the total core funds provided to a unit using the ICR resource.
A9: Tabs Overview
A10: • Total tab aggregates data from tabs Beginning Balance, Tuition, Summer Quarter, Indirect Cost Recovery, Miscellaneous Fee, and Supplement
A11: •Supplement tab aggregates from tabs Supp_Inflation Adjustment, Supp_State Funded Merit and Benefits, Supp_Legislative Directives, and Supp_Centrally Funded Initiatives
A12: •Supp_Legislative Directives aggregates from tabs Supp_LD_Provisos and Supp_LD_M&O
A13: •Supp_Centrally Funded Initiatives aggregates from tabs Supp_CFI_Fixed Costs, Supp_CFI_Salary & Benefits, and Supp_CFI_PRF
A15: • Units within tables are displayed by Level 05 of the Cost Center Hierarchy
A16: • Table columns displaying increments/change in allocation amounts are shaded light gray
A19: Supplement Overview
... A38: For assistance or questions, please utilize the UW Connect Finance –> Adaptive Support Request

Sheet Total
D2: 4 | F2: 6 | H2: 8 | J2: 10 | L2: 12 | N2: 14
B3: FY2025 Core Funds Allocation Table:Total
B4: =Tuition!B4 -> 45331
B5: Cost Center Level 05 Name | C5: Cost Center Level 05 Code | D5: FY2024 Base | E5: FY2025 Increment | F5: FY2025 Base | G5: FY2026 Increment | H5: FY2026 Base | I5: FY2027 Increment | J5: FY2027 Base | K5: FY2028 Increment | L5: FY2028 Base | M5: FY2029 Increment | N5: FY2029 Base
D6: A | E6: B | F6: C = A + B | G6: D | H6: E = C + D | I6: F | J6: G = E + F | K6: H | L6: I = G + H | M6: J | N6: K = I + J
B7: Seattle Academic Units | D7: 8.8936712e+08 | E7: 11911211 | F7: 9.0127833e+08 | G7: -2822476 | H7: 8.9845585e+08 | I7: 12820349 | J7: 9.112762e+08 | K7: 13857929 | L7: 9.2513413e+08 | M7: 11854829 | N7: 9.3698896e+08
B8: College of Arts and Sciences | C8: CCH100036 | D8: 249680977 | E8: 4151967 | F8: 253832944 | G8: 4311644 | H8: 258144588 | I8: 6416479 | J8: 264561067 | K8: 6955994 | L8: 271517061 | M8: 6805511 | N8: 278322572
B9: College of Built Environments | C9: CCH100039 | D9: 18568606 | E9: 350567 | F9: 18919173 | G9: 134262 | H9: 19053435 | I9: 340242 | J9: 19393677 | K9: 350343 | L9: 19744020 | M9: 361020 | N9: 20105040
B10: College of Education | C10: CCH100042 | D10: 23699145 | E10: -567722 | F10: 23131423 | G10: -20162 | H10: 23111261 | I10: 39503 | J10: 23150764 | K10: 286839 | L10: 23437603 | M10: 397260 | N10: 23834863
B11: College of Engineering | C11: CCH100058 | D11: 140110535 | E11: 4241969 | F11: 144352504 | G11: -794552 | H11: 143557952 | I11: 1652999 | J11: 145210951 | K11: 1937144 | L11: 147148095 | M11: -82084 | N11: 147066011
B12: College of the Environment | C12: CCH100043 | D12: 57539774 | E12: -112134 | F12: 57427640 | G12: -437415 | H12: 56990225 | I12: 373041 | J12: 57363266 | K12: 693246 | L12: 58056512 | M12: 713933 | N12: 58770445
B13: Evans School of Public Policy and Governance | C13: CCH100019 | D13: 7410442 | E13: -1411045 | F13: 5999397 | G13: 18975 | H13: 6018372 | I13: 19754 | J13: 6038126 | K13: 18923 | L13: 6057049 | M13: 17840 | N13: 6074889
B14: Foster School of Business | C14: CCH100023 | D14: 40207184 | E14: 786426 | F14: 40993610 | G14: 778948 | H14: 41772558 | I14: 777317 | J14: 42549875 | K14: 826382 | L14: 43376257 | M14: 851173 | N14: 44227430
B15: Information School | C15: CCH100028 | D15: 14621566 | E15: -48924 | F15: 14572642 | G15: 342890 | H15: 14915532 | I15: 353153 | J15: 15268685 | K15: 363936 | L15: 15632621 | M15: 374878 | N15: 16007499
B16: School of Dentistry | C16: CCH100033 | D16: 22697179 | E16: 79530 | F16: 22776709 | G16: 236509 | H16: 23013218 | I16: 237761 | J16: 23250979 | K16: 228802 | L16: 23479781 | M16: 221734 | N16: 23701515
B17: School of Law | C17: CCH100017 | D17: 19025786 | E17: 826287 | F17: 19852073 | G17: -96493 | H17: 19755580 | I17: 3603 | J17: 19759183 | K17: -6653 | L17: 19752530 | M17: 3445 | N17: 19755975
B18: School of Medicine | C18: CCH100050 | D18: 2.0593967e+08 | E18: 3516411 | F18: 2.0945608e+08 | G18: -6249196 | H18: 2.0320688e+08 | I18: 1116593 | J18: 2.0432347e+08 | K18: 1121751 | L18: 2.0544522e+08 | M18: 1140600 | N18: 2.0658582e+08
B19: School of Nursing | C19: CCH100031 | D19: 15989584 | E19: -472464 | F19: 15517120 | G19: -17068 | H19: 15500052 | I19: 135615 | J19: 15635667 | K19: 139844 | L19: 15775511 | M19: 144190 | N19: 15919701
... B22: School of Social Work | C22: CCH100046 | D22: 13574661 | E22: 615192 | F22: 14189853 | G22: -262598 | H22: 13927255 | I22: 703753 | J22: 14631008 | K22: 362144 | L22: 14993152 | M22: 54778 | N22: 15047930
B23: Seattle Administrative Units | D23: 5.430817e+08 | E23: -11013626 | F23: 5.3206807e+08 | G23: -1053957 | H23: 5.3101411e+08 | I23: -2273354 | J23: 5.2874076e+08 | K23: 288743 | L23: 5.290295e+08 | M23: -5205449 | N23: 5.2382405e+08
B24: Institutional Infrastructure | D24: 3.9879704e+08 | E24: -9509430 | F24: 3.8928761e+08 | G24: -1564463 | H24: 3.8772315e+08 | I24: -2532170 | J24: 3.8519098e+08 | K24: 23285 | L24: 3.8521427e+08 | M24: -5366689 | N24: 3.7984758e+08
B25: Advancement | C25: CCH100034 | D25: 21223611 | E25: -1343155 | F25: 19880456 | G25: 0 | H25: 19880456 | I25: 0 | J25: 19880456 | K25: 0 | L25: 19880456 | M25: 0 | N25: 19880456
B26: Attorney General | C26: CCH100026 | D26: 6149692 | E26: 0 | F26: 6149692 | G26: 0 | H26: 6149692 | I26: 0 | J26: 6149692 | K26: 0 | L26: 6149692 | M26: 0 | N26: 6149692
B27: Campus Community Safety | C27: CCH104556 | D27: 12537451 | E27: -85437 | F27: 12452014 | G27: 0 | H27: 12452014 | I27: -66888 | J27: 12385126 | K27: 0 | L27: 12385126 | M27: 0 | N27: 12385126
B28: Executive Office | C28: CCH100020 | D28: 77176001 | E28: -68763 | F28: 77107238 | G28: -66463 | H28: 77040775 | I28: -347080 | J28: 76693695 | K28: 3285 | L28: 76696980 | M28: -266689 | N28: 76430291
B29: External Affairs | C29: CCH100022 | D29: 4203906 | E29: -394963 | F29: 3808943 | G29: 2000 | H29: 3810943 | I29: 3000 | J29: 3813943 | K29: 20000 | L29: 3833943 | M29: 0 | N29: 3833943
B30: Facilities | C30: CCH100049 | D30: 161787912 | E30: -7672427 | F30: 154115485 | G30: -1500000 | H30: 152615485 | I30: 0 | J30: 152615485 | K30: 0 | L30: 152615485 | M30: -5100000 | N30: 147515485
B31: Finance | C31: CCH100047 | D31: 29366144 | E31: -49228 | F31: 29316916 | G31: 0 | H31: 29316916 | I31: 0 | J31: 29316916 | K31: 0 | L31: 29316916 | M31: 0 | N31: 29316916
B32: Human Resources | C32: CCH100044 | D32: 17665822 | E32: 80969 | F32: 17746791 | G32: 0 | H32: 17746791 | I32: 0 | J32: 17746791 | K32: 0 | L32: 17746791 | M32: 0 | N32: 17746791
B33: UW Information Technology | C33: CCH100040 | D33: 68686505 | E33: 23574 | F33: 68710079 | G33: 0 | H33: 68710079 | I33: -2121202 | J33: 66588877 | K33: 0 | L33: 66588877 | M33: 0 | N33: 66588877
B34: Instructional & Student Support | D34: 55122854 | E34: -2012171 | F34: 53110683 | G34: 503057 | H34: 53613740 | I34: 200792 | J34: 53814532 | K34: 206855 | L34: 54021387 | M34: 102051 | N34: 54123438
B35: Continuum College | C35: CCH100030 | D35: 1943512 | E35: 1418 | F35: 1944930 | G35: -225000 | H35: 1719930 | I35: 0 | J35: 1719930 | K35: 0 | L35: 1719930 | M35: 0 | N35: 1719930
B36: Global Affairs | C36: CCH100027 | D36: 1652646 | E36: -81776 | F36: 1570870 | G36: 0 | H36: 1570870 | I36: 0 | J36: 1570870 | K36: 0 | L36: 1570870 | M36: 0 | N36: 1570870
B37: Graduate School | C37: CCH100041 | D37: 14785338 | E37: 23630 | F37: 14808968 | G37: 77994 | H37: 14886962 | I37: 80265 | J37: 14967227 | K37: 82760 | L37: 15049987 | M37: 85284 | N37: 15135271
B38: Intercollegiate Athletics | C38: CCH100029 | D38: 2833000 | E38: -1767000 | F38: 1066000 | G38: 533000 | H38: 1599000 | I38: 0 | J38: 1599000 | K38: 0 | L38: 1599000 | M38: 0 | N38: 1599000
B39: Minority Affairs | C39: CCH100032 | D39: 10996135 | E39: 49326 | F39: 11045461 | G39: 1937 | H39: 11047398 | I39: 1957 | J39: 11049355 | K39: 1977 | L39: 11051332 | M39: 1996 | N39: 11053328
B40: Student Life | C40: CCH100038 | D40: 12471363 | E40: -418668 | F40: 12052695 | G40: 15 | H40: 12052710 | I40: 14 | J40: 12052724 | K40: 15 | L40: 12052739 | M40: 15 | N40: 12052754
B41: Undergraduate Academic Affairs | C41: CCH100021 | D41: 10440860 | E41: 180899 | F41: 10621759 | G41: 115111 | H41: 10736870 | I41: 118556 | J41: 10855426 | K41: 122103 | L41: 10977529 | M41: 14756 | N41: 10992285
B42: Research and Innovation | D42: 89161800 | E42: 507975 | F42: 89669775 | G42: 7449 | H42: 89677224 | I42: 58024 | J42: 89735248 | K42: 58603 | L42: 89793851 | M42: 59189 | N42: 89853040
B43: CoMotion | C43: CCH100018 | D43: 4045741 | E43: 26686 | F43: 4072427 | G43: 181 | H43: 4072608 | I43: 183 | J43: 4072791 | K43: 184 | L43: 4072975 | M43: 186 | N43: 4073161
...

Sheet Beginning Balance
E2: 3 | G2: =E2+1 -> 4 | I2: =G2+1 -> 5
B3: FY2025 Core Funds Allocation Table: Beginning Balance
B4: =Tuition!B4 -> 45331
B5: Cost Center Level 05 Name | C5: Balancing Unit | D5: Cost Center Level 05 Code | E5: FY2024 Beginning Base | F5: FY2024 Tuition Base | G5: FY2024 Summer Quarter Base | H5: FY2024 ICR Base | I5: FY2024 Misc. Fee Base | J5: FY2024 Revised Supplement Base -> FY2025 Beginning Base
E6: A | F6: B | G6: C | H6: D | I6: E | J6: F = A-B-C-D-E
B7: Seattle Academic Units | E7: 8.8936712e+08 | F7: 467648431 | G7: 8508705.1 | H7: 109306444 | I7: 78274.2 | J7: 303825264
B8: College of Arts and Sciences | C8: BU134 | D8: CCH100036 | E8: 249680977 | F8: 211685421 | G8: 0 | H8: 9462086 | I8: 0 | J8: 28533470
B9: College of Built Environments | C9: BU139 | D9: CCH100039 | E9: 18568606 | F9: 15201087 | G9: 0 | H9: 126088 | I9: 0 | J9: 3241431
B10: College of Education | C10: BU136 | D10: CCH100042 | E10: 23699145 | F10: 14894909 | G10: 0 | H10: 1143202 | I10: 0 | J10: 7661034
B11: College of Engineering | C11: BU132 | D11: CCH100058 | E11: 140110535 | F11: 58029773 | G11: 0 | H11: 11995061 | I11: 0 | J11: 70085701
B12: College of the Environment | C12: BU133 | D12: CCH100043 | E12: 57539774 | F12: 23496460 | G12: 0 | H12: 6814129 | I12: 0 | J12: 27229185
B13: Evans School of Public Policy and Governance | C13: BU137 | D13: CCH100019 | E13: 7410442 | F13: 5024463 | G13: 0 | H13: 312439 | I13: 0 | J13: 2073540
B14: Foster School of Business | C14: BU140 | D14: CCH100023 | E14: 40207184 | F14: 30010326 | G14: 0 | H14: 9477 | I14: 0 | J14: 10187381
B15: Information School | C15: BU138 | D15: CCH100028 | E15: 14621566 | F15: 11395530 | G15: 0 | H15: 496445 | I15: 0 | J15: 2729591
B16: School of Dentistry | C16: BU127 | D16: CCH100033 | E16: 22697179 | F16: 8082576 | G16: 1497199.9 | H16: 587842 | I16: 0 | J16: 12529561
B17: School of Law | C17: BU141 | D17: CCH100017 | E17: 19025786 | F17: 14147229 | G17: 0 | H17: 2583 | I17: 55181.7 | J17: 4820792
B18: School of Medicine | C18: BU131 | D18: CCH100050 | E18: 2.0593967e+08 | F18: 34644409 | G18: 6702021.4 | H18: 65194694 | I18: 23092.5 | J18: 99375449
B19: School of Nursing | C19: BU129 | D19: CCH100031 | E19: 15989584 | F19: 5710396 | G19: 0 | H19: 927052 | I19: 0 | J19: 9352136
... B22: School of Social Work | C22: BU135 | D22: CCH100046 | E22: 13574661 | F22: 6337808 | G22: 0 | H22: 911826 | I22: 0 | J22: 6325027
B23: Seattle Administrative Units | E23: 5.430817e+08 | F23: 6337464 | G23: 0 | H23: 6283279 | I23: 7362150.8 | J23: 523098804
B24: Institutional Infrastructure | E24: 3.9879704e+08 | F24: 0 | G24: 0 | H24: 318765 | I24: 4176242.5 | J24: 394302036
B25: Advancement | C25: BU109 | D25: CCH100034 | E25: 21223611 | F25: 0 | G25: 0 | H25: 0 | I25: 0 | J25: 21223611
B26: Attorney General | C26: BU113 | D26: CCH100026 | E26: 6149692 | F26: 0 | G26: 0 | H26: 0 | I26: 0 | J26: 6149692
B27: Campus Community Safety | C27: BU166 | D27: CCH104556 | E27: 12537451 | F27: 0 | G27: 0 | H27: 0 | I27: 0 | J27: 12537451
B28: Executive Office | C28: BU105 | D28: CCH100020 | E28: 77176001 | F28: 0 | G28: 0 | H28: 318765 | I28: 3704903.8 | J28: 73152332
B29: External Affairs | C29: BU114 | D29: CCH100022 | E29: 4203906 | F29: 0 | G29: 0 | H29: 0 | I29: 0 | J29: 4203906
B30: Facilities | C30: BU111 | D30: CCH100049 | E30: 161787912 | F30: 0 | G30: 0 | H30: 0 | I30: 0 | J30: 161787912
B31: Finance | C31: BU106 | D31: CCH100047 | E31: 29366144 | F31: 0 | G31: 0 | H31: 0 | I31: 471338.7 | J31: 28894805
B32: Human Resources | C32: BU108 | D32: CCH100044 | E32: 17665822 | F32: 0 | G32: 0 | H32: 0 | I32: 0 | J32: 17665822
B33: UW Information Technology | C33: BU110 | D33: CCH100040 | E33: 68686505 | F33: 0 | G33: 0 | H33: 0 | I33: 0 | J33: 68686505
B34: Instructional & Student Support | E34: 55122854 | F34: 6337464 | G34: 0 | H34: 276508 | I34: 3187130.2 | J34: 45321752
B35: Continuum College | C35: BU121 | D35: CCH100030 | E35: 1943512 | F35: 0 | G35: 0 | H35: 0 | I35: 0 | J35: 1943512
B36: Global Affairs | C36: BU142 | D36: CCH100027 | E36: 1652646 | F36: 0 | G36: 0 | H36: 0 | I36: 0 | J36: 1652646
B37: Graduate School | C37: BU122 | D37: CCH100041 | E37: 14785338 | F37: 2657876 | G37: 0 | H37: 36275 | I37: 2225141 | J37: 9866046
B38: Intercollegiate Athletics | C38: BU104 | D38: CCH100029 | E38: 2833000 | F38: 0 | G38: 0 | H38: 0 | I38: 0 | J38: 2833000
B39: Minority Affairs | C39: BU119 | D39: CCH100032 | E39: 10996135 | F39: 0 | G39: 0 | H39: 191835 | I39: 0 | J39: 10804300
B40: Student Life | C40: BU115 | D40: CCH100038 | E40: 12471363 | F40: 0 | G40: 0 | H40: 1425 | I40: 961989.21 | J40: 11507949
B41: Undergraduate Academic Affairs | C41: BU118 | D41: CCH100021 | E41: 10440860 | F41: 3679588 | G41: 0 | H41: 46973 | I41: 0 | J41: 6714299
B42: Research and Innovation | E42: 89161800 | F42: 0 | G42: 0 | H42: 5688006 | I42: -1221.9 | J42: 83475016
B43: CoMotion | C43: BU124 | D43: CCH100018 | E43: 4045741 | F43: 0 | G43: 0 | H43: 17910 | I43: 0 | J43: 4027831
...

Sheet Tuition
E2: 3 | G2: =E2+1 -> 4 | I2: =G2+1 -> 5 | K2: =I2+1 -> 6 | M2: =K2+1 -> 7 | O2: =M2+1 -> 8
B3: FY2025 Core Funds Allocation Table: Tuition
B4: 45331
B5: Cost Center Level 05 Name | C5: Balancing Unit | D5: Cost Center Level 05 Code | E5: FY2024 Base | F5: FY2025 Increment | G5: FY2025 Base | H5: FY2026 Increment | I5: FY2026 Base | J5: FY2027 Increment | K5: FY2027 Base | L5: FY2028 Increment | M5: FY2028 Base | N5: FY2029 Increment | O5: FY2029 Base
E6: FY2024 Core Funds Table April Release | F6: Calculated Field | G6: FY2025 Tuition Sub-Folder: Adaptive Tuition Revenue Projections FY25-29 | H6: Calculated Field | I6: FY2025 Tuition Sub-Folder: Adaptive Tuition Revenue Projections FY25-29 | J6: Calculated Field | K6: FY2025 Tuition Sub-Folder: Adaptive Tuition Revenue Projections FY25-29 | L6: Calculated Field | M6: FY2025 Tuition Sub-Folder: Adaptive Tuition Revenue Projections FY25-29 | N6: Calculated Field | O6: FY2025 Tuition Sub-Folder: Adaptive Tuition Revenue Projections FY25-29
E7: A | F7: B | G7: C = A + B | H7: D | I7: E = C + D | J7: F | K7: G = E + F | L7: H | M7: I = G + H | N7: J | O7: K = I + J
B8: Seattle Academic Units | E8: 467648431 | F8: 9841816 | G8: 477490247 | H8: 12339353 | I8: 489829600 | J8: 12598331 | K8: 502427931 | L8: 12751742 | M8: 515179673 | N8: 12893189 | O8: 528072862
B9: College of Arts and Sciences | C9: BU134 | D9: CCH100036 | E9: 211685421 | F9: 4559114 | G9: 216244535 | H9: 6462901 | I9: 222707436 | J9: 6657974 | K9: 229365410 | L9: 6858506 | M9: 236223916 | N9: 7064168 | O9: 243288084
B10: College of Built Environments | C10: BU139 | D10: CCH100039 | E10: 15201087 | F10: 346879 | G10: 15547966 | H10: 328988 | I10: 15876954 | J10: 338956 | K10: 16215910 | L10: 349044 | M10: 16564954 | N10: 359707 | O10: 16924661
B11: College of Education | C11: BU136 | D11: CCH100042 | E11: 14894909 | F11: -96367 | G11: 14798542 | H11: -31709 | I11: 14766833 | J11: 27842 | K11: 14794675 | L11: 275060 | M11: 15069735 | N11: 385364 | O11: 15455099
B12: College of Engineering | C12: BU132 | D12: CCH100058 | E12: 58029773 | F12: 1754308 | G12: 59784081 | H12: 1709298 | I12: 61493379 | J12: 1760637 | K12: 63254016 | L12: 1813559 | M12: 65067575 | N12: 1868094 | O12: 66935669
B13: College of the Environment | C13: BU133 | D13: CCH100043 | E13: 23496460 | F13: 192863 | G13: 23689323 | H13: 584762 | I13: 24274085 | J13: 603530 | K13: 24877615 | L13: 623040 | M13: 25500655 | N13: 643025 | O13: 26143680
B14: Evans School of Public Policy and Governance | C14: BU137 | D14: CCH100019 | E14: 5024463 | F14: -1161532 | G14: 3862931 | H14: 15820 | I14: 3878751 | J14: 16566 | K14: 3895317 | L14: 15704 | M14: 3911021 | N14: 14589 | O14: 3925610
B15: Foster School of Business | C15: BU140 | D15: CCH100023 | E15: 30010326 | F15: 866641 | G15: 30876967 | H15: 778852 | I15: 31655819 | J15: 802220 | K15: 32458039 | L15: 826285 | M15: 33284324 | N15: 851074 | O15: 34135398
B16: Information School | C16: BU138 | D16: CCH100028 | E16: 11395530 | F16: -55710 | G16: 11339820 | H16: 337876 | I16: 11677696 | J16: 348088 | K16: 12025784 | L16: 358822 | M16: 12384606 | N16: 369712 | O16: 12754318
B17: School of Dentistry | C17: BU127 | D17: CCH100033 | E17: 8082576 | F17: 455128 | G17: 8537704 | H17: 230572 | I17: 8768276 | J17: 231764 | K17: 9000040 | L17: 232746 | M17: 9232786 | N17: 215617 | O17: 9448403
B18: School of Law | C18: BU141 | D18: CCH100017 | E18: 14147229 | F18: 824103 | G18: 14971332 | H18: 3481 | I18: 14974813 | J18: 3577 | K18: 14978390 | L18: 3320 | M18: 14981710 | N18: 3418 | O18: 14985128
B19: School of Medicine | C19: BU131 | D19: CCH100050 | E19: 34644409 | F19: 1191308 | G19: 35835717 | H19: 484338 | I19: 36320055 | J19: 451542 | K19: 36771597 | L19: 450049 | M19: 37221646 | N19: 462182 | O19: 37683828
B20: School of Nursing | C20: BU129 | D20: CCH100031 | E20: 5710396 | F20: 358035 | G20: 6068431 | H20: 123569 | I20: 6192000 | J20: 126158 | K20: 6318158 | L20: 130292 | M20: 6448450 | N20: 134543 | O20: 6582993
... B23: School of Social Work | C23: BU135 | D23: CCH100046 | E23: 6337808 | F23: 786419 | G23: 7124227 | H23: 693192 | I23: 7817419 | J23: 694452 | K23: 8511871 | L23: 352749 | M23: 8864620 | N23: 45289 | O23: 8909909
B24: Seattle Administrative Units | E24: 6337464 | F24: 129790 | G24: 6467254 | H24: 192265 | I24: 6659519 | J24: 197971 | K24: 6857490 | L24: 204005 | M24: 7061495 | N24: 210173 | O24: 7271668
B25: Institutional Infrastructure | E25: 0 | F25: 0 | G25: 0 | H25: 0 | I25: 0 | J25: 0 | K25: 0 | L25: 0 | M25: 0 | N25: 0 | O25: 0
B26: Advancement | C26: BU109 | D26: CCH100034 | E26: 0 | F26: 0 | G26: 0 | H26: 0 | I26: 0 | J26: 0 | K26: 0 | L26: 0 | M26: 0 | N26: 0 | O26: 0
B27: Attorney General | C27: BU113 | D27: CCH100026 | E27: 0 | F27: 0 | G27: 0 | H27: 0 | I27: 0 | J27: 0 | K27: 0 | L27: 0 | M27: 0 | N27: 0 | O27: 0
B28: Campus Community Safety | C28: BU166 | D28: CCH104556 | E28: 0 | F28: 0 | G28: 0 | H28: 0 | I28: 0 | J28: 0 | K28: 0 | L28: 0 | M28: 0 | N28: 0 | O28: 0
B29: Executive Office | C29: BU105 | D29: CCH100020 | E29: 0 | F29: 0 | G29: 0 | H29: 0 | I29: 0 | J29: 0 | K29: 0 | L29: 0 | M29: 0 | N29: 0 | O29: 0
B30: External Affairs | C30: BU114 | D30: CCH100022 | E30: 0 | F30: 0 | G30: 0 | H30: 0 | I30: 0 | J30: 0 | K30: 0 | L30: 0 | M30: 0 | N30: 0 | O30: 0
B31: Facilities | C31: BU111 | D31: CCH100049 | E31: 0 | F31: 0 | G31: 0 | H31: 0 | I31: 0 | J31: 0 | K31: 0 | L31: 0 | M31: 0 | N31: 0 | O31: 0
B32: Finance | C32: BU106 | D32: CCH100047 | E32: 0 | F32: 0 | G32: 0 | H32: 0 | I32: 0 | J32: 0 | K32: 0 | L32: 0 | M32: 0 | N32: 0 | O32: 0
B33: Human Resources | C33: BU108 | D33: CCH100044 | E33: 0 | F33: 0 | G33: 0 | H33: 0 | I33: 0 | J33: 0 | K33: 0 | L33: 0 | M33: 0 | N33: 0 | O33: 0
B34: UW Information Technology | C34: BU110 | D34: CCH100040 | E34: 0 | F34: 0 | G34: 0 | H34: 0 | I34: 0 | J34: 0 | K34: 0 | L34: 0 | M34: 0 | N34: 0 | O34: 0
B35: Instructional & Student Support | E35: 6337464 | F35: 129790 | G35: 6467254 | H35: 192265 | I35: 6659519 | J35: 197971 | K35: 6857490 | L35: 204005 | M35: 7061495 | N35: 210173 | O35: 7271668
B36: Continuum College | C36: BU121 | D36: CCH100030 | E36: 0 | F36: 0 | G36: 0 | H36: 0 | I36: 0 | J36: 0 | K36: 0 | L36: 0 | M36: 0 | N36: 0 | O36: 0
B37: Global Affairs | C37: BU142 | D37: CCH100027 | E37: 0 | F37: 0 | G37: 0 | H37: 0 | I37: 0 | J37: 0 | K37: 0 | L37: 0 | M37: 0 | N37: 0 | O37: 0
B38: Graduate School | C38: BU122 | D38: CCH100041 | E38: 2657876 | F38: -11856 | G38: 2646020 | H38: 77628 | I38: 2723648 | J38: 79895 | K38: 2803543 | L38: 82386 | M38: 2885929 | N38: 84906 | O38: 2970835
B39: Intercollegiate Athletics | C39: BU104 | D39: CCH100029 | E39: 0 | F39: 0 | G39: 0 | H39: 0 | I39: 0 | J39: 0 | K39: 0 | L39: 0 | M39: 0 | N39: 0 | O39: 0
B40: Minority Affairs | C40: BU119 | D40: CCH100032 | E40: 0 | F40: 0 | G40: 0 | H40: 0 | I40: 0 | J40: 0 | K40: 0 | L40: 0 | M40: 0 | N40: 0 | O40: 0
B41: Student Life | C41: BU115 | D41: CCH100038 | E41: 0 | F41: 0 | G41: 0 | H41: 0 | I41: 0 | J41: 0 | K41: 0 | L41: 0 | M41: 0 | N41: 0 | O41: 0
B42: Undergraduate Academic Affairs | C42: BU118 | D42: CCH100021 | E42: 3679588 | F42: 141646 | G42: 3821234 | H42: 114637 | I42: 3935871 | J42: 118076 | K42: 4053947 | L42: 121619 | M42: 4175566 | N42: 125267 | O42: 4300833
B43: Research and Innovation | E43: 0 | F43: 0 | G43: 0 | H43: 0 | I43: 0 | J43: 0 | K43: 0 | L43: 0 | M43: 0 | N43: 0 | O43: 0
...

Sheet Summer Quarter
E2: 3 | G2: =E2+1 -> 4 | I2: =G2+1 -> 5 | K2: =I2+1 -> 6 | M2: =K2+1 -> 7 | O2: =M2+1 -> 8
B3: FY2025 Core Funds Allocation Table: Summer Quarter
B4: =Tuition!B4 -> 45331
B5: Cost Center Level 05 Name | C5: Balancing Unit | D5: Cost Center Level 05 Code | E5: FY2024 Base | F5: FY2025 Increment | G5: FY2025 Base | H5: FY2026 Increment | I5: FY2026 Base | J5: FY2027 Increment | K5: FY2027 Base | L5: FY2028 Increment | M5: FY2028 Base | N5: FY2029 Increment | O5: FY2029 Base
E6: FY2024 Core Funds Table April Release | F6: Calculated Field | G6: Assumption: No Change | H6: Calculated Field | I6: Assumption: No Change | J6: Calculated Field | K6: Assumption: No Change | L6: Calculated Field | M6: Assumption: No Change | N6: Calculated Field | O6: Assumption: No Change
E7: A | F7: B | G7: C = A + B | H7: D | I7: E = C + D | J7: F | K7: G = E + F | L7: H | M7: I = G + H | N7: J | O7: K = I + J
B8: Seattle Academic Units | E8: 8508705.1 | F8: 0 | G8: 8508705.1 | H8: 0 | I8: 8508705.1 | J8: 0 | K8: 8508705.1 | L8: 0 | M8: 8508705.1 | N8: 0 | O8: 8508705.1
B9: College of Arts and Sciences | C9: BU134 | D9: CCH100036 | E9: 0 | F9: 0 | G9: 0 | H9: 0 | I9: 0 | J9: 0 | K9: 0 | L9: 0 | M9: 0 | N9: 0 | O9: 0
B10: College of Built Environments | C10: BU139 | D10: CCH100039 | E10: 0 | F10: 0 | G10: 0 | H10: 0 | I10: 0 | J10: 0 | K10: 0 | L10: 0 | M10: 0 | N10: 0 | O10: 0
B11: College of Education | C11: BU136 | D11: CCH100042 | E11: 0 | F11: 0 | G11: 0 | H11: 0 | I11: 0 | J11: 0 | K11: 0 | L11: 0 | M11: 0 | N11: 0 | O11: 0
B12: College of Engineering | C12: BU132 | D12: CCH100058 | E12: 0 | F12: 0 | G12: 0 | H12: 0 | I12: 0 | J12: 0 | K12: 0 | L12: 0 | M12: 0 | N12: 0 | O12: 0
B13: College of the Environment | C13: BU133 | D13: CCH100043 | E13: 0 | F13: 0 | G13: 0 | H13: 0 | I13: 0 | J13: 0 | K13: 0 | L13: 0 | M13: 0 | N13: 0 | O13: 0
B14: Evans School of Public Policy and Governance | C14: BU137 | D14: CCH100019 | E14: 0 | F14: 0 | G14: 0 | H14: 0 | I14: 0 | J14: 0 | K14: 0 | L14: 0 | M14: 0 | N14: 0 | O14: 0
B15: Foster School of Business | C15: BU140 | D15: CCH100023 | E15: 0 | F15: 0 | G15: 0 | H15: 0 | I15: 0 | J15: 0 | K15: 0 | L15: 0 | M15: 0 | N15: 0 | O15: 0
B16: Information School | C16: BU138 | D16: CCH100028 | E16: 0 | F16: 0 | G16: 0 | H16: 0 | I16: 0 | J16: 0 | K16: 0 | L16: 0 | M16: 0 | N16: 0 | O16: 0
B17: School of Dentistry | C17: BU127 | D17: CCH100033 | E17: 1497199.9 | F17: 0 | G17: 1497199.9 | H17: 0 | I17: 1497199.9 | J17: 0 | K17: 1497199.9 | L17: 0 | M17: 1497199.9 | N17: 0 | O17: 1497199.9
B18: School of Law | C18: BU141 | D18: CCH100017 | E18: 0 | F18: 0 | G18: 0 | H18: 0 | I18: 0 | J18: 0 | K18: 0 | L18: 0 | M18: 0 | N18: 0 | O18: 0
B19: School of Medicine | C19: BU131 | D19: CCH100050 | E19: 6702021.4 | F19: 0 | G19: 6702021.4 | H19: 0 | I19: 6702021.4 | J19: 0 | K19: 6702021.4 | L19: 0 | M19: 6702021.4 | N19: 0 | O19: 6702021.4
B20: School of Nursing | C20: BU129 | D20: CCH100031 | E20: 0 | F20: 0 | G20: 0 | H20: 0 | I20: 0 | J20: 0 | K20: 0 | L20: 0 | M20: 0 | N20: 0 | O20: 0
... B23: School of Social Work | C23: BU135 | D23: CCH100046 | E23: 0 | F23: 0 | G23: 0 | H23: 0 | I23: 0 | J23: 0 | K23: 0 | L23: 0 | M23: 0 | N23: 0 | O23: 0
B24: Seattle Administrative Units | E24: 0 | F24: 0 | G24: 0 | H24: 0 | I24: 0 | J24: 0 | K24: 0 | L24: 0 | M24: 0 | N24: 0 | O24: 0
B25: Institutional Infrastructure | E25: 0 | F25: 0 | G25: 0 | H25: 0 | I25: 0 | J25: 0 | K25: 0 | L25: 0 | M25: 0 | N25: 0 | O25: 0
B26: Advancement | C26: BU109 | D26: CCH100034 | E26: 0 | F26: 0 | G26: 0 | H26: 0 | I26: 0 | J26: 0 | K26: 0 | L26: 0 | M26: 0 | N26: 0 | O26: 0
B27: Attorney General | C27: BU113 | D27: CCH100026 | E27: 0 | F27: 0 | G27: 0 | H27: 0 | I27: 0 | J27: 0 | K27: 0 | L27: 0 | M27: 0 | N27: 0 | O27: 0
B28: Campus Community Safety | C28: BU166 | D28: CCH104556 | E28: 0 | F28: 0 | G28: 0 | H28: 0 | I28: 0 | J28: 0 | K28: 0 | L28: 0 | M28: 0 | N28: 0 | O28: 0
B29: Executive Office | C29: BU105 | D29: CCH100020 | E29: 0 | F29: 0 | G29: 0 | H29: 0 | I29: 0 | J29: 0 | K29: 0 | L29: 0 | M29: 0 | N29: 0 | O29: 0
B30: External Affairs | C30: BU114 | D30: CCH100022 | E30: 0 | F30: 0 | G30: 0 | H30: 0 | I30: 0 | J30: 0 | K30: 0 | L30: 0 | M30: 0 | N30: 0 | O30: 0
B31: Facilities | C31: BU111 | D31: CCH100049 | E31: 0 | F31: 0 | G31: 0 | H31: 0 | I31: 0 | J31: 0 | K31: 0 | L31: 0 | M31: 0 | N31: 0 | O31: 0
B32: Finance | C32: BU106 | D32: CCH100047 | E32: 0 | F32: 0 | G32: 0 | H32: 0 | I32: 0 | J32: 0 | K32: 0 | L32: 0 | M32: 0 | N32: 0 | O32: 0
B33: Human Resources | C33: BU108 | D33: CCH100044 | E33: 0 | F33: 0 | G33: 0 | H33: 0 | I33: 0 | J33: 0 | K33: 0 | L33: 0 | M33: 0 | N33: 0 | O33: 0
B34: UW Information Technology | C34: BU110 | D34: CCH100040 | E34: 0 | F34: 0 | G34: 0 | H34: 0 | I34: 0 | J34: 0 | K34: 0 | L34: 0 | M34: 0 | N34: 0 | O34: 0
B35: Instructional & Student Support | E35: 0 | F35: 0 | G35: 0 | H35: 0 | I35: 0 | J35: 0 | K35: 0 | L35: 0 | M35: 0 | N35: 0 | O35: 0
B36: Continuum College | C36: BU121 | D36: CCH100030 | E36: 0 | F36: 0 | G36: 0 | H36: 0 | I36: 0 | J36: 0 | K36: 0 | L36: 0 | M36: 0 | N36: 0 | O36: 0
B37: Global Affairs | C37: BU142 | D37: CCH100027 | E37: 0 | F37: 0 | G37: 0 | H37: 0 | I37: 0 | J37: 0 | K37: 0 | L37: 0 | M37: 0 | N37: 0 | O37: 0
B38: Graduate School | C38: BU122 | D38: CCH100041 | E38: 0 | F38: 0 | G38: 0 | H38: 0 | I38: 0 | J38: 0 | K38: 0 | L38: 0 | M38: 0 | N38: 0 | O38: 0
B39: Intercollegiate Athletics | C39: BU104 | D39: CCH100029 | E39: 0 | F39: 0 | G39: 0 | H39: 0 | I39: 0 | J39: 0 | K39: 0 | L39: 0 | M39: 0 | N39: 0 | O39: 0
B40: Minority Affairs | C40: BU119 | D40: CCH100032 | E40: 0 | F40: 0 | G40: 0 | H40: 0 | I40: 0 | J40: 0 | K40: 0 | L40: 0 | M40: 0 | N40: 0 | O40: 0
B41: Student Life | C41: BU115 | D41: CCH100038 | E41: 0 | F41: 0 | G41: 0 | H41: 0 | I41: 0 | J41: 0 | K41: 0 | L41: 0 | M41: 0 | N41: 0 | O41: 0
B42: Undergraduate Academic Affairs | C42: BU118 | D42: CCH100021 | E42: 0 | F42: 0 | G42: 0 | H42: 0 | I42: 0 | J42: 0 | K42: 0 | L42: 0 | M42: 0 | N42: 0 | O42: 0
B43: Research and Innovation | E43: 0 | F43: 0 | G43: 0 | H43: 0 | I43: 0 | J43: 0 | K43: 0 | L43: 0 | M43: 0 | N43: 0 | O43: 0
...

Sheet Indirect Cost Recovery
E2: 4 | G2: 6 | I2: 8 | K2: 10 | M2: 12 | O2: 14
B3: FY2025 Core Funds Allocation Table: Indirect Cost Recovery
B4: =Tuition!B4 -> 45331
B5: Cost Center Level 05 Name | C5: Balancing Unit | D5: Cost Center Level 05 Code | E5: FY2024 Base | F5: FY2025 Increment | G5: FY2025 Base | H5: FY2026 Increment | I5: FY2026 Base | J5: FY2027 Increment | K5: FY2027 Base | L5: FY2028 Increment | M5: FY2028 Base | N5: FY2029 Increment | O5: FY2029 Base
E6: FY2024 Core Funds Table April Release | F6: Calculated Field | G6: FY2025 ICR Sub-Folder: FY2025 ABB ICR Projections | H6: Calculated Field | I6: FY2025 ICR Sub-Folder: FY2025 ABB ICR Projections | J6: Calculated Field | K6: FY2025 ICR Sub-Folder: FY2025 ABB ICR Projections | L6: Calculated Field | M6: FY2025 ICR Sub-Folder: FY2025 ABB ICR Projections | N6: Calculated Field | O6: FY2025 ICR Sub-Folder: FY2025 ABB ICR Projections
E7: A | F7: B | G7: C = A + B | H7: D | I7: E = C + D | J7: F | K7: G = E + F | L7: H | M7: I = G + H | N7: J | O7: K = I + J
B8: Seattle Academic Units | E8: 109306444 | F8: 1093062 | G8: 110399506 | H8: 1103995 | I8: 111503501 | J8: 1115036 | K8: 112618537 | L8: 1126186 | M8: 113744723 | N8: 1137449 | O8: 114882172
B9: College of Arts and Sciences | C9: BU134 | D9: CCH100036 | E9: 9462086 | F9: 94621 | G9: 9556707 | H9: 95567 | I9: 9652274 | J9: 96523 | K9: 9748797 | L9: 97488 | M9: 9846285 | N9: 98463 | O9: 9944748
B10: College of Built Environments | C10: BU139 | D10: CCH100039 | E10: 126088 | F10: 1261 | G10: 127349 | H10: 1274 | I10: 128623 | J10: 1286 | K10: 129909 | L10: 1299 | M10: 131208 | N10: 1313 | O10: 132521
B11: College of Education | C11: BU136 | D11: CCH100042 | E11: 1143202 | F11: 11432 | G11: 1154634 | H11: 11547 | I11: 1166181 | J11: 11661 | K11: 1177842 | L11: 11779 | M11: 1189621 | N11: 11896 | O11: 1201517
B12: College of Engineering | C12: BU132 | D12: CCH100058 | E12: 11995061 | F12: 119950 | G12: 12115011 | H12: 121150 | I12: 12236161 | J12: 122362 | K12: 12358523 | L12: 123585 | M12: 12482108 | N12: 124822 | O12: 12606930
B13: College of the Environment | C13: BU133 | D13: CCH100043 | E13: 6814129 | F13: 68141 | G13: 6882270 | H13: 68823 | I13: 6951093 | J13: 69511 | K13: 7020604 | L13: 70206 | M13: 7090810 | N13: 70908 | O13: 7161718
B14: Evans School of Public Policy and Governance | C14: BU137 | D14: CCH100019 | E14: 312439 | F14: 3125 | G14: 315564 | H14: 3155 | I14: 318719 | J14: 3188 | K14: 321907 | L14: 3219 | M14: 325126 | N14: 3251 | O14: 328377
B15: Foster School of Business | C15: BU140 | D15: CCH100023 | E15: 9477 | F15: 94 | G15: 9571 | H15: 96 | I15: 9667 | J15: 97 | K15: 9764 | L15: 97 | M15: 9861 | N15: 99 | O15: 9960
B16: Information School | C16: BU138 | D16: CCH100028 | E16: 496445 | F16: 4964 | G16: 501409 | H16: 5014 | I16: 506423 | J16: 5065 | K16: 511488 | L16: 5114 | M16: 516602 | N16: 5166 | O16: 521768
B17: School of Dentistry | C17: BU127 | D17: CCH100033 | E17: 587842 | F17: 5878 | G17: 593720 | H17: 5937 | I17: 599657 | J17: 5997 | K17: 605654 | L17: 6056 | M17: 611710 | N17: 6117 | O17: 617827
B18: School of Law | C18: BU141 | D18: CCH100017 | E18: 2583 | F18: 26 | G18: 2609 | H18: 26 | I18: 2635 | J18: 26 | K18: 2661 | L18: 27 | M18: 2688 | N18: 27 | O18: 2715
B19: School of Medicine | C19: BU131 | D19: CCH100050 | E19: 65194694 | F19: 651947 | G19: 65846641 | H19: 658466 | I19: 66505107 | J19: 665051 | K19: 67170158 | L19: 671702 | M19: 67841860 | N19: 678418 | O19: 68520278
B20: School of Nursing | C20: BU129 | D20: CCH100031 | E20: 927052 | F20: 9270 | G20: 936322 | H20: 9363 | I20: 945685 | J20: 9457 | K20: 955142 | L20: 9552 | M20: 964694 | N20: 9647 | O20: 974341
... B23: School of Social Work | C23: BU135 | D23: CCH100046 | E23: 911826 | F23: 9118 | G23: 920944 | H23: 9210 | I23: 930154 | J23: 9301 | K23: 939455 | L23: 9395 | M23: 948850 | N23: 9489 | O23: 958339
B24: Seattle Administrative Units | E24: 6283279 | F24: 62833 | G24: 6346112 | H24: 63460 | I24: 6409572 | J24: 64097 | K24: 6473669 | L24: 64738 | M24: 6538407 | N24: 65384 | O24: 6603791
B25: Institutional Infrastructure | E25: 318765 | F25: 3188 | G25: 321953 | H25: 3219 | I25: 325172 | J25: 3252 | K25: 328424 | L25: 3285 | M25: 331709 | N25: 3317 | O25: 335026
B26: Advancement | C26: BU109 | D26: CCH100034 | E26: 0 | F26: 0 | G26: 0 | H26: 0 | I26: 0 | J26: 0 | K26: 0 | L26: 0 | M26: 0 | N26: 0 | O26: 0
B27: Attorney General | C27: BU113 | D27: CCH100026 | E27: 0 | F27: 0 | G27: 0 | H27: 0 | I27: 0 | J27: 0 | K27: 0 | L27: 0 | M27: 0 | N27: 0 | O27: 0
B28: Campus Community Safety | C28: BU166 | D28: CCH104556 | E28: 0 | F28: 0 | G28: 0 | H28: 0 | I28: 0 | J28: 0 | K28: 0 | L28: 0 | M28: 0 | N28: 0 | O28: 0
B29: Executive Office | C29: BU105 | D29: CCH100020 | E29: 318765 | F29: 3188 | G29: 321953 | H29: 3219 | I29: 325172 | J29: 3252 | K29: 328424 | L29: 3285 | M29: 331709 | N29: 3317 | O29: 335026
B30: External Affairs | C30: BU114 | D30: CCH100022 | E30: 0 | F30: 0 | G30: 0 | H30: 0 | I30: 0 | J30: 0 | K30: 0 | L30: 0 | M30: 0 | N30: 0 | O30: 0
B31: Facilities | C31: BU111 | D31: CCH100049 | E31: 0 | F31: 0 | G31: 0 | H31: 0 | I31: 0 | J31: 0 | K31: 0 | L31: 0 | M31: 0 | N31: 0 | O31: 0
B32: Finance | C32: BU106 | D32: CCH100047 | E32: 0 | F32: 0 | G32: 0 | H32: 0 | I32: 0 | J32: 0 | K32: 0 | L32: 0 | M32: 0 | N32: 0 | O32: 0
B33: Human Resources | C33: BU108 | D33: CCH100044 | E33: 0 | F33: 0 | G33: 0 | H33: 0 | I33: 0 | J33: 0 | K33: 0 | L33: 0 | M33: 0 | N33: 0 | O33: 0
B34: UW Information Technology | C34: BU110 | D34: CCH100040 | E34: 0 | F34: 0 | G34: 0 | H34: 0 | I34: 0 | J34: 0 | K34: 0 | L34: 0 | M34: 0 | N34: 0 | O34: 0
B35: Instructional & Student Support | E35: 276508 | F35: 2765 | G35: 279273 | H35: 2792 | I35: 282065 | J35: 2821 | K35: 284886 | L35: 2850 | M35: 287736 | N35: 2878 | O35: 290614
B36: Continuum College | C36: BU121 | D36: CCH100030 | E36: 0 | F36: 0 | G36: 0 | H36: 0 | I36: 0 | J36: 0 | K36: 0 | L36: 0 | M36: 0 | N36: 0 | O36: 0
B37: Global Affairs | C37: BU142 | D37: CCH100027 | E37: 0 | F37: 0 | G37: 0 | H37: 0 | I37: 0 | J37: 0 | K37: 0 | L37: 0 | M37: 0 | N37: 0 | O37: 0
B38: Graduate School | C38: BU122 | D38: CCH100041 | E38: 36275 | F38: 363 | G38: 36638 | H38: 366 | I38: 37004 | J38: 370 | K38: 37374 | L38: 374 | M38: 37748 | N38: 378 | O38: 38126
B39: Intercollegiate Athletics | C39: BU104 | D39: CCH100029 | E39: 0 | F39: 0 | G39: 0 | H39: 0 | I39: 0 | J39: 0 | K39: 0 | L39: 0 | M39: 0 | N39: 0 | O39: 0
B40: Minority Affairs | C40: BU119 | D40: CCH100032 | E40: 191835 | F40: 1919 | G40: 193754 | H40: 1937 | I40: 195691 | J40: 1957 | K40: 197648 | L40: 1977 | M40: 199625 | N40: 1996 | O40: 201621
B41: Student Life | C41: BU115 | D41: CCH100038 | E41: 1425 | F41: 14 | G41: 1439 | H41: 15 | I41: 1454 | J41: 14 | K41: 1468 | L41: 15 | M41: 1483 | N41: 15 | O41: 1498
B42: Undergraduate Academic Affairs | C42: BU118 | D42: CCH100021 | E42: 46973 | F42: 469 | G42: 47442 | H42: 474 | I42: 47916 | J42: 480 | K42: 48396 | L42: 484 | M42: 48880 | N42: 489 | O42: 49369
B43: Research and Innovation | E43: 5688006 | F43: 56880 | G43: 5744886 | H43: 57449 | I43: 5802335 | J43: 58024 | K43: 5860359 | L43: 58603 | M43: 5918962 | N43: 59189 | O43: 5978151
...

Sheet Miscellaneous Fee
E2: 3 | G2: =E2+1 -> 4 | I2: =G2+1 -> 5 | K2: =I2+1 -> 6 | M2: =K2+1 -> 7 | O2: =M2+1 -> 8
B3: FY2025 Core Funds Allocation Table: Miscellaneous Fee
B4: =Tuition!B4 -> 45331
B5: Cost Center Level 05 Name | C5: Balancing Unit | D5: Cost Center Level 05 Code | E5: FY2024 Base | F5: FY2025 Increment | G5: FY2025 Base | H5: FY2026 Increment | I5: FY2026 Base | J5: FY2027 Increment | K5: FY2027 Base | L5: FY2028 Increment | M5: FY2028 Base | N5: FY2029 Increment | O5: FY2029 Base
E6: FY2024 Core Funds Table April Release | F6: Calculated Field | G6: Assumption: No Change | H6: Calculated Field | I6: Assumption: No Change | J6: Calculated Field | K6: Assumption: No Change | L6: Calculated Field | M6: Assumption: No Change | N6: Calculated Field | O6: Assumption: No Change
E7: A | F7: B | G7: C = A + B | H7: D | I7: E = C + D | J7: F | K7: G = E + F | L7: H | M7: I = G + H | N7: J | O7: K = I + J
B8: Seattle Academic Units | E8: 78274.2 | F8: 0 | G8: 78274.2 | H8: 0 | I8: 78274.2 | J8: 0 | K8: 78274.2 | L8: 0 | M8: 78274.2 | N8: 0 | O8: 78274.2
B9: College of Arts and Sciences | C9: BU134 | D9: CCH100036 | E9: 0 | F9: 0 | G9: 0 | H9: 0 | I9: 0 | J9: 0 | K9: 0 | L9: 0 | M9: 0 | N9: 0 | O9: 0
B10: College of Built Environments | C10: BU139 | D10: CCH100039 | E10: 0 | F10: 0 | G10: 0 | H10: 0 | I10: 0 | J10: 0 | K10: 0 | L10: 0 | M10: 0 | N10: 0 | O10: 0
B11: College of Education | C11: BU136 | D11: CCH100042 | E11: 0 | F11: 0 | G11: 0 | H11: 0 | I11: 0 | J11: 0 | K11: 0 | L11: 0 | M11: 0 | N11: 0 | O11: 0
B12: College of Engineering | C12: BU132 | D12: CCH100058 | E12: 0 | F12: 0 | G12: 0 | H12: 0 | I12: 0 | J12: 0 | K12: 0 | L12: 0 | M12: 0 | N12: 0 | O12: 0
B13: College of the Environment | C13: BU133 | D13: CCH100043 | E13: 0 | F13: 0 | G13: 0 | H13: 0 | I13: 0 | J13: 0 | K13: 0 | L13: 0 | M13: 0 | N13: 0 | O13: 0
B14: Evans School of Public Policy and Governance | C14: BU137 | D14: CCH100019 | E14: 0 | F14: 0 | G14: 0 | H14: 0 | I14: 0 | J14: 0 | K14: 0 | L14: 0 | M14: 0 | N14: 0 | O14: 0
B15: Foster School of Business | C15: BU140 | D15: CCH100023 | E15: 0 | F15: 0 | G15: 0 | H15: 0 | I15: 0 | J15: 0 | K15: 0 | L15: 0 | M15: 0 | N15: 0 | O15: 0
B16: Information School | C16: BU138 | D16: CCH100028 | E16: 0 | F16: 0 | G16: 0 | H16: 0 | I16: 0 | J16: 0 | K16: 0 | L16: 0 | M16: 0 | N16: 0 | O16: 0
B17: School of Dentistry | C17: BU127 | D17: CCH100033 | E17: 0 | F17: 0 | G17: 0 | H17: 0 | I17: 0 | J17: 0 | K17: 0 | L17: 0 | M17: 0 | N17: 0 | O17: 0
B18: School of Law | C18: BU141 | D18: CCH100017 | E18: 55181.7 | F18: 0 | G18: 55181.7 | H18: 0 | I18: 55181.7 | J18: 0 | K18: 55181.7 | L18: 0 | M18: 55181.7 | N18: 0 | O18: 55181.7
B19: School of Medicine | C19: BU131 | D19: CCH100050 | E19: 23092.5 | F19: 0 | G19: 23092.5 | H19: 0 | I19: 23092.5 | J19: 0 | K19: 23092.5 | L19: 0 | M19: 23092.5 | N19: 0 | O19: 23092.5
B20: School of Nursing | C20: BU129 | D20: CCH100031 | E20: 0 | F20: 0 | G20: 0 | H20: 0 | I20: 0 | J20: 0 | K20: 0 | L20: 0 | M20: 0 | N20: 0 | O20: 0
... B23: School of Social Work | C23: BU135 | D23: CCH100046 | E23: 0 | F23: 0 | G23: 0 | H23: 0 | I23: 0 | J23: 0 | K23: 0 | L23: 0 | M23: 0 | N23: 0 | O23: 0
B24: Seattle Administrative Units | E24: 7362150.8 | F24: 0 | G24: 7362150.8 | H24: 0 | I24: 7362150.8 | J24: 0 | K24: 7362150.8 | L24: 0 | M24: 7362150.8 | N24: 0 | O24: 7362150.8
B25: Institutional Infrastructure | E25: 4176242.5 | F25: 0 | G25: 4176242.5 | H25: 0 | I25: 4176242.5 | J25: 0 | K25: 4176242.5 | L25: 0 | M25: 4176242.5 | N25: 0 | O25: 4176242.5
B26: Advancement | C26: BU109 | D26: CCH100034 | E26: 0 | F26: 0 | G26: 0 | H26: 0 | I26: 0 | J26: 0 | K26: 0 | L26: 0 | M26: 0 | N26: 0 | O26: 0
B27: Attorney General | C27: BU113 | D27: CCH100026 | E27: 0 | F27: 0 | G27: 0 | H27: 0 | I27: 0 | J27: 0 | K27: 0 | L27: 0 | M27: 0 | N27: 0 | O27: 0
B28: Campus Community Safety | C28: BU166 | D28: CCH104556 | E28: 0 | F28: 0 | G28: 0 | H28: 0 | I28: 0 | J28: 0 | K28: 0 | L28: 0 | M28: 0 | N28: 0 | O28: 0
B29: Executive Office | C29: BU105 | D29: CCH100020 | E29: 3704903.8 | F29: 0 | G29: 3704903.8 | H29: 0 | I29: 3704903.8 | J29: 0 | K29: 3704903.8 | L29: 0 | M29: 3704903.8 | N29: 0 | O29: 3704903.8
B30: External Affairs | C30: BU114 | D30: CCH100022 | E30: 0 | F30: 0 | G30: 0 | H30: 0 | I30: 0 | J30: 0 | K30: 0 | L30: 0 | M30: 0 | N30: 0 | O30: 0
B31: Facilities | C31: BU111 | D31: CCH100049 | E31: 0 | F31: 0 | G31: 0 | H31: 0 | I31: 0 | J31: 0 | K31: 0 | L31: 0 | M31: 0 | N31: 0 | O31: 0
B32: Finance | C32: BU106 | D32: CCH100047 | E32: 471338.7 | F32: 0 | G32: 471338.7 | H32: 0 | I32: 471338.7 | J32: 0 | K32: 471338.7 | L32: 0 | M32: 471338.7 | N32: 0 | O32: 471338.7
B33: Human Resources | C33: BU108 | D33: CCH100044 | E33: 0 | F33: 0 | G33: 0 | H33: 0 | I33: 0 | J33: 0 | K33: 0 | L33: 0 | M33: 0 | N33: 0 | O33: 0
B34: UW Information Technology | C34: BU110 | D34: CCH100040 | E34: 0 | F34: 0 | G34: 0 | H34: 0 | I34: 0 | J34: 0 | K34: 0 | L34: 0 | M34: 0 | N34: 0 | O34: 0
B35: Instructional & Student Support | E35: 3187130.2 | F35: 0 | G35: 3187130.2 | H35: 0 | I35: 3187130.2 | J35: 0 | K35: 3187130.2 | L35: 0 | M35: 3187130.2 | N35: 0 | O35: 3187130.2
B36: Continuum College | C36: BU121 | D36: CCH100030 | E36: 0 | F36: 0 | G36: 0 | H36: 0 | I36: 0 | J36: 0 | K36: 0 | L36: 0 | M36: 0 | N36: 0 | O36: 0
B37: Global Affairs | C37: BU142 | D37: CCH100027 | E37: 0 | F37: 0 | G37: 0 | H37: 0 | I37: 0 | J37: 0 | K37: 0 | L37: 0 | M37: 0 | N37: 0 | O37: 0
B38: Graduate School | C38: BU122 | D38: CCH100041 | E38: 2225141 | F38: 0 | G38: 2225141 | H38: 0 | I38: 2225141 | J38: 0 | K38: 2225141 | L38: 0 | M38: 2225141 | N38: 0 | O38: 2225141
B39: Intercollegiate Athletics | C39: BU104 | D39: CCH100029 | E39: 0 | F39: 0 | G39: 0 | H39: 0 | I39: 0 | J39: 0 | K39: 0 | L39: 0 | M39: 0 | N39: 0 | O39: 0
B40: Minority Affairs | C40: BU119 | D40: CCH100032 | E40: 0 | F40: 0 | G40: 0 | H40: 0 | I40: 0 | J40: 0 | K40: 0 | L40: 0 | M40: 0 | N40: 0 | O40: 0
B41: Student Life | C41: BU115 | D41: CCH100038 | E41: 961989.21 | F41: 0 | G41: 961989.21 | H41: 0 | I41: 961989.21 | J41: 0 | K41: 961989.21 | L41: 0 | M41: 961989.21 | N41: 0 | O41: 961989.21
B42: Undergraduate Academic Affairs | C42: BU118 | D42: CCH100021 | E42: 0 | F42: 0 | G42: 0 | H42: 0 | I42: 0 | J42: 0 | K42: 0 | L42: 0 | M42: 0 | N42: 0 | O42: 0
B43: Research and Innovation | E43: -1221.9 | F43: 0 | G43: -1221.9 | H43: 0 | I43: -1221.9 | J43: 0 | K43: -1221.9 | L43: 0 | M43: -1221.9 | N43: 0 | O43: -1221.9
...

Sheet Supplement
B3: FY2025 Core Funds Allocation Table: Supplement
B4: =Tuition!B4 -> 45331
B5: Cost Center Level 05 Name | C5: Balancing Unit | D5: Cost Center Level 05 Code | E5: FY2024 Total Base | F5: FY2025 Increment | G5: FY2025 Total Base | H5: FY2026 Increment | I5: FY2026 Total Base | J5: FY2027 Increment | K5: FY2027 Total Base | L5: FY2028 Increment | M5: FY2028 Total Base | N5: FY2029 Increment | O5: FY2029 Total Base
B8: Seattle Academic Units | E8: 303825264 | F8: 976333 | G8: 304801597 | H8: -16265824 | I8: 288535773 | J8: -893018 | K8: 287642755 | L8: -19999 | M8: 287622756 | N8: -2175809 | O8: 285446947
B9: College of Arts and Sciences | C9: BU134 | D9: CCH100036 | E9: 28533470 | F9: -501768 | G9: 28031702 | H9: -2246824 | I9: 25784878 | J9: -338018 | K9: 25446860 | L9: 0 | M9: 25446860 | N9: -357120 | O9: 25089740
B10: College of Built Environments | C10: BU139 | D10: CCH100039 | E10: 3241431 | F10: 2427 | G10: 3243858 | H10: -196000 | I10: 3047858 | J10: 0 | K10: 3047858 | L10: 0 | M10: 3047858 | N10: 0 | O10: 3047858
B11: College of Education | C11: BU136 | D11: CCH100042 | E11: 7661034 | F11: -482787 | G11: 7178247 | H11: 0 | I11: 7178247 | J11: 0 | K11: 7178247 | L11: 0 | M11: 7178247 | N11: 0 | O11: 7178247
B12: College of Engineering | C12: BU132 | D12: CCH100058 | E12: 70085701 | F12: 2367711 | G12: 72453412 | H12: -2625000 | I12: 69828412 | J12: -230000 | K12: 69598412 | L12: 0 | M12: 69598412 | N12: -2075000 | O12: 67523412
B13: College of the Environment | C13: BU133 | D13: CCH100043 | E13: 27229185 | F13: -373138 | G13: 26856047 | H13: -1091000 | I13: 25765047 | J13: -300000 | K13: 25465047 | L13: 0 | M13: 25465047 | N13: 0 | O13: 25465047
B14: Evans School of Public Policy and Governance | C14: BU137 | D14: CCH100019 | E14: 2073540 | F14: -252638 | G14: 1820902 | H14: 0 | I14: 1820902 | J14: 0 | K14: 1820902 | L14: 0 | M14: 1820902 | N14: 0 | O14: 1820902
B15: Foster School of Business | C15: BU140 | D15: CCH100023 | E15: 10187381 | F15: -80309 | G15: 10107072 | H15: 0 | I15: 10107072 | J15: -25000 | K15: 10082072 | L15: 0 | M15: 10082072 | N15: 0 | O15: 10082072
B16: Information School | C16: BU138 | D16: CCH100028 | E16: 2729591 | F16: 1822 | G16: 2731413 | H16: 0 | I16: 2731413 | J16: 0 | K16: 2731413 | L16: 0 | M16: 2731413 | N16: 0 | O16: 2731413
B17: School of Dentistry | C17: BU127 | D17: CCH100033 | E17: 12529561 | F17: -381476 | G17: 12148085 | H17: 0 | I17: 12148085 | J17: 0 | K17: 12148085 | L17: -10000 | M17: 12138085 | N17: 0 | O17: 12138085
B18: School of Law | C18: BU141 | D18: CCH100017 | E18: 4820792 | F18: 2158 | G18: 4822950 | H18: -100000 | I18: 4722950 | J18: 0 | K18: 4722950 | L18: -10000 | M18: 4712950 | N18: 0 | O18: 4712950
B19: School of Medicine | C19: BU131 | D19: CCH100050 | E19: 99375449 | F19: 1673156 | G19: 101048605 | H19: -7392000 | I19: 93656605 | J19: 0 | K19: 93656605 | L19: 0 | M19: 93656605 | N19: 0 | O19: 93656605
B20: School of Nursing | C20: BU129 | D20: CCH100031 | E20: 9352136 | F20: -839769 | G20: 8512367 | H20: -150000 | I20: 8362367 | J20: 0 | K20: 8362367 | L20: 0 | M20: 8362367 | N20: 0 | O20: 8362367
... B23: School of Social Work | C23: BU135 | D23: CCH100046 | E23: 6325027 | F23: -180345 | G23: 6144682 | H23: -965000 | I23: 5179682 | J23: 0 | K23: 5179682 | L23: 0 | M23: 5179682 | N23: 0 | O23: 5179682
B24: Seattle Administrative Units | E24: 523098804 | F24: -11206249 | G24: 511892555 | H24: -1309682 | I24: 510582873 | J24: -2535422 | K24: 508047451 | L24: 20000 | M24: 508067451 | N24: -5481006 | O24: 502586445
B25: Institutional Infrastructure | E25: 394302036 | F25: -9512618 | G25: 384789418 | H25: -1567682 | I25: 383221736 | J25: -2535422 | K25: 380686314 | L25: 20000 | M25: 380706314 | N25: -5370006 | O25: 375336308
B26: Advancement | C26: BU109 | D26: CCH100034 | E26: 21223611 | F26: -1343155 | G26: 19880456 | H26: 0 | I26: 19880456 | J26: 0 | K26: 19880456 | L26: 0 | M26: 19880456 | N26: 0 | O26: 19880456
B27: Attorney General | C27: BU113 | D27: CCH100026 | E27: 6149692 | F27: 0 | G27: 6149692 | H27: 0 | I27: 6149692 | J27: 0 | K27: 6149692 | L27: 0 | M27: 6149692 | N27: 0 | O27: 6149692
B28: Campus Community Safety | C28: BU166 | D28: CCH104556 | E28: 12537451 | F28: -85437 | G28: 12452014 | H28: 0 | I28: 12452014 | J28: -66888 | K28: 12385126 | L28: 0 | M28: 12385126 | N28: 0 | O28: 12385126
B29: Executive Office | C29: BU105 | D29: CCH100020 | E29: 73152332 | F29: -71951 | G29: 73080381 | H29: -69682 | I29: 73010699 | J29: -350332 | K29: 72660367 | L29: 0 | M29: 72660367 | N29: -270006 | O29: 72390361
B30: External Affairs | C30: BU114 | D30: CCH100022 | E30: 4203906 | F30: -394963 | G30: 3808943 | H30: 2000 | I30: 3810943 | J30: 3000 | K30: 3813943 | L30: 20000 | M30: 3833943 | N30: 0 | O30: 3833943
B31: Facilities | C31: BU111 | D31: CCH100049 | E31: 161787912 | F31: -7672427 | G31: 154115485 | H31: -1500000 | I31: 152615485 | J31: 0 | K31: 152615485 | L31: 0 | M31: 152615485 | N31: -5100000 | O31: 147515485
B32: Finance | C32: BU106 | D32: CCH100047 | E32: 28894805 | F32: -49228 | G32: 28845577 | H32: 0 | I32: 28845577 | J32: 0 | K32: 28845577 | L32: 0 | M32: 28845577 | N32: 0 | O32: 28845577
B33: Human Resources | C33: BU108 | D33: CCH100044 | E33: 17665822 | F33: 80969 | G33: 17746791 | H33: 0 | I33: 17746791 | J33: 0 | K33: 17746791 | L33: 0 | M33: 17746791 | N33: 0 | O33: 17746791
B34: UW Information Technology | C34: BU110 | D34: CCH100040 | E34: 68686505 | F34: 23574 | G34: 68710079 | H34: 0 | I34: 68710079 | J34: -2121202 | K34: 66588877 | L34: 0 | M34: 66588877 | N34: 0 | O34: 66588877
B35: Instructional & Student Support | E35: 45321752 | F35: -2144726 | G35: 43177026 | H35: 308000 | I35: 43485026 | J35: 0 | K35: 43485026 | L35: 0 | M35: 43485026 | N35: -111000 | O35: 43374026
B36: Continuum College | C36: BU121 | D36: CCH100030 | E36: 1943512 | F36: 1418 | G36: 1944930 | H36: -225000 | I36: 1719930 | J36: 0 | K36: 1719930 | L36: 0 | M36: 1719930 | N36: 0 | O36: 1719930
B37: Global Affairs | C37: BU142 | D37: CCH100027 | E37: 1652646 | F37: -81776 | G37: 1570870 | H37: 0 | I37: 1570870 | J37: 0 | K37: 1570870 | L37: 0 | M37: 1570870 | N37: 0 | O37: 1570870
B38: Graduate School | C38: BU122 | D38: CCH100041 | E38: 9866046 | F38: 35123 | G38: 9901169 | H38: 0 | I38: 9901169 | J38: 0 | K38: 9901169 | L38: 0 | M38: 9901169 | N38: 0 | O38: 9901169
B39: Intercollegiate Athletics | C39: BU104 | D39: CCH100029 | E39: 2833000 | F39: -1767000 | G39: 1066000 | H39: 533000 | I39: 1599000 | J39: 0 | K39: 1599000 | L39: 0 | M39: 1599000 | N39: 0 | O39: 1599000
B40: Minority Affairs | C40: BU119 | D40: CCH100032 | E40: 10804300 | F40: 47407 | G40: 10851707 | H40: 0 | I40: 10851707 | J40: 0 | K40: 10851707 | L40: 0 | M40: 10851707 | N40: 0 | O40: 10851707
B41: Student Life | C41: BU115 | D41: CCH100038 | E41: 11507949 | F41: -418682 | G41: 11089267 | H41: 0 | I41: 11089267 | J41: 0 | K41: 11089267 | L41: 0 | M41: 11089267 | N41: 0 | O41: 11089267
B42: Undergraduate Academic Affairs | C42: BU118 | D42: CCH100021 | E42: 6714299 | F42: 38784 | G42: 6753083 | H42: 0 | I42: 6753083 | J42: 0 | K42: 6753083 | L42: 0 | M42: 6753083 | N42: -111000 | O42: 6642083
B43: Research and Innovation | E43: 83475016 | F43: 451095 | G43: 83926111 | H43: -50000 | I43: 83876111 | J43: 0 | K43: 83876111 | L43: 0 | M43: 83876111 | N43: 0 | O43: 83876111
B44: CoMotion | C44: BU124 | D44: CCH100018 | E44: 4027831 | F44: 26507 | G44: 4054338 | H44: 0 | I44: 4054338 | J44: 0 | K44: 4054338 | L44: 0 | M44: 4054338 | N44: 0 | O44: 4054338
B45: Libraries | C45: BU125 | D45: CCH100016 | E45: 45363354 | F45: 17514 | G45: 45380868 | H45: -50000 | I45: 45330868 | J45: 0 | K45: 45330868 | L45: 0 | M45: 45330868 | N45: 0 | O45: 45330868
B46: Vice Provost of Research | C46: BU123 | D46: CCH100025 | E46: 34083831 | F46: 407074 | G46: 34490905 | H46: 0 | I46: 34490905 | J46: 0 | K46: 34490905 | L46: 0 | M46: 34490905 | N46: 0 | O46: 34490905
...

Sheet Supp_Inflation Adj.
B3: FY2025 Core Funds Allocation Table: Inflation Adjustment for Backfill
B4: =Tuition!B4 -> 45331
B5: Cost Center Level 05 Name | C5: Balancing Unit | D5: Cost Center Level 05 Code | E5: FY2025 Increment | F5: FY2026 Increment | G5: FY2027 Increment | H5: FY2028 Increment | I5: FY2029 Increment
E6: Calculated Field | F6: Calculated Field | G6: Calculated Field | H6: Calculated Field | I6: Calculated Field
B8: Seattle Academic Units | E8: 0 | F8: 0 | G8: 0 | H8: 0 | I8: 0
B9: College of Arts and Sciences | C9: BU134 | D9: CCH100036 | E9: 0 | F9: 0 | G9: 0 | H9: 0 | I9: 0
B10: College of Built Environments | C10: BU139 | D10: CCH100039 | E10: 0 | F10: 0 | G10: 0 | H10: 0 | I10: 0
B11: College of Education | C11: BU136 | D11: CCH100042 | E11: 0 | F11: 0 | G11: 0 | H11: 0 | I11: 0
B12: College of Engineering | C12: BU132 | D12: CCH100058 | E12: 0 | F12: 0 | G12: 0 | H12: 0 | I12: 0
B13: College of the Environment | C13: BU133 | D13: CCH100043 | E13: 0 | F13: 0 | G13: 0 | H13: 0 | I13: 0
B14: Evans School of Public Policy and Governance | C14: BU137 | D14: CCH100019 | E14: 0 | F14: 0 | G14: 0 | H14: 0 | I14: 0
B15: Foster School of Business | C15: BU140 | D15: CCH100023 | E15: 0 | F15: 0 | G15: 0 | H15: 0 | I15: 0
B16: Information School | C16: BU138 | D16: CCH100028 | E16: 0 | F16: 0 | G16: 0 | H16: 0 | I16: 0
B17: School of Dentistry | C17: BU127 | D17: CCH100033 | E17: 0 | F17: 0 | G17: 0 | H17: 0 | I17: 0
B18: School of Law | C18: BU141 | D18: CCH100017 | E18: 0 | F18: 0 | G18: 0 | H18: 0 | I18: 0
B19: School of Medicine | C19: BU131 | D19: CCH100050 | E19: 0 | F19: 0 | G19: 0 | H19: 0 | I19: 0
B20: School of Nursing | C20: BU129 | D20: CCH100031 | E20: 0 | F20: 0 | G20: 0 | H20: 0 | I20: 0
... B23: School of Social Work | C23: BU135 | D23: CCH100046 | E23: 0 | F23: 0 | G23: 0 | H23: 0 | I23: 0
B24: Seattle Administrative Units | E24: 0 | F24: 0 | G24: 0 | H24: 0 | I24: 0
B25: Institutional Infrastructure | E25: 0 | F25: 0 | G25: 0 | H25: 0 | I25: 0
B26: Advancement | C26: BU109 | D26: CCH100034 | E26: 0 | F26: 0 | G26: 0 | H26: 0 | I26: 0
B27: Attorney General | C27: BU113 | D27: CCH100026 | E27: 0 | F27: 0 | G27: 0 | H27: 0 | I27: 0
B28: Campus Community Safety | C28: BU166 | D28: CCH104556 | E28: 0 | F28: 0 | G28: 0 | H28: 0 | I28: 0
B29: Executive Office | C29: BU105 | D29: CCH100020 | E29: 0 | F29: 0 | G29: 0 | H29: 0 | I29: 0
B30: External Affairs | C30: BU114 | D30: CCH100022 | E30: 0 | F30: 0 | G30: 0 | H30: 0 | I30: 0
B31: Facilities | C31: BU111 | D31: CCH100049 | E31: 0 | F31: 0 | G31: 0 | H31: 0 | I31: 0
B32: Finance | C32: BU106 | D32: CCH100047 | E32: 0 | F32: 0 | G32: 0 | H32: 0 | I32: 0
B33: Human Resources | C33: BU108 | D33: CCH100044 | E33: 0 | F33: 0 | G33: 0 | H33: 0 | I33: 0
B34: UW Information Technology | C34: BU110 | D34: CCH100040 | E34: 0 | F34: 0 | G34: 0 | H34: 0 | I34: 0
B35: Instructional & Student Support | E35: 0 | F35: 0 | G35: 0 | H35: 0 | I35: 0
B36: Continuum College | C36: BU121 | D36: CCH100030 | E36: 0 | F36: 0 | G36: 0 | H36: 0 | I36: 0
B37: Global Affairs | C37: BU142 | D37: CCH100027 | E37: 0 | F37: 0 | G37: 0 | H37: 0 | I37: 0
B38: Graduate School | C38: BU122 | D38: CCH100041 | E38: 0 | F38: 0 | G38: 0 | H38: 0 | I38: 0
B39: Intercollegiate Athletics | C39: BU104 | D39: CCH100029 | E39: 0 | F39: 0 | G39: 0 | H39: 0 | I39: 0
B40: Minority Affairs | C40: BU119 | D40: CCH100032 | E40: 0 | F40: 0 | G40: 0 | H40: 0 | I40: 0
B41: Student Life | C41: BU115 | D41: CCH100038 | E41: 0 | F41: 0 | G41: 0 | H41: 0 | I41: 0
B42: Undergraduate Academic Affairs | C42: BU118 | D42: CCH100021 | E42: 0 | F42: 0 | G42: 0 | H42: 0 | I42: 0
B43: Research and Innovation | E43: 0 | F43: 0 | G43: 0 | H43: 0 | I43: 0
B44: CoMotion | C44: BU124 | D44: CCH100018 | E44: 0 | F44: 0 | G44: 0 | H44: 0 | I44: 0
B45: Libraries | C45: BU125 | D45: CCH100016 | E45: 0 | F45: 0 | G45: 0 | H45: 0 | I45: 0
...

Sheet Supp_State Funded Merit and Ben
B3: FY2025 Core Funds Allocation Table: State Funded Merit and Benefit Changes
B4: =Tuition!B4 -> 45331
B5: Cost Center Level 05 Name | C5: Balancing Unit | D5: Cost Center Level 05 Code | E5: FY2025 Increment | F5: FY2026 Increment | G5: FY2027 Increment | H5: FY2028 Increment | I5: FY2029 Increment
E6: Calculated Field | F6: Calculated Field | G6: Calculated Field | H6: Calculated Field | I6: Calculated Field
B8: Seattle Academic Units | E8: 0 | F8: 0 | G8: 0 | H8: 0 | I8: 0
B9: College of Arts and Sciences | C9: BU134 | D9: CCH100036 | E9: 0 | F9: 0 | G9: 0 | H9: 0 | I9: 0
B10: College of Built Environments | C10: BU139 | D10: CCH100039 | E10: 0 | F10: 0 | G10: 0 | H10: 0 | I10: 0
B11: College of Education | C11: BU136 | D11: CCH100042 | E11: 0 | F11: 0 | G11: 0 | H11: 0 | I11: 0
B12: College of Engineering | C12: BU132 | D12: CCH100058 | E12: 0 | F12: 0 | G12: 0 | H12: 0 | I12: 0
B13: College of the Environment | C13: BU133 | D13: CCH100043 | E13: 0 | F13: 0 | G13: 0 | H13: 0 | I13: 0
B14: Evans School of Public Policy and Governance | C14: BU137 | D14: CCH100019 | E14: 0 | F14: 0 | G14: 0 | H14: 0 | I14: 0
B15: Foster School of Business | C15: BU140 | D15: CCH100023 | E15: 0 | F15: 0 | G15: 0 | H15: 0 | I15: 0
B16: Information School | C16: BU138 | D16: CCH100028 | E16: 0 | F16: 0 | G16: 0 | H16: 0 | I16: 0
B17: School of Dentistry | C17: BU127 | D17: CCH100033 | E17: 0 | F17: 0 | G17: 0 | H17: 0 | I17: 0
B18: School of Law | C18: BU141 | D18: CCH100017 | E18: 0 | F18: 0 | G18: 0 | H18: 0 | I18: 0
B19: School of Medicine | C19: BU131 | D19: CCH100050 | E19: 0 | F19: 0 | G19: 0 | H19: 0 | I19: 0
B20: School of Nursing | C20: BU129 | D20: CCH100031 | E20: 0 | F20: 0 | G20: 0 | H20: 0 | I20: 0
... B23: School of Social Work | C23: BU135 | D23: CCH100046 | E23: 0 | F23: 0 | G23: 0 | H23: 0 | I23: 0
B24: Seattle Administrative Units | E24: 0 | F24: 0 | G24: 0 | H24: 0 | I24: 0
B25: Institutional Infrastructure | E25: 0 | F25: 0 | G25: 0 | H25: 0 | I25: 0
B26: Advancement | C26: BU109 | D26: CCH100034 | E26: 0 | F26: 0 | G26: 0 | H26: 0 | I26: 0
B27: Attorney General | C27: BU113 | D27: CCH100026 | E27: 0 | F27: 0 | G27: 0 | H27: 0 | I27: 0
B28: Campus Community Safety | C28: BU166 | D28: CCH104556 | E28: 0 | F28: 0 | G28: 0 | H28: 0 | I28: 0
B29: Executive Office | C29: BU105 | D29: CCH100020 | E29: 0 | F29: 0 | G29: 0 | H29: 0 | I29: 0
B30: External Affairs | C30: BU114 | D30: CCH100022 | E30: 0 | F30: 0 | G30: 0 | H30: 0 | I30: 0
B31: Facilities | C31: BU111 | D31: CCH100049 | E31: 0 | F31: 0 | G31: 0 | H31: 0 | I31: 0
B32: Finance | C32: BU106 | D32: CCH100047 | E32: 0 | F32: 0 | G32: 0 | H32: 0 | I32: 0
B33: Human Resources | C33: BU108 | D33: CCH100044 | E33: 0 | F33: 0 | G33: 0 | H33: 0 | I33: 0
B34: UW Information Technology | C34: BU110 | D34: CCH100040 | E34: 0 | F34: 0 | G34: 0 | H34: 0 | I34: 0
B35: Instructional & Student Support | E35: 0 | F35: 0 | G35: 0 | H35: 0 | I35: 0
B36: Continuum College | C36: BU121 | D36: CCH100030 | E36: 0 | F36: 0 | G36: 0 | H36: 0 | I36: 0
B37: Global Affairs | C37: BU142 | D37: CCH100027 | E37: 0 | F37: 0 | G37: 0 | H37: 0 | I37: 0
B38: Graduate School | C38: BU122 | D38: CCH100041 | E38: 0 | F38: 0 | G38: 0 | H38: 0 | I38: 0
B39: Intercollegiate Athletics | C39: BU104 | D39: CCH100029 | E39: 0 | F39: 0 | G39: 0 | H39: 0 | I39: 0
B40: Minority Affairs | C40: BU119 | D40: CCH100032 | E40: 0 | F40: 0 | G40: 0 | H40: 0 | I40: 0
B41: Student Life | C41: BU115 | D41: CCH100038 | E41: 0 | F41: 0 | G41: 0 | H41: 0 | I41: 0
B42: Undergraduate Academic Affairs | C42: BU118 | D42: CCH100021 | E42: 0 | F42: 0 | G42: 0 | H42: 0 | I42: 0
B43: Research and Innovation | E43: 0 | F43: 0 | G43: 0 | H43: 0 | I43: 0
B44: CoMotion | C44: BU124 | D44: CCH100018 | E44: 0 | F44: 0 | G44: 0 | H44: 0 | I44: 0
B45: Libraries | C45: BU125 | D45: CCH100016 | E45: 0 | F45: 0 | G45: 0 | H45: 0 | I45: 0
...

Sheet Supp_Legislative Directives
B3: FY2025 Core Funds Allocation Table: Legislative Directives
B4: =Tuition!B4 -> 45331
B5: Cost Center Level 05 Name | C5: Balancing Unit | D5: Cost Center Level 05 Code | E5: FY2025 Increment | F5: FY2026 Increment | G5: FY2027 Increment | H5: FY2028 Increment | I5: FY2029 Increment
E6: Calculated Field | F6: Calculated Field | G6: Calculated Field | H6: Calculated Field | I6: Calculated Field
B8: Seattle Academic Units | E8: 7254310 | F8: -15087000 | G8: 0 | H8: 0 | I8: 0
B9: College of Arts and Sciences | C9: BU134 | D9: CCH100036 | E9: -24000 | F9: -1463000 | G9: 0 | H9: 0 | I9: 0
B10: College of Built Environments | C10: BU139 | D10: CCH100039 | E10: 0 | F10: -100000 | G10: 0 | H10: 0 | I10: 0
B11: College of Education | C11: BU136 | D11: CCH100042 | E11: 0 | F11: 0 | G11: 0 | H11: 0 | I11: 0
B12: College of Engineering | C12: BU132 | D12: CCH100058 | E12: 2433310 | F12: -2625000 | G12: 0 | H12: 0 | I12: 0
B13: College of the Environment | C13: BU133 | D13: CCH100043 | E13: 326000 | F13: -892000 | G13: 0 | H13: 0 | I13: 0
B14: Evans School of Public Policy and Governance | C14: BU137 | D14: CCH100019 | E14: 0 | F14: 0 | G14: 0 | H14: 0 | I14: 0
B15: Foster School of Business | C15: BU140 | D15: CCH100023 | E15: 0 | F15: 0 | G15: 0 | H15: 0 | I15: 0
B16: Information School | C16: BU138 | D16: CCH100028 | E16: 0 | F16: 0 | G16: 0 | H16: 0 | I16: 0
B17: School of Dentistry | C17: BU127 | D17: CCH100033 | E17: 0 | F17: 0 | G17: 0 | H17: 0 | I17: 0
B18: School of Law | C18: BU141 | D18: CCH100017 | E18: 0 | F18: 0 | G18: 0 | H18: 0 | I18: 0
B19: School of Medicine | C19: BU131 | D19: CCH100050 | E19: 3327000 | F19: -7392000 | G19: 0 | H19: 0 | I19: 0
B20: School of Nursing | C20: BU129 | D20: CCH100031 | E20: 0 | F20: -150000 | G20: 0 | H20: 0 | I20: 0
... B23: School of Social Work | C23: BU135 | D23: CCH100046 | E23: 192000 | F23: -965000 | G23: 0 | H23: 0 | I23: 0
B24: Seattle Administrative Units | E24: 0 | F24: -1775000 | G24: 0 | H24: 0 | I24: 0
B25: Institutional Infrastructure | E25: 0 | F25: -1500000 | G25: 0 | H25: 0 | I25: 0
B26: Advancement | C26: BU109 | D26: CCH100034 | E26: 0 | F26: 0 | G26: 0 | H26: 0 | I26: 0
B27: Attorney General | C27: BU113 | D27: CCH100026 | E27: 0 | F27: 0 | G27: 0 | H27: 0 | I27: 0
B28: Campus Community Safety | C28: BU166 | D28: CCH104556 | E28: 0 | F28: 0 | G28: 0 | H28: 0 | I28: 0
B29: Executive Office | C29: BU105 | D29: CCH100020 | E29: 0 | F29: 0 | G29: 0 | H29: 0 | I29: 0
B30: External Affairs | C30: BU114 | D30: CCH100022 | E30: 0 | F30: 0 | G30: 0 | H30: 0 | I30: 0
B31: Facilities | C31: BU111 | D31: CCH100049 | E31: 0 | F31: -1500000 | G31: 0 | H31: 0 | I31: 0
B32: Finance | C32: BU106 | D32: CCH100047 | E32: 0 | F32: 0 | G32: 0 | H32: 0 | I32: 0
B33: Human Resources | C33: BU108 | D33: CCH100044 | E33: 0 | F33: 0 | G33: 0 | H33: 0 | I33: 0
