Workbook
Name _a4: 'Form 3'!$G$9
Name _a5: 'Form 3'!$G$10
Name _a6: 'Form 3'!$G$11
Name _a7: 'Form 3'!$G$12
Name tuition_benefit_none: 'Form 3'!$G$12
Name tuition_benefit_other: 'Form 3'!$G$11
Name tuition_benefit_other_text: 'Form 3'!$B$22
Name tuition_benefit_partial_waiver_at_specified_institutions: 'Form 3'!$G$9
Name tuition_benefit_varies_based_on_years_of_service: 'Form 3'!$G$10

Sheet Instructions
A1: American Association of University Professors
A2: Faculty Compensation Survey 2022-23
A3: Instructions for using the Excel upload template
A4: https://research.aaup.org
A5: Start
A6: Registration (for new users only): If you are not certain whether you are registered in our system, click "Start" on the survey home page and enter your e-mail address. If you are registered in our system, you will have the option to reset your password, if needed. (Check your spam folder.) If there is an existing data manager or system admin for your institution, they can add you under "Manage Your Institution's Users" in the menu. To register a new account, click "Start" on the survey home page and enter your e-mail address; complete the required information, including designating an institution, and "Save." Your registration request will be submitted to AAUP Research for approval, and you will be notified by e-mail when your registration has been approved.
A7: Existing Users Login: Log in using your e-mail address and password. If you forget your password, click the "Get a New Password" link and it will be e-mailed to you. Passwords are case-sensitive.
A8: Prior to beginning data entry for a survey, please verify your personal contact information in the "Manage Your Account" section.
A10: There are two options for entering FCS data: (1) The preferred method is to upload this Excel file to the FCS website. This file provides preliminary data validation and a record of your data submission for future reference. (2) You may also enter data directly online in the portal. Note that when you upload the Excel file it will replace any data previously entered for the current year.
A12: Instructions for Data Entry and Upload via Excel Spreadsheet
A13: Complete the Excel file using the instructions for each form. The main Instructions page is at https://research.aaup.org/instructions, and there are links at the bottom of each tab (form).
A14: Note on copy/paste in the Excel file: Improperly formatted data may create problems for formulas built into the Excel file. For best results, if you want to copy data into the Excel file from another source, including another Excel file, use only the "Paste Values" function. If you need help with this feature, please contact AAUP Research at aaupfcs@aaup.org.
... A18: © 2022 American Association of University Professors

Sheet Form 1
B1: American Association of University Professors Faculty Compensation Survey 2022-23
A2: Please complete these first five fields for your own reference to ensure proper identification of this file. This information is optional and will not be uploaded to AAUP.
B3: Unit ID: | C3: 236948 | I3: Instructions for completing Form 1 are available at
B4: Institution: | C4: University of Washington-Seattle Campus
B5: Respondent Name: | C5: Erin Guthrie
B6: Phone Number: | C6: (206) 685-9956 | I6: https://research.aaup.org/instructions#form1
B7: E-Mail Address: | C7: instres@uw.edu
B8: Survey Year: | C8: 2022-23
A9: Form 1: Institutional Information
B11: Institutional Control | C11: Public | E11: Pre-populated by AAUP
B13: AAUP Category | C13: Doctoral | E13: Pre-populated by AAUP
B15: AAUP FCS System | C15: University of Washington | E15: Pre-populated by AAUP if institution is part of a system for FCS data collection.
B17: Publication Footnote | E17: Displays previous year text, if any. Note any changes needed in the comment fields.
B19: Conversion Factor | C19: 0.81818182 | E19: Enter value if you are reporting faculty with 11- or 12-month contracts. | K19: =IF(ISBLANK(C19),1,C19) -> 0.81818182
B21: Comments
B23: Additional Comments
A25: Instructions for completing Form 1 are available at
A26: https://research.aaup.org/instructions#form1

Sheet Form 2
B1: American Association of University Professors Faculty Compensation Survey 2022-23 | L1: Instructions for completing Form 2 are available at
A2: Form 2: Number, Total Salaries, and Tenure Status of Full-Time Instructional Faculty | L2: https://research.aaup.org/instructions#form2
B3: MEN | G3: WOMEN
A4: Academic Rank | B4: Number of Faculty | C4: Total Contracted Salaries ($) | D4: Not Tenure-Track | E4: On Tenure-Track | F4: Tenured | G4: Number of Faculty | H4: Total Contracted Salaries ($) | I4: Not Tenure-Track | J4: On Tenure-Track | K4: Tenured
A6: Section 1. Faculty on 9-Month Contracts (Regardless of Number of Salary Installments)
A7: 1. Professor | B7: 455 | C7: 76804263 | D7: 12 | E7: 0 | F7: 443 | G7: 296 | H7: 44278416 | I7: 39 | J7: 0 | K7: 257
A8: 2. Associate | B8: 274 | C8: 33567723 | D8: 70 | E8: 2 | F8: 202 | G8: 256 | H8: 28319418 | I8: 63 | J8: 2 | K8: 191
A9: 3. Assistant | B9: 182 | C9: 19902798 | D9: 50 | E9: 132 | F9: 0 | G9: 215 | H9: 21472200 | I9: 63 | J9: 152 | K9: 0
A10: 4. Instructor | B10: 34 | C10: 1745235 | D10: 34 | E10: 0 | F10: 0 | G10: 36 | H10: 2161521 | I10: 36 | J10: 0 | K10: 0
A11: 5. Lecturer | B11: 15 | C11: 1267920 | D11: 15 | E11: 0 | F11: 0 | G11: 6 | H11: 543843 | I11: 6 | J11: 0 | K11: 0
A12: 6. No Rank
A13: 7. TOTAL | B13: =SUM(B7:B12) -> 960 | C13: =SUM(C7:C12) -> 133287939 | D13: =SUM(D7:D12) -> 181 | E13: =SUM(E7:E12) -> 134 | F13: =SUM(F7:F12) -> 645 | G13: =SUM(G7:G12) -> 809 | H13: =SUM(H7:H12) -> 96775398 | I13: =SUM(I7:I12) -> 207 | ... K13: =SUM(K7:K12) -> 448
A14: Section 2. Faculty on 11- or 12-Month Contracts (Actual Amounts)
A15: 1. Professor | B15: 62 | C15: 13843428 | D15: 2 | E15: 0 | F15: 60 | G15: 34 | H15: 6847476 | I15: 1 | J15: 0 | K15: 33
A16: 2. Associate | B16: 30 | C16: 4532640 | D16: 7 | E16: 2 | F16: 21 | G16: 36 | H16: 5457612 | I16: 14 | J16: 0 | K16: 22
A17: 3. Assistant | B17: 14 | C17: 1745964 | D17: 5 | E17: 9 | F17: 0 | G17: 42 | H17: 5464824 | I17: 13 | J17: 29 | K17: 0
A18: 4. Instructor | B18: 1 | C18: 66996 | D18: 1 | E18: 0 | F18: 0
A19: 5. Lecturer
A20: 6. No Rank
A21: 7. TOTAL | B21: =SUM(B15:B20) -> 107 | C21: =SUM(C15:C20) -> 20189028 | D21: =SUM(D15:D20) -> 15 | E21: =SUM(E15:E20) -> 11 | F21: =SUM(F15:F20) -> 81 | G21: =SUM(G15:G20) -> 112 | H21: =SUM(H15:H20) -> 17769912 | I21: =SUM(I15:I20) -> 28 | ... K21: =SUM(K15:K20) -> 55
A22: Section 3. 9-Month Contracts Plus 11- or 12-Month Contracts (Converts 11- or 12-Month Salaries and Calculates Automatically)
A23: 1. Professor | B23: =B7+B15 -> 517 | C23: =C7+(C15*'Form 1'!$K$19) -> 88130704 | D23: =D7+D15 -> 14 | E23: =E7+E15 -> 0 | F23: =F7+F15 -> 503 | G23: =G7+G15 -> 330 | H23: =H7+(H15*'Form 1'!$K$19) -> 49880896 | I23: =I7+I15 -> 40 | J23: =J7+J15 -> 0 | K23: =K7+K15 -> 290
A24: 2. Associate | B24: =B8+B16 -> 304 | C24: =C8+(C16*'Form 1'!$K$19) -> 37276247 | D24: =D8+D16 -> 77 | E24: =E8+E16 -> 4 | F24: =F8+F16 -> 223 | G24: =G8+G16 -> 292 | H24: =H8+(H16*'Form 1'!$K$19) -> 32784737 | I24: =I8+I16 -> 77 | J24: =J8+J16 -> 2 | K24: =K8+K16 -> 213
A25: 3. Assistant | B25: =B9+B17 -> 196 | C25: =C9+(C17*'Form 1'!$K$19) -> 21331314 | D25: =D9+D17 -> 55 | E25: =E9+E17 -> 141 | F25: =F9+F17 -> 0 | G25: =G9+G17 -> 257 | H25: =H9+(H17*'Form 1'!$K$19) -> 25943420 | I25: =I9+I17 -> 76 | J25: =J9+J17 -> 181 | K25: =K9+K17 -> 0
A26: 4. Instructor | B26: =B10+B18 -> 35 | C26: =C10+(C18*'Form 1'!$K$19) -> 1800049.9 | D26: =D10+D18 -> 35 | E26: =E10+E18 -> 0 | F26: =F10+F18 -> 0 | G26: =G10+G18 -> 36 | H26: =H10+(H18*'Form 1'!$K$19) -> 2161521 | I26: =I10+I18 -> 36 | J26: =J10+J18 -> 0 | K26: =K10+K18 -> 0
A27: 5. Lecturer | B27: =B11+B19 -> 15 | C27: =C11+(C19*'Form 1'!$K$19) -> 1267920 | D27: =D11+D19 -> 15 | E27: =E11+E19 -> 0 | F27: =F11+F19 -> 0 | G27: =G11+G19 -> 6 | H27: =H11+(H19*'Form 1'!$K$19) -> 543843 | I27: =I11+I19 -> 6 | J27: =J11+J19 -> 0 | K27: =K11+K19 -> 0
A28: 6. No Rank | B28: =B12+B20 -> 0 | C28: =C12+(C20*'Form 1'!$K$19) -> 0 | D28: =D12+D20 -> 0 | E28: =E12+E20 -> 0 | F28: =F12+F20 -> 0 | G28: =G12+G20 -> 0 | H28: =H12+(H20*'Form 1'!$K$19) -> 0 | I28: =I12+I20 -> 0 | J28: =J12+J20 -> 0 | K28: =K12+K20 -> 0
A29: 7. TOTAL | B29: =SUM(B23:B28) -> 1067 | C29: =SUM(C23:C28) -> 1.4980623e+08 | D29: =SUM(D23:D28) -> 196 | E29: =SUM(E23:E28) -> 145 | F29: =SUM(F23:F28) -> 726 | G29: =SUM(G23:G28) -> 921 | H29: =SUM(H23:H28) -> 1.1131442e+08 | I29: =SUM(I23:I28) -> 235 | ... K29: =SUM(K23:K28) -> 503
A31: Instructions for completing Form 2 are available at
A32: https://research.aaup.org/instructions#form2

Sheet Form 3
A1: American Association of University Professors Faculty Compensation Survey 2022-23 | F1: Instructions for completing Form 3 are available at
A2: Form 3: Institutional Expenditure on Benefits for Full-Time Instructional Faculty | F2: https://research.aaup.org/instructions#form3
B3: All Ranks Combined
A4: Benefit | B4: Total Expenditure ($) | C4: Number Covered
A5: Section 1. Faculty on 9-Month Contracts (i.e., regardless of number of installments)
A6: Retirement | B6: 17815207 | C6: 1631 | F6: Full | G6: Yes | H6: Yes
A7: Total Health Insurance Premiums | B7: 17601057 | C7: 1740 | F7: Partial | G7: No | H7: No
A8: Total 9-month | B8: =SUM(B6:B7) -> 35416264 | C8: =MAX(C6:C7) -> 1740 | F8: None | H8: Not applicable
A9: Section 2. Faculty on 11- or 12-Month Contracts (i.e., on actual basis, no conversion)
A10: Retirement | B10: 2900112 | C10: 194
A11: Total Health Insurance Premiums | B11: 2886304 | C11: 214
A12: Total 12-month | B12: =SUM(B10:B11) -> 5786416 | C12: =MAX(C10:C11) -> 214
A13: Section 3. 9-Month plus 12-Month converted** (Calculates automatically)
A14: Retirement | B14: =(B6+(B10*'Form 1'!C19)) -> 20188026 | C14: =C6+C10 -> 1825
A15: Total Health Insurance Premiums | B15: =B7+B11 -> 20487361 | C15: =C7+C11 -> 1954
A16: Total All Faculty | B16: =SUM(B14:B15) -> 40675387 | C16: =MAX(C14:C15) -> 1954
A17: Section 4. Dependent Tuition Benefits
A18: Tuition waiver at institution
A19: Tuition waiver at specified institutions through a consortium or system
A20: Institution is a member of Tuition Exchange
A21: Tuition benefit varies based on years of service
A22: Other dependent tuition benefits
A24: Instructions for completing Form 3 are available at
A25: https://research.aaup.org/instructions#form3

Sheet Form 4
B1: Form 4: Salaries and Percentage Increase for Continuing Instructional Faculty, 2022-23 | F1: Instructions for completing Form 4 are available at
A2: Please Note: Individuals reported on this form should be only those who held faculty positions in BOTH 2022-23 and 2021-22. This number will almost always be smaller than that in Form 2. Report individuals in the row for the rank the person held in 2021-22. For those institutions not able to complete Columns C or D, see the instructions and the Form 4 Estimate tab. Previous Year (2021-22) outlay is the last year's salary outlay for CURRENT continuing faculty members. Salaries of faculty who are no longer working at your institution or were newly hired for 2022-23 should NOT be included in Form 4. | F2: https://research.aaup.org/instructions#form4
A3: Section 1. Full-time Faculty on 9-Month Contracts
A4: Academic Rank | B4: Number of Continuing Faculty | C4: Total Salary Outlays | E4: Percentage Increase
A5: in 2021-22 | C5: Current Yr. (2022-23) | D5: Previous Yr. (2021-22)
A6: 1. Professor | B6: 676 | C6: 109196982 | D6: 104995098 | E6: =IF(D6=0,0,((C6-D6)/D6)) -> 0.040019811
A7: 2. Associate | B7: 505 | C7: 60387525 | D7: 57462156 | E7: =IF(D7=0,0,((C7-D7)/D7)) -> 0.050909489
A8: 3. Assistant | B8: 355 | C8: 38380554 | D8: 36226260 | E8: =IF(D8=0,0,((C8-D8)/D8)) -> 0.059467745
A9: 4. Instructor | B9: 39 | C9: 2336292 | D9: 2209050 | E9: =IF(D9=0,0,((C9-D9)/D9)) -> 0.057600326
A10: 5. Lecturer | B10: 9 | C10: 853614 | D10: 816408 | E10: =IF(D10=0,0,((C10-D10)/D10)) -> 0.045572802
A11: 6. No Rank | E11: =IF(D11=0,0,((C11-D11)/D11)) -> 0
A12: 7. TOTAL | B12: =SUM(B6:B11) -> 1584 | C12: =SUM(C6:C11) -> 211154967 | D12: =SUM(D6:D11) -> 201708972 | E12: =IF(D12=0,0,((C12-D12)/D12)) -> 0.046829821
A13: Section 2. Full-time Faculty on 11- or 12-Month Contracts
A14: Academic Rank | B14: Number of Continuing Faculty | C14: Total Salary Outlays | E14: Percentage Increase
A15: in 2021-22 | C15: Current Yr. (2022-23) | D15: Previous Yr. (2021-22)
A16: 1. Professor | B16: 78 | C16: 17295528 | D16: 16541520 | E16: =IF(D16=0,0,((C16-D16)/D16)) -> 0.045582752
A17: 2. Associate | B17: 56 | C17: 9002448 | D17: 8551692 | E17: =IF(D17=0,0,((C17-D17)/D17)) -> 0.052709569
A18: 3. Assistant | B18: 48 | C18: 6319236 | D18: 5953872 | E18: =IF(D18=0,0,((C18-D18)/D18)) -> 0.06136578
A19: 4. Instructor | E19: =IF(D19=0,0,((C19-D19)/D19)) -> 0
A20: 5. Lecturer | E20: =IF(D20=0,0,((C20-D20)/D20)) -> 0
A21: 6. No Rank | E21: =IF(D21=0,0,((C21-D21)/D21)) -> 0
A22: 7. TOTAL | B22: =SUM(B16:B21) -> 182 | C22: =SUM(C16:C21) -> 32617212 | D22: =SUM(D16:D21) -> 31047084 | E22: =IF(D22=0,0,((C22-D22)/D22)) -> 0.050572479
A23: Section 3. 9-Month plus 12-Month Converted (Calculates automatically)
A24: Academic Rank | B24: Number of Continuing Faculty | C24: Total Salary Outlays | E24: Percentage Increase
A25: in 2021-22 | C25: Current Yr. (2022-23) | D25: Previous Yr. (2021-22)
A26: 1. Professor | B26: =B6+B16 -> 754 | C26: =C6+(C16*'Form 1'!$K$19) -> 1.2334787e+08 | D26: =D6+(D16*'Form 1'!$K$19) -> 1.1852907e+08 | E26: =IF(D26=0,0,((C26-D26)/D26)) -> 0.040655003
A27: 2. Associate | B27: =B7+B17 -> 561 | C27: =C7+(C17*'Form 1'!$K$19) -> 67753164 | D27: =D7+(D17*'Form 1'!$K$19) -> 64458995 | E27: =IF(D27=0,0,((C27-D27)/D27)) -> 0.051104883
A28: 3. Assistant | B28: =B8+B18 -> 403 | C28: =C8+(C18*'Form 1'!$K$19) -> 43550838 | D28: =D8+(D18*'Form 1'!$K$19) -> 41097610 | E28: =IF(D28=0,0,((C28-D28)/D28)) -> 0.059692722
A29: 4. Instructor | B29: =B9+B19 -> 39 | C29: =C9+(C19*'Form 1'!$K$19) -> 2336292 | D29: =D9+(D19*'Form 1'!$K$19) -> 2209050 | E29: =IF(D29=0,0,((C29-D29)/D29)) -> 0.057600326
A30: 5. Lecturer | B30: =B10+B20 -> 9 | C30: =C10+(C20*'Form 1'!$K$19) -> 853614 | D30: =D10+(D20*'Form 1'!$K$19) -> 816408 | E30: =IF(D30=0,0,((C30-D30)/D30)) -> 0.045572802
A31: 6. No Rank | B31: =B11+B21 -> 0 | C31: =C11+(C21*'Form 1'!$K$19) -> 0 | D31: =D11+(D21*'Form 1'!$K$19) -> 0 | E31: =IF(D31=0,0,((C31-D31)/D31)) -> 0
A32: 7. TOTAL | B32: =SUM(B26:B31) -> 1766 | C32: =C12+(C22*'Form 1'!$K$19) -> 2.3784178e+08 | D32: =SUM(D26:D31) -> 2.2711113e+08 | E32: =IF(D32=0,0,((C32-D32)/D32)) -> 0.047248433
A34: Instructions for completing Form 4 are available at
A35: https://research.aaup.org/instructions#form4

Sheet Form 5
B1: American Association of University Professors Faculty Compensation Survey 2022-23 | D1: Instructions for completing Form 5 are available at
A2: Form 5: Administrative Compensation 2022-23 | D2: https://research.aaup.org/instructions#form5
A3: Confidentiality Notice:
A4: The figures supplied in this section will be used for aggregate calculations only; they will not be published or disclosed for individual institutions.
B6: Base Salary | C6: Supplement
A7: President/Chancellor | B7: 887568
A8: Chief Academic Officer | B8: 431844 | C8: 51576
A9: Chief Financial Officer | B9: 370752
A10: Chief Development Officer | B10: 464628
A11: Chief Administrative Officer
A12: Chief Counsel
A13: Director of Enrollment Management
A14: Director of Athletics | B14: 1100004
A16: Instructions for completing Form 5 are available at
A17: https://research.aaup.org/instructions#form5

Sheet Form 6
B1: American Association of University Professors Faculty Compensation Survey 2022-23 | I1: Instructions for completing Form 6 are available at
A2: Form 6: Number and Per-Section Pay for Part-Time Instructional Faculty, 2021-22 | I2: https://research.aaup.org/instructions#form6
A3: These figures will be used to produce an appendix where each institution's data will be reported individually. Please note we are asking for data in this section from the previous academic year.
B5: Number of Faculty | C5: Minimum per Section Pay | D5: Maximum per Section Pay | E5: Mean per Section Pay | F5: Do Part-Time Per Section Faculty have Retirement Benefits?2 | G5: Do Part-Time Per Section Faculty have Medical Benefits?2 | I5: Yes, all
A6: Part-Time per Section Faculty | I6: Some
I7: No
A8: Instructions for completing Form 6 are available at
A9: https://research.aaup.org/instructions#form6
A35: Semester
A36: Quarter
A37: Trimester
A38: Four-one-four plan
A39: Other academic year
A40: Differs by program
A41: Continuous

Sheet Form 3 Estimate
B1: American Association of University Professors Faculty Compensation Survey 2022-23
A2: Form 3: Estimator for Retirement Benefits Expenditure (Optional)
A4: If you do not have the actual dollar expenditure amount for retirement benefits, you may use a standard contribution rate here to calculate an estimate. Enter that estimate on Form 3 (it will not fill in automatically).
A6: Section 1. Faculty on 9-Month Contracts
A7: Institutional Contribution Rate (%) | B7: Number of Faculty | C7: Estimated Expenditure (enter on Form 3)
A8: 0 | B8: ='Form 2'!B13+'Form 2'!G13 -> 1769 | C8: =(B8/('Form 2'!B13+'Form 2'!G13))*('Form 2'!C13+'Form 2'!H13)*A8 -> 0
A10: Section 2. Faculty on 11- or 12-Month Contracts
A11: Institutional Contribution Rate (%) | B11: Number of Faculty | C11: Estimated Expenditure (enter on Form 3)
A12: 0 | B12: ='Form 2'!B21+'Form 2'!G21 -> 219 | C12: =(B12/('Form 2'!B21+'Form 2'!G21))*('Form 2'!C21+'Form 2'!H21)*A12*'Form 1'!C19 -> 0

Sheet Form 4 Estimate
B1: Form 4 Estimator: Estimate Salary Increase for Continuing Instructional Faculty, 2022-23 (Complete only if actual salary amounts are not available. This sheet provides an estimate for current and previous-year salary amounts, when entering the count of continuing faculty and a percentage increase. Enter values in columns B and E, and then copy and paste [values only] columns B-D to Form 4.)
A2: Section 1. Faculty on 9-Month Contracts
A3: Academic Rank | B3: Number of Continuing Faculty | C3: Total Salary Outlays | E3: Percentage Increase
A4: in 2021-22 | C4: Current Yr. (2022-23) | D4: Previous Yr. (2021-22)
A5: 1. Professor | C5: =IF(('Form 2'!B7+'Form 2'!G7)=0,"",('Form 2'!C7+'Form 2'!H7)*(B5/('Form 2'!B7+'Form 2'!G7))) -> 0 | D5: =C5/(1+E5) -> 0 | E5: 0
A6: 2. Associate | C6: =IF(('Form 2'!B8+'Form 2'!G8)=0,"",('Form 2'!C8+'Form 2'!H8)*(B6/('Form 2'!B8+'Form 2'!G8))) -> 0 | D6: =C6/(1+E6) -> 0 | E6: 0
A7: 3. Assistant | C7: =IF(('Form 2'!B9+'Form 2'!G9)=0,"",('Form 2'!C9+'Form 2'!H9)*(B7/('Form 2'!B9+'Form 2'!G9))) -> 0 | D7: =C7/(1+E7) -> 0 | E7: 0
A8: 4. Instructor | C8: =IF(('Form 2'!B10+'Form 2'!G10)=0,"",('Form 2'!C10+'Form 2'!H10)*(B8/('Form 2'!B10+'Form 2'!G10))) -> 0 | D8: =C8/(1+E8) -> 0 | E8: 0
A9: 5. Lecturer | C9: =IF(('Form 2'!B11+'Form 2'!G11)=0,"",('Form 2'!C11+'Form 2'!H11)*(B9/('Form 2'!B11+'Form 2'!G11))) -> 0 | D9: =C9/(1+E9) -> 0 | E9: 0
A10: 6. No Rank | C10: =IF(('Form 2'!B12+'Form 2'!G12)=0,"",('Form 2'!C12+'Form 2'!H12)*(B10/('Form 2'!B12+'Form 2'!G12))) | D10: =C10/(1+E10) -> #VALUE! | E10: 0
A11: 7. TOTAL | B11: =SUM(B5:B10) -> 0 | C11: =SUM(C5:C10) -> 0 | D11: =SUM(D5:D10) -> #VALUE! | E11: =(C11-D11)/D11 -> #VALUE!
A12: Section 2. Faculty on 11- or 12-Month Contracts
A13: Academic Rank | B13: Number of Continuing Faculty | C13: Total Salary Outlays | E13: Percentage Increase
A14: in 2021-22 | C14: Current Yr. (2022-23) | D14: Previous Yr. (2021-22)
A15: 1. Professor | C15: =IF(('Form 2'!B15+'Form 2'!G15)=0,"",('Form 2'!C15+'Form 2'!H15)*(B15/('Form 2'!B15+'Form 2'!G15))) -> 0 | D15: =C15/(1+E15) -> 0 | E15: 0
A16: 2. Associate | C16: =IF(('Form 2'!B16+'Form 2'!G16)=0,"",('Form 2'!C16+'Form 2'!H16)*(B16/('Form 2'!B16+'Form 2'!G16))) -> 0 | D16: =C16/(1+E16) -> 0 | E16: 0
A17: 3. Assistant | C17: =IF(('Form 2'!B17+'Form 2'!G17)=0,"",('Form 2'!C17+'Form 2'!H17)*(B17/('Form 2'!B17+'Form 2'!G17))) -> 0 | D17: =C17/(1+E17) -> 0 | E17: 0
A18: 4. Instructor | C18: =IF(('Form 2'!B18+'Form 2'!G18)=0,"",('Form 2'!C18+'Form 2'!H18)*(B18/('Form 2'!B18+'Form 2'!G18))) -> 0 | D18: =C18/(1+E18) -> 0 | E18: 0
A19: 5. Lecturer | C19: =IF(('Form 2'!B19+'Form 2'!G19)=0,"",('Form 2'!C19+'Form 2'!H19)*(B19/('Form 2'!B19+'Form 2'!G19))) | D19: =C19/(1+E19) -> #VALUE! | E19: 0
A20: 6. No Rank | C20: =IF(('Form 2'!B20+'Form 2'!G20)=0,"",('Form 2'!C20+'Form 2'!H20)*(B20/('Form 2'!B20+'Form 2'!G20))) | D20: =C20/(1+E20) -> #VALUE! | E20: 0
A21: 7. TOTAL | B21: =SUM(B15:B20) -> 0 | C21: =SUM(C15:C20) -> 0 | D21: =SUM(D15:D20) -> #VALUE! | E21: =(C21-D21)/D21 -> #VALUE!
A22: Section 3. 9-Month plus 12-Month Converted (Calculates automatically)
A23: Academic Rank | B23: Number of Continuing Faculty | C23: Total Salary Outlays | E23: Percentage Increase
A24: in 2021-22 | C24: Current Yr. (2022-23) | D24: Previous Yr. (2021-22)
A25: 1. Professor | B25: =B5+B15 -> 0 | C25: =C5+(C15*'Form 1'!$K$19) -> 0 | D25: =D5+(D15*'Form 1'!$K$19) -> 0 | E25: =(C25-D25)/D25 -> #DIV/0!
A26: 2. Associate | B26: =B6+B16 -> 0 | C26: =C6+(C16*'Form 1'!$K$19) -> 0 | D26: =D6+(D16*'Form 1'!$K$19) -> 0 | E26: =(C26-D26)/D26 -> #DIV/0!
A27: 3. Assistant | B27: =B7+B17 -> 0 | C27: =C7+(C17*'Form 1'!$K$19) -> 0 | D27: =D7+(D17*'Form 1'!$K$19) -> 0 | E27: =(C27-D27)/D27 -> #DIV/0!
A28: 4. Instructor | B28: =B8+B18 -> 0 | C28: =C8+(C18*'Form 1'!$K$19) -> 0 | D28: =D8+(D18*'Form 1'!$K$19) -> 0 | E28: =(C28-D28)/D28 -> #DIV/0!
A29: 5. Lecturer | B29: =B9+B19 -> 0 | C29: =C9+(C19*'Form 1'!$K$19) -> #VALUE! | D29: =D9+(D19*'Form 1'!$K$19) -> #VALUE! | E29: =(C29-D29)/D29 -> #VALUE!
A30: 6. No Rank | B30: =B10+B20 -> 0 | C30: =C10+(C20*'Form 1'!$K$19) -> #VALUE! | D30: =D10+(D20*'Form 1'!$K$19) -> #VALUE! | E30: =(C30-D30)/D30 -> #VALUE!
A31: 7. TOTAL | B31: =SUM(B25:B30) -> 0 | C31: =SUM(C25:C30) -> #VALUE! | D31: =SUM(D25:D30) -> #VALUE! | E31: =(C31-D31)/D31 -> #VALUE!

Sheet Validity Checks
A1: Data Entry Validity Checks for Various Sections (See Instructions)
A2: Academic Rank | B2: Form 2 Salary and Tenure Status | G2: Form 3 | H2: Form 4 Continuing Faculty
A3: 9-Month | B3: Total Faculty | C3: Tenure Status | D3: Average Men | E3: Average Women | F3: Outlays | G3: Benefits No. | H3: Avg. Sal. Curr. Yr. | I3: Avg. Sal. Prev. Yr. | J3: Percent Increase
A4: 1. Professor | B4: ='Form 2'!B7+'Form 2'!G7 -> 751 | C4: =IF((SUM('Form 2'!D7:F7)+SUM('Form 2'!I7:K7))-B4=0,"OK","ERROR") -> OK | D4: =IF('Form 2'!B7=0,"",'Form 2'!C7/'Form 2'!B7) -> 168800.58 | E4: =IF('Form 2'!G7=0,"",'Form 2'!H7/'Form 2'!G7) -> 149589.24 | F4: ='Form 2'!C7+'Form 2'!H7 -> 121082679 | H4: ='Form 4'!C6/'Form 4'!B6 -> 161534 | I4: ='Form 4'!D6/'Form 4'!B6 -> 155318.19 | J4: =IF('Form 4'!E6<0,"CHECK",IF('Form 4'!E6<0.16,"OK","CHECK")) -> OK
A5: 2. Associate | B5: ='Form 2'!B8+'Form 2'!G8 -> 530 | C5: =IF((SUM('Form 2'!D8:F8)+SUM('Form 2'!I8:K8))-B5=0,"OK","ERROR") -> OK | D5: =IF('Form 2'!B8=0,"",'Form 2'!C8/'Form 2'!B8) -> 122509.94 | E5: =IF('Form 2'!G8=0,"",'Form 2'!H8/'Form 2'!G8) -> 110622.73 | F5: ='Form 2'!C8+'Form 2'!H8 -> 61887141 | H5: ='Form 4'!C7/'Form 4'!B7 -> 119579.26 | I5: ='Form 4'!D7/'Form 4'!B7 -> 113786.45 | J5: =IF('Form 4'!E7<0,"CHECK",IF('Form 4'!E7<0.16,"OK","CHECK")) -> OK
A6: 3. Assistant | B6: ='Form 2'!B9+'Form 2'!G9 -> 397 | C6: =IF((SUM('Form 2'!D9:F9)+SUM('Form 2'!I9:K9))-B6=0,"OK","ERROR") -> OK | D6: =IF('Form 2'!B9=0,"",'Form 2'!C9/'Form 2'!B9) -> 109356.03 | E6: =IF('Form 2'!G9=0,"",'Form 2'!H9/'Form 2'!G9) -> 99870.698 | F6: ='Form 2'!C9+'Form 2'!H9 -> 41374998 | H6: ='Form 4'!C8/'Form 4'!B8 -> 108114.24 | I6: ='Form 4'!D8/'Form 4'!B8 -> 102045.8 | J6: =IF('Form 4'!E8<0,"CHECK",IF('Form 4'!E8<0.16,"OK","CHECK")) -> OK
A7: 4. Instructor | B7: ='Form 2'!B10+'Form 2'!G10 -> 70 | C7: =IF((SUM('Form 2'!D10:F10)+SUM('Form 2'!I10:K10))-B7=0,"OK","ERROR") -> OK | D7: =IF('Form 2'!B10=0,"",'Form 2'!C10/'Form 2'!B10) -> 51330.441 | E7: =IF('Form 2'!G10=0,"",'Form 2'!H10/'Form 2'!G10) -> 60042.25 | F7: ='Form 2'!C10+'Form 2'!H10 -> 3906756 | H7: ='Form 4'!C9/'Form 4'!B9 -> 59904.923 | I7: ='Form 4'!D9/'Form 4'!B9 -> 56642.308 | J7: =IF('Form 4'!E9<0,"CHECK",IF('Form 4'!E9<0.16,"OK","CHECK")) -> OK
A8: 5. Lecturer | B8: ='Form 2'!B11+'Form 2'!G11 -> 21 | C8: =IF((SUM('Form 2'!D11:F11)+SUM('Form 2'!I11:K11))-B8=0,"OK","ERROR") -> OK | D8: =IF('Form 2'!B11=0,"",'Form 2'!C11/'Form 2'!B11) -> 84528 | E8: =IF('Form 2'!G11=0,"",'Form 2'!H11/'Form 2'!G11) -> 90640.5 | F8: ='Form 2'!C11+'Form 2'!H11 -> 1811763 | H8: ='Form 4'!C10/'Form 4'!B10 -> 94846 | I8: ='Form 4'!D10/'Form 4'!B10 -> 90712 | J8: =IF('Form 4'!E10<0,"CHECK",IF('Form 4'!E10<0.16,"OK","CHECK")) -> OK
A9: 6. No Rank | B9: ='Form 2'!B12+'Form 2'!G12 -> 0 | C9: =IF((SUM('Form 2'!D12:F12)+SUM('Form 2'!I12:K12))-B9=0,"OK","ERROR") -> OK | D9: =IF('Form 2'!B12=0,"",'Form 2'!C12/'Form 2'!B12) | E9: =IF('Form 2'!G12=0,"",'Form 2'!H12/'Form 2'!G12) | F9: ='Form 2'!C12+'Form 2'!H12 -> 0 | H9: ='Form 4'!C11/'Form 4'!B11 -> #DIV/0! | I9: ='Form 4'!D11/'Form 4'!B11 -> #DIV/0! | J9: =IF('Form 4'!E11<0,"CHECK",IF('Form 4'!E11<0.16,"OK","CHECK")) -> OK
A10: 7. TOTAL | B10: ='Form 2'!B13+'Form 2'!G13 -> 1769 | C10: =IF((SUM('Form 2'!D13:F13)+SUM('Form 2'!I13:K13))-B10=0,"OK","ERROR") -> OK | D10: =IF('Form 2'!B13=0,"",'Form 2'!C13/'Form 2'!B13) -> 138841.6 | E10: =IF('Form 2'!G13=0,"",'Form 2'!H13/'Form 2'!G13) -> 119623.48 | F10: ='Form 2'!C13+'Form 2'!H13 -> 230063337 | G10: =IF('Form 3'!C8>B10,"CHECK",IF(AND('Form 3'!B8>0,'Form 3'!C8=0),"CHECK","OK")) -> OK | H10: ='Form 4'!C12/'Form 4'!B12 -> 133304.9 | I10: ='Form 4'!D12/'Form 4'!B12 -> 127341.52 | J10: =IF('Form 4'!E12<0,"CHECK",IF('Form 4'!E12<0.16,"OK","CHECK")) -> OK
A11: 12-Month
A12: 1. Professor | B12: ='Form 2'!B15+'Form 2'!G15 -> 96 | C12: =IF((SUM('Form 2'!D15:F15)+SUM('Form 2'!I15:K15))-B12=0,"OK","ERROR") -> OK | D12: =IF('Form 2'!B15=0,"",'Form 2'!C15/'Form 2'!B15) -> 223281.1 | E12: =IF('Form 2'!G15=0,"",'Form 2'!H15/'Form 2'!G15) -> 201396.35 | F12: ='Form 2'!C15+'Form 2'!H15 -> 20690904 | H12: ='Form 4'!C16/'Form 4'!B16 -> 221737.54 | I12: ='Form 4'!D16/'Form 4'!B16 -> 212070.77 | J12: =IF('Form 4'!E16<0,"CHECK",IF('Form 4'!E16<0.16,"OK","CHECK")) -> OK
A13: 2. Associate | B13: ='Form 2'!B16+'Form 2'!G16 -> 66 | C13: =IF((SUM('Form 2'!D16:F16)+SUM('Form 2'!I16:K16))-B13=0,"OK","ERROR") -> OK | D13: =IF('Form 2'!B16=0,"",'Form 2'!C16/'Form 2'!B16) -> 151088 | E13: =IF('Form 2'!G16=0,"",'Form 2'!H16/'Form 2'!G16) -> 151600.33 | F13: ='Form 2'!C16+'Form 2'!H16 -> 9990252 | H13: ='Form 4'!C17/'Form 4'!B17 -> 160758 | I13: ='Form 4'!D17/'Form 4'!B17 -> 152708.79 | J13: =IF('Form 4'!E17<0,"CHECK",IF('Form 4'!E17<0.16,"OK","CHECK")) -> OK
A14: 3. Assistant | B14: ='Form 2'!B17+'Form 2'!G17 -> 56 | C14: =IF((SUM('Form 2'!D17:F17)+SUM('Form 2'!I17:K17))-B14=0,"OK","ERROR") -> OK | D14: =IF('Form 2'!B17=0,"",'Form 2'!C17/'Form 2'!B17) -> 124711.71 | E14: =IF('Form 2'!G17=0,"",'Form 2'!H17/'Form 2'!G17) -> 130114.86 | F14: ='Form 2'!C17+'Form 2'!H17 -> 7210788 | H14: ='Form 4'!C18/'Form 4'!B18 -> 131650.75 | I14: ='Form 4'!D18/'Form 4'!B18 -> 124039 | J14: =IF('Form 4'!E18<0,"CHECK",IF('Form 4'!E18<0.16,"OK","CHECK")) -> OK
A15: 4. Instructor | B15: ='Form 2'!B18+'Form 2'!G18 -> 1 | C15: =IF((SUM('Form 2'!D18:F18)+SUM('Form 2'!I18:K18))-B15=0,"OK","ERROR") -> OK | D15: =IF('Form 2'!B18=0,"",'Form 2'!C18/'Form 2'!B18) -> 66996 | E15: =IF('Form 2'!G18=0,"",'Form 2'!H18/'Form 2'!G18) | F15: ='Form 2'!C18+'Form 2'!H18 -> 66996 | H15: ='Form 4'!C19/'Form 4'!B19 -> #DIV/0! | I15: ='Form 4'!D19/'Form 4'!B19 -> #DIV/0! | J15: =IF('Form 4'!E19<0,"CHECK",IF('Form 4'!E19<0.16,"OK","CHECK")) -> OK
A16: 5. Lecturer | B16: ='Form 2'!B19+'Form 2'!G19 -> 0 | C16: =IF((SUM('Form 2'!D19:F19)+SUM('Form 2'!I19:K19))-B16=0,"OK","ERROR") -> OK | D16: =IF('Form 2'!B19=0,"",'Form 2'!C19/'Form 2'!B19) | E16: =IF('Form 2'!G19=0,"",'Form 2'!H19/'Form 2'!G19) | F16: ='Form 2'!C19+'Form 2'!H19 -> 0 | H16: ='Form 4'!C20/'Form 4'!B20 -> #DIV/0! | I16: ='Form 4'!D20/'Form 4'!B20 -> #DIV/0! | J16: =IF('Form 4'!E20<0,"CHECK",IF('Form 4'!E20<0.16,"OK","CHECK")) -> OK
A17: 6. No Rank | B17: ='Form 2'!B20+'Form 2'!G20 -> 0 | C17: =IF((SUM('Form 2'!D20:F20)+SUM('Form 2'!I20:K20))-B17=0,"OK","ERROR") -> OK | D17: =IF('Form 2'!B20=0,"",'Form 2'!C20/'Form 2'!B20) | E17: =IF('Form 2'!G20=0,"",'Form 2'!H20/'Form 2'!G20) | F17: ='Form 2'!C20+'Form 2'!H20 -> 0 | H17: ='Form 4'!C21/'Form 4'!B21 -> #DIV/0! | I17: ='Form 4'!D21/'Form 4'!B21 -> #DIV/0! | J17: =IF('Form 4'!E21<0,"CHECK",IF('Form 4'!E21<0.16,"OK","CHECK")) -> OK
A18: 7. TOTAL | B18: ='Form 2'!B21+'Form 2'!G21 -> 219 | C18: =IF((SUM('Form 2'!D21:F21)+SUM('Form 2'!I21:K21))-B18=0,"OK","ERROR") -> OK | D18: =IF('Form 2'!B21=0,"",'Form 2'!C21/'Form 2'!B21) -> 188682.5 | E18: =IF('Form 2'!G21=0,"",'Form 2'!H21/'Form 2'!G21) -> 158659.93 | F18: ='Form 2'!C21+'Form 2'!H21 -> 37958940 | G18: =IF('Form 3'!C12>B18,"CHECK",IF(AND('Form 3'!B12>0,'Form 3'!C12=0),"CHECK","OK")) -> OK | H18: ='Form 4'!C22/'Form 4'!B22 -> 179215.45 | I18: ='Form 4'!D22/'Form 4'!B22 -> 170588.37 | J18: =IF('Form 4'!E22<0,"CHECK",IF('Form 4'!E22<0.16,"OK","CHECK")) -> OK
A19: Combined converted
A20: 1. Professor | B20: ='Form 2'!B23+'Form 2'!G23 -> 847 | C20: =IF((SUM('Form 2'!D23:F23)+SUM('Form 2'!I23:K23))-B20=0,"OK","ERROR") -> OK | D20: =IF('Form 2'!B23=0,"",'Form 2'!C23/'Form 2'!B23) -> 170465.58 | E20: =IF('Form 2'!G23=0,"",'Form 2'!H23/'Form 2'!G23) -> 151154.23 | F20: ='Form 2'!C23+'Form 2'!H23 -> 1.380116e+08 | H20: ='Form 4'!C26/'Form 4'!B26 -> 163591.34 | I20: ='Form 4'!D26/'Form 4'!B26 -> 157200.36 | J20: =IF('Form 4'!E26<0,"CHECK",IF('Form 4'!E26<0.16,"OK","CHECK")) -> OK
A21: 2. Associate | B21: ='Form 2'!B24+'Form 2'!G24 -> 596 | C21: =IF((SUM('Form 2'!D24:F24)+SUM('Form 2'!I24:K24))-B21=0,"OK","ERROR") -> OK | D21: =IF('Form 2'!B24=0,"",'Form 2'!C24/'Form 2'!B24) -> 122619.23 | E21: =IF('Form 2'!G24=0,"",'Form 2'!H24/'Form 2'!G24) -> 112276.5 | F21: ='Form 2'!C24+'Form 2'!H24 -> 70060984 | H21: ='Form 4'!C27/'Form 4'!B27 -> 120772.13 | I21: ='Form 4'!D27/'Form 4'!B27 -> 114900.17 | J21: =IF('Form 4'!E27<0,"CHECK",IF('Form 4'!E27<0.16,"OK","CHECK")) -> OK
A22: 3. Assistant | B22: ='Form 2'!B25+'Form 2'!G25 -> 453 | C22: =IF((SUM('Form 2'!D25:F25)+SUM('Form 2'!I25:K25))-B22=0,"OK","ERROR") -> OK | D22: =IF('Form 2'!B25=0,"",'Form 2'!C25/'Form 2'!B25) -> 108833.23 | E22: =IF('Form 2'!G25=0,"",'Form 2'!H25/'Form 2'!G25) -> 100947.16 | F22: ='Form 2'!C25+'Form 2'!H25 -> 47274734 | H22: ='Form 4'!C28/'Form 4'!B28 -> 108066.6 | I22: ='Form 4'!D28/'Form 4'!B28 -> 101979.18 | J22: =IF('Form 4'!E28<0,"CHECK",IF('Form 4'!E28<0.16,"OK","CHECK")) -> OK
A23: 4. Instructor | B23: ='Form 2'!B26+'Form 2'!G26 -> 71 | C23: =IF((SUM('Form 2'!D26:F26)+SUM('Form 2'!I26:K26))-B23=0,"OK","ERROR") -> OK | D23: =IF('Form 2'!B26=0,"",'Form 2'!C26/'Form 2'!B26) -> 51429.997 | E23: =IF('Form 2'!G26=0,"",'Form 2'!H26/'Form 2'!G26) -> 60042.25 | F23: ='Form 2'!C26+'Form 2'!H26 -> 3961570.9 | H23: ='Form 4'!C29/'Form 4'!B29 -> 59904.923 | I23: ='Form 4'!D29/'Form 4'!B29 -> 56642.308 | J23: =IF('Form 4'!E29<0,"CHECK",IF('Form 4'!E29<0.16,"OK","CHECK")) -> OK
A24: 5. Lecturer | B24: ='Form 2'!B27+'Form 2'!G27 -> 21 | C24: =IF((SUM('Form 2'!D27:F27)+SUM('Form 2'!I27:K27))-B24=0,"OK","ERROR") -> OK | D24: =IF('Form 2'!B27=0,"",'Form 2'!C27/'Form 2'!B27) -> 84528 | E24: =IF('Form 2'!G27=0,"",'Form 2'!H27/'Form 2'!G27) -> 90640.5 | F24: ='Form 2'!C27+'Form 2'!H27 -> 1811763 | H24: ='Form 4'!C30/'Form 4'!B30 -> 94846 | I24: ='Form 4'!D30/'Form 4'!B30 -> 90712 | J24: =IF('Form 4'!E30<0,"CHECK",IF('Form 4'!E30<0.16,"OK","CHECK")) -> OK
A25: 6. No Rank | B25: ='Form 2'!B28+'Form 2'!G28 -> 0 | C25: =IF((SUM('Form 2'!D28:F28)+SUM('Form 2'!I28:K28))-B25=0,"OK","ERROR") -> OK | D25: =IF('Form 2'!B28=0,"",'Form 2'!C28/'Form 2'!B28) | E25: =IF('Form 2'!G28=0,"",'Form 2'!H28/'Form 2'!G28) | F25: ='Form 2'!C28+'Form 2'!H28 -> 0 | H25: ='Form 4'!C31/'Form 4'!B31 -> #DIV/0! | I25: ='Form 4'!D31/'Form 4'!B31 -> #DIV/0! | J25: =IF('Form 4'!E31<0,"CHECK",IF('Form 4'!E31<0.16,"OK","CHECK")) -> OK
A26: 7. TOTAL | B26: ='Form 2'!B29+'Form 2'!G29 -> 1988 | C26: =IF((SUM('Form 2'!D29:F29)+SUM('Form 2'!I29:K29))-B26=0,"OK","ERROR") -> OK | D26: =IF('Form 2'!B29=0,"",'Form 2'!C29/'Form 2'!B29) -> 140399.47 | E26: =IF('Form 2'!G29=0,"",'Form 2'!H29/'Form 2'!G29) -> 120862.56 | F26: ='Form 2'!C29+'Form 2'!H29 -> 2.6112065e+08 | G26: =IF('Form 3'!C16>B26,"CHECK",IF(AND('Form 3'!B16>0,'Form 3'!C16=0),"CHECK","OK")) -> OK | H26: ='Form 4'!C32/'Form 4'!B32 -> 134678.24 | I26: ='Form 4'!D32/'Form 4'!B32 -> 128602 | J26: =IF('Form 4'!E32<0,"CHECK",IF('Form 4'!E32<0.16,"OK","CHECK")) -> OK

Sheet Macros
C9: In order to use this data file, please enable macros. In the “Security Warning” line above, click the Options button, choose “Enable this content” and then click OK.
