Workbook
Name In_Out_Both_No: '[1]Selection Options'!$A$15:$A$18
Name Yes_No: '[1]Selection Options'!$A$4:$A$5

Sheet Change Log
A1: File Version (Web Publish Date) | B1: Tab(s) | C1: Description | D1: Purpose | E1: Did change impact caclulations? | F1: Change incorporated? | G1: Initials & Date Performed
A2: 44256 | B2: Rate File | C2: Add this change log, as first tab (hidden from users) | D2: Maintain configuation control primarily for data | E2: No | F2: Yes | G2: DP - 3/4/21
A3: 44256 | B3: Space | C3: Add back Space tab into overall file | D3: Provide information helpful to SoM | E3: No | F3: Yes | G3: DP - 3/4/21
A4: 44256 | B4: All | C4: Unlock all cells | D4: To ensure overall ability for cell updates | E4: No | F4: Yes | G4: DP - 3/4/21
A5: 44256 | B5: Depreciation | C5: Add more rows for total of 50 | D5: Provide analysts more input capability | E5: Yes? | F5: Yes | G5: DP - 3/4/21
A6: 44256 | B6: Usage | C6: Add cell in column N for total prior year revenue | D6: Provide analysts automatic calculation | E6: Yes? | F6: Yes | G6: DP - 3/4/21
A7: 44276 | B7: Summary Yr 1& 2 | C7: Add comment to subsidy tab “Value for Subsidy Received should match the Add’l Costs tab, In Proposal column”. | D7: Clarify use of the Add'l cost sheet for analysts | E7: No | F7: Yes | G7: DP - 3/4/21
A8: 44256 | B8: Usage | C8: Lock ONLY calculation cells (highlighted purple) with appropriate password for this configuration, as documented on OneDoc | D8: Allow analysts flexibility to use other cells, as needed | E8: No | F8: Yes | G8: DP - 3/4/21
A9: 44256 | B9: Salaries | C9: Lock ONLY calculation cells (highlighted purple) with appropriate password for this configuration, as documented on OneDoc | D9: Allow analysts flexibility to use other cells, as needed | E9: No | F9: Yes | G9: DP - 3/4/21
A10: 44256 | B10: Depreciation | C10: Lock ONLY calculation cells (highlighted purple) with appropriate password for this configuration, as documented on OneDoc | D10: Allow analysts flexibility to use other cells, as needed | E10: No | F10: Yes | G10: DP - 3/4/21
A11: 44256 | B11: Other Costs | C11: Lock ONLY calculation cells (highlighted purple) with appropriate password for this configuration, as documented on OneDoc | D11: Allow analysts flexibility to use other cells, as needed | E11: No | F11: Yes | G11: DP - 3/4/21
A12: 44256 | B12: Summary Year 1 | C12: Lock ONLY calculation cells (highlighted purple) with appropriate password for this configuration, as documented on OneDoc | D12: Allow analysts flexibility to use other cells, as needed | E12: No | F12: Yes | G12: DP - 3/4/21
A13: 44256 | B13: Summary Year 1 | C13: Validate Subsidy Calculation; should be reduction to Internal Rate only. Enabling Internal with Subsidy (subtracted from) and without Subsidy (fully costed) | D13: Ensure calcuation consistent among templates | E13: No | F13: Yes | G13: DP - 3/10/21
... A17: 45911 | B17: Multiple | C17: Added Salary cap worksheet. Deleted not in use tabs | D17: Salary cap compliance and to reduce bloat | E17: No | F17: Yes | G17: RF - 9/11/25
A18: Future | B18: Usage | C18: On Usage tab, add cell for time window & MyFD

Sheet Instructions and Guidance
A1: Instructions & Guidance | K1: Template updated by MAA as of: | L1: 46010
K2: Version: | L2: 4
A3: Color Index
A4: Yellow | B4: Filled in by the Center
A5: Purple | B5: Filled in via Formulas
A6: Green | B6: Tips & Guidance
D10: Instructions
D34: Guidance

Sheet General Information
A1: General Information
A3: Center Information
A4: Center Name:
A5: Cost Center RefID
A6: Center Location(s), (Building #, Room #)
A7: Year 1 Rate Begin Date:
A8: Year 1 Rate End Date:
A9: Institutional Overhead Rate:
A11: Contact Information
A12: Name:
A13: Email
A14: Box#:
... A25: General Questions
A26: Question | B26: Answer
A27: 1) Will the activities/services of your center generate external revenues?
A28: 2) How often will you sell goods/services to external users?
A29: 3) Do the activities/services offered by your center support the primary mission of the University, aside from generating revenue? If yes, please explain how the activity supports the University mission:
A30: =IF(B29="Yes", "Please explain how the activity supports the primary University mission below:", "")
A32: 4) If your center provides services that generate external revenue, have you conducted a marketplace analysis? Please explain.1
A33: 5) Do you have faculty/staff over the current NIH salary cap? | B33: If yes, please use "Salary Cap Worksheet" to determine allowable salary.
A34: 1 Please see RCW 28B.63 or reach out to MAA for more information
A35: Please see MAA website for Marketplace Analysis Template

Sheet Usage
A1: Usage & Description of Rates
A2: Purpose: Provide a short description of the services for each rate and the number of units expected to be sold.
A6: Rate | B6: Name | C6: Short Description | D6: Unit Base* | E6: Prior Year Estimate | F6: Units Sold | L6: Prior Year Expected Revenues | Q6: Year 1 | U6: Year 2
F7: Prior Year Actual Internal | G7: Prior Year Actual External | H7: Proposal Estimate Yr-1 Internal | I7: Proposal Estimate Yr-1 External | J7: Proposal Estimate Yr-2 Internal | K7: Proposal Estimate Yr-2 External | L7: Prior Year Rates ( Internal) | M7: Prior Year Rates ( External) | N7: Prior Year Expected Revenues | P7: Difference between Prior Year Estimate and Actual ( Internal + External) | Q7: Est Chg Pr Yr Actual vs Year 1 Proposal INTERNAL | R7: % Chg INTERNAL | S7: Est Chg Pr Yr Actual vs Year 1 Proposal EXTERNAL | T7: % Chg EXTERNAL | U7: Est Chg Pr Yr Actual vs Year 2 Proposal INTERNAL | V7: % Chg INTERNAL | W7: Est Chg Pr Yr Actual vs Year 2 Proposal EXTERNAL | X7: % Chg EXTERNAL
A8: Center Overhead | B8: Center Overhead
A9: Rate 1 | N9: =(F9*L9)+(G9*M9) -> 0 | P9: =(F9+G9)-E9 -> 0 | Q9: =H9-F9 -> 0 | R9: =IF(H9+F9<>0,((H9-F9)/F9),0) -> 0 | S9: =I9-G9 -> 0 | T9: =IF(I9+G9<>0,((I9-G9)/G9),0) -> 0 | U9: =J9-F9 -> 0 | V9: =IF(J9+F9<>0,((J9-F9)/F9),0) -> 0 | W9: =K9-G9 -> 0 | X9: =IF(K9+G9<>0,((K9-G9)/G9),0) -> 0
A10: Rate 2 | N10: =(F10*L10)+(G10*M10) -> 0 | P10: =(F10+G10)-E10 -> 0 | Q10: =H10-F10 -> 0 | R10: =IF(H10+F10<>0,((H10-F10)/F10),0) -> 0 | S10: =I10-G10 -> 0 | T10: =IF(I10+G10<>0,((I10-G10)/G10),0) -> 0 | U10: =J10-F10 -> 0 | V10: =IF(J10+F10<>0,((J10-F10)/F10),0) -> 0 | W10: =K10-G10 -> 0 | X10: =IF(K10+G10<>0,((K10-G10)/G10),0) -> 0
A11: Rate 3 | N11: =(F11*L11)+(G11*M11) -> 0 | P11: =(F11+G11)-E11 -> 0 | Q11: =H11-F11 -> 0 | R11: =IF(H11+F11<>0,((H11-F11)/F11),0) -> 0 | S11: =I11-G11 -> 0 | T11: =IF(I11+G11<>0,((I11-G11)/G11),0) -> 0 | U11: =J11-F11 -> 0 | V11: =IF(J11+F11<>0,((J11-F11)/F11),0) -> 0 | W11: =K11-G11 -> 0 | X11: =IF(K11+G11<>0,((K11-G11)/G11),0) -> 0
A12: Rate 4 | N12: =(F12*L12)+(G12*M12) -> 0 | P12: =(F12+G12)-E12 -> 0 | Q12: =H12-F12 -> 0 | R12: =IF(H12+F12<>0,((H12-F12)/F12),0) -> 0 | S12: =I12-G12 -> 0 | T12: =IF(I12+G12<>0,((I12-G12)/G12),0) -> 0 | U12: =J12-F12 -> 0 | V12: =IF(J12+F12<>0,((J12-F12)/F12),0) -> 0 | W12: =K12-G12 -> 0 | X12: =IF(K12+G12<>0,((K12-G12)/G12),0) -> 0
A13: Rate 5 | N13: =(F13*L13)+(G13*M13) -> 0 | P13: =(F13+G13)-E13 -> 0 | Q13: =H13-F13 -> 0 | R13: =IF(H13+F13<>0,((H13-F13)/F13),0) -> 0 | S13: =I13-G13 -> 0 | T13: =IF(I13+G13<>0,((I13-G13)/G13),0) -> 0 | U13: =J13-F13 -> 0 | V13: =IF(J13+F13<>0,((J13-F13)/F13),0) -> 0 | W13: =K13-G13 -> 0 | X13: =IF(K13+G13<>0,((K13-G13)/G13),0) -> 0
A14: Rate 6 | N14: =(F14*L14)+(G14*M14) -> 0 | P14: =(F14+G14)-E14 -> 0 | Q14: =H14-F14 -> 0 | R14: =IF(H14+F14<>0,((H14-F14)/F14),0) -> 0 | S14: =I14-G14 -> 0 | T14: =IF(I14+G14<>0,((I14-G14)/G14),0) -> 0 | U14: =J14-F14 -> 0 | V14: =IF(J14+F14<>0,((J14-F14)/F14),0) -> 0 | W14: =K14-G14 -> 0 | X14: =IF(K14+G14<>0,((K14-G14)/G14),0) -> 0
A15: Rate 7 | N15: =(F15*L15)+(G15*M15) -> 0 | P15: =(F15+G15)-E15 -> 0 | Q15: =H15-F15 -> 0 | R15: =IF(H15+F15<>0,((H15-F15)/F15),0) -> 0 | S15: =I15-G15 -> 0 | T15: =IF(I15+G15<>0,((I15-G15)/G15),0) -> 0 | U15: =J15-F15 -> 0 | V15: =IF(J15+F15<>0,((J15-F15)/F15),0) -> 0 | W15: =K15-G15 -> 0 | X15: =IF(K15+G15<>0,((K15-G15)/G15),0) -> 0
A16: Rate 8 | N16: =(F16*L16)+(G16*M16) -> 0 | P16: =(F16+G16)-E16 -> 0 | Q16: =H16-F16 -> 0 | R16: =IF(H16+F16<>0,((H16-F16)/F16),0) -> 0 | S16: =I16-G16 -> 0 | T16: =IF(I16+G16<>0,((I16-G16)/G16),0) -> 0 | U16: =J16-F16 -> 0 | V16: =IF(J16+F16<>0,((J16-F16)/F16),0) -> 0 | W16: =K16-G16 -> 0 | X16: =IF(K16+G16<>0,((K16-G16)/G16),0) -> 0
A17: Rate 9 | N17: =(F17*L17)+(G17*M17) -> 0 | P17: =(F17+G17)-E17 -> 0 | Q17: =H17-F17 -> 0 | R17: =IF(H17+F17<>0,((H17-F17)/F17),0) -> 0 | S17: =I17-G17 -> 0 | T17: =IF(I17+G17<>0,((I17-G17)/G17),0) -> 0 | U17: =J17-F17 -> 0 | V17: =IF(J17+F17<>0,((J17-F17)/F17),0) -> 0 | W17: =K17-G17 -> 0 | X17: =IF(K17+G17<>0,((K17-G17)/G17),0) -> 0
A18: Rate 10 | N18: =(F18*L18)+(G18*M18) -> 0 | P18: =(F18+G18)-E18 -> 0 | Q18: =H18-F18 -> 0 | R18: =IF(H18+F18<>0,((H18-F18)/F18),0) -> 0 | S18: =I18-G18 -> 0 | T18: =IF(I18+G18<>0,((I18-G18)/G18),0) -> 0 | U18: =J18-F18 -> 0 | V18: =IF(J18+F18<>0,((J18-F18)/F18),0) -> 0 | W18: =K18-G18 -> 0 | X18: =IF(K18+G18<>0,((K18-G18)/G18),0) -> 0
A19: Rate 11 | N19: =(F19*L19)+(G19*M19) -> 0 | P19: =(F19+G19)-E19 -> 0 | Q19: =H19-F19 -> 0 | R19: =IF(H19+F19<>0,((H19-F19)/F19),0) -> 0 | S19: =I19-G19 -> 0 | T19: =IF(I19+G19<>0,((I19-G19)/G19),0) -> 0 | U19: =J19-F19 -> 0 | V19: =IF(J19+F19<>0,((J19-F19)/F19),0) -> 0 | W19: =K19-G19 -> 0 | X19: =IF(K19+G19<>0,((K19-G19)/G19),0) -> 0
A20: Rate 12 | N20: =(F20*L20)+(G20*M20) -> 0 | P20: =(F20+G20)-E20 -> 0 | Q20: =H20-F20 -> 0 | R20: =IF(H20+F20<>0,((H20-F20)/F20),0) -> 0 | S20: =I20-G20 -> 0 | T20: =IF(I20+G20<>0,((I20-G20)/G20),0) -> 0 | U20: =J20-F20 -> 0 | V20: =IF(J20+F20<>0,((J20-F20)/F20),0) -> 0 | W20: =K20-G20 -> 0 | X20: =IF(K20+G20<>0,((K20-G20)/G20),0) -> 0
... A33: Rate 25 | N33: =(F33*L33)+(G33*M33) -> 0 | P33: =(F33+G33)-E33 -> 0 | Q33: =H33-F33 -> 0 | R33: =IF(H33+F33<>0,((H33-F33)/F33),0) -> 0 | S33: =I33-G33 -> 0 | T33: =IF(I33+G33<>0,((I33-G33)/G33),0) -> 0 | U33: =J33-F33 -> 0 | V33: =IF(J33+F33<>0,((J33-F33)/F33),0) -> 0 | W33: =K33-G33 -> 0 | X33: =IF(K33+G33<>0,((K33-G33)/G33),0) -> 0
B35: *This is the Unit by which the center bills users. For example, per hour, per sample, etc.. | M35: Total Prior Year's Revenue | N35: =SUM(N9:N33) -> 0
B36: *If your rates require time from staff, please ensure usage is covered by the implied FTE available from the salaries tab. See hours available below
B38: Maximum Billable Hours
B39: Available Hours | D39: 2080 | E39: 40 hours/week * 52 weeks
B40: Less Holidays | D40: 88 | E40: 11 days paid * 8 hours/day
B41: Less Vacation | D41: 80 | E41: Approx # of vacation days/year (in hours)
B42: Less Sick | D42: 40 | E42: Approx # of sick days/year (in hours)
B43: Less Other Down Time | D43: 300 | E43: Approx # of other down time hours (ex. # of meeting or lab management hours per month x 12)
B44: Max Total Billable Hours per FTE | D44: =D39-SUM(D40:D43) -> 1572
C46: FTE from Salaries Tab - Year 1 | D46: =Salaries!H54+SUM(Salaries!H60:H75) -> 0
C47: Hours available for rates - Year 1 | D47: =D46*D44 -> 0
C48: FTE from Salaries Tab - Year 2 | D48: =Salaries!#REF!+SUM(Salaries!#REF!) -> #REF!
C49: Hours available for rates - Year 2 | D49: =D48*D44 -> #REF!
A52: Notes:

Sheet Salaries
A1: Year 1 Salaries & Benefits
A2: Purpose: List personnel paid on the center and allocated S&B to each rate. | E2: Provide the actual benefit percentages for each employee type below
A3: Enter Hourly Employees, Grad Students, Students in separate section below. | E3: Employee Type | F3: Ledger | G3: Fringe Benefit % Yr. 1
A4: 100% of the FTE% on center needs to be allocated to the various rates. | E4: Instruction and Research Faculty | F4: 50000 | G4: 0.226 | DR4: 01-10
E5: Medical Residents | F5: 50010 | G5: 0.285
E6: Residents and Chief Residents | F6: 50020 | G6: 0.285
E7: Graduate Student Appointments | F7: 50030 | G7: 0.182
E8: Post-Doctoral Trainees | F8: 50040 | G8: 0.163
E9: Classified Staff | F9: 50050 | G9: 0.381
E10: Professional Staff | F10: 50060 | G10: 0.3
E11: Professional Staff - Other Contract Staff | F11: 50090 | G11: 0.3
E12: Hourly, Visiting Scientists, and Overtime | F12: 50100 | G12: 0.212
A13: Necessary benefit percentages and growth factors are taken from the table to the right. | E13: Pre-Doctoral Fellows and Trainees | F13: 50110 | G13: 0.252 | DR13: 01-60
A16: =IF('General Information'!B7=0, "Please Enter Start Date On General Information Sheet", "Year 1: "&TEXT('General Information'!B7,"mm/dd/yy")&" to "&TEXT('General Information'!B8-365, "mm/dd/yy")) -> Please Enter Start Date On General Information Sheet
A17: NAME | B17: EMPLOYEE ID NUMBER | C17: Ledger | D17: TITLE | E17: MONTHLY SALARY | F17: BASE SALARY (AT 100% FTE) | G17: BEN % | H17: FTE ON CENTER | I17: TOTAL SALARY | J17: TOTAL BENEFITS | K17: TOTAL SAL & BEN ON CTR | L17: Center Overhead Yr. 1 | P17: Rate 1 Yr. 1 | T17: Rate 2 Yr. 1 | X17: Rate 3 Yr. 1 | AB17: Rate 4 Yr. 1 | AF17: Rate 5 Yr. 1 | AJ17: Rate 6 Yr. 1 | AN17: Rate 7 Yr. 1 | AR17: Rate 8 Yr. 1 | AV17: Rate 9 Yr. 1 | AZ17: Rate 10 Yr. 1 | BD17: Rate 11 Yr. 1 | BH17: Rate 12 Yr. 1 | BL17: Rate 13 Yr. 1 | BP17: Rate 14 Yr. 1 | BT17: Rate 15 Yr. 1 | BX17: Rate 16 Yr. 1 | CB17: Rate 17 Yr. 1 | CF17: Rate 18 Yr. 1 | CJ17: Rate 19 Yr. 1 | CN17: Rate 20 Yr. 1 | CR17: Rate 21 Yr. 1 | CV17: Rate 22 Yr. 1 | CZ17: Rate 23 Yr. 1 | DD17: Rate 24 Yr. 1 | DH17: Rate 25 Yr. 1 | DM17: Percent Check | DN17: Dollar Check | DO17: Difference between allocated dollar and total dollar
L18: =IF(Usage!$B$8=0, "", Usage!$B$8) -> Center Overhead | P18: =IF(Usage!$B$9=0, "", Usage!$B$9) | T18: =IF(Usage!$B$10=0, "", Usage!$B$10) | X18: =IF(Usage!$B$11=0, "", Usage!$B$11) | AB18: =IF(Usage!$B$12=0, "", Usage!$B$12) | AF18: =IF(Usage!$B$13=0, "", Usage!$B$13) | AJ18: =IF(Usage!$B$14=0, "", Usage!$B$14) | AN18: =IF(Usage!$B$15=0, "", Usage!$B$15) | AR18: =IF(Usage!$B$16=0, "", Usage!$B$16) | AV18: =IF(Usage!$B$17=0, "", Usage!$B$17) | AZ18: =IF(Usage!$B$18=0, "", Usage!$B$18) | BD18: =IF(Usage!$B$19=0, "", Usage!$B$19) | BH18: =IF(Usage!$B$20=0, "", Usage!$B$20) | BL18: =IF(Usage!$B$21=0, "", Usage!$B$21) | BP18: =IF(Usage!$B$22=0, "", Usage!$B$22) | BT18: =IF(Usage!$B$23=0, "", Usage!$B$23) | BX18: =IF(Usage!$B$24=0, "", Usage!$B$24) | CB18: =IF(Usage!$B$25=0, "", Usage!$B$25) | CF18: =IF(Usage!$B$26=0, "", Usage!$B$26) | CJ18: =IF(Usage!$B$27=0, "", Usage!$B$27) | CN18: =IF(Usage!$B$28=0, "", Usage!$B$28) | CR18: =IF(Usage!$B$29=0, "", Usage!$B$29) | CV18: =IF(Usage!$B$30=0, "", Usage!$B$30) | CZ18: =IF(Usage!$B$31=0, "", Usage!$B$31) | DD18: =IF(Usage!$B$32=0, "", Usage!$B$32) | DH18: =IF(Usage!$B$33=0, "", Usage!$B$33) | DM18: (should add up to 100%)
A19: Salaries of All Faculty and Staff | L19: FTE % | M19: Amount | N19: Sal | O19: Ben | P19: FTE % | Q19: Amount | R19: Sal | S19: Ben | T19: FTE % | U19: Amount | V19: Sal | W19: Ben | X19: FTE % | Y19: Amount | Z19: Sal | AA19: Ben | AB19: FTE % | AC19: Amount | AD19: Sal | AE19: Ben | AF19: FTE % | AG19: Amount | AH19: Sal | AI19: Ben | AJ19: FTE % | AK19: Amount | AL19: Sal | AM19: Ben | AN19: FTE % | AO19: Amount | AP19: Sal | AQ19: Ben | AR19: FTE % | AS19: Amount | AT19: Sal | AU19: Ben | AV19: FTE % | AW19: Amount | AX19: Sal | AY19: Ben | AZ19: FTE % | BA19: Amount | BB19: Sal | BC19: Ben | BD19: FTE % | BE19: Amount | BF19: Sal | BG19: Ben | BH19: FTE % | BI19: Amount | BJ19: Sal | BK19: Ben | BL19: FTE % | BM19: Amount | BN19: Sal | BO19: Ben | BP19: FTE % | BQ19: Amount | BR19: Sal | BS19: Ben | BT19: FTE % | BU19: Amount | BV19: Sal | BW19: Ben | BX19: FTE % | BY19: Amount | BZ19: Sal | CA19: Ben | CB19: FTE % | CC19: Amount | CD19: Sal | CE19: Ben | CF19: FTE % | CG19: Amount | CH19: Sal | CI19: Ben | CJ19: FTE % | CK19: Amount | CL19: Sal | CM19: Ben | CN19: FTE % | CO19: Amount | CP19: Sal | CQ19: Ben | CR19: FTE % | CS19: Amount | CT19: Sal | CU19: Ben | CV19: FTE % | CW19: Amount | CX19: Sal | CY19: Ben | CZ19: FTE % | DA19: Amount | DB19: Sal | DC19: Ben | DD19: FTE % | DE19: Amount | DF19: Sal | DG19: Ben | DH19: FTE % | DI19: Amount | DJ19: Sal | DK19: Ben
F20: =E20*12 -> 0 | G20: =IF(C20="",0,IF(C20="50000",$G$4,IF(C20="50010",$G$5,IF(C20="50020",$G$6,IF(C20="50030",$G$7,IF(C20="50040",$G$8,IF(C20="50050",$G$9,IF(C20="50060",$G$10,IF(C20="50090",$G$11,IF(C20="50100",$G$12,IF(C20="50110",$G$13))))))))))) -> 0 | H20: 0 | I20: =F20*H20 -> 0 | J20: =F20*G20*H20 -> 0 | K20: =F20*(1+G20)*H20 -> 0 | L20: 0 | M20: =$K20*L20 -> 0 | N20: =$I20*L20 -> 0 | O20: =$J20*L20 -> 0 | P20: 0 | Q20: =$K20*P20 -> 0 | R20: =$I20*P20 -> 0 | S20: =$J20*P20 -> 0 | T20: 0 | U20: =$K20*T20 -> 0 | V20: =$I20*T20 -> 0 | W20: =$J20*T20 -> 0 | X20: 0 | Y20: =$K20*X20 -> 0 | Z20: =$I20*X20 -> 0 | AA20: =$J20*X20 -> 0 | AB20: 0 | AC20: =$K20*AB20 -> 0 | AD20: =$I20*AB20 -> 0 | AE20: =$J20*AB20 -> 0 | AF20: 0 | AG20: =$K20*AF20 -> 0 | AH20: =$I20*AF20 -> 0 | AI20: =$J20*AF20 -> 0 | AJ20: 0 | AK20: =$K20*AJ20 -> 0 | AL20: =$I20*AJ20 -> 0 | AM20: =$J20*AJ20 -> 0 | AN20: 0 | AO20: =$K20*AN20 -> 0 | AP20: =$I20*AN20 -> 0 | AQ20: =$J20*AN20 -> 0 | AR20: 0 | AS20: =$K20*AR20 -> 0 | AT20: =$I20*AR20 -> 0 | AU20: =$J20*AR20 -> 0 | AV20: 0 | AW20: =$K20*AV20 -> 0 | AX20: =$I20*AV20 -> 0 | AY20: =$J20*AV20 -> 0 | AZ20: 0 | BA20: =$K20*AZ20 -> 0 | BB20: =$I20*AZ20 -> 0 | BC20: =$J20*AZ20 -> 0 | BD20: 0 | BE20: =$K20*BD20 -> 0 | BF20: =$I20*BD20 -> 0 | BG20: =$J20*BD20 -> 0 | BH20: 0 | BI20: =$K20*BH20 -> 0 | BJ20: =$I20*BH20 -> 0 | BK20: =$J20*BH20 -> 0 | BL20: 0 | BM20: =$K20*BL20 -> 0 | BN20: =$I20*BL20 -> 0 | BO20: =$J20*BL20 -> 0 | BP20: 0 | BQ20: =$K20*BP20 -> 0 | BR20: =$I20*BP20 -> 0 | BS20: =$J20*BP20 -> 0 | BT20: 0 | BU20: =$K20*BT20 -> 0 | BV20: =$I20*BT20 -> 0 | BW20: =$J20*BT20 -> 0 | BX20: 0 | BY20: =$K20*BX20 -> 0 | BZ20: =$I20*BX20 -> 0 | CA20: =$J20*BX20 -> 0 | CB20: 0 | CC20: =$K20*CB20 -> 0 | CD20: =$I20*CB20 -> 0 | CE20: =$J20*CB20 -> 0 | CF20: 0 | CG20: =$K20*CF20 -> 0 | CH20: =$I20*CF20 -> 0 | CI20: =$J20*CF20 -> 0 | CJ20: 0 | CK20: =$K20*CJ20 -> 0 | CL20: =$I20*CJ20 -> 0 | CM20: =$J20*CJ20 -> 0 | CN20: 0 | CO20: =$K20*CN20 -> 0 | CP20: =$I20*CN20 -> 0 | CQ20: =$J20*CN20 -> 0 | CR20: 0 | CS20: =$K20*CR20 -> 0 | CT20: =$I20*CR20 -> 0 | CU20: =$J20*CR20 -> 0 | CV20: 0 | CW20: =$K20*CV20 -> 0 | CX20: =$I20*CV20 -> 0 | CY20: =$J20*CV20 -> 0 | CZ20: 0 | DA20: =$K20*CZ20 -> 0 | DB20: =$I20*CZ20 -> 0 | DC20: =$J20*CZ20 -> 0 | DD20: 0 | DE20: =$K20*DD20 -> 0 | DF20: =$I20*DD20 -> 0 | DG20: =$J20*DD20 -> 0 | DH20: 0 | DI20: =$K20*DH20 -> 0 | DJ20: =$I20*DH20 -> 0 | DK20: =$J20*DH20 -> 0 | DM20: =L20+P20+T20+X20+AB20+AF20+AJ20+AN20+AR20+AV20+AZ20+BD20+BH20+BL20+BP20+BT20+BX20+CB20+CF20+CJ20+CN20+CR20+CV20+CZ20+DD20+DH20 -> 0 | DN20: =M20+Q20+U20+Y20+AC20+AG20+AK20+AO20+AS20+AW20+BA20+BE20+BI20+BM20+BQ20+BU20+BY20+CC20+CG20+CK20+CO20+CS20+CW20+DA20+DE20+DI20 -> 0 | DO20: =DN20-K20 -> 0
F21: =E21*12 -> 0 | G21: =IF(C21="",0,IF(C21="50000",$G$4,IF(C21="50010",$G$5,IF(C21="50020",$G$6,IF(C21="50030",$G$7,IF(C21="50040",$G$8,IF(C21="50050",$G$9,IF(C21="50060",$G$10,IF(C21="50090",$G$11,IF(C21="50100",$G$12,IF(C21="50110",$G$13))))))))))) -> 0 | H21: 0 | I21: =F21*H21 -> 0 | J21: =F21*G21*H21 -> 0 | K21: =F21*(1+G21)*H21 -> 0 | L21: 0 | M21: =$K21*L21 -> 0 | N21: =$I21*L21 -> 0 | O21: =$J21*L21 -> 0 | P21: 0 | Q21: =$K21*P21 -> 0 | R21: =$I21*P21 -> 0 | S21: =$J21*P21 -> 0 | T21: 0 | U21: =$K21*T21 -> 0 | V21: =$I21*T21 -> 0 | W21: =$J21*T21 -> 0 | X21: 0 | Y21: =$K21*X21 -> 0 | Z21: =$I21*X21 -> 0 | AA21: =$J21*X21 -> 0 | AB21: 0 | AC21: =$K21*AB21 -> 0 | AD21: =$I21*AB21 -> 0 | AE21: =$J21*AB21 -> 0 | AF21: 0 | AG21: =$K21*AF21 -> 0 | AH21: =$I21*AF21 -> 0 | AI21: =$J21*AF21 -> 0 | AJ21: 0 | AK21: =$K21*AJ21 -> 0 | AL21: =$I21*AJ21 -> 0 | AM21: =$J21*AJ21 -> 0 | AN21: 0 | AO21: =$K21*AN21 -> 0 | AP21: =$I21*AN21 -> 0 | AQ21: =$J21*AN21 -> 0 | AR21: 0 | AS21: =$K21*AR21 -> 0 | AT21: =$I21*AR21 -> 0 | AU21: =$J21*AR21 -> 0 | AV21: 0 | AW21: =$K21*AV21 -> 0 | AX21: =$I21*AV21 -> 0 | AY21: =$J21*AV21 -> 0 | AZ21: 0 | BA21: =$K21*AZ21 -> 0 | BB21: =$I21*AZ21 -> 0 | BC21: =$J21*AZ21 -> 0 | BD21: 0 | BE21: =$K21*BD21 -> 0 | BF21: =$I21*BD21 -> 0 | BG21: =$J21*BD21 -> 0 | BH21: 0 | BI21: =$K21*BH21 -> 0 | BJ21: =$I21*BH21 -> 0 | BK21: =$J21*BH21 -> 0 | BL21: 0 | BM21: =$K21*BL21 -> 0 | BN21: =$I21*BL21 -> 0 | BO21: =$J21*BL21 -> 0 | BP21: 0 | BQ21: =$K21*BP21 -> 0 | BR21: =$I21*BP21 -> 0 | BS21: =$J21*BP21 -> 0 | BT21: 0 | BU21: =$K21*BT21 -> 0 | BV21: =$I21*BT21 -> 0 | BW21: =$J21*BT21 -> 0 | BX21: 0 | BY21: =$K21*BX21 -> 0 | BZ21: =$I21*BX21 -> 0 | CA21: =$J21*BX21 -> 0 | CB21: 0 | CC21: =$K21*CB21 -> 0 | CD21: =$I21*CB21 -> 0 | CE21: =$J21*CB21 -> 0 | CF21: 0 | CG21: =$K21*CF21 -> 0 | CH21: =$I21*CF21 -> 0 | CI21: =$J21*CF21 -> 0 | CJ21: 0 | CK21: =$K21*CJ21 -> 0 | CL21: =$I21*CJ21 -> 0 | CM21: =$J21*CJ21 -> 0 | CN21: 0 | CO21: =$K21*CN21 -> 0 | CP21: =$I21*CN21 -> 0 | CQ21: =$J21*CN21 -> 0 | CR21: 0 | CS21: =$K21*CR21 -> 0 | CT21: =$I21*CR21 -> 0 | CU21: =$J21*CR21 -> 0 | CV21: 0 | CW21: =$K21*CV21 -> 0 | CX21: =$I21*CV21 -> 0 | CY21: =$J21*CV21 -> 0 | CZ21: 0 | DA21: =$K21*CZ21 -> 0 | DB21: =$I21*CZ21 -> 0 | DC21: =$J21*CZ21 -> 0 | DD21: 0 | DE21: =$K21*DD21 -> 0 | DF21: =$I21*DD21 -> 0 | DG21: =$J21*DD21 -> 0 | DH21: 0 | DI21: =$K21*DH21 -> 0 | DJ21: =$I21*DH21 -> 0 | DK21: =$J21*DH21 -> 0 | DM21: =L21+P21+T21+X21+AB21+AF21+AJ21+AN21+AR21+AV21+AZ21+BD21+BH21+BL21+BP21+BT21+BX21+CB21+CF21+CJ21+CN21+CR21+CV21+CZ21+DD21+DH21 -> 0 | DN21: =M21+Q21+U21+Y21+AC21+AG21+AK21+AO21+AS21+AW21+BA21+BE21+BI21+BM21+BQ21+BU21+BY21+CC21+CG21+CK21+CO21+CS21+CW21+DA21+DE21+DI21 -> 0 | DO21: =DN21-K21 -> 0
F22: =E22*12 -> 0 | G22: =IF(C22="",0,IF(C22="50000",$G$4,IF(C22="50010",$G$5,IF(C22="50020",$G$6,IF(C22="50030",$G$7,IF(C22="50040",$G$8,IF(C22="50050",$G$9,IF(C22="50060",$G$10,IF(C22="50090",$G$11,IF(C22="50100",$G$12,IF(C22="50110",$G$13))))))))))) -> 0 | H22: 0 | I22: =F22*H22 -> 0 | J22: =F22*G22*H22 -> 0 | K22: =F22*(1+G22)*H22 -> 0 | L22: 0 | M22: =$K22*L22 -> 0 | N22: =$I22*L22 -> 0 | O22: =$J22*L22 -> 0 | P22: 0 | Q22: =$K22*P22 -> 0 | R22: =$I22*P22 -> 0 | S22: =$J22*P22 -> 0 | T22: 0 | U22: =$K22*T22 -> 0 | V22: =$I22*T22 -> 0 | W22: =$J22*T22 -> 0 | X22: 0 | Y22: =$K22*X22 -> 0 | Z22: =$I22*X22 -> 0 | AA22: =$J22*X22 -> 0 | AB22: 0 | AC22: =$K22*AB22 -> 0 | AD22: =$I22*AB22 -> 0 | AE22: =$J22*AB22 -> 0 | AF22: 0 | AG22: =$K22*AF22 -> 0 | AH22: =$I22*AF22 -> 0 | AI22: =$J22*AF22 -> 0 | AJ22: 0 | AK22: =$K22*AJ22 -> 0 | AL22: =$I22*AJ22 -> 0 | AM22: =$J22*AJ22 -> 0 | AN22: 0 | AO22: =$K22*AN22 -> 0 | AP22: =$I22*AN22 -> 0 | AQ22: =$J22*AN22 -> 0 | AR22: 0 | AS22: =$K22*AR22 -> 0 | AT22: =$I22*AR22 -> 0 | AU22: =$J22*AR22 -> 0 | AV22: 0 | AW22: =$K22*AV22 -> 0 | AX22: =$I22*AV22 -> 0 | AY22: =$J22*AV22 -> 0 | AZ22: 0 | BA22: =$K22*AZ22 -> 0 | BB22: =$I22*AZ22 -> 0 | BC22: =$J22*AZ22 -> 0 | BD22: 0 | BE22: =$K22*BD22 -> 0 | BF22: =$I22*BD22 -> 0 | BG22: =$J22*BD22 -> 0 | BH22: 0 | BI22: =$K22*BH22 -> 0 | BJ22: =$I22*BH22 -> 0 | BK22: =$J22*BH22 -> 0 | BL22: 0 | BM22: =$K22*BL22 -> 0 | BN22: =$I22*BL22 -> 0 | BO22: =$J22*BL22 -> 0 | BP22: 0 | BQ22: =$K22*BP22 -> 0 | BR22: =$I22*BP22 -> 0 | BS22: =$J22*BP22 -> 0 | BT22: 0 | BU22: =$K22*BT22 -> 0 | BV22: =$I22*BT22 -> 0 | BW22: =$J22*BT22 -> 0 | BX22: 0 | BY22: =$K22*BX22 -> 0 | BZ22: =$I22*BX22 -> 0 | CA22: =$J22*BX22 -> 0 | CB22: 0 | CC22: =$K22*CB22 -> 0 | CD22: =$I22*CB22 -> 0 | CE22: =$J22*CB22 -> 0 | CF22: 0 | CG22: =$K22*CF22 -> 0 | CH22: =$I22*CF22 -> 0 | CI22: =$J22*CF22 -> 0 | CJ22: 0 | CK22: =$K22*CJ22 -> 0 | CL22: =$I22*CJ22 -> 0 | CM22: =$J22*CJ22 -> 0 | CN22: 0 | CO22: =$K22*CN22 -> 0 | CP22: =$I22*CN22 -> 0 | CQ22: =$J22*CN22 -> 0 | CR22: 0 | CS22: =$K22*CR22 -> 0 | CT22: =$I22*CR22 -> 0 | CU22: =$J22*CR22 -> 0 | CV22: 0 | CW22: =$K22*CV22 -> 0 | CX22: =$I22*CV22 -> 0 | CY22: =$J22*CV22 -> 0 | CZ22: 0 | DA22: =$K22*CZ22 -> 0 | DB22: =$I22*CZ22 -> 0 | DC22: =$J22*CZ22 -> 0 | DD22: 0 | DE22: =$K22*DD22 -> 0 | DF22: =$I22*DD22 -> 0 | DG22: =$J22*DD22 -> 0 | DH22: 0 | DI22: =$K22*DH22 -> 0 | DJ22: =$I22*DH22 -> 0 | DK22: =$J22*DH22 -> 0 | DM22: =L22+P22+T22+X22+AB22+AF22+AJ22+AN22+AR22+AV22+AZ22+BD22+BH22+BL22+BP22+BT22+BX22+CB22+CF22+CJ22+CN22+CR22+CV22+CZ22+DD22+DH22 -> 0 | DN22: =M22+Q22+U22+Y22+AC22+AG22+AK22+AO22+AS22+AW22+BA22+BE22+BI22+BM22+BQ22+BU22+BY22+CC22+CG22+CK22+CO22+CS22+CW22+DA22+DE22+DI22 -> 0 | DO22: =DN22-K22 -> 0
F23: =E23*12 -> 0 | G23: =IF(C23="",0,IF(C23="50000",$G$4,IF(C23="50010",$G$5,IF(C23="50020",$G$6,IF(C23="50030",$G$7,IF(C23="50040",$G$8,IF(C23="50050",$G$9,IF(C23="50060",$G$10,IF(C23="50090",$G$11,IF(C23="50100",$G$12,IF(C23="50110",$G$13))))))))))) -> 0 | H23: 0 | I23: =F23*H23 -> 0 | J23: =F23*G23*H23 -> 0 | K23: =F23*(1+G23)*H23 -> 0 | L23: 0 | M23: =$K23*L23 -> 0 | N23: =$I23*L23 -> 0 | O23: =$J23*L23 -> 0 | P23: 0 | Q23: =$K23*P23 -> 0 | R23: =$I23*P23 -> 0 | S23: =$J23*P23 -> 0 | T23: 0 | U23: =$K23*T23 -> 0 | V23: =$I23*T23 -> 0 | W23: =$J23*T23 -> 0 | X23: 0 | Y23: =$K23*X23 -> 0 | Z23: =$I23*X23 -> 0 | AA23: =$J23*X23 -> 0 | AB23: 0 | AC23: =$K23*AB23 -> 0 | AD23: =$I23*AB23 -> 0 | AE23: =$J23*AB23 -> 0 | AF23: 0 | AG23: =$K23*AF23 -> 0 | AH23: =$I23*AF23 -> 0 | AI23: =$J23*AF23 -> 0 | AJ23: 0 | AK23: =$K23*AJ23 -> 0 | AL23: =$I23*AJ23 -> 0 | AM23: =$J23*AJ23 -> 0 | AN23: 0 | AO23: =$K23*AN23 -> 0 | AP23: =$I23*AN23 -> 0 | AQ23: =$J23*AN23 -> 0 | AR23: 0 | AS23: =$K23*AR23 -> 0 | AT23: =$I23*AR23 -> 0 | AU23: =$J23*AR23 -> 0 | AV23: 0 | AW23: =$K23*AV23 -> 0 | AX23: =$I23*AV23 -> 0 | AY23: =$J23*AV23 -> 0 | AZ23: 0 | BA23: =$K23*AZ23 -> 0 | BB23: =$I23*AZ23 -> 0 | BC23: =$J23*AZ23 -> 0 | BD23: 0 | BE23: =$K23*BD23 -> 0 | BF23: =$I23*BD23 -> 0 | BG23: =$J23*BD23 -> 0 | BH23: 0 | BI23: =$K23*BH23 -> 0 | BJ23: =$I23*BH23 -> 0 | BK23: =$J23*BH23 -> 0 | BL23: 0 | BM23: =$K23*BL23 -> 0 | BN23: =$I23*BL23 -> 0 | BO23: =$J23*BL23 -> 0 | BP23: 0 | BQ23: =$K23*BP23 -> 0 | BR23: =$I23*BP23 -> 0 | BS23: =$J23*BP23 -> 0 | BT23: 0 | BU23: =$K23*BT23 -> 0 | BV23: =$I23*BT23 -> 0 | BW23: =$J23*BT23 -> 0 | BX23: 0 | BY23: =$K23*BX23 -> 0 | BZ23: =$I23*BX23 -> 0 | CA23: =$J23*BX23 -> 0 | CB23: 0 | CC23: =$K23*CB23 -> 0 | CD23: =$I23*CB23 -> 0 | CE23: =$J23*CB23 -> 0 | CF23: 0 | CG23: =$K23*CF23 -> 0 | CH23: =$I23*CF23 -> 0 | CI23: =$J23*CF23 -> 0 | CJ23: 0 | CK23: =$K23*CJ23 -> 0 | CL23: =$I23*CJ23 -> 0 | CM23: =$J23*CJ23 -> 0 | CN23: 0 | CO23: =$K23*CN23 -> 0 | CP23: =$I23*CN23 -> 0 | CQ23: =$J23*CN23 -> 0 | CR23: 0 | CS23: =$K23*CR23 -> 0 | CT23: =$I23*CR23 -> 0 | CU23: =$J23*CR23 -> 0 | CV23: 0 | CW23: =$K23*CV23 -> 0 | CX23: =$I23*CV23 -> 0 | CY23: =$J23*CV23 -> 0 | CZ23: 0 | DA23: =$K23*CZ23 -> 0 | DB23: =$I23*CZ23 -> 0 | DC23: =$J23*CZ23 -> 0 | DD23: 0 | DE23: =$K23*DD23 -> 0 | DF23: =$I23*DD23 -> 0 | DG23: =$J23*DD23 -> 0 | DH23: 0 | DI23: =$K23*DH23 -> 0 | DJ23: =$I23*DH23 -> 0 | DK23: =$J23*DH23 -> 0 | DM23: =L23+P23+T23+X23+AB23+AF23+AJ23+AN23+AR23+AV23+AZ23+BD23+BH23+BL23+BP23+BT23+BX23+CB23+CF23+CJ23+CN23+CR23+CV23+CZ23+DD23+DH23 -> 0 | DN23: =M23+Q23+U23+Y23+AC23+AG23+AK23+AO23+AS23+AW23+BA23+BE23+BI23+BM23+BQ23+BU23+BY23+CC23+CG23+CK23+CO23+CS23+CW23+DA23+DE23+DI23 -> 0 | DO23: =DN23-K23 -> 0
F24: =E24*12 -> 0 | G24: =IF(C24="",0,IF(C24="50000",$G$4,IF(C24="50010",$G$5,IF(C24="50020",$G$6,IF(C24="50030",$G$7,IF(C24="50040",$G$8,IF(C24="50050",$G$9,IF(C24="50060",$G$10,IF(C24="50090",$G$11,IF(C24="50100",$G$12,IF(C24="50110",$G$13))))))))))) -> 0 | H24: 0 | I24: =F24*H24 -> 0 | J24: =F24*G24*H24 -> 0 | K24: =F24*(1+G24)*H24 -> 0 | L24: 0 | M24: =$K24*L24 -> 0 | N24: =$I24*L24 -> 0 | O24: =$J24*L24 -> 0 | P24: 0 | Q24: =$K24*P24 -> 0 | R24: =$I24*P24 -> 0 | S24: =$J24*P24 -> 0 | T24: 0 | U24: =$K24*T24 -> 0 | V24: =$I24*T24 -> 0 | W24: =$J24*T24 -> 0 | X24: 0 | Y24: =$K24*X24 -> 0 | Z24: =$I24*X24 -> 0 | AA24: =$J24*X24 -> 0 | AB24: 0 | AC24: =$K24*AB24 -> 0 | AD24: =$I24*AB24 -> 0 | AE24: =$J24*AB24 -> 0 | AF24: 0 | AG24: =$K24*AF24 -> 0 | AH24: =$I24*AF24 -> 0 | AI24: =$J24*AF24 -> 0 | AJ24: 0 | AK24: =$K24*AJ24 -> 0 | AL24: =$I24*AJ24 -> 0 | AM24: =$J24*AJ24 -> 0 | AN24: 0 | AO24: =$K24*AN24 -> 0 | AP24: =$I24*AN24 -> 0 | AQ24: =$J24*AN24 -> 0 | AR24: 0 | AS24: =$K24*AR24 -> 0 | AT24: =$I24*AR24 -> 0 | AU24: =$J24*AR24 -> 0 | AV24: 0 | AW24: =$K24*AV24 -> 0 | AX24: =$I24*AV24 -> 0 | AY24: =$J24*AV24 -> 0 | AZ24: 0 | BA24: =$K24*AZ24 -> 0 | BB24: =$I24*AZ24 -> 0 | BC24: =$J24*AZ24 -> 0 | BD24: 0 | BE24: =$K24*BD24 -> 0 | BF24: =$I24*BD24 -> 0 | BG24: =$J24*BD24 -> 0 | BH24: 0 | BI24: =$K24*BH24 -> 0 | BJ24: =$I24*BH24 -> 0 | BK24: =$J24*BH24 -> 0 | BL24: 0 | BM24: =$K24*BL24 -> 0 | BN24: =$I24*BL24 -> 0 | BO24: =$J24*BL24 -> 0 | BP24: 0 | BQ24: =$K24*BP24 -> 0 | BR24: =$I24*BP24 -> 0 | BS24: =$J24*BP24 -> 0 | BT24: 0 | BU24: =$K24*BT24 -> 0 | BV24: =$I24*BT24 -> 0 | BW24: =$J24*BT24 -> 0 | BX24: 0 | BY24: =$K24*BX24 -> 0 | BZ24: =$I24*BX24 -> 0 | CA24: =$J24*BX24 -> 0 | CB24: 0 | CC24: =$K24*CB24 -> 0 | CD24: =$I24*CB24 -> 0 | CE24: =$J24*CB24 -> 0 | CF24: 0 | CG24: =$K24*CF24 -> 0 | CH24: =$I24*CF24 -> 0 | CI24: =$J24*CF24 -> 0 | CJ24: 0 | CK24: =$K24*CJ24 -> 0 | CL24: =$I24*CJ24 -> 0 | CM24: =$J24*CJ24 -> 0 | CN24: 0 | CO24: =$K24*CN24 -> 0 | CP24: =$I24*CN24 -> 0 | CQ24: =$J24*CN24 -> 0 | CR24: 0 | CS24: =$K24*CR24 -> 0 | CT24: =$I24*CR24 -> 0 | CU24: =$J24*CR24 -> 0 | CV24: 0 | CW24: =$K24*CV24 -> 0 | CX24: =$I24*CV24 -> 0 | CY24: =$J24*CV24 -> 0 | CZ24: 0 | DA24: =$K24*CZ24 -> 0 | DB24: =$I24*CZ24 -> 0 | DC24: =$J24*CZ24 -> 0 | DD24: 0 | DE24: =$K24*DD24 -> 0 | DF24: =$I24*DD24 -> 0 | DG24: =$J24*DD24 -> 0 | DH24: 0 | DI24: =$K24*DH24 -> 0 | DJ24: =$I24*DH24 -> 0 | DK24: =$J24*DH24 -> 0 | DM24: =L24+P24+T24+X24+AB24+AF24+AJ24+AN24+AR24+AV24+AZ24+BD24+BH24+BL24+BP24+BT24+BX24+CB24+CF24+CJ24+CN24+CR24+CV24+CZ24+DD24+DH24 -> 0 | DN24: =M24+Q24+U24+Y24+AC24+AG24+AK24+AO24+AS24+AW24+BA24+BE24+BI24+BM24+BQ24+BU24+BY24+CC24+CG24+CK24+CO24+CS24+CW24+DA24+DE24+DI24 -> 0 | DO24: =DN24-K24 -> 0
F25: =E25*12 -> 0 | G25: =IF(C25="",0,IF(C25="50000",$G$4,IF(C25="50010",$G$5,IF(C25="50020",$G$6,IF(C25="50030",$G$7,IF(C25="50040",$G$8,IF(C25="50050",$G$9,IF(C25="50060",$G$10,IF(C25="50090",$G$11,IF(C25="50100",$G$12,IF(C25="50110",$G$13))))))))))) -> 0 | H25: 0 | I25: =F25*H25 -> 0 | J25: =F25*G25*H25 -> 0 | K25: =F25*(1+G25)*H25 -> 0 | L25: 0 | M25: =$K25*L25 -> 0 | N25: =$I25*L25 -> 0 | O25: =$J25*L25 -> 0 | P25: 0 | Q25: =$K25*P25 -> 0 | R25: =$I25*P25 -> 0 | S25: =$J25*P25 -> 0 | T25: 0 | U25: =$K25*T25 -> 0 | V25: =$I25*T25 -> 0 | W25: =$J25*T25 -> 0 | X25: 0 | Y25: =$K25*X25 -> 0 | Z25: =$I25*X25 -> 0 | AA25: =$J25*X25 -> 0 | AB25: 0 | AC25: =$K25*AB25 -> 0 | AD25: =$I25*AB25 -> 0 | AE25: =$J25*AB25 -> 0 | AF25: 0 | AG25: =$K25*AF25 -> 0 | AH25: =$I25*AF25 -> 0 | AI25: =$J25*AF25 -> 0 | AJ25: 0 | AK25: =$K25*AJ25 -> 0 | AL25: =$I25*AJ25 -> 0 | AM25: =$J25*AJ25 -> 0 | AN25: 0 | AO25: =$K25*AN25 -> 0 | AP25: =$I25*AN25 -> 0 | AQ25: =$J25*AN25 -> 0 | AR25: 0 | AS25: =$K25*AR25 -> 0 | AT25: =$I25*AR25 -> 0 | AU25: =$J25*AR25 -> 0 | AV25: 0 | AW25: =$K25*AV25 -> 0 | AX25: =$I25*AV25 -> 0 | AY25: =$J25*AV25 -> 0 | AZ25: 0 | BA25: =$K25*AZ25 -> 0 | BB25: =$I25*AZ25 -> 0 | BC25: =$J25*AZ25 -> 0 | BD25: 0 | BE25: =$K25*BD25 -> 0 | BF25: =$I25*BD25 -> 0 | BG25: =$J25*BD25 -> 0 | BH25: 0 | BI25: =$K25*BH25 -> 0 | BJ25: =$I25*BH25 -> 0 | BK25: =$J25*BH25 -> 0 | BL25: 0 | BM25: =$K25*BL25 -> 0 | BN25: =$I25*BL25 -> 0 | BO25: =$J25*BL25 -> 0 | BP25: 0 | BQ25: =$K25*BP25 -> 0 | BR25: =$I25*BP25 -> 0 | BS25: =$J25*BP25 -> 0 | BT25: 0 | BU25: =$K25*BT25 -> 0 | BV25: =$I25*BT25 -> 0 | BW25: =$J25*BT25 -> 0 | BX25: 0 | BY25: =$K25*BX25 -> 0 | BZ25: =$I25*BX25 -> 0 | CA25: =$J25*BX25 -> 0 | CB25: 0 | CC25: =$K25*CB25 -> 0 | CD25: =$I25*CB25 -> 0 | CE25: =$J25*CB25 -> 0 | CF25: 0 | CG25: =$K25*CF25 -> 0 | CH25: =$I25*CF25 -> 0 | CI25: =$J25*CF25 -> 0 | CJ25: 0 | CK25: =$K25*CJ25 -> 0 | CL25: =$I25*CJ25 -> 0 | CM25: =$J25*CJ25 -> 0 | CN25: 0 | CO25: =$K25*CN25 -> 0 | CP25: =$I25*CN25 -> 0 | CQ25: =$J25*CN25 -> 0 | CR25: 0 | CS25: =$K25*CR25 -> 0 | CT25: =$I25*CR25 -> 0 | CU25: =$J25*CR25 -> 0 | CV25: 0 | CW25: =$K25*CV25 -> 0 | CX25: =$I25*CV25 -> 0 | CY25: =$J25*CV25 -> 0 | CZ25: 0 | DA25: =$K25*CZ25 -> 0 | DB25: =$I25*CZ25 -> 0 | DC25: =$J25*CZ25 -> 0 | DD25: 0 | DE25: =$K25*DD25 -> 0 | DF25: =$I25*DD25 -> 0 | DG25: =$J25*DD25 -> 0 | DH25: 0 | DI25: =$K25*DH25 -> 0 | DJ25: =$I25*DH25 -> 0 | DK25: =$J25*DH25 -> 0 | DM25: =L25+P25+T25+X25+AB25+AF25+AJ25+AN25+AR25+AV25+AZ25+BD25+BH25+BL25+BP25+BT25+BX25+CB25+CF25+CJ25+CN25+CR25+CV25+CZ25+DD25+DH25 -> 0 | DN25: =M25+Q25+U25+Y25+AC25+AG25+AK25+AO25+AS25+AW25+BA25+BE25+BI25+BM25+BQ25+BU25+BY25+CC25+CG25+CK25+CO25+CS25+CW25+DA25+DE25+DI25 -> 0 | DO25: =DN25-K25 -> 0
F26: =E26*12 -> 0 | G26: =IF(C26="",0,IF(C26="50000",$G$4,IF(C26="50010",$G$5,IF(C26="50020",$G$6,IF(C26="50030",$G$7,IF(C26="50040",$G$8,IF(C26="50050",$G$9,IF(C26="50060",$G$10,IF(C26="50090",$G$11,IF(C26="50100",$G$12,IF(C26="50110",$G$13))))))))))) -> 0 | H26: 0 | I26: =F26*H26 -> 0 | J26: =F26*G26*H26 -> 0 | K26: =F26*(1+G26)*H26 -> 0 | L26: 0 | M26: =$K26*L26 -> 0 | N26: =$I26*L26 -> 0 | O26: =$J26*L26 -> 0 | P26: 0 | Q26: =$K26*P26 -> 0 | R26: =$I26*P26 -> 0 | S26: =$J26*P26 -> 0 | T26: 0 | U26: =$K26*T26 -> 0 | V26: =$I26*T26 -> 0 | W26: =$J26*T26 -> 0 | X26: 0 | Y26: =$K26*X26 -> 0 | Z26: =$I26*X26 -> 0 | AA26: =$J26*X26 -> 0 | AB26: 0 | AC26: =$K26*AB26 -> 0 | AD26: =$I26*AB26 -> 0 | AE26: =$J26*AB26 -> 0 | AF26: 0 | AG26: =$K26*AF26 -> 0 | AH26: =$I26*AF26 -> 0 | AI26: =$J26*AF26 -> 0 | AJ26: 0 | AK26: =$K26*AJ26 -> 0 | AL26: =$I26*AJ26 -> 0 | AM26: =$J26*AJ26 -> 0 | AN26: 0 | AO26: =$K26*AN26 -> 0 | AP26: =$I26*AN26 -> 0 | AQ26: =$J26*AN26 -> 0 | AR26: 0 | AS26: =$K26*AR26 -> 0 | AT26: =$I26*AR26 -> 0 | AU26: =$J26*AR26 -> 0 | AV26: 0 | AW26: =$K26*AV26 -> 0 | AX26: =$I26*AV26 -> 0 | AY26: =$J26*AV26 -> 0 | AZ26: 0 | BA26: =$K26*AZ26 -> 0 | BB26: =$I26*AZ26 -> 0 | BC26: =$J26*AZ26 -> 0 | BD26: 0 | BE26: =$K26*BD26 -> 0 | BF26: =$I26*BD26 -> 0 | BG26: =$J26*BD26 -> 0 | BH26: 0 | BI26: =$K26*BH26 -> 0 | BJ26: =$I26*BH26 -> 0 | BK26: =$J26*BH26 -> 0 | BL26: 0 | BM26: =$K26*BL26 -> 0 | BN26: =$I26*BL26 -> 0 | BO26: =$J26*BL26 -> 0 | BP26: 0 | BQ26: =$K26*BP26 -> 0 | BR26: =$I26*BP26 -> 0 | BS26: =$J26*BP26 -> 0 | BT26: 0 | BU26: =$K26*BT26 -> 0 | BV26: =$I26*BT26 -> 0 | BW26: =$J26*BT26 -> 0 | BX26: 0 | BY26: =$K26*BX26 -> 0 | BZ26: =$I26*BX26 -> 0 | CA26: =$J26*BX26 -> 0 | CB26: 0 | CC26: =$K26*CB26 -> 0 | CD26: =$I26*CB26 -> 0 | CE26: =$J26*CB26 -> 0 | CF26: 0 | CG26: =$K26*CF26 -> 0 | CH26: =$I26*CF26 -> 0 | CI26: =$J26*CF26 -> 0 | CJ26: 0 | CK26: =$K26*CJ26 -> 0 | CL26: =$I26*CJ26 -> 0 | CM26: =$J26*CJ26 -> 0 | CN26: 0 | CO26: =$K26*CN26 -> 0 | CP26: =$I26*CN26 -> 0 | CQ26: =$J26*CN26 -> 0 | CR26: 0 | CS26: =$K26*CR26 -> 0 | CT26: =$I26*CR26 -> 0 | CU26: =$J26*CR26 -> 0 | CV26: 0 | CW26: =$K26*CV26 -> 0 | CX26: =$I26*CV26 -> 0 | CY26: =$J26*CV26 -> 0 | CZ26: 0 | DA26: =$K26*CZ26 -> 0 | DB26: =$I26*CZ26 -> 0 | DC26: =$J26*CZ26 -> 0 | DD26: 0 | DE26: =$K26*DD26 -> 0 | DF26: =$I26*DD26 -> 0 | DG26: =$J26*DD26 -> 0 | DH26: 0 | DI26: =$K26*DH26 -> 0 | DJ26: =$I26*DH26 -> 0 | DK26: =$J26*DH26 -> 0 | DM26: =L26+P26+T26+X26+AB26+AF26+AJ26+AN26+AR26+AV26+AZ26+BD26+BH26+BL26+BP26+BT26+BX26+CB26+CF26+CJ26+CN26+CR26+CV26+CZ26+DD26+DH26 -> 0 | DN26: =M26+Q26+U26+Y26+AC26+AG26+AK26+AO26+AS26+AW26+BA26+BE26+BI26+BM26+BQ26+BU26+BY26+CC26+CG26+CK26+CO26+CS26+CW26+DA26+DE26+DI26 -> 0 | DO26: =DN26-K26 -> 0
F27: =E27*12 -> 0 | G27: =IF(C27="",0,IF(C27="50000",$G$4,IF(C27="50010",$G$5,IF(C27="50020",$G$6,IF(C27="50030",$G$7,IF(C27="50040",$G$8,IF(C27="50050",$G$9,IF(C27="50060",$G$10,IF(C27="50090",$G$11,IF(C27="50100",$G$12,IF(C27="50110",$G$13))))))))))) -> 0 | H27: 0 | I27: =F27*H27 -> 0 | J27: =F27*G27*H27 -> 0 | K27: =F27*(1+G27)*H27 -> 0 | L27: 0 | M27: =$K27*L27 -> 0 | N27: =$I27*L27 -> 0 | O27: =$J27*L27 -> 0 | P27: 0 | Q27: =$K27*P27 -> 0 | R27: =$I27*P27 -> 0 | S27: =$J27*P27 -> 0 | T27: 0 | U27: =$K27*T27 -> 0 | V27: =$I27*T27 -> 0 | W27: =$J27*T27 -> 0 | X27: 0 | Y27: =$K27*X27 -> 0 | Z27: =$I27*X27 -> 0 | AA27: =$J27*X27 -> 0 | AB27: 0 | AC27: =$K27*AB27 -> 0 | AD27: =$I27*AB27 -> 0 | AE27: =$J27*AB27 -> 0 | AF27: 0 | AG27: =$K27*AF27 -> 0 | AH27: =$I27*AF27 -> 0 | AI27: =$J27*AF27 -> 0 | AJ27: 0 | AK27: =$K27*AJ27 -> 0 | AL27: =$I27*AJ27 -> 0 | AM27: =$J27*AJ27 -> 0 | AN27: 0 | AO27: =$K27*AN27 -> 0 | AP27: =$I27*AN27 -> 0 | AQ27: =$J27*AN27 -> 0 | AR27: 0 | AS27: =$K27*AR27 -> 0 | AT27: =$I27*AR27 -> 0 | AU27: =$J27*AR27 -> 0 | AV27: 0 | AW27: =$K27*AV27 -> 0 | AX27: =$I27*AV27 -> 0 | AY27: =$J27*AV27 -> 0 | AZ27: 0 | BA27: =$K27*AZ27 -> 0 | BB27: =$I27*AZ27 -> 0 | BC27: =$J27*AZ27 -> 0 | BD27: 0 | BE27: =$K27*BD27 -> 0 | BF27: =$I27*BD27 -> 0 | BG27: =$J27*BD27 -> 0 | BH27: 0 | BI27: =$K27*BH27 -> 0 | BJ27: =$I27*BH27 -> 0 | BK27: =$J27*BH27 -> 0 | BL27: 0 | BM27: =$K27*BL27 -> 0 | BN27: =$I27*BL27 -> 0 | BO27: =$J27*BL27 -> 0 | BP27: 0 | BQ27: =$K27*BP27 -> 0 | BR27: =$I27*BP27 -> 0 | BS27: =$J27*BP27 -> 0 | BT27: 0 | BU27: =$K27*BT27 -> 0 | BV27: =$I27*BT27 -> 0 | BW27: =$J27*BT27 -> 0 | BX27: 0 | BY27: =$K27*BX27 -> 0 | BZ27: =$I27*BX27 -> 0 | CA27: =$J27*BX27 -> 0 | CB27: 0 | CC27: =$K27*CB27 -> 0 | CD27: =$I27*CB27 -> 0 | CE27: =$J27*CB27 -> 0 | CF27: 0 | CG27: =$K27*CF27 -> 0 | CH27: =$I27*CF27 -> 0 | CI27: =$J27*CF27 -> 0 | CJ27: 0 | CK27: =$K27*CJ27 -> 0 | CL27: =$I27*CJ27 -> 0 | CM27: =$J27*CJ27 -> 0 | CN27: 0 | CO27: =$K27*CN27 -> 0 | CP27: =$I27*CN27 -> 0 | CQ27: =$J27*CN27 -> 0 | CR27: 0 | CS27: =$K27*CR27 -> 0 | CT27: =$I27*CR27 -> 0 | CU27: =$J27*CR27 -> 0 | CV27: 0 | CW27: =$K27*CV27 -> 0 | CX27: =$I27*CV27 -> 0 | CY27: =$J27*CV27 -> 0 | CZ27: 0 | DA27: =$K27*CZ27 -> 0 | DB27: =$I27*CZ27 -> 0 | DC27: =$J27*CZ27 -> 0 | DD27: 0 | DE27: =$K27*DD27 -> 0 | DF27: =$I27*DD27 -> 0 | DG27: =$J27*DD27 -> 0 | DH27: 0 | DI27: =$K27*DH27 -> 0 | DJ27: =$I27*DH27 -> 0 | DK27: =$J27*DH27 -> 0 | DM27: =L27+P27+T27+X27+AB27+AF27+AJ27+AN27+AR27+AV27+AZ27+BD27+BH27+BL27+BP27+BT27+BX27+CB27+CF27+CJ27+CN27+CR27+CV27+CZ27+DD27+DH27 -> 0 | DN27: =M27+Q27+U27+Y27+AC27+AG27+AK27+AO27+AS27+AW27+BA27+BE27+BI27+BM27+BQ27+BU27+BY27+CC27+CG27+CK27+CO27+CS27+CW27+DA27+DE27+DI27 -> 0 | DO27: =DN27-K27 -> 0
F28: =E28*12 -> 0 | G28: =IF(C28="",0,IF(C28="50000",$G$4,IF(C28="50010",$G$5,IF(C28="50020",$G$6,IF(C28="50030",$G$7,IF(C28="50040",$G$8,IF(C28="50050",$G$9,IF(C28="50060",$G$10,IF(C28="50090",$G$11,IF(C28="50100",$G$12,IF(C28="50110",$G$13))))))))))) -> 0 | H28: 0 | I28: =F28*H28 -> 0 | J28: =F28*G28*H28 -> 0 | K28: =F28*(1+G28)*H28 -> 0 | L28: 0 | M28: =$K28*L28 -> 0 | N28: =$I28*L28 -> 0 | O28: =$J28*L28 -> 0 | P28: 0 | Q28: =$K28*P28 -> 0 | R28: =$I28*P28 -> 0 | S28: =$J28*P28 -> 0 | T28: 0 | U28: =$K28*T28 -> 0 | V28: =$I28*T28 -> 0 | W28: =$J28*T28 -> 0 | X28: 0 | Y28: =$K28*X28 -> 0 | Z28: =$I28*X28 -> 0 | AA28: =$J28*X28 -> 0 | AB28: 0 | AC28: =$K28*AB28 -> 0 | AD28: =$I28*AB28 -> 0 | AE28: =$J28*AB28 -> 0 | AF28: 0 | AG28: =$K28*AF28 -> 0 | AH28: =$I28*AF28 -> 0 | AI28: =$J28*AF28 -> 0 | AJ28: 0 | AK28: =$K28*AJ28 -> 0 | AL28: =$I28*AJ28 -> 0 | AM28: =$J28*AJ28 -> 0 | AN28: 0 | AO28: =$K28*AN28 -> 0 | AP28: =$I28*AN28 -> 0 | AQ28: =$J28*AN28 -> 0 | AR28: 0 | AS28: =$K28*AR28 -> 0 | AT28: =$I28*AR28 -> 0 | AU28: =$J28*AR28 -> 0 | AV28: 0 | AW28: =$K28*AV28 -> 0 | AX28: =$I28*AV28 -> 0 | AY28: =$J28*AV28 -> 0 | AZ28: 0 | BA28: =$K28*AZ28 -> 0 | BB28: =$I28*AZ28 -> 0 | BC28: =$J28*AZ28 -> 0 | BD28: 0 | BE28: =$K28*BD28 -> 0 | BF28: =$I28*BD28 -> 0 | BG28: =$J28*BD28 -> 0 | BH28: 0 | BI28: =$K28*BH28 -> 0 | BJ28: =$I28*BH28 -> 0 | BK28: =$J28*BH28 -> 0 | BL28: 0 | BM28: =$K28*BL28 -> 0 | BN28: =$I28*BL28 -> 0 | BO28: =$J28*BL28 -> 0 | BP28: 0 | BQ28: =$K28*BP28 -> 0 | BR28: =$I28*BP28 -> 0 | BS28: =$J28*BP28 -> 0 | BT28: 0 | BU28: =$K28*BT28 -> 0 | BV28: =$I28*BT28 -> 0 | BW28: =$J28*BT28 -> 0 | BX28: 0 | BY28: =$K28*BX28 -> 0 | BZ28: =$I28*BX28 -> 0 | CA28: =$J28*BX28 -> 0 | CB28: 0 | CC28: =$K28*CB28 -> 0 | CD28: =$I28*CB28 -> 0 | CE28: =$J28*CB28 -> 0 | CF28: 0 | CG28: =$K28*CF28 -> 0 | CH28: =$I28*CF28 -> 0 | CI28: =$J28*CF28 -> 0 | CJ28: 0 | CK28: =$K28*CJ28 -> 0 | CL28: =$I28*CJ28 -> 0 | CM28: =$J28*CJ28 -> 0 | CN28: 0 | CO28: =$K28*CN28 -> 0 | CP28: =$I28*CN28 -> 0 | CQ28: =$J28*CN28 -> 0 | CR28: 0 | CS28: =$K28*CR28 -> 0 | CT28: =$I28*CR28 -> 0 | CU28: =$J28*CR28 -> 0 | CV28: 0 | CW28: =$K28*CV28 -> 0 | CX28: =$I28*CV28 -> 0 | CY28: =$J28*CV28 -> 0 | CZ28: 0 | DA28: =$K28*CZ28 -> 0 | DB28: =$I28*CZ28 -> 0 | DC28: =$J28*CZ28 -> 0 | DD28: 0 | DE28: =$K28*DD28 -> 0 | DF28: =$I28*DD28 -> 0 | DG28: =$J28*DD28 -> 0 | DH28: 0 | DI28: =$K28*DH28 -> 0 | DJ28: =$I28*DH28 -> 0 | DK28: =$J28*DH28 -> 0 | DM28: =L28+P28+T28+X28+AB28+AF28+AJ28+AN28+AR28+AV28+AZ28+BD28+BH28+BL28+BP28+BT28+BX28+CB28+CF28+CJ28+CN28+CR28+CV28+CZ28+DD28+DH28 -> 0 | DN28: =M28+Q28+U28+Y28+AC28+AG28+AK28+AO28+AS28+AW28+BA28+BE28+BI28+BM28+BQ28+BU28+BY28+CC28+CG28+CK28+CO28+CS28+CW28+DA28+DE28+DI28 -> 0 | DO28: =DN28-K28 -> 0
F29: =E29*12 -> 0 | G29: =IF(C29="",0,IF(C29="50000",$G$4,IF(C29="50010",$G$5,IF(C29="50020",$G$6,IF(C29="50030",$G$7,IF(C29="50040",$G$8,IF(C29="50050",$G$9,IF(C29="50060",$G$10,IF(C29="50090",$G$11,IF(C29="50100",$G$12,IF(C29="50110",$G$13))))))))))) -> 0 | H29: 0 | I29: =F29*H29 -> 0 | J29: =F29*G29*H29 -> 0 | K29: =F29*(1+G29)*H29 -> 0 | L29: 0 | M29: =$K29*L29 -> 0 | N29: =$I29*L29 -> 0 | O29: =$J29*L29 -> 0 | P29: 0 | Q29: =$K29*P29 -> 0 | R29: =$I29*P29 -> 0 | S29: =$J29*P29 -> 0 | T29: 0 | U29: =$K29*T29 -> 0 | V29: =$I29*T29 -> 0 | W29: =$J29*T29 -> 0 | X29: 0 | Y29: =$K29*X29 -> 0 | Z29: =$I29*X29 -> 0 | AA29: =$J29*X29 -> 0 | AB29: 0 | AC29: =$K29*AB29 -> 0 | AD29: =$I29*AB29 -> 0 | AE29: =$J29*AB29 -> 0 | AF29: 0 | AG29: =$K29*AF29 -> 0 | AH29: =$I29*AF29 -> 0 | AI29: =$J29*AF29 -> 0 | AJ29: 0 | AK29: =$K29*AJ29 -> 0 | AL29: =$I29*AJ29 -> 0 | AM29: =$J29*AJ29 -> 0 | AN29: 0 | AO29: =$K29*AN29 -> 0 | AP29: =$I29*AN29 -> 0 | AQ29: =$J29*AN29 -> 0 | AR29: 0 | AS29: =$K29*AR29 -> 0 | AT29: =$I29*AR29 -> 0 | AU29: =$J29*AR29 -> 0 | AV29: 0 | AW29: =$K29*AV29 -> 0 | AX29: =$I29*AV29 -> 0 | AY29: =$J29*AV29 -> 0 | AZ29: 0 | BA29: =$K29*AZ29 -> 0 | BB29: =$I29*AZ29 -> 0 | BC29: =$J29*AZ29 -> 0 | BD29: 0 | BE29: =$K29*BD29 -> 0 | BF29: =$I29*BD29 -> 0 | BG29: =$J29*BD29 -> 0 | BH29: 0 | BI29: =$K29*BH29 -> 0 | BJ29: =$I29*BH29 -> 0 | BK29: =$J29*BH29 -> 0 | BL29: 0 | BM29: =$K29*BL29 -> 0 | BN29: =$I29*BL29 -> 0 | BO29: =$J29*BL29 -> 0 | BP29: 0 | BQ29: =$K29*BP29 -> 0 | BR29: =$I29*BP29 -> 0 | BS29: =$J29*BP29 -> 0 | BT29: 0 | BU29: =$K29*BT29 -> 0 | BV29: =$I29*BT29 -> 0 | BW29: =$J29*BT29 -> 0 | BX29: 0 | BY29: =$K29*BX29 -> 0 | BZ29: =$I29*BX29 -> 0 | CA29: =$J29*BX29 -> 0 | CB29: 0 | CC29: =$K29*CB29 -> 0 | CD29: =$I29*CB29 -> 0 | CE29: =$J29*CB29 -> 0 | CF29: 0 | CG29: =$K29*CF29 -> 0 | CH29: =$I29*CF29 -> 0 | CI29: =$J29*CF29 -> 0 | CJ29: 0 | CK29: =$K29*CJ29 -> 0 | CL29: =$I29*CJ29 -> 0 | CM29: =$J29*CJ29 -> 0 | CN29: 0 | CO29: =$K29*CN29 -> 0 | CP29: =$I29*CN29 -> 0 | CQ29: =$J29*CN29 -> 0 | CR29: 0 | CS29: =$K29*CR29 -> 0 | CT29: =$I29*CR29 -> 0 | CU29: =$J29*CR29 -> 0 | CV29: 0 | CW29: =$K29*CV29 -> 0 | CX29: =$I29*CV29 -> 0 | CY29: =$J29*CV29 -> 0 | CZ29: 0 | DA29: =$K29*CZ29 -> 0 | DB29: =$I29*CZ29 -> 0 | DC29: =$J29*CZ29 -> 0 | DD29: 0 | DE29: =$K29*DD29 -> 0 | DF29: =$I29*DD29 -> 0 | DG29: =$J29*DD29 -> 0 | DH29: 0 | DI29: =$K29*DH29 -> 0 | DJ29: =$I29*DH29 -> 0 | DK29: =$J29*DH29 -> 0 | DM29: =L29+P29+T29+X29+AB29+AF29+AJ29+AN29+AR29+AV29+AZ29+BD29+BH29+BL29+BP29+BT29+BX29+CB29+CF29+CJ29+CN29+CR29+CV29+CZ29+DD29+DH29 -> 0 | DN29: =M29+Q29+U29+Y29+AC29+AG29+AK29+AO29+AS29+AW29+BA29+BE29+BI29+BM29+BQ29+BU29+BY29+CC29+CG29+CK29+CO29+CS29+CW29+DA29+DE29+DI29 -> 0 | DO29: =DN29-K29 -> 0
F30: =E30*12 -> 0 | G30: =IF(C30="",0,IF(C30="50000",$G$4,IF(C30="50010",$G$5,IF(C30="50020",$G$6,IF(C30="50030",$G$7,IF(C30="50040",$G$8,IF(C30="50050",$G$9,IF(C30="50060",$G$10,IF(C30="50090",$G$11,IF(C30="50100",$G$12,IF(C30="50110",$G$13))))))))))) -> 0 | H30: 0 | I30: =F30*H30 -> 0 | J30: =F30*G30*H30 -> 0 | K30: =F30*(1+G30)*H30 -> 0 | L30: 0 | M30: =$K30*L30 -> 0 | N30: =$I30*L30 -> 0 | O30: =$J30*L30 -> 0 | P30: 0 | Q30: =$K30*P30 -> 0 | R30: =$I30*P30 -> 0 | S30: =$J30*P30 -> 0 | T30: 0 | U30: =$K30*T30 -> 0 | V30: =$I30*T30 -> 0 | W30: =$J30*T30 -> 0 | X30: 0 | Y30: =$K30*X30 -> 0 | Z30: =$I30*X30 -> 0 | AA30: =$J30*X30 -> 0 | AB30: 0 | AC30: =$K30*AB30 -> 0 | AD30: =$I30*AB30 -> 0 | AE30: =$J30*AB30 -> 0 | AF30: 0 | AG30: =$K30*AF30 -> 0 | AH30: =$I30*AF30 -> 0 | AI30: =$J30*AF30 -> 0 | AJ30: 0 | AK30: =$K30*AJ30 -> 0 | AL30: =$I30*AJ30 -> 0 | AM30: =$J30*AJ30 -> 0 | AN30: 0 | AO30: =$K30*AN30 -> 0 | AP30: =$I30*AN30 -> 0 | AQ30: =$J30*AN30 -> 0 | AR30: 0 | AS30: =$K30*AR30 -> 0 | AT30: =$I30*AR30 -> 0 | AU30: =$J30*AR30 -> 0 | AV30: 0 | AW30: =$K30*AV30 -> 0 | AX30: =$I30*AV30 -> 0 | AY30: =$J30*AV30 -> 0 | AZ30: 0 | BA30: =$K30*AZ30 -> 0 | BB30: =$I30*AZ30 -> 0 | BC30: =$J30*AZ30 -> 0 | BD30: 0 | BE30: =$K30*BD30 -> 0 | BF30: =$I30*BD30 -> 0 | BG30: =$J30*BD30 -> 0 | BH30: 0 | BI30: =$K30*BH30 -> 0 | BJ30: =$I30*BH30 -> 0 | BK30: =$J30*BH30 -> 0 | BL30: 0 | BM30: =$K30*BL30 -> 0 | BN30: =$I30*BL30 -> 0 | BO30: =$J30*BL30 -> 0 | BP30: 0 | BQ30: =$K30*BP30 -> 0 | BR30: =$I30*BP30 -> 0 | BS30: =$J30*BP30 -> 0 | BT30: 0 | BU30: =$K30*BT30 -> 0 | BV30: =$I30*BT30 -> 0 | BW30: =$J30*BT30 -> 0 | BX30: 0 | BY30: =$K30*BX30 -> 0 | BZ30: =$I30*BX30 -> 0 | CA30: =$J30*BX30 -> 0 | CB30: 0 | CC30: =$K30*CB30 -> 0 | CD30: =$I30*CB30 -> 0 | CE30: =$J30*CB30 -> 0 | CF30: 0 | CG30: =$K30*CF30 -> 0 | CH30: =$I30*CF30 -> 0 | CI30: =$J30*CF30 -> 0 | CJ30: 0 | CK30: =$K30*CJ30 -> 0 | CL30: =$I30*CJ30 -> 0 | CM30: =$J30*CJ30 -> 0 | CN30: 0 | CO30: =$K30*CN30 -> 0 | CP30: =$I30*CN30 -> 0 | CQ30: =$J30*CN30 -> 0 | CR30: 0 | CS30: =$K30*CR30 -> 0 | CT30: =$I30*CR30 -> 0 | CU30: =$J30*CR30 -> 0 | CV30: 0 | CW30: =$K30*CV30 -> 0 | CX30: =$I30*CV30 -> 0 | CY30: =$J30*CV30 -> 0 | CZ30: 0 | DA30: =$K30*CZ30 -> 0 | DB30: =$I30*CZ30 -> 0 | DC30: =$J30*CZ30 -> 0 | DD30: 0 | DE30: =$K30*DD30 -> 0 | DF30: =$I30*DD30 -> 0 | DG30: =$J30*DD30 -> 0 | DH30: 0 | DI30: =$K30*DH30 -> 0 | DJ30: =$I30*DH30 -> 0 | DK30: =$J30*DH30 -> 0 | DM30: =L30+P30+T30+X30+AB30+AF30+AJ30+AN30+AR30+AV30+AZ30+BD30+BH30+BL30+BP30+BT30+BX30+CB30+CF30+CJ30+CN30+CR30+CV30+CZ30+DD30+DH30 -> 0 | DN30: =M30+Q30+U30+Y30+AC30+AG30+AK30+AO30+AS30+AW30+BA30+BE30+BI30+BM30+BQ30+BU30+BY30+CC30+CG30+CK30+CO30+CS30+CW30+DA30+DE30+DI30 -> 0 | DO30: =DN30-K30 -> 0
F31: =E31*12 -> 0 | G31: =IF(C31="",0,IF(C31="50000",$G$4,IF(C31="50010",$G$5,IF(C31="50020",$G$6,IF(C31="50030",$G$7,IF(C31="50040",$G$8,IF(C31="50050",$G$9,IF(C31="50060",$G$10,IF(C31="50090",$G$11,IF(C31="50100",$G$12,IF(C31="50110",$G$13))))))))))) -> 0 | H31: 0 | I31: =F31*H31 -> 0 | J31: =F31*G31*H31 -> 0 | K31: =F31*(1+G31)*H31 -> 0 | L31: 0 | M31: =$K31*L31 -> 0 | N31: =$I31*L31 -> 0 | O31: =$J31*L31 -> 0 | P31: 0 | Q31: =$K31*P31 -> 0 | R31: =$I31*P31 -> 0 | S31: =$J31*P31 -> 0 | T31: 0 | U31: =$K31*T31 -> 0 | V31: =$I31*T31 -> 0 | W31: =$J31*T31 -> 0 | X31: 0 | Y31: =$K31*X31 -> 0 | Z31: =$I31*X31 -> 0 | AA31: =$J31*X31 -> 0 | AB31: 0 | AC31: =$K31*AB31 -> 0 | AD31: =$I31*AB31 -> 0 | AE31: =$J31*AB31 -> 0 | AF31: 0 | AG31: =$K31*AF31 -> 0 | AH31: =$I31*AF31 -> 0 | AI31: =$J31*AF31 -> 0 | AJ31: 0 | AK31: =$K31*AJ31 -> 0 | AL31: =$I31*AJ31 -> 0 | AM31: =$J31*AJ31 -> 0 | AN31: 0 | AO31: =$K31*AN31 -> 0 | AP31: =$I31*AN31 -> 0 | AQ31: =$J31*AN31 -> 0 | AR31: 0 | AS31: =$K31*AR31 -> 0 | AT31: =$I31*AR31 -> 0 | AU31: =$J31*AR31 -> 0 | AV31: 0 | AW31: =$K31*AV31 -> 0 | AX31: =$I31*AV31 -> 0 | AY31: =$J31*AV31 -> 0 | AZ31: 0 | BA31: =$K31*AZ31 -> 0 | BB31: =$I31*AZ31 -> 0 | BC31: =$J31*AZ31 -> 0 | BD31: 0 | BE31: =$K31*BD31 -> 0 | BF31: =$I31*BD31 -> 0 | BG31: =$J31*BD31 -> 0 | BH31: 0 | BI31: =$K31*BH31 -> 0 | BJ31: =$I31*BH31 -> 0 | BK31: =$J31*BH31 -> 0 | BL31: 0 | BM31: =$K31*BL31 -> 0 | BN31: =$I31*BL31 -> 0 | BO31: =$J31*BL31 -> 0 | BP31: 0 | BQ31: =$K31*BP31 -> 0 | BR31: =$I31*BP31 -> 0 | BS31: =$J31*BP31 -> 0 | BT31: 0 | BU31: =$K31*BT31 -> 0 | BV31: =$I31*BT31 -> 0 | BW31: =$J31*BT31 -> 0 | BX31: 0 | BY31: =$K31*BX31 -> 0 | BZ31: =$I31*BX31 -> 0 | CA31: =$J31*BX31 -> 0 | CB31: 0 | CC31: =$K31*CB31 -> 0 | CD31: =$I31*CB31 -> 0 | CE31: =$J31*CB31 -> 0 | CF31: 0 | CG31: =$K31*CF31 -> 0 | CH31: =$I31*CF31 -> 0 | CI31: =$J31*CF31 -> 0 | CJ31: 0 | CK31: =$K31*CJ31 -> 0 | CL31: =$I31*CJ31 -> 0 | CM31: =$J31*CJ31 -> 0 | CN31: 0 | CO31: =$K31*CN31 -> 0 | CP31: =$I31*CN31 -> 0 | CQ31: =$J31*CN31 -> 0 | CR31: 0 | CS31: =$K31*CR31 -> 0 | CT31: =$I31*CR31 -> 0 | CU31: =$J31*CR31 -> 0 | CV31: 0 | CW31: =$K31*CV31 -> 0 | CX31: =$I31*CV31 -> 0 | CY31: =$J31*CV31 -> 0 | CZ31: 0 | DA31: =$K31*CZ31 -> 0 | DB31: =$I31*CZ31 -> 0 | DC31: =$J31*CZ31 -> 0 | DD31: 0 | DE31: =$K31*DD31 -> 0 | DF31: =$I31*DD31 -> 0 | DG31: =$J31*DD31 -> 0 | DH31: 0 | DI31: =$K31*DH31 -> 0 | DJ31: =$I31*DH31 -> 0 | DK31: =$J31*DH31 -> 0 | DM31: =L31+P31+T31+X31+AB31+AF31+AJ31+AN31+AR31+AV31+AZ31+BD31+BH31+BL31+BP31+BT31+BX31+CB31+CF31+CJ31+CN31+CR31+CV31+CZ31+DD31+DH31 -> 0 | DN31: =M31+Q31+U31+Y31+AC31+AG31+AK31+AO31+AS31+AW31+BA31+BE31+BI31+BM31+BQ31+BU31+BY31+CC31+CG31+CK31+CO31+CS31+CW31+DA31+DE31+DI31 -> 0 | DO31: =DN31-K31 -> 0
... F50: =E50*12 -> 0 | G50: =IF(C50="",0,IF(C50="50000",$G$4,IF(C50="50010",$G$5,IF(C50="50020",$G$6,IF(C50="50030",$G$7,IF(C50="50040",$G$8,IF(C50="50050",$G$9,IF(C50="50060",$G$10,IF(C50="50090",$G$11,IF(C50="50100",$G$12,IF(C50="50110",$G$13))))))))))) -> 0 | H50: 0 | I50: =F50*H50 -> 0 | J50: =F50*G50*H50 -> 0 | K50: =F50*(1+G50)*H50 -> 0 | L50: 0 | M50: =$K50*L50 -> 0 | N50: =$I50*L50 -> 0 | O50: =$J50*L50 -> 0 | P50: 0 | Q50: =$K50*P50 -> 0 | R50: =$I50*P50 -> 0 | S50: =$J50*P50 -> 0 | T50: 0 | U50: =$K50*T50 -> 0 | V50: =$I50*T50 -> 0 | W50: =$J50*T50 -> 0 | X50: 0 | Y50: =$K50*X50 -> 0 | Z50: =$I50*X50 -> 0 | AA50: =$J50*X50 -> 0 | AB50: 0 | AC50: =$K50*AB50 -> 0 | AD50: =$I50*AB50 -> 0 | AE50: =$J50*AB50 -> 0 | AF50: 0 | AG50: =$K50*AF50 -> 0 | AH50: =$I50*AF50 -> 0 | AI50: =$J50*AF50 -> 0 | AJ50: 0 | AK50: =$K50*AJ50 -> 0 | AL50: =$I50*AJ50 -> 0 | AM50: =$J50*AJ50 -> 0 | AN50: 0 | AO50: =$K50*AN50 -> 0 | AP50: =$I50*AN50 -> 0 | AQ50: =$J50*AN50 -> 0 | AR50: 0 | AS50: =$K50*AR50 -> 0 | AT50: =$I50*AR50 -> 0 | AU50: =$J50*AR50 -> 0 | AV50: 0 | AW50: =$K50*AV50 -> 0 | AX50: =$I50*AV50 -> 0 | AY50: =$J50*AV50 -> 0 | AZ50: 0 | BA50: =$K50*AZ50 -> 0 | BB50: =$I50*AZ50 -> 0 | BC50: =$J50*AZ50 -> 0 | BD50: 0 | BE50: =$K50*BD50 -> 0 | BF50: =$I50*BD50 -> 0 | BG50: =$J50*BD50 -> 0 | BH50: 0 | BI50: =$K50*BH50 -> 0 | BJ50: =$I50*BH50 -> 0 | BK50: =$J50*BH50 -> 0 | BL50: 0 | BM50: =$K50*BL50 -> 0 | BN50: =$I50*BL50 -> 0 | BO50: =$J50*BL50 -> 0 | BP50: 0 | BQ50: =$K50*BP50 -> 0 | BR50: =$I50*BP50 -> 0 | BS50: =$J50*BP50 -> 0 | BT50: 0 | BU50: =$K50*BT50 -> 0 | BV50: =$I50*BT50 -> 0 | BW50: =$J50*BT50 -> 0 | BX50: 0 | BY50: =$K50*BX50 -> 0 | BZ50: =$I50*BX50 -> 0 | CA50: =$J50*BX50 -> 0 | CB50: 0 | CC50: =$K50*CB50 -> 0 | CD50: =$I50*CB50 -> 0 | CE50: =$J50*CB50 -> 0 | CF50: 0 | CG50: =$K50*CF50 -> 0 | CH50: =$I50*CF50 -> 0 | CI50: =$J50*CF50 -> 0 | CJ50: 0 | CK50: =$K50*CJ50 -> 0 | CL50: =$I50*CJ50 -> 0 | CM50: =$J50*CJ50 -> 0 | CN50: 0 | CO50: =$K50*CN50 -> 0 | CP50: =$I50*CN50 -> 0 | CQ50: =$J50*CN50 -> 0 | CR50: 0 | CS50: =$K50*CR50 -> 0 | CT50: =$I50*CR50 -> 0 | CU50: =$J50*CR50 -> 0 | CV50: 0 | CW50: =$K50*CV50 -> 0 | CX50: =$I50*CV50 -> 0 | CY50: =$J50*CV50 -> 0 | CZ50: 0 | DA50: =$K50*CZ50 -> 0 | DB50: =$I50*CZ50 -> 0 | DC50: =$J50*CZ50 -> 0 | DD50: 0 | DE50: =$K50*DD50 -> 0 | DF50: =$I50*DD50 -> 0 | DG50: =$J50*DD50 -> 0 | DH50: 0 | DI50: =$K50*DH50 -> 0 | DJ50: =$I50*DH50 -> 0 | DK50: =$J50*DH50 -> 0 | DM50: =L50+P50+T50+X50+AB50+AF50+AJ50+AN50+AR50+AV50+AZ50+BD50+BH50+BL50+BP50+BT50+BX50+CB50+CF50+CJ50+CN50+CR50+CV50+CZ50+DD50+DH50 -> 0 | DN50: =M50+Q50+U50+Y50+AC50+AG50+AK50+AO50+AS50+AW50+BA50+BE50+BI50+BM50+BQ50+BU50+BY50+CC50+CG50+CK50+CO50+CS50+CW50+DA50+DE50+DI50 -> 0 | DO50: =DN50-K50 -> 0
A52: Direct Salaries-Faculty and Staff | F52: =SUM(F20:F50) -> 0 | I52: =SUM(I20:I50) -> 0 | J52: =SUM(J20:J50) -> 0 | K52: =SUM(K20:K50) -> 0 | M52: =SUM(M20:M50) -> 0 | N52: =SUM(N20:N50) -> 0 | O52: =SUM(O20:O50) -> 0 | Q52: =SUM(Q20:Q50) -> 0 | R52: =SUM(R20:R50) -> 0 | S52: =SUM(S20:S50) -> 0 | U52: =SUM(U20:U50) -> 0 | V52: =SUM(V20:V50) -> 0 | W52: =SUM(W20:W50) -> 0 | Y52: =SUM(Y20:Y50) -> 0 | Z52: =SUM(Z20:Z50) -> 0 | AA52: =SUM(AA20:AA50) -> 0 | AC52: =SUM(AC20:AC50) -> 0 | AD52: =SUM(AD20:AD50) -> 0 | AE52: =SUM(AE20:AE50) -> 0 | AG52: =SUM(AG20:AG50) -> 0 | AH52: =SUM(AH20:AH50) -> 0 | AI52: =SUM(AI20:AI50) -> 0 | AK52: =SUM(AK20:AK50) -> 0 | AL52: =SUM(AL20:AL50) -> 0 | AM52: =SUM(AM20:AM50) -> 0 | AO52: =SUM(AO20:AO50) -> 0 | AP52: =SUM(AP20:AP50) -> 0 | AQ52: =SUM(AQ20:AQ50) -> 0 | AS52: =SUM(AS20:AS50) -> 0 | AT52: =SUM(AT20:AT50) -> 0 | AU52: =SUM(AU20:AU50) -> 0 | AW52: =SUM(AW20:AW50) -> 0 | AX52: =SUM(AX20:AX50) -> 0 | AY52: =SUM(AY20:AY50) -> 0 | BA52: =SUM(BA20:BA50) -> 0 | BB52: =SUM(BB20:BB50) -> 0 | BC52: =SUM(BC20:BC50) -> 0 | BE52: =SUM(BE20:BE50) -> 0 | BF52: =SUM(BF20:BF50) -> 0 | BG52: =SUM(BG20:BG50) -> 0 | BI52: =SUM(BI20:BI50) -> 0 | BJ52: =SUM(BJ20:BJ50) -> 0 | BK52: =SUM(BK20:BK50) -> 0 | BM52: =SUM(BM20:BM50) -> 0 | BN52: =SUM(BN20:BN50) -> 0 | BO52: =SUM(BO20:BO50) -> 0 | BQ52: =SUM(BQ20:BQ50) -> 0 | BR52: =SUM(BR20:BR50) -> 0 | BS52: =SUM(BS20:BS50) -> 0 | BU52: =SUM(BU20:BU50) -> 0 | BV52: =SUM(BV20:BV50) -> 0 | BW52: =SUM(BW20:BW50) -> 0 | BY52: =SUM(BY20:BY50) -> 0 | BZ52: =SUM(BZ20:BZ50) -> 0 | CA52: =SUM(CA20:CA50) -> 0 | CC52: =SUM(CC20:CC50) -> 0 | CD52: =SUM(CD20:CD50) -> 0 | CE52: =SUM(CE20:CE50) -> 0 | CG52: =SUM(CG20:CG50) -> 0 | CH52: =SUM(CH20:CH50) -> 0 | CI52: =SUM(CI20:CI50) -> 0 | CK52: =SUM(CK20:CK50) -> 0 | CL52: =SUM(CL20:CL50) -> 0 | CM52: =SUM(CM20:CM50) -> 0 | CO52: =SUM(CO20:CO50) -> 0 | CP52: =SUM(CP20:CP50) -> 0 | CQ52: =SUM(CQ20:CQ50) -> 0 | CS52: =SUM(CS20:CS50) -> 0 | CT52: =SUM(CT20:CT50) -> 0 | CU52: =SUM(CU20:CU50) -> 0 | CW52: =SUM(CW20:CW50) -> 0 | CX52: =SUM(CX20:CX50) -> 0 | CY52: =SUM(CY20:CY50) -> 0 | DA52: =SUM(DA20:DA50) -> 0 | DB52: =SUM(DB20:DB50) -> 0 | DC52: =SUM(DC20:DC50) -> 0 | DE52: =SUM(DE20:DE50) -> 0 | DF52: =SUM(DF20:DF50) -> 0 | DG52: =SUM(DG20:DG50) -> 0 | DI52: =SUM(DI20:DI50) -> 0 | DJ52: =SUM(DJ20:DJ50) -> 0 | DK52: =SUM(DK20:DK50) -> 0 | DN52: =M52+Q52+U52+Y52+AC52+AG52+AK52+AO52+AS52+AW52+BA52+BE52+BI52+BM52+BQ52+BU52+BY52+CC52+CG52+CK52+CO52+CS52+CW52+DA52+DE52+DI52 -> 0 | DO52: =DN52-K52 -> 0
