Workbook
Name In_Out_Both_No: '[1]Selection Options'!$A$15:$A$18
Name Yes_No: '[1]Selection Options'!$A$4:$A$5

Sheet Change Log
A1: File Version (Web Publish Date) | B1: Tab(s) | C1: Description | D1: Purpose | E1: Did change impact caclulations? | F1: Change incorporated? | G1: Initials & Date Performed
A2: 44256 | B2: Rate File | C2: Add this change log, as first tab (hidden from users) | D2: Maintain configuation control primarily for data | E2: No | F2: Yes | G2: DP - 3/4/21
A3: 44256 | B3: Space | C3: Add back Space tab into overall file | D3: Provide information helpful to SoM | E3: No | F3: Yes | G3: DP - 3/4/21
A4: 44256 | B4: All | C4: Unlock all cells | D4: To ensure overall ability for cell updates | E4: No | F4: Yes | G4: DP - 3/4/21
A5: 44256 | B5: Depreciation | C5: Add more rows for total of 50 | D5: Provide analysts more input capability | E5: Yes? | F5: Yes | G5: DP - 3/4/21
A6: 44256 | B6: Usage | C6: Add cell in column N for total prior year revenue | D6: Provide analysts automatic calculation | E6: Yes? | F6: Yes | G6: DP - 3/4/21
A7: 44276 | B7: Summary Yr 1& 2 | C7: Add comment to subsidy tab “Value for Subsidy Received should match the Add’l Costs tab, In Proposal column”. | D7: Clarify use of the Add'l cost sheet for analysts | E7: No | F7: Yes | G7: DP - 3/4/21
A8: 44256 | B8: Usage | C8: Lock ONLY calculation cells (highlighted purple) with appropriate password for this configuration, as documented on OneDoc | D8: Allow analysts flexibility to use other cells, as needed | E8: No | F8: Yes | G8: DP - 3/4/21
A9: 44256 | B9: Salaries | C9: Lock ONLY calculation cells (highlighted purple) with appropriate password for this configuration, as documented on OneDoc | D9: Allow analysts flexibility to use other cells, as needed | E9: No | F9: Yes | G9: DP - 3/4/21
A10: 44256 | B10: Depreciation | C10: Lock ONLY calculation cells (highlighted purple) with appropriate password for this configuration, as documented on OneDoc | D10: Allow analysts flexibility to use other cells, as needed | E10: No | F10: Yes | G10: DP - 3/4/21
A11: 44256 | B11: Other Costs | C11: Lock ONLY calculation cells (highlighted purple) with appropriate password for this configuration, as documented on OneDoc | D11: Allow analysts flexibility to use other cells, as needed | E11: No | F11: Yes | G11: DP - 3/4/21
A12: 44256 | B12: Summary Year 1 | C12: Lock ONLY calculation cells (highlighted purple) with appropriate password for this configuration, as documented on OneDoc | D12: Allow analysts flexibility to use other cells, as needed | E12: No | F12: Yes | G12: DP - 3/4/21
A13: 44256 | B13: Summary Year 1 | C13: Validate Subsidy Calculation; should be reduction to Internal Rate only. Enabling Internal with Subsidy (subtracted from) and without Subsidy (fully costed) | D13: Ensure calcuation consistent among templates | E13: No | F13: Yes | G13: DP - 3/10/21
... A17: 45911 | B17: Multiple | C17: Added Salary cap worksheet. Deleted not in use tabs | D17: Salary cap compliance and to reduce bloat | E17: No | F17: Yes | G17: RF - 9/11/25
A18: Future | B18: Usage | C18: On Usage tab, add cell for time window & MyFD

Sheet Instructions and Guidance
A1: Instructions & Guidance | K1: Template updated by MAA as of: | L1: 46010
K2: Version: | L2: 4
A3: Color Index
A4: Yellow | B4: Filled in by the Center
A5: Purple | B5: Filled in via Formulas
A6: Green | B6: Tips & Guidance
D10: Instructions
D34: Guidance

Sheet General Information
A1: General Information
A3: Center Information
A4: Center Name:
A5: Cost Center RefID
A6: Center Location(s), (Building #, Room #)
A7: Year 1 Rate Begin Date:
A8: Year 1 Rate End Date:
A9: Institutional Overhead Rate:
A11: Contact Information
A12: Name:
A13: Email
A14: Box#:
... A25: General Questions
A26: Question | B26: Answer
A27: 1) Will the activities/services of your center generate external revenues?
A28: 2) How often will you sell goods/services to external users?
A29: 3) Do the activities/services offered by your center support the primary mission of the University, aside from generating revenue? If yes, please explain how the activity supports the University mission:
A30: =IF(B29="Yes", "Please explain how the activity supports the primary University mission below:", "")
A32: 4) If your center provides services that generate external revenue, have you conducted a marketplace analysis? Please explain.1
A33: 5) Do you have faculty/staff over the current NIH salary cap? | B33: If yes, please use "Salary Cap Worksheet" to determine allowable salary.
A34: 1 Please see RCW 28B.63 or reach out to MAA for more information
A35: Please see MAA website for Marketplace Analysis Template

Sheet Usage
A1: Usage & Description of Rates
A2: Purpose: Provide a short description of the services for each rate and the number of units expected to be sold.
A6: Rate | B6: Name | C6: Short Description | D6: Unit Base* | E6: Prior Year Estimate | F6: Units Sold | L6: Prior Year Expected Revenues | Q6: Year 1 | U6: Year 2
F7: Prior Year Actual Internal | G7: Prior Year Actual External | H7: Proposal Estimate Yr-1 Internal | I7: Proposal Estimate Yr-1 External | J7: Proposal Estimate Yr-2 Internal | K7: Proposal Estimate Yr-2 External | L7: Prior Year Rates ( Internal) | M7: Prior Year Rates ( External) | N7: Prior Year Expected Revenues | P7: Difference between Prior Year Estimate and Actual ( Internal + External) | Q7: Est Chg Pr Yr Actual vs Year 1 Proposal INTERNAL | R7: % Chg INTERNAL | S7: Est Chg Pr Yr Actual vs Year 1 Proposal EXTERNAL | T7: % Chg EXTERNAL | U7: Est Chg Pr Yr Actual vs Year 2 Proposal INTERNAL | V7: % Chg INTERNAL | W7: Est Chg Pr Yr Actual vs Year 2 Proposal EXTERNAL | X7: % Chg EXTERNAL
A8: Center Overhead | B8: Center Overhead
A9: Rate 1 | N9: =(F9*L9)+(G9*M9) -> 0 | P9: =(F9+G9)-E9 -> 0 | Q9: =H9-F9 -> 0 | R9: =IF(H9+F9<>0,((H9-F9)/F9),0) -> 0 | S9: =I9-G9 -> 0 | T9: =IF(I9+G9<>0,((I9-G9)/G9),0) -> 0 | U9: =J9-F9 -> 0 | V9: =IF(J9+F9<>0,((J9-F9)/F9),0) -> 0 | W9: =K9-G9 -> 0 | X9: =IF(K9+G9<>0,((K9-G9)/G9),0) -> 0
A10: Rate 2 | N10: =(F10*L10)+(G10*M10) -> 0 | P10: =(F10+G10)-E10 -> 0 | Q10: =H10-F10 -> 0 | R10: =IF(H10+F10<>0,((H10-F10)/F10),0) -> 0 | S10: =I10-G10 -> 0 | T10: =IF(I10+G10<>0,((I10-G10)/G10),0) -> 0 | U10: =J10-F10 -> 0 | V10: =IF(J10+F10<>0,((J10-F10)/F10),0) -> 0 | W10: =K10-G10 -> 0 | X10: =IF(K10+G10<>0,((K10-G10)/G10),0) -> 0
A11: Rate 3 | N11: =(F11*L11)+(G11*M11) -> 0 | P11: =(F11+G11)-E11 -> 0 | Q11: =H11-F11 -> 0 | R11: =IF(H11+F11<>0,((H11-F11)/F11),0) -> 0 | S11: =I11-G11 -> 0 | T11: =IF(I11+G11<>0,((I11-G11)/G11),0) -> 0 | U11: =J11-F11 -> 0 | V11: =IF(J11+F11<>0,((J11-F11)/F11),0) -> 0 | W11: =K11-G11 -> 0 | X11: =IF(K11+G11<>0,((K11-G11)/G11),0) -> 0
A12: Rate 4 | N12: =(F12*L12)+(G12*M12) -> 0 | P12: =(F12+G12)-E12 -> 0 | Q12: =H12-F12 -> 0 | R12: =IF(H12+F12<>0,((H12-F12)/F12),0) -> 0 | S12: =I12-G12 -> 0 | T12: =IF(I12+G12<>0,((I12-G12)/G12),0) -> 0 | U12: =J12-F12 -> 0 | V12: =IF(J12+F12<>0,((J12-F12)/F12),0) -> 0 | W12: =K12-G12 -> 0 | X12: =IF(K12+G12<>0,((K12-G12)/G12),0) -> 0
A13: Rate 5 | N13: =(F13*L13)+(G13*M13) -> 0 | P13: =(F13+G13)-E13 -> 0 | Q13: =H13-F13 -> 0 | R13: =IF(H13+F13<>0,((H13-F13)/F13),0) -> 0 | S13: =I13-G13 -> 0 | T13: =IF(I13+G13<>0,((I13-G13)/G13),0) -> 0 | U13: =J13-F13 -> 0 | V13: =IF(J13+F13<>0,((J13-F13)/F13),0) -> 0 | W13: =K13-G13 -> 0 | X13: =IF(K13+G13<>0,((K13-G13)/G13),0) -> 0
A14: Rate 6 | N14: =(F14*L14)+(G14*M14) -> 0 | P14: =(F14+G14)-E14 -> 0 | Q14: =H14-F14 -> 0 | R14: =IF(H14+F14<>0,((H14-F14)/F14),0) -> 0 | S14: =I14-G14 -> 0 | T14: =IF(I14+G14<>0,((I14-G14)/G14),0) -> 0 | U14: =J14-F14 -> 0 | V14: =IF(J14+F14<>0,((J14-F14)/F14),0) -> 0 | W14: =K14-G14 -> 0 | X14: =IF(K14+G14<>0,((K14-G14)/G14),0) -> 0
A15: Rate 7 | N15: =(F15*L15)+(G15*M15) -> 0 | P15: =(F15+G15)-E15 -> 0 | Q15: =H15-F15 -> 0 | R15: =IF(H15+F15<>0,((H15-F15)/F15),0) -> 0 | S15: =I15-G15 -> 0 | T15: =IF(I15+G15<>0,((I15-G15)/G15),0) -> 0 | U15: =J15-F15 -> 0 | V15: =IF(J15+F15<>0,((J15-F15)/F15),0) -> 0 | W15: =K15-G15 -> 0 | X15: =IF(K15+G15<>0,((K15-G15)/G15),0) -> 0
A16: Rate 8 | N16: =(F16*L16)+(G16*M16) -> 0 | P16: =(F16+G16)-E16 -> 0 | Q16: =H16-F16 -> 0 | R16: =IF(H16+F16<>0,((H16-F16)/F16),0) -> 0 | S16: =I16-G16 -> 0 | T16: =IF(I16+G16<>0,((I16-G16)/G16),0) -> 0 | U16: =J16-F16 -> 0 | V16: =IF(J16+F16<>0,((J16-F16)/F16),0) -> 0 | W16: =K16-G16 -> 0 | X16: =IF(K16+G16<>0,((K16-G16)/G16),0) -> 0
A17: Rate 9 | N17: =(F17*L17)+(G17*M17) -> 0 | P17: =(F17+G17)-E17 -> 0 | Q17: =H17-F17 -> 0 | R17: =IF(H17+F17<>0,((H17-F17)/F17),0) -> 0 | S17: =I17-G17 -> 0 | T17: =IF(I17+G17<>0,((I17-G17)/G17),0) -> 0 | U17: =J17-F17 -> 0 | V17: =IF(J17+F17<>0,((J17-F17)/F17),0) -> 0 | W17: =K17-G17 -> 0 | X17: =IF(K17+G17<>0,((K17-G17)/G17),0) -> 0
A18: Rate 10 | N18: =(F18*L18)+(G18*M18) -> 0 | P18: =(F18+G18)-E18 -> 0 | Q18: =H18-F18 -> 0 | R18: =IF(H18+F18<>0,((H18-F18)/F18),0) -> 0 | S18: =I18-G18 -> 0 | T18: =IF(I18+G18<>0,((I18-G18)/G18),0) -> 0 | U18: =J18-F18 -> 0 | V18: =IF(J18+F18<>0,((J18-F18)/F18),0) -> 0 | W18: =K18-G18 -> 0 | X18: =IF(K18+G18<>0,((K18-G18)/G18),0) -> 0
A19: Rate 11 | N19: =(F19*L19)+(G19*M19) -> 0 | P19: =(F19+G19)-E19 -> 0 | Q19: =H19-F19 -> 0 | R19: =IF(H19+F19<>0,((H19-F19)/F19),0) -> 0 | S19: =I19-G19 -> 0 | T19: =IF(I19+G19<>0,((I19-G19)/G19),0) -> 0 | U19: =J19-F19 -> 0 | V19: =IF(J19+F19<>0,((J19-F19)/F19),0) -> 0 | W19: =K19-G19 -> 0 | X19: =IF(K19+G19<>0,((K19-G19)/G19),0) -> 0
A20: Rate 12 | N20: =(F20*L20)+(G20*M20) -> 0 | P20: =(F20+G20)-E20 -> 0 | Q20: =H20-F20 -> 0 | R20: =IF(H20+F20<>0,((H20-F20)/F20),0) -> 0 | S20: =I20-G20 -> 0 | T20: =IF(I20+G20<>0,((I20-G20)/G20),0) -> 0 | U20: =J20-F20 -> 0 | V20: =IF(J20+F20<>0,((J20-F20)/F20),0) -> 0 | W20: =K20-G20 -> 0 | X20: =IF(K20+G20<>0,((K20-G20)/G20),0) -> 0
... A33: Rate 25 | N33: =(F33*L33)+(G33*M33) -> 0 | P33: =(F33+G33)-E33 -> 0 | Q33: =H33-F33 -> 0 | R33: =IF(H33+F33<>0,((H33-F33)/F33),0) -> 0 | S33: =I33-G33 -> 0 | T33: =IF(I33+G33<>0,((I33-G33)/G33),0) -> 0 | U33: =J33-F33 -> 0 | V33: =IF(J33+F33<>0,((J33-F33)/F33),0) -> 0 | W33: =K33-G33 -> 0 | X33: =IF(K33+G33<>0,((K33-G33)/G33),0) -> 0
A34: Rate 26 | N34: =(F34*L34)+(G34*M34) -> 0 | P34: =(F34+G34)-E34 -> 0 | Q34: =H34-F34 -> 0 | R34: =IF(H34+F34<>0,((H34-F34)/F34),0) -> 0 | S34: =I34-G34 -> 0 | T34: =IF(I34+G34<>0,((I34-G34)/G34),0) -> 0
A35: Rate 27 | N35: =(F35*L35)+(G35*M35) -> 0 | P35: =(F35+G35)-E35 -> 0 | Q35: =H35-F35 -> 0 | R35: =IF(H35+F35<>0,((H35-F35)/F35),0) -> 0 | S35: =I35-G35 -> 0 | T35: =IF(I35+G35<>0,((I35-G35)/G35),0) -> 0
A36: Rate 28 | N36: =(F36*L36)+(G36*M36) -> 0 | P36: =(F36+G36)-E36 -> 0 | Q36: =H36-F36 -> 0 | R36: =IF(H36+F36<>0,((H36-F36)/F36),0) -> 0 | S36: =I36-G36 -> 0 | T36: =IF(I36+G36<>0,((I36-G36)/G36),0) -> 0
A37: Rate 29 | N37: =(F37*L37)+(G37*M37) -> 0 | P37: =(F37+G37)-E37 -> 0 | Q37: =H37-F37 -> 0 | R37: =IF(H37+F37<>0,((H37-F37)/F37),0) -> 0 | S37: =I37-G37 -> 0 | T37: =IF(I37+G37<>0,((I37-G37)/G37),0) -> 0
A38: Rate 30 | N38: =(F38*L38)+(G38*M38) -> 0 | P38: =(F38+G38)-E38 -> 0 | Q38: =H38-F38 -> 0 | R38: =IF(H38+F38<>0,((H38-F38)/F38),0) -> 0 | S38: =I38-G38 -> 0 | T38: =IF(I38+G38<>0,((I38-G38)/G38),0) -> 0
A39: Rate 31 | N39: =(F39*L39)+(G39*M39) -> 0 | P39: =(F39+G39)-E39 -> 0 | Q39: =H39-F39 -> 0 | R39: =IF(H39+F39<>0,((H39-F39)/F39),0) -> 0 | S39: =I39-G39 -> 0 | T39: =IF(I39+G39<>0,((I39-G39)/G39),0) -> 0
A40: Rate 32 | N40: =(F40*L40)+(G40*M40) -> 0 | P40: =(F40+G40)-E40 -> 0 | Q40: =H40-F40 -> 0 | R40: =IF(H40+F40<>0,((H40-F40)/F40),0) -> 0 | S40: =I40-G40 -> 0 | T40: =IF(I40+G40<>0,((I40-G40)/G40),0) -> 0
A41: Rate 33 | N41: =(F41*L41)+(G41*M41) -> 0 | P41: =(F41+G41)-E41 -> 0 | Q41: =H41-F41 -> 0 | R41: =IF(H41+F41<>0,((H41-F41)/F41),0) -> 0 | S41: =I41-G41 -> 0 | T41: =IF(I41+G41<>0,((I41-G41)/G41),0) -> 0
A42: Rate 34 | N42: =(F42*L42)+(G42*M42) -> 0 | P42: =(F42+G42)-E42 -> 0 | Q42: =H42-F42 -> 0 | R42: =IF(H42+F42<>0,((H42-F42)/F42),0) -> 0 | S42: =I42-G42 -> 0 | T42: =IF(I42+G42<>0,((I42-G42)/G42),0) -> 0
A43: Rate 35 | N43: =(F43*L43)+(G43*M43) -> 0 | P43: =(F43+G43)-E43 -> 0 | Q43: =H43-F43 -> 0 | R43: =IF(H43+F43<>0,((H43-F43)/F43),0) -> 0 | S43: =I43-G43 -> 0 | T43: =IF(I43+G43<>0,((I43-G43)/G43),0) -> 0
A44: Rate 36 | N44: =(F44*L44)+(G44*M44) -> 0 | P44: =(F44+G44)-E44 -> 0 | Q44: =H44-F44 -> 0 | R44: =IF(H44+F44<>0,((H44-F44)/F44),0) -> 0 | S44: =I44-G44 -> 0 | T44: =IF(I44+G44<>0,((I44-G44)/G44),0) -> 0
A45: Rate 37 | N45: =(F45*L45)+(G45*M45) -> 0 | P45: =(F45+G45)-E45 -> 0 | Q45: =H45-F45 -> 0 | R45: =IF(H45+F45<>0,((H45-F45)/F45),0) -> 0 | S45: =I45-G45 -> 0 | T45: =IF(I45+G45<>0,((I45-G45)/G45),0) -> 0
... A58: Rate 50 | N58: =(F58*L58)+(G58*M58) -> 0 | P58: =(F58+G58)-E58 -> 0 | Q58: =H58-F58 -> 0 | R58: =IF(H58+F58<>0,((H58-F58)/F58),0) -> 0 | S58: =I58-G58 -> 0 | T58: =IF(I58+G58<>0,((I58-G58)/G58),0) -> 0
B60: *This is the Unit by which the center bills users. For example, per hour, per sample, etc.. | M60: Total Prior Year's Revenue | N60: =SUM(N9:N33) -> 0
B61: *If your rates require time from staff, please ensure usage is covered by the implied FTE available from the salaries tab. See hours available below
B63: Maximum Billable Hours
B64: Available Hours | D64: 2080 | E64: 40 hours/week * 52 weeks
B65: Less Holidays | D65: 88 | E65: 11 days paid * 8 hours/day
B66: Less Vacation | D66: 80 | E66: Approx # of vacation days/year (in hours)
B67: Less Sick | D67: 40 | E67: Approx # of sick days/year (in hours)
B68: Less Other Down Time | D68: 300 | E68: Approx # of other down time hours (ex. # of meeting or lab management hours per month x 12)
B69: Max Total Billable Hours per FTE | D69: =D64-SUM(D65:D68) -> 1572
...

Sheet Salaries
A1: Year 1 Salaries & Benefits
A2: Purpose: List personnel paid on the center and allocated S&B to each rate. | E2: Provide the actual benefit percentages for each employee type below
A3: Enter Hourly Employees, Grad Students, Students in separate section below. | E3: Employee Type | F3: Ledger | G3: Fringe Benefit % Yr. 1
A4: 100% of the FTE% on center needs to be allocated to the various rates. | E4: Instruction and Research Faculty | F4: 50000 | G4: 0.226 | HN4: 01-10
E5: Medical Residents | F5: 50010 | G5: 0.285
E6: Residents and Chief Residents | F6: 50020 | G6: 0.285
E7: Graduate Student Appointments | F7: 50030 | G7: 0.182
E8: Post-Doctoral Trainees | F8: 50040 | G8: 0.163
E9: Classified Staff | F9: 50050 | G9: 0.381
E10: Professional Staff | F10: 50060 | G10: 0.3
E11: Professional Staff - Other Contract Staff | F11: 50090 | G11: 0.3
E12: Hourly, Visiting Scientists, and Overtime | F12: 50100 | G12: 0.212
A13: Necessary benefit percentages and growth factors are taken from the table to the right. | E13: Pre-Doctoral Fellows and Trainees | F13: 50110 | G13: 0.252 | HN13: 01-60
A16: =IF('General Information'!B7=0, "Please Enter Start Date On General Information Sheet", "Year 1: "&TEXT('General Information'!B7,"mm/dd/yy")&" to "&TEXT('General Information'!B8-365, "mm/dd/yy")) -> Please Enter Start Date On General Information Sheet
A17: NAME | B17: EMPLOYEE ID NUMBER | C17: Ledger | D17: TITLE | E17: MONTHLY SALARY | F17: BASE SALARY (AT 100% FTE) | G17: BEN % | H17: FTE ON CENTER | I17: TOTAL SALARY | J17: TOTAL BENEFITS | K17: TOTAL SAL & BEN ON CTR | L17: Center Overhead Yr. 1 | P17: Rate 1 Yr. 1 | T17: Rate 2 Yr. 1 | X17: Rate 3 Yr. 1 | AB17: Rate 4 Yr. 1 | AF17: Rate 5 Yr. 1 | AJ17: Rate 6 Yr. 1 | AN17: Rate 7 Yr. 1 | AR17: Rate 8 Yr. 1 | AV17: Rate 9 Yr. 1 | AZ17: Rate 10 Yr. 1 | BD17: Rate 11 Yr. 1 | BH17: Rate 12 Yr. 1 | BL17: Rate 13 Yr. 1 | BP17: Rate 14 Yr. 1 | BT17: Rate 15 Yr. 1 | BX17: Rate 16 Yr. 1 | CB17: Rate 17 Yr. 1 | CF17: Rate 18 Yr. 1 | CJ17: Rate 19 Yr. 1 | CN17: Rate 20 Yr. 1 | CR17: Rate 21 Yr. 1 | CV17: Rate 22 Yr. 1 | CZ17: Rate 23 Yr. 1 | DD17: Rate 24 Yr. 1 | DH17: Rate 25 Yr. 1 | DL17: Rate 26 Yr. 1 | DP17: Rate 27 Yr. 1 | DT17: Rate 28 Yr. 1 | DX17: Rate 29 Yr. 1 | EB17: Rate 30 Yr. 1 | EF17: Rate 31 Yr. 1 | EJ17: Rate 32 Yr. 1 | EN17: Rate 33 Yr. 1 | ER17: Rate 34 Yr. 1 | EV17: Rate 35 Yr. 1 | EZ17: Rate 36 Yr. 1 | FD17: Rate 37 Yr. 1 | FH17: Rate 38 Yr. 1 | FL17: Rate 39 Yr. 1 | FP17: Rate 40 Yr. 1 | FT17: Rate 41 Yr. 1 | FX17: Rate 42 Yr. 1 | GB17: Rate 43 Yr. 1 | GF17: Rate 44 Yr. 1 | GJ17: Rate 45 Yr. 1 | GN17: Rate 46 Yr. 1 | GR17: Rate 47 Yr. 1 | GV17: Rate 48 Yr. 1 | GZ17: Rate 49 Yr. 1 | HD17: Rate 50 Yr. 1 | HI17: Percent Check | HJ17: Dollar Check | HK17: Difference between allocated dollar and total dollar
L18: =IF(Usage!$B$8=0, "", Usage!$B$8) -> Center Overhead | P18: =IF(Usage!$B$9=0, "", Usage!$B$9) | T18: =IF(Usage!$B$10=0, "", Usage!$B$10) | X18: =IF(Usage!$B$11=0, "", Usage!$B$11) | AB18: =IF(Usage!$B$12=0, "", Usage!$B$12) | AF18: =IF(Usage!$B$13=0, "", Usage!$B$13) | AJ18: =IF(Usage!$B$14=0, "", Usage!$B$14) | AN18: =IF(Usage!$B$15=0, "", Usage!$B$15) | AR18: =IF(Usage!$B$16=0, "", Usage!$B$16) | AV18: =IF(Usage!$B$17=0, "", Usage!$B$17) | AZ18: =IF(Usage!$B$18=0, "", Usage!$B$18) | BD18: =IF(Usage!$B$19=0, "", Usage!$B$19) | BH18: =IF(Usage!$B$20=0, "", Usage!$B$20) | BL18: =IF(Usage!$B$21=0, "", Usage!$B$21) | BP18: =IF(Usage!$B$22=0, "", Usage!$B$22) | BT18: =IF(Usage!$B$23=0, "", Usage!$B$23) | BX18: =IF(Usage!$B$24=0, "", Usage!$B$24) | CB18: =IF(Usage!$B$25=0, "", Usage!$B$25) | CF18: =IF(Usage!$B$26=0, "", Usage!$B$26) | CJ18: =IF(Usage!$B$27=0, "", Usage!$B$27) | CN18: =IF(Usage!$B$28=0, "", Usage!$B$28) | CR18: =IF(Usage!$B$29=0, "", Usage!$B$29) | CV18: =IF(Usage!$B$30=0, "", Usage!$B$30) | CZ18: =IF(Usage!$B$31=0, "", Usage!$B$31) | DD18: =IF(Usage!$B$32=0, "", Usage!$B$32) | DH18: =IF(Usage!$B$33=0, "", Usage!$B$33) | DL18: =IF(Usage!$B$34=0, "", Usage!$B$34) | DP18: =IF(Usage!$B$35=0, "", Usage!$B$35) | DT18: =IF(Usage!$B$36=0, "", Usage!$B$36) | DX18: =IF(Usage!$B$37=0, "", Usage!$B$37) | EB18: =IF(Usage!$B$38=0, "", Usage!$B$38) | EF18: =IF(Usage!$B$39=0, "", Usage!$B$39) | EJ18: =IF(Usage!$B$40=0, "", Usage!$B$40) | EN18: =IF(Usage!$B$41=0, "", Usage!$B$41) | ER18: =IF(Usage!$B$42=0, "", Usage!$B$42) | EV18: =IF(Usage!$B$43=0, "", Usage!$B$43) | EZ18: =IF(Usage!$B$44=0, "", Usage!$B$44) | FD18: =IF(Usage!$B$45=0, "", Usage!$B$45) | FH18: =IF(Usage!$B$46=0, "", Usage!$B$46) | FL18: =IF(Usage!$B$47=0, "", Usage!$B$47) | FP18: =IF(Usage!$B$48=0, "", Usage!$B$48) | FT18: =IF(Usage!$B$49=0, "", Usage!$B$49) | FX18: =IF(Usage!$B$50=0, "", Usage!$B$50) | GB18: =IF(Usage!$B$51=0, "", Usage!$B$51) | GF18: =IF(Usage!$B$52=0, "", Usage!$B$52) | GJ18: =IF(Usage!$B$53=0, "", Usage!$B$53) | GN18: =IF(Usage!$B$54=0, "", Usage!$B$54) | GR18: =IF(Usage!$B$55=0, "", Usage!$B$55) | GV18: =IF(Usage!$B$56=0, "", Usage!$B$56) | GZ18: =IF(Usage!$B$57=0, "", Usage!$B$57) | HD18: =IF(Usage!$B$58=0, "", Usage!$B$58) | HI18: (should add up to 100%)
A19: Salaries of All Faculty and Staff | L19: FTE % | M19: Amount | N19: Sal | O19: Ben | P19: FTE % | Q19: Amount | R19: Sal | S19: Ben | T19: FTE % | U19: Amount | V19: Sal | W19: Ben | X19: FTE % | Y19: Amount | Z19: Sal | AA19: Ben | AB19: FTE % | AC19: Amount | AD19: Sal | AE19: Ben | AF19: FTE % | AG19: Amount | AH19: Sal | AI19: Ben | AJ19: FTE % | AK19: Amount | AL19: Sal | AM19: Ben | AN19: FTE % | AO19: Amount | AP19: Sal | AQ19: Ben | AR19: FTE % | AS19: Amount | AT19: Sal | AU19: Ben | AV19: FTE % | AW19: Amount | AX19: Sal | AY19: Ben | AZ19: FTE % | BA19: Amount | BB19: Sal | BC19: Ben | BD19: FTE % | BE19: Amount | BF19: Sal | BG19: Ben | BH19: FTE % | BI19: Amount | BJ19: Sal | BK19: Ben | BL19: FTE % | BM19: Amount | BN19: Sal | BO19: Ben | BP19: FTE % | BQ19: Amount | BR19: Sal | BS19: Ben | BT19: FTE % | BU19: Amount | BV19: Sal | BW19: Ben | BX19: FTE % | BY19: Amount | BZ19: Sal | CA19: Ben | CB19: FTE % | CC19: Amount | CD19: Sal | CE19: Ben | CF19: FTE % | CG19: Amount | CH19: Sal | CI19: Ben | CJ19: FTE % | CK19: Amount | CL19: Sal | CM19: Ben | CN19: FTE % | CO19: Amount | CP19: Sal | CQ19: Ben | CR19: FTE % | CS19: Amount | CT19: Sal | CU19: Ben | CV19: FTE % | CW19: Amount | CX19: Sal | CY19: Ben | CZ19: FTE % | DA19: Amount | DB19: Sal | DC19: Ben | DD19: FTE % | DE19: Amount | DF19: Sal | DG19: Ben | DH19: FTE % | DI19: Amount | DJ19: Sal | DK19: Ben | DL19: FTE % | DM19: Amount | DN19: Sal | DO19: Ben | DP19: FTE % | DQ19: Amount | DR19: Sal | DS19: Ben | DT19: FTE % | DU19: Amount | DV19: Sal | DW19: Ben | DX19: FTE % | DY19: Amount | DZ19: Sal | EA19: Ben | EB19: FTE % | EC19: Amount | ED19: Sal | EE19: Ben | EF19: FTE % | EG19: Amount | EH19: Sal | EI19: Ben | EJ19: FTE % | EK19: Amount | EL19: Sal | EM19: Ben | EN19: FTE % | EO19: Amount | EP19: Sal | EQ19: Ben | ER19: FTE % | ES19: Amount | ET19: Sal | EU19: Ben | EV19: FTE % | EW19: Amount | EX19: Sal | EY19: Ben | EZ19: FTE % | FA19: Amount | FB19: Sal | FC19: Ben | FD19: FTE % | FE19: Amount | FF19: Sal | FG19: Ben | FH19: FTE % | FI19: Amount | FJ19: Sal | FK19: Ben | FL19: FTE % | FM19: Amount | FN19: Sal | FO19: Ben | FP19: FTE % | FQ19: Amount | FR19: Sal | FS19: Ben | FT19: FTE % | FU19: Amount | FV19: Sal | FW19: Ben | FX19: FTE % | FY19: Amount | FZ19: Sal | GA19: Ben | GB19: FTE % | GC19: Amount | GD19: Sal | GE19: Ben | GF19: FTE % | GG19: Amount | GH19: Sal | GI19: Ben | GJ19: FTE % | GK19: Amount | GL19: Sal | GM19: Ben | GN19: FTE % | GO19: Amount | GP19: Sal | GQ19: Ben | GR19: FTE % | GS19: Amount | GT19: Sal | GU19: Ben | GV19: FTE % | GW19: Amount | GX19: Sal | GY19: Ben | GZ19: FTE % | HA19: Amount | HB19: Sal | HC19: Ben | HD19: FTE % | HE19: Amount | HF19: Sal | HG19: Ben
F20: =E20*12 -> 0 | G20: =IF(C20="",0,IF(C20="50000",$G$4,IF(C20="50010",$G$5,IF(C20="50020",$G$6,IF(C20="50030",$G$7,IF(C20="50040",$G$8,IF(C20="50050",$G$9,IF(C20="50060",$G$10,IF(C20="50090",$G$11,IF(C20="50100",$G$12,IF(C20="50110",$G$13))))))))))) -> 0 | H20: 0 | I20: =F20*H20 -> 0 | J20: =F20*G20*H20 -> 0 | K20: =F20*(1+G20)*H20 -> 0 | L20: 0 | M20: =$K20*L20 -> 0 | N20: =$I20*L20 -> 0 | O20: =$J20*L20 -> 0 | P20: 0 | Q20: =$K20*P20 -> 0 | R20: =$I20*P20 -> 0 | S20: =$J20*P20 -> 0 | T20: 0 | U20: =$K20*T20 -> 0 | V20: =$I20*T20 -> 0 | W20: =$J20*T20 -> 0 | X20: 0 | Y20: =$K20*X20 -> 0 | Z20: =$I20*X20 -> 0 | AA20: =$J20*X20 -> 0 | AB20: 0 | AC20: =$K20*AB20 -> 0 | AD20: =$I20*AB20 -> 0 | AE20: =$J20*AB20 -> 0 | AF20: 0 | AG20: =$K20*AF20 -> 0 | AH20: =$I20*AF20 -> 0 | AI20: =$J20*AF20 -> 0 | AJ20: 0 | AK20: =$K20*AJ20 -> 0 | AL20: =$I20*AJ20 -> 0 | AM20: =$J20*AJ20 -> 0 | AN20: 0 | AO20: =$K20*AN20 -> 0 | AP20: =$I20*AN20 -> 0 | AQ20: =$J20*AN20 -> 0 | AR20: 0 | AS20: =$K20*AR20 -> 0 | AT20: =$I20*AR20 -> 0 | AU20: =$J20*AR20 -> 0 | AV20: 0 | AW20: =$K20*AV20 -> 0 | AX20: =$I20*AV20 -> 0 | AY20: =$J20*AV20 -> 0 | AZ20: 0 | BA20: =$K20*AZ20 -> 0 | BB20: =$I20*AZ20 -> 0 | BC20: =$J20*AZ20 -> 0 | BD20: 0 | BE20: =$K20*BD20 -> 0 | BF20: =$I20*BD20 -> 0 | BG20: =$J20*BD20 -> 0 | BH20: 0 | BI20: =$K20*BH20 -> 0 | BJ20: =$I20*BH20 -> 0 | BK20: =$J20*BH20 -> 0 | BL20: 0 | BM20: =$K20*BL20 -> 0 | BN20: =$I20*BL20 -> 0 | BO20: =$J20*BL20 -> 0 | BP20: 0 | BQ20: =$K20*BP20 -> 0 | BR20: =$I20*BP20 -> 0 | BS20: =$J20*BP20 -> 0 | BT20: 0 | BU20: =$K20*BT20 -> 0 | BV20: =$I20*BT20 -> 0 | BW20: =$J20*BT20 -> 0 | BX20: 0 | BY20: =$K20*BX20 -> 0 | BZ20: =$I20*BX20 -> 0 | CA20: =$J20*BX20 -> 0 | CB20: 0 | CC20: =$K20*CB20 -> 0 | CD20: =$I20*CB20 -> 0 | CE20: =$J20*CB20 -> 0 | CF20: 0 | CG20: =$K20*CF20 -> 0 | CH20: =$I20*CF20 -> 0 | CI20: =$J20*CF20 -> 0 | CJ20: 0 | CK20: =$K20*CJ20 -> 0 | CL20: =$I20*CJ20 -> 0 | CM20: =$J20*CJ20 -> 0 | CN20: 0 | CO20: =$K20*CN20 -> 0 | CP20: =$I20*CN20 -> 0 | CQ20: =$J20*CN20 -> 0 | CR20: 0 | CS20: =$K20*CR20 -> 0 | CT20: =$I20*CR20 -> 0 | CU20: =$J20*CR20 -> 0 | CV20: 0 | CW20: =$K20*CV20 -> 0 | CX20: =$I20*CV20 -> 0 | CY20: =$J20*CV20 -> 0 | CZ20: 0 | DA20: =$K20*CZ20 -> 0 | DB20: =$I20*CZ20 -> 0 | DC20: =$J20*CZ20 -> 0 | DD20: 0 | DE20: =$K20*DD20 -> 0 | DF20: =$I20*DD20 -> 0 | DG20: =$J20*DD20 -> 0 | DH20: 0 | DI20: =$K20*DH20 -> 0 | DJ20: =$I20*DH20 -> 0 | DK20: =$J20*DH20 -> 0 | DL20: 0 | DM20: =$K20*DL20 -> 0 | DN20: =$I20*DL20 -> 0 | DO20: =$J20*DL20 -> 0 | DP20: 0 | DQ20: =$K20*DP20 -> 0 | DR20: =$I20*DP20 -> 0 | DS20: =$J20*DP20 -> 0 | DT20: 0 | DU20: =$K20*DT20 -> 0 | DV20: =$I20*DT20 -> 0 | DW20: =$J20*DT20 -> 0 | DX20: 0 | DY20: =$K20*DX20 -> 0 | DZ20: =$I20*DX20 -> 0 | EA20: =$J20*DX20 -> 0 | EB20: 0 | EC20: =$K20*EB20 -> 0 | ED20: =$I20*EB20 -> 0 | EE20: =$J20*EB20 -> 0 | EF20: 0 | EG20: =$K20*EF20 -> 0 | EH20: =$I20*EF20 -> 0 | EI20: =$J20*EF20 -> 0 | EJ20: 0 | EK20: =$K20*EJ20 -> 0 | EL20: =$I20*EJ20 -> 0 | EM20: =$J20*EJ20 -> 0 | EN20: 0 | EO20: =$K20*EN20 -> 0 | EP20: =$I20*EN20 -> 0 | EQ20: =$J20*EN20 -> 0 | ER20: 0 | ES20: =$K20*ER20 -> 0 | ET20: =$I20*ER20 -> 0 | EU20: =$J20*ER20 -> 0 | EV20: 0 | EW20: =$K20*EV20 -> 0 | EX20: =$I20*EV20 -> 0 | EY20: =$J20*EV20 -> 0 | EZ20: 0 | FA20: =$K20*EZ20 -> 0 | FB20: =$I20*EZ20 -> 0 | FC20: =$J20*EZ20 -> 0 | FD20: 0 | FE20: =$K20*FD20 -> 0 | FF20: =$I20*FD20 -> 0 | FG20: =$J20*FD20 -> 0 | FH20: 0 | FI20: =$K20*FH20 -> 0 | FJ20: =$I20*FH20 -> 0 | FK20: =$J20*FH20 -> 0 | FL20: 0 | FM20: =$K20*FL20 -> 0 | FN20: =$I20*FL20 -> 0 | FO20: =$J20*FL20 -> 0 | FP20: 0 | FQ20: =$K20*FP20 -> 0 | FR20: =$I20*FP20 -> 0 | FS20: =$J20*FP20 -> 0 | FT20: 0 | FU20: =$K20*FT20 -> 0 | FV20: =$I20*FT20 -> 0 | FW20: =$J20*FT20 -> 0 | FX20: 0 | FY20: =$K20*FX20 -> 0 | FZ20: =$I20*FX20 -> 0 | GA20: =$J20*FX20 -> 0 | GB20: 0 | GC20: =$K20*GB20 -> 0 | GD20: =$I20*GB20 -> 0 | GE20: =$J20*GB20 -> 0 | GF20: 0 | GG20: =$K20*GF20 -> 0 | GH20: =$I20*GF20 -> 0 | GI20: =$J20*GF20 -> 0 | GJ20: 0 | GK20: =$K20*GJ20 -> 0 | GL20: =$I20*GJ20 -> 0 | GM20: =$J20*GJ20 -> 0 | GN20: 0 | GO20: =$K20*GN20 -> 0 | GP20: =$I20*GN20 -> 0 | GQ20: =$J20*GN20 -> 0 | GR20: 0 | GS20: =$K20*GR20 -> 0 | GT20: =$I20*GR20 -> 0 | GU20: =$J20*GR20 -> 0 | GV20: 0 | GW20: =$K20*GV20 -> 0 | GX20: =$I20*GV20 -> 0 | GY20: =$J20*GV20 -> 0 | GZ20: 0 | HA20: =$K20*GZ20 -> 0 | HB20: =$I20*GZ20 -> 0 | HC20: =$J20*GZ20 -> 0 | HD20: 0 | HE20: =$K20*HD20 -> 0 | HF20: =$I20*HD20 -> 0 | HG20: =$J20*HD20 -> 0 | HI20: =L20+P20+T20+X20+AB20+AF20+AJ20+AN20+AR20+AV20+AZ20+BD20+BH20+BL20+BP20+BT20+BX20+CB20+CF20+CJ20+CN20+CR20+CV20+CZ20+DD20+DH20+DL20+DP20+DT20+DX20+EB20+EF20+EJ20+EN20+ER20+EV20+EZ20+FD20+FH20+FL20+FP20+FT20+FX20+GB20+GF20+GJ20+GN20+GR20+GV20+GZ20+HD20 -> 0 | HJ20: =M20+Q20+U20+Y20+AC20+AG20+AK20+AO20+AS20+AW20+BA20+BE20+BI20+BM20+BQ20+BU20+BY20+CC20+CG20+CK20+CO20+CS20+CW20+DA20+DE20+DI20+DM20+DQ20+DU20+DY20+EC20+EG20+EK20+EO20+ES20+EW20+FA20+FE20+FI20+FM20+FQ20+FU20+FY20+GC20+GG20+GK20+GO20+GS20+GW20+HA20+HE20 -> 0 | HK20: =HJ20-K20 -> 0
F21: =E21*12 -> 0 | G21: =IF(C21="",0,IF(C21="50000",$G$4,IF(C21="50010",$G$5,IF(C21="50020",$G$6,IF(C21="50030",$G$7,IF(C21="50040",$G$8,IF(C21="50050",$G$9,IF(C21="50060",$G$10,IF(C21="50090",$G$11,IF(C21="50100",$G$12,IF(C21="50110",$G$13))))))))))) -> 0 | H21: 0 | I21: =F21*H21 -> 0 | J21: =F21*G21*H21 -> 0 | K21: =F21*(1+G21)*H21 -> 0 | L21: 0 | M21: =$K21*L21 -> 0 | N21: =$I21*L21 -> 0 | O21: =$J21*L21 -> 0 | P21: 0 | Q21: =$K21*P21 -> 0 | R21: =$I21*P21 -> 0 | S21: =$J21*P21 -> 0 | T21: 0 | U21: =$K21*T21 -> 0 | V21: =$I21*T21 -> 0 | W21: =$J21*T21 -> 0 | X21: 0 | Y21: =$K21*X21 -> 0 | Z21: =$I21*X21 -> 0 | AA21: =$J21*X21 -> 0 | AB21: 0 | AC21: =$K21*AB21 -> 0 | AD21: =$I21*AB21 -> 0 | AE21: =$J21*AB21 -> 0 | AF21: 0 | AG21: =$K21*AF21 -> 0 | AH21: =$I21*AF21 -> 0 | AI21: =$J21*AF21 -> 0 | AJ21: 0 | AK21: =$K21*AJ21 -> 0 | AL21: =$I21*AJ21 -> 0 | AM21: =$J21*AJ21 -> 0 | AN21: 0 | AO21: =$K21*AN21 -> 0 | AP21: =$I21*AN21 -> 0 | AQ21: =$J21*AN21 -> 0 | AR21: 0 | AS21: =$K21*AR21 -> 0 | AT21: =$I21*AR21 -> 0 | AU21: =$J21*AR21 -> 0 | AV21: 0 | AW21: =$K21*AV21 -> 0 | AX21: =$I21*AV21 -> 0 | AY21: =$J21*AV21 -> 0 | AZ21: 0 | BA21: =$K21*AZ21 -> 0 | BB21: =$I21*AZ21 -> 0 | BC21: =$J21*AZ21 -> 0 | BD21: 0 | BE21: =$K21*BD21 -> 0 | BF21: =$I21*BD21 -> 0 | BG21: =$J21*BD21 -> 0 | BH21: 0 | BI21: =$K21*BH21 -> 0 | BJ21: =$I21*BH21 -> 0 | BK21: =$J21*BH21 -> 0 | BL21: 0 | BM21: =$K21*BL21 -> 0 | BN21: =$I21*BL21 -> 0 | BO21: =$J21*BL21 -> 0 | BP21: 0 | BQ21: =$K21*BP21 -> 0 | BR21: =$I21*BP21 -> 0 | BS21: =$J21*BP21 -> 0 | BT21: 0 | BU21: =$K21*BT21 -> 0 | BV21: =$I21*BT21 -> 0 | BW21: =$J21*BT21 -> 0 | BX21: 0 | BY21: =$K21*BX21 -> 0 | BZ21: =$I21*BX21 -> 0 | CA21: =$J21*BX21 -> 0 | CB21: 0 | CC21: =$K21*CB21 -> 0 | CD21: =$I21*CB21 -> 0 | CE21: =$J21*CB21 -> 0 | CF21: 0 | CG21: =$K21*CF21 -> 0 | CH21: =$I21*CF21 -> 0 | CI21: =$J21*CF21 -> 0 | CJ21: 0 | CK21: =$K21*CJ21 -> 0 | CL21: =$I21*CJ21 -> 0 | CM21: =$J21*CJ21 -> 0 | CN21: 0 | CO21: =$K21*CN21 -> 0 | CP21: =$I21*CN21 -> 0 | CQ21: =$J21*CN21 -> 0 | CR21: 0 | CS21: =$K21*CR21 -> 0 | CT21: =$I21*CR21 -> 0 | CU21: =$J21*CR21 -> 0 | CV21: 0 | CW21: =$K21*CV21 -> 0 | CX21: =$I21*CV21 -> 0 | CY21: =$J21*CV21 -> 0 | CZ21: 0 | DA21: =$K21*CZ21 -> 0 | DB21: =$I21*CZ21 -> 0 | DC21: =$J21*CZ21 -> 0 | DD21: 0 | DE21: =$K21*DD21 -> 0 | DF21: =$I21*DD21 -> 0 | DG21: =$J21*DD21 -> 0 | DH21: 0 | DI21: =$K21*DH21 -> 0 | DJ21: =$I21*DH21 -> 0 | DK21: =$J21*DH21 -> 0 | DL21: 0 | DM21: =$K21*DL21 -> 0 | DN21: =$I21*DL21 -> 0 | DO21: =$J21*DL21 -> 0 | DP21: 0 | DQ21: =$K21*DP21 -> 0 | DR21: =$I21*DP21 -> 0 | DS21: =$J21*DP21 -> 0 | DT21: 0 | DU21: =$K21*DT21 -> 0 | DV21: =$I21*DT21 -> 0 | DW21: =$J21*DT21 -> 0 | DX21: 0 | DY21: =$K21*DX21 -> 0 | DZ21: =$I21*DX21 -> 0 | EA21: =$J21*DX21 -> 0 | EB21: 0 | EC21: =$K21*EB21 -> 0 | ED21: =$I21*EB21 -> 0 | EE21: =$J21*EB21 -> 0 | EF21: 0 | EG21: =$K21*EF21 -> 0 | EH21: =$I21*EF21 -> 0 | EI21: =$J21*EF21 -> 0 | EJ21: 0 | EK21: =$K21*EJ21 -> 0 | EL21: =$I21*EJ21 -> 0 | EM21: =$J21*EJ21 -> 0 | EN21: 0 | EO21: =$K21*EN21 -> 0 | EP21: =$I21*EN21 -> 0 | EQ21: =$J21*EN21 -> 0 | ER21: 0 | ES21: =$K21*ER21 -> 0 | ET21: =$I21*ER21 -> 0 | EU21: =$J21*ER21 -> 0 | EV21: 0 | EW21: =$K21*EV21 -> 0 | EX21: =$I21*EV21 -> 0 | EY21: =$J21*EV21 -> 0 | EZ21: 0 | FA21: =$K21*EZ21 -> 0 | FB21: =$I21*EZ21 -> 0 | FC21: =$J21*EZ21 -> 0 | FD21: 0 | FE21: =$K21*FD21 -> 0 | FF21: =$I21*FD21 -> 0 | FG21: =$J21*FD21 -> 0 | FH21: 0 | FI21: =$K21*FH21 -> 0 | FJ21: =$I21*FH21 -> 0 | FK21: =$J21*FH21 -> 0 | FL21: 0 | FM21: =$K21*FL21 -> 0 | FN21: =$I21*FL21 -> 0 | FO21: =$J21*FL21 -> 0 | FP21: 0 | FQ21: =$K21*FP21 -> 0 | FR21: =$I21*FP21 -> 0 | FS21: =$J21*FP21 -> 0 | FT21: 0 | FU21: =$K21*FT21 -> 0 | FV21: =$I21*FT21 -> 0 | FW21: =$J21*FT21 -> 0 | FX21: 0 | FY21: =$K21*FX21 -> 0 | FZ21: =$I21*FX21 -> 0 | GA21: =$J21*FX21 -> 0 | GB21: 0 | GC21: =$K21*GB21 -> 0 | GD21: =$I21*GB21 -> 0 | GE21: =$J21*GB21 -> 0 | GF21: 0 | GG21: =$K21*GF21 -> 0 | GH21: =$I21*GF21 -> 0 | GI21: =$J21*GF21 -> 0 | GJ21: 0 | GK21: =$K21*GJ21 -> 0 | GL21: =$I21*GJ21 -> 0 | GM21: =$J21*GJ21 -> 0 | GN21: 0 | GO21: =$K21*GN21 -> 0 | GP21: =$I21*GN21 -> 0 | GQ21: =$J21*GN21 -> 0 | GR21: 0 | GS21: =$K21*GR21 -> 0 | GT21: =$I21*GR21 -> 0 | GU21: =$J21*GR21 -> 0 | GV21: 0 | GW21: =$K21*GV21 -> 0 | GX21: =$I21*GV21 -> 0 | GY21: =$J21*GV21 -> 0 | GZ21: 0 | HA21: =$K21*GZ21 -> 0 | HB21: =$I21*GZ21 -> 0 | HC21: =$J21*GZ21 -> 0 | HD21: 0 | HE21: =$K21*HD21 -> 0 | HF21: =$I21*HD21 -> 0 | HG21: =$J21*HD21 -> 0 | HI21: =L21+P21+T21+X21+AB21+AF21+AJ21+AN21+AR21+AV21+AZ21+BD21+BH21+BL21+BP21+BT21+BX21+CB21+CF21+CJ21+CN21+CR21+CV21+CZ21+DD21+DH21+DL21+DP21+DT21+DX21+EB21+EF21+EJ21+EN21+ER21+EV21+EZ21+FD21+FH21+FL21+FP21+FT21+FX21+GB21+GF21+GJ21+GN21+GR21+GV21+GZ21+HD21 -> 0 | HJ21: =M21+Q21+U21+Y21+AC21+AG21+AK21+AO21+AS21+AW21+BA21+BE21+BI21+BM21+BQ21+BU21+BY21+CC21+CG21+CK21+CO21+CS21+CW21+DA21+DE21+DI21+DM21+DQ21+DU21+DY21+EC21+EG21+EK21+EO21+ES21+EW21+FA21+FE21+FI21+FM21+FQ21+FU21+FY21+GC21+GG21+GK21+GO21+GS21+GW21+HA21+HE21 -> 0 | HK21: =HJ21-K21 -> 0
F22: =E22*12 -> 0 | G22: =IF(C22="",0,IF(C22="50000",$G$4,IF(C22="50010",$G$5,IF(C22="50020",$G$6,IF(C22="50030",$G$7,IF(C22="50040",$G$8,IF(C22="50050",$G$9,IF(C22="50060",$G$10,IF(C22="50090",$G$11,IF(C22="50100",$G$12,IF(C22="50110",$G$13))))))))))) -> 0 | H22: 0 | I22: =F22*H22 -> 0 | J22: =F22*G22*H22 -> 0 | K22: =F22*(1+G22)*H22 -> 0 | L22: 0 | M22: =$K22*L22 -> 0 | N22: =$I22*L22 -> 0 | O22: =$J22*L22 -> 0 | P22: 0 | Q22: =$K22*P22 -> 0 | R22: =$I22*P22 -> 0 | S22: =$J22*P22 -> 0 | T22: 0 | U22: =$K22*T22 -> 0 | V22: =$I22*T22 -> 0 | W22: =$J22*T22 -> 0 | X22: 0 | Y22: =$K22*X22 -> 0 | Z22: =$I22*X22 -> 0 | AA22: =$J22*X22 -> 0 | AB22: 0 | AC22: =$K22*AB22 -> 0 | AD22: =$I22*AB22 -> 0 | AE22: =$J22*AB22 -> 0 | AF22: 0 | AG22: =$K22*AF22 -> 0 | AH22: =$I22*AF22 -> 0 | AI22: =$J22*AF22 -> 0 | AJ22: 0 | AK22: =$K22*AJ22 -> 0 | AL22: =$I22*AJ22 -> 0 | AM22: =$J22*AJ22 -> 0 | AN22: 0 | AO22: =$K22*AN22 -> 0 | AP22: =$I22*AN22 -> 0 | AQ22: =$J22*AN22 -> 0 | AR22: 0 | AS22: =$K22*AR22 -> 0 | AT22: =$I22*AR22 -> 0 | AU22: =$J22*AR22 -> 0 | AV22: 0 | AW22: =$K22*AV22 -> 0 | AX22: =$I22*AV22 -> 0 | AY22: =$J22*AV22 -> 0 | AZ22: 0 | BA22: =$K22*AZ22 -> 0 | BB22: =$I22*AZ22 -> 0 | BC22: =$J22*AZ22 -> 0 | BD22: 0 | BE22: =$K22*BD22 -> 0 | BF22: =$I22*BD22 -> 0 | BG22: =$J22*BD22 -> 0 | BH22: 0 | BI22: =$K22*BH22 -> 0 | BJ22: =$I22*BH22 -> 0 | BK22: =$J22*BH22 -> 0 | BL22: 0 | BM22: =$K22*BL22 -> 0 | BN22: =$I22*BL22 -> 0 | BO22: =$J22*BL22 -> 0 | BP22: 0 | BQ22: =$K22*BP22 -> 0 | BR22: =$I22*BP22 -> 0 | BS22: =$J22*BP22 -> 0 | BT22: 0 | BU22: =$K22*BT22 -> 0 | BV22: =$I22*BT22 -> 0 | BW22: =$J22*BT22 -> 0 | BX22: 0 | BY22: =$K22*BX22 -> 0 | BZ22: =$I22*BX22 -> 0 | CA22: =$J22*BX22 -> 0 | CB22: 0 | CC22: =$K22*CB22 -> 0 | CD22: =$I22*CB22 -> 0 | CE22: =$J22*CB22 -> 0 | CF22: 0 | CG22: =$K22*CF22 -> 0 | CH22: =$I22*CF22 -> 0 | CI22: =$J22*CF22 -> 0 | CJ22: 0 | CK22: =$K22*CJ22 -> 0 | CL22: =$I22*CJ22 -> 0 | CM22: =$J22*CJ22 -> 0 | CN22: 0 | CO22: =$K22*CN22 -> 0 | CP22: =$I22*CN22 -> 0 | CQ22: =$J22*CN22 -> 0 | CR22: 0 | CS22: =$K22*CR22 -> 0 | CT22: =$I22*CR22 -> 0 | CU22: =$J22*CR22 -> 0 | CV22: 0 | CW22: =$K22*CV22 -> 0 | CX22: =$I22*CV22 -> 0 | CY22: =$J22*CV22 -> 0 | CZ22: 0 | DA22: =$K22*CZ22 -> 0 | DB22: =$I22*CZ22 -> 0 | DC22: =$J22*CZ22 -> 0 | DD22: 0 | DE22: =$K22*DD22 -> 0 | DF22: =$I22*DD22 -> 0 | DG22: =$J22*DD22 -> 0 | DH22: 0 | DI22: =$K22*DH22 -> 0 | DJ22: =$I22*DH22 -> 0 | DK22: =$J22*DH22 -> 0 | DL22: 0 | DM22: =$K22*DL22 -> 0 | DN22: =$I22*DL22 -> 0 | DO22: =$J22*DL22 -> 0 | DP22: 0 | DQ22: =$K22*DP22 -> 0 | DR22: =$I22*DP22 -> 0 | DS22: =$J22*DP22 -> 0 | DT22: 0 | DU22: =$K22*DT22 -> 0 | DV22: =$I22*DT22 -> 0 | DW22: =$J22*DT22 -> 0 | DX22: 0 | DY22: =$K22*DX22 -> 0 | DZ22: =$I22*DX22 -> 0 | EA22: =$J22*DX22 -> 0 | EB22: 0 | EC22: =$K22*EB22 -> 0 | ED22: =$I22*EB22 -> 0 | EE22: =$J22*EB22 -> 0 | EF22: 0 | EG22: =$K22*EF22 -> 0 | EH22: =$I22*EF22 -> 0 | EI22: =$J22*EF22 -> 0 | EJ22: 0 | EK22: =$K22*EJ22 -> 0 | EL22: =$I22*EJ22 -> 0 | EM22: =$J22*EJ22 -> 0 | EN22: 0 | EO22: =$K22*EN22 -> 0 | EP22: =$I22*EN22 -> 0 | EQ22: =$J22*EN22 -> 0 | ER22: 0 | ES22: =$K22*ER22 -> 0 | ET22: =$I22*ER22 -> 0 | EU22: =$J22*ER22 -> 0 | EV22: 0 | EW22: =$K22*EV22 -> 0 | EX22: =$I22*EV22 -> 0 | EY22: =$J22*EV22 -> 0 | EZ22: 0 | FA22: =$K22*EZ22 -> 0 | FB22: =$I22*EZ22 -> 0 | FC22: =$J22*EZ22 -> 0 | FD22: 0 | FE22: =$K22*FD22 -> 0 | FF22: =$I22*FD22 -> 0 | FG22: =$J22*FD22 -> 0 | FH22: 0 | FI22: =$K22*FH22 -> 0 | FJ22: =$I22*FH22 -> 0 | FK22: =$J22*FH22 -> 0 | FL22: 0 | FM22: =$K22*FL22 -> 0 | FN22: =$I22*FL22 -> 0 | FO22: =$J22*FL22 -> 0 | FP22: 0 | FQ22: =$K22*FP22 -> 0 | FR22: =$I22*FP22 -> 0 | FS22: =$J22*FP22 -> 0 | FT22: 0 | FU22: =$K22*FT22 -> 0 | FV22: =$I22*FT22 -> 0 | FW22: =$J22*FT22 -> 0 | FX22: 0 | FY22: =$K22*FX22 -> 0 | FZ22: =$I22*FX22 -> 0 | GA22: =$J22*FX22 -> 0 | GB22: 0 | GC22: =$K22*GB22 -> 0 | GD22: =$I22*GB22 -> 0 | GE22: =$J22*GB22 -> 0 | GF22: 0 | GG22: =$K22*GF22 -> 0 | GH22: =$I22*GF22 -> 0 | GI22: =$J22*GF22 -> 0 | GJ22: 0 | GK22: =$K22*GJ22 -> 0 | GL22: =$I22*GJ22 -> 0 | GM22: =$J22*GJ22 -> 0 | GN22: 0 | GO22: =$K22*GN22 -> 0 | GP22: =$I22*GN22 -> 0 | GQ22: =$J22*GN22 -> 0 | GR22: 0 | GS22: =$K22*GR22 -> 0 | GT22: =$I22*GR22 -> 0 | GU22: =$J22*GR22 -> 0 | GV22: 0 | GW22: =$K22*GV22 -> 0 | GX22: =$I22*GV22 -> 0 | GY22: =$J22*GV22 -> 0 | GZ22: 0 | HA22: =$K22*GZ22 -> 0 | HB22: =$I22*GZ22 -> 0 | HC22: =$J22*GZ22 -> 0 | HD22: 0 | HE22: =$K22*HD22 -> 0 | HF22: =$I22*HD22 -> 0 | HG22: =$J22*HD22 -> 0 | HI22: =L22+P22+T22+X22+AB22+AF22+AJ22+AN22+AR22+AV22+AZ22+BD22+BH22+BL22+BP22+BT22+BX22+CB22+CF22+CJ22+CN22+CR22+CV22+CZ22+DD22+DH22+DL22+DP22+DT22+DX22+EB22+EF22+EJ22+EN22+ER22+EV22+EZ22+FD22+FH22+FL22+FP22+FT22+FX22+GB22+GF22+GJ22+GN22+GR22+GV22+GZ22+HD22 -> 0 | HJ22: =M22+Q22+U22+Y22+AC22+AG22+AK22+AO22+AS22+AW22+BA22+BE22+BI22+BM22+BQ22+BU22+BY22+CC22+CG22+CK22+CO22+CS22+CW22+DA22+DE22+DI22+DM22+DQ22+DU22+DY22+EC22+EG22+EK22+EO22+ES22+EW22+FA22+FE22+FI22+FM22+FQ22+FU22+FY22+GC22+GG22+GK22+GO22+GS22+GW22+HA22+HE22 -> 0 | HK22: =HJ22-K22 -> 0
F23: =E23*12 -> 0 | G23: =IF(C23="",0,IF(C23="50000",$G$4,IF(C23="50010",$G$5,IF(C23="50020",$G$6,IF(C23="50030",$G$7,IF(C23="50040",$G$8,IF(C23="50050",$G$9,IF(C23="50060",$G$10,IF(C23="50090",$G$11,IF(C23="50100",$G$12,IF(C23="50110",$G$13))))))))))) -> 0 | H23: 0 | I23: =F23*H23 -> 0 | J23: =F23*G23*H23 -> 0 | K23: =F23*(1+G23)*H23 -> 0 | L23: 0 | M23: =$K23*L23 -> 0 | N23: =$I23*L23 -> 0 | O23: =$J23*L23 -> 0 | P23: 0 | Q23: =$K23*P23 -> 0 | R23: =$I23*P23 -> 0 | S23: =$J23*P23 -> 0 | T23: 0 | U23: =$K23*T23 -> 0 | V23: =$I23*T23 -> 0 | W23: =$J23*T23 -> 0 | X23: 0 | Y23: =$K23*X23 -> 0 | Z23: =$I23*X23 -> 0 | AA23: =$J23*X23 -> 0 | AB23: 0 | AC23: =$K23*AB23 -> 0 | AD23: =$I23*AB23 -> 0 | AE23: =$J23*AB23 -> 0 | AF23: 0 | AG23: =$K23*AF23 -> 0 | AH23: =$I23*AF23 -> 0 | AI23: =$J23*AF23 -> 0 | AJ23: 0 | AK23: =$K23*AJ23 -> 0 | AL23: =$I23*AJ23 -> 0 | AM23: =$J23*AJ23 -> 0 | AN23: 0 | AO23: =$K23*AN23 -> 0 | AP23: =$I23*AN23 -> 0 | AQ23: =$J23*AN23 -> 0 | AR23: 0 | AS23: =$K23*AR23 -> 0 | AT23: =$I23*AR23 -> 0 | AU23: =$J23*AR23 -> 0 | AV23: 0 | AW23: =$K23*AV23 -> 0 | AX23: =$I23*AV23 -> 0 | AY23: =$J23*AV23 -> 0 | AZ23: 0 | BA23: =$K23*AZ23 -> 0 | BB23: =$I23*AZ23 -> 0 | BC23: =$J23*AZ23 -> 0 | BD23: 0 | BE23: =$K23*BD23 -> 0 | BF23: =$I23*BD23 -> 0 | BG23: =$J23*BD23 -> 0 | BH23: 0 | BI23: =$K23*BH23 -> 0 | BJ23: =$I23*BH23 -> 0 | BK23: =$J23*BH23 -> 0 | BL23: 0 | BM23: =$K23*BL23 -> 0 | BN23: =$I23*BL23 -> 0 | BO23: =$J23*BL23 -> 0 | BP23: 0 | BQ23: =$K23*BP23 -> 0 | BR23: =$I23*BP23 -> 0 | BS23: =$J23*BP23 -> 0 | BT23: 0 | BU23: =$K23*BT23 -> 0 | BV23: =$I23*BT23 -> 0 | BW23: =$J23*BT23 -> 0 | BX23: 0 | BY23: =$K23*BX23 -> 0 | BZ23: =$I23*BX23 -> 0 | CA23: =$J23*BX23 -> 0 | CB23: 0 | CC23: =$K23*CB23 -> 0 | CD23: =$I23*CB23 -> 0 | CE23: =$J23*CB23 -> 0 | CF23: 0 | CG23: =$K23*CF23 -> 0 | CH23: =$I23*CF23 -> 0 | CI23: =$J23*CF23 -> 0 | CJ23: 0 | CK23: =$K23*CJ23 -> 0 | CL23: =$I23*CJ23 -> 0 | CM23: =$J23*CJ23 -> 0 | CN23: 0 | CO23: =$K23*CN23 -> 0 | CP23: =$I23*CN23 -> 0 | CQ23: =$J23*CN23 -> 0 | CR23: 0 | CS23: =$K23*CR23 -> 0 | CT23: =$I23*CR23 -> 0 | CU23: =$J23*CR23 -> 0 | CV23: 0 | CW23: =$K23*CV23 -> 0 | CX23: =$I23*CV23 -> 0 | CY23: =$J23*CV23 -> 0 | CZ23: 0 | DA23: =$K23*CZ23 -> 0 | DB23: =$I23*CZ23 -> 0 | DC23: =$J23*CZ23 -> 0 | DD23: 0 | DE23: =$K23*DD23 -> 0 | DF23: =$I23*DD23 -> 0 | DG23: =$J23*DD23 -> 0 | DH23: 0 | DI23: =$K23*DH23 -> 0 | DJ23: =$I23*DH23 -> 0 | DK23: =$J23*DH23 -> 0 | DL23: 0 | DM23: =$K23*DL23 -> 0 | DN23: =$I23*DL23 -> 0 | DO23: =$J23*DL23 -> 0 | DP23: 0 | DQ23: =$K23*DP23 -> 0 | DR23: =$I23*DP23 -> 0 | DS23: =$J23*DP23 -> 0 | DT23: 0 | DU23: =$K23*DT23 -> 0 | DV23: =$I23*DT23 -> 0 | DW23: =$J23*DT23 -> 0 | DX23: 0 | DY23: =$K23*DX23 -> 0 | DZ23: =$I23*DX23 -> 0 | EA23: =$J23*DX23 -> 0 | EB23: 0 | EC23: =$K23*EB23 -> 0 | ED23: =$I23*EB23 -> 0 | EE23: =$J23*EB23 -> 0 | EF23: 0 | EG23: =$K23*EF23 -> 0 | EH23: =$I23*EF23 -> 0 | EI23: =$J23*EF23 -> 0 | EJ23: 0 | EK23: =$K23*EJ23 -> 0 | EL23: =$I23*EJ23 -> 0 | EM23: =$J23*EJ23 -> 0 | EN23: 0 | EO23: =$K23*EN23 -> 0 | EP23: =$I23*EN23 -> 0 | EQ23: =$J23*EN23 -> 0 | ER23: 0 | ES23: =$K23*ER23 -> 0 | ET23: =$I23*ER23 -> 0 | EU23: =$J23*ER23 -> 0 | EV23: 0 | EW23: =$K23*EV23 -> 0 | EX23: =$I23*EV23 -> 0 | EY23: =$J23*EV23 -> 0 | EZ23: 0 | FA23: =$K23*EZ23 -> 0 | FB23: =$I23*EZ23 -> 0 | FC23: =$J23*EZ23 -> 0 | FD23: 0 | FE23: =$K23*FD23 -> 0 | FF23: =$I23*FD23 -> 0 | FG23: =$J23*FD23 -> 0 | FH23: 0 | FI23: =$K23*FH23 -> 0 | FJ23: =$I23*FH23 -> 0 | FK23: =$J23*FH23 -> 0 | FL23: 0 | FM23: =$K23*FL23 -> 0 | FN23: =$I23*FL23 -> 0 | FO23: =$J23*FL23 -> 0 | FP23: 0 | FQ23: =$K23*FP23 -> 0 | FR23: =$I23*FP23 -> 0 | FS23: =$J23*FP23 -> 0 | FT23: 0 | FU23: =$K23*FT23 -> 0 | FV23: =$I23*FT23 -> 0 | FW23: =$J23*FT23 -> 0 | FX23: 0 | FY23: =$K23*FX23 -> 0 | FZ23: =$I23*FX23 -> 0 | GA23: =$J23*FX23 -> 0 | GB23: 0 | GC23: =$K23*GB23 -> 0 | GD23: =$I23*GB23 -> 0 | GE23: =$J23*GB23 -> 0 | GF23: 0 | GG23: =$K23*GF23 -> 0 | GH23: =$I23*GF23 -> 0 | GI23: =$J23*GF23 -> 0 | GJ23: 0 | GK23: =$K23*GJ23 -> 0 | GL23: =$I23*GJ23 -> 0 | GM23: =$J23*GJ23 -> 0 | GN23: 0 | GO23: =$K23*GN23 -> 0 | GP23: =$I23*GN23 -> 0 | GQ23: =$J23*GN23 -> 0 | GR23: 0 | GS23: =$K23*GR23 -> 0 | GT23: =$I23*GR23 -> 0 | GU23: =$J23*GR23 -> 0 | GV23: 0 | GW23: =$K23*GV23 -> 0 | GX23: =$I23*GV23 -> 0 | GY23: =$J23*GV23 -> 0 | GZ23: 0 | HA23: =$K23*GZ23 -> 0 | HB23: =$I23*GZ23 -> 0 | HC23: =$J23*GZ23 -> 0 | HD23: 0 | HE23: =$K23*HD23 -> 0 | HF23: =$I23*HD23 -> 0 | HG23: =$J23*HD23 -> 0 | HI23: =L23+P23+T23+X23+AB23+AF23+AJ23+AN23+AR23+AV23+AZ23+BD23+BH23+BL23+BP23+BT23+BX23+CB23+CF23+CJ23+CN23+CR23+CV23+CZ23+DD23+DH23+DL23+DP23+DT23+DX23+EB23+EF23+EJ23+EN23+ER23+EV23+EZ23+FD23+FH23+FL23+FP23+FT23+FX23+GB23+GF23+GJ23+GN23+GR23+GV23+GZ23+HD23 -> 0 | HJ23: =M23+Q23+U23+Y23+AC23+AG23+AK23+AO23+AS23+AW23+BA23+BE23+BI23+BM23+BQ23+BU23+BY23+CC23+CG23+CK23+CO23+CS23+CW23+DA23+DE23+DI23+DM23+DQ23+DU23+DY23+EC23+EG23+EK23+EO23+ES23+EW23+FA23+FE23+FI23+FM23+FQ23+FU23+FY23+GC23+GG23+GK23+GO23+GS23+GW23+HA23+HE23 -> 0 | HK23: =HJ23-K23 -> 0
F24: =E24*12 -> 0 | G24: =IF(C24="",0,IF(C24="50000",$G$4,IF(C24="50010",$G$5,IF(C24="50020",$G$6,IF(C24="50030",$G$7,IF(C24="50040",$G$8,IF(C24="50050",$G$9,IF(C24="50060",$G$10,IF(C24="50090",$G$11,IF(C24="50100",$G$12,IF(C24="50110",$G$13))))))))))) -> 0 | H24: 0 | I24: =F24*H24 -> 0 | J24: =F24*G24*H24 -> 0 | K24: =F24*(1+G24)*H24 -> 0 | L24: 0 | M24: =$K24*L24 -> 0 | N24: =$I24*L24 -> 0 | O24: =$J24*L24 -> 0 | P24: 0 | Q24: =$K24*P24 -> 0 | R24: =$I24*P24 -> 0 | S24: =$J24*P24 -> 0 | T24: 0 | U24: =$K24*T24 -> 0 | V24: =$I24*T24 -> 0 | W24: =$J24*T24 -> 0 | X24: 0 | Y24: =$K24*X24 -> 0 | Z24: =$I24*X24 -> 0 | AA24: =$J24*X24 -> 0 | AB24: 0 | AC24: =$K24*AB24 -> 0 | AD24: =$I24*AB24 -> 0 | AE24: =$J24*AB24 -> 0 | AF24: 0 | AG24: =$K24*AF24 -> 0 | AH24: =$I24*AF24 -> 0 | AI24: =$J24*AF24 -> 0 | AJ24: 0 | AK24: =$K24*AJ24 -> 0 | AL24: =$I24*AJ24 -> 0 | AM24: =$J24*AJ24 -> 0 | AN24: 0 | AO24: =$K24*AN24 -> 0 | AP24: =$I24*AN24 -> 0 | AQ24: =$J24*AN24 -> 0 | AR24: 0 | AS24: =$K24*AR24 -> 0 | AT24: =$I24*AR24 -> 0 | AU24: =$J24*AR24 -> 0 | AV24: 0 | AW24: =$K24*AV24 -> 0 | AX24: =$I24*AV24 -> 0 | AY24: =$J24*AV24 -> 0 | AZ24: 0 | BA24: =$K24*AZ24 -> 0 | BB24: =$I24*AZ24 -> 0 | BC24: =$J24*AZ24 -> 0 | BD24: 0 | BE24: =$K24*BD24 -> 0 | BF24: =$I24*BD24 -> 0 | BG24: =$J24*BD24 -> 0 | BH24: 0 | BI24: =$K24*BH24 -> 0 | BJ24: =$I24*BH24 -> 0 | BK24: =$J24*BH24 -> 0 | BL24: 0 | BM24: =$K24*BL24 -> 0 | BN24: =$I24*BL24 -> 0 | BO24: =$J24*BL24 -> 0 | BP24: 0 | BQ24: =$K24*BP24 -> 0 | BR24: =$I24*BP24 -> 0 | BS24: =$J24*BP24 -> 0 | BT24: 0 | BU24: =$K24*BT24 -> 0 | BV24: =$I24*BT24 -> 0 | BW24: =$J24*BT24 -> 0 | BX24: 0 | BY24: =$K24*BX24 -> 0 | BZ24: =$I24*BX24 -> 0 | CA24: =$J24*BX24 -> 0 | CB24: 0 | CC24: =$K24*CB24 -> 0 | CD24: =$I24*CB24 -> 0 | CE24: =$J24*CB24 -> 0 | CF24: 0 | CG24: =$K24*CF24 -> 0 | CH24: =$I24*CF24 -> 0 | CI24: =$J24*CF24 -> 0 | CJ24: 0 | CK24: =$K24*CJ24 -> 0 | CL24: =$I24*CJ24 -> 0 | CM24: =$J24*CJ24 -> 0 | CN24: 0 | CO24: =$K24*CN24 -> 0 | CP24: =$I24*CN24 -> 0 | CQ24: =$J24*CN24 -> 0 | CR24: 0 | CS24: =$K24*CR24 -> 0 | CT24: =$I24*CR24 -> 0 | CU24: =$J24*CR24 -> 0 | CV24: 0 | CW24: =$K24*CV24 -> 0 | CX24: =$I24*CV24 -> 0 | CY24: =$J24*CV24 -> 0 | CZ24: 0 | DA24: =$K24*CZ24 -> 0 | DB24: =$I24*CZ24 -> 0 | DC24: =$J24*CZ24 -> 0 | DD24: 0 | DE24: =$K24*DD24 -> 0 | DF24: =$I24*DD24 -> 0 | DG24: =$J24*DD24 -> 0 | DH24: 0 | DI24: =$K24*DH24 -> 0 | DJ24: =$I24*DH24 -> 0 | DK24: =$J24*DH24 -> 0 | DL24: 0 | DM24: =$K24*DL24 -> 0 | DN24: =$I24*DL24 -> 0 | DO24: =$J24*DL24 -> 0 | DP24: 0 | DQ24: =$K24*DP24 -> 0 | DR24: =$I24*DP24 -> 0 | DS24: =$J24*DP24 -> 0 | DT24: 0 | DU24: =$K24*DT24 -> 0 | DV24: =$I24*DT24 -> 0 | DW24: =$J24*DT24 -> 0 | DX24: 0 | DY24: =$K24*DX24 -> 0 | DZ24: =$I24*DX24 -> 0 | EA24: =$J24*DX24 -> 0 | EB24: 0 | EC24: =$K24*EB24 -> 0 | ED24: =$I24*EB24 -> 0 | EE24: =$J24*EB24 -> 0 | EF24: 0 | EG24: =$K24*EF24 -> 0 | EH24: =$I24*EF24 -> 0 | EI24: =$J24*EF24 -> 0 | EJ24: 0 | EK24: =$K24*EJ24 -> 0 | EL24: =$I24*EJ24 -> 0 | EM24: =$J24*EJ24 -> 0 | EN24: 0 | EO24: =$K24*EN24 -> 0 | EP24: =$I24*EN24 -> 0 | EQ24: =$J24*EN24 -> 0 | ER24: 0 | ES24: =$K24*ER24 -> 0 | ET24: =$I24*ER24 -> 0 | EU24: =$J24*ER24 -> 0 | EV24: 0 | EW24: =$K24*EV24 -> 0 | EX24: =$I24*EV24 -> 0 | EY24: =$J24*EV24 -> 0 | EZ24: 0 | FA24: =$K24*EZ24 -> 0 | FB24: =$I24*EZ24 -> 0 | FC24: =$J24*EZ24 -> 0 | FD24: 0 | FE24: =$K24*FD24 -> 0 | FF24: =$I24*FD24 -> 0 | FG24: =$J24*FD24 -> 0 | FH24: 0 | FI24: =$K24*FH24 -> 0 | FJ24: =$I24*FH24 -> 0 | FK24: =$J24*FH24 -> 0 | FL24: 0 | FM24: =$K24*FL24 -> 0 | FN24: =$I24*FL24 -> 0 | FO24: =$J24*FL24 -> 0 | FP24: 0 | FQ24: =$K24*FP24 -> 0 | FR24: =$I24*FP24 -> 0 | FS24: =$J24*FP24 -> 0 | FT24: 0 | FU24: =$K24*FT24 -> 0 | FV24: =$I24*FT24 -> 0 | FW24: =$J24*FT24 -> 0 | FX24: 0 | FY24: =$K24*FX24 -> 0 | FZ24: =$I24*FX24 -> 0 | GA24: =$J24*FX24 -> 0 | GB24: 0 | GC24: =$K24*GB24 -> 0 | GD24: =$I24*GB24 -> 0 | GE24: =$J24*GB24 -> 0 | GF24: 0 | GG24: =$K24*GF24 -> 0 | GH24: =$I24*GF24 -> 0 | GI24: =$J24*GF24 -> 0 | GJ24: 0 | GK24: =$K24*GJ24 -> 0 | GL24: =$I24*GJ24 -> 0 | GM24: =$J24*GJ24 -> 0 | GN24: 0 | GO24: =$K24*GN24 -> 0 | GP24: =$I24*GN24 -> 0 | GQ24: =$J24*GN24 -> 0 | GR24: 0 | GS24: =$K24*GR24 -> 0 | GT24: =$I24*GR24 -> 0 | GU24: =$J24*GR24 -> 0 | GV24: 0 | GW24: =$K24*GV24 -> 0 | GX24: =$I24*GV24 -> 0 | GY24: =$J24*GV24 -> 0 | GZ24: 0 | HA24: =$K24*GZ24 -> 0 | HB24: =$I24*GZ24 -> 0 | HC24: =$J24*GZ24 -> 0 | HD24: 0 | HE24: =$K24*HD24 -> 0 | HF24: =$I24*HD24 -> 0 | HG24: =$J24*HD24 -> 0 | HI24: =L24+P24+T24+X24+AB24+AF24+AJ24+AN24+AR24+AV24+AZ24+BD24+BH24+BL24+BP24+BT24+BX24+CB24+CF24+CJ24+CN24+CR24+CV24+CZ24+DD24+DH24+DL24+DP24+DT24+DX24+EB24+EF24+EJ24+EN24+ER24+EV24+EZ24+FD24+FH24+FL24+FP24+FT24+FX24+GB24+GF24+GJ24+GN24+GR24+GV24+GZ24+HD24 -> 0 | HJ24: =M24+Q24+U24+Y24+AC24+AG24+AK24+AO24+AS24+AW24+BA24+BE24+BI24+BM24+BQ24+BU24+BY24+CC24+CG24+CK24+CO24+CS24+CW24+DA24+DE24+DI24+DM24+DQ24+DU24+DY24+EC24+EG24+EK24+EO24+ES24+EW24+FA24+FE24+FI24+FM24+FQ24+FU24+FY24+GC24+GG24+GK24+GO24+GS24+GW24+HA24+HE24 -> 0 | HK24: =HJ24-K24 -> 0
F25: =E25*12 -> 0 | G25: =IF(C25="",0,IF(C25="50000",$G$4,IF(C25="50010",$G$5,IF(C25="50020",$G$6,IF(C25="50030",$G$7,IF(C25="50040",$G$8,IF(C25="50050",$G$9,IF(C25="50060",$G$10,IF(C25="50090",$G$11,IF(C25="50100",$G$12,IF(C25="50110",$G$13))))))))))) -> 0 | H25: 0 | I25: =F25*H25 -> 0 | J25: =F25*G25*H25 -> 0 | K25: =F25*(1+G25)*H25 -> 0 | L25: 0 | M25: =$K25*L25 -> 0 | N25: =$I25*L25 -> 0 | O25: =$J25*L25 -> 0 | P25: 0 | Q25: =$K25*P25 -> 0 | R25: =$I25*P25 -> 0 | S25: =$J25*P25 -> 0 | T25: 0 | U25: =$K25*T25 -> 0 | V25: =$I25*T25 -> 0 | W25: =$J25*T25 -> 0 | X25: 0 | Y25: =$K25*X25 -> 0 | Z25: =$I25*X25 -> 0 | AA25: =$J25*X25 -> 0 | AB25: 0 | AC25: =$K25*AB25 -> 0 | AD25: =$I25*AB25 -> 0 | AE25: =$J25*AB25 -> 0 | AF25: 0 | AG25: =$K25*AF25 -> 0 | AH25: =$I25*AF25 -> 0 | AI25: =$J25*AF25 -> 0 | AJ25: 0 | AK25: =$K25*AJ25 -> 0 | AL25: =$I25*AJ25 -> 0 | AM25: =$J25*AJ25 -> 0 | AN25: 0 | AO25: =$K25*AN25 -> 0 | AP25: =$I25*AN25 -> 0 | AQ25: =$J25*AN25 -> 0 | AR25: 0 | AS25: =$K25*AR25 -> 0 | AT25: =$I25*AR25 -> 0 | AU25: =$J25*AR25 -> 0 | AV25: 0 | AW25: =$K25*AV25 -> 0 | AX25: =$I25*AV25 -> 0 | AY25: =$J25*AV25 -> 0 | AZ25: 0 | BA25: =$K25*AZ25 -> 0 | BB25: =$I25*AZ25 -> 0 | BC25: =$J25*AZ25 -> 0 | BD25: 0 | BE25: =$K25*BD25 -> 0 | BF25: =$I25*BD25 -> 0 | BG25: =$J25*BD25 -> 0 | BH25: 0 | BI25: =$K25*BH25 -> 0 | BJ25: =$I25*BH25 -> 0 | BK25: =$J25*BH25 -> 0 | BL25: 0 | BM25: =$K25*BL25 -> 0 | BN25: =$I25*BL25 -> 0 | BO25: =$J25*BL25 -> 0 | BP25: 0 | BQ25: =$K25*BP25 -> 0 | BR25: =$I25*BP25 -> 0 | BS25: =$J25*BP25 -> 0 | BT25: 0 | BU25: =$K25*BT25 -> 0 | BV25: =$I25*BT25 -> 0 | BW25: =$J25*BT25 -> 0 | BX25: 0 | BY25: =$K25*BX25 -> 0 | BZ25: =$I25*BX25 -> 0 | CA25: =$J25*BX25 -> 0 | CB25: 0 | CC25: =$K25*CB25 -> 0 | CD25: =$I25*CB25 -> 0 | CE25: =$J25*CB25 -> 0 | CF25: 0 | CG25: =$K25*CF25 -> 0 | CH25: =$I25*CF25 -> 0 | CI25: =$J25*CF25 -> 0 | CJ25: 0 | CK25: =$K25*CJ25 -> 0 | CL25: =$I25*CJ25 -> 0 | CM25: =$J25*CJ25 -> 0 | CN25: 0 | CO25: =$K25*CN25 -> 0 | CP25: =$I25*CN25 -> 0 | CQ25: =$J25*CN25 -> 0 | CR25: 0 | CS25: =$K25*CR25 -> 0 | CT25: =$I25*CR25 -> 0 | CU25: =$J25*CR25 -> 0 | CV25: 0 | CW25: =$K25*CV25 -> 0 | CX25: =$I25*CV25 -> 0 | CY25: =$J25*CV25 -> 0 | CZ25: 0 | DA25: =$K25*CZ25 -> 0 | DB25: =$I25*CZ25 -> 0 | DC25: =$J25*CZ25 -> 0 | DD25: 0 | DE25: =$K25*DD25 -> 0 | DF25: =$I25*DD25 -> 0 | DG25: =$J25*DD25 -> 0 | DH25: 0 | DI25: =$K25*DH25 -> 0 | DJ25: =$I25*DH25 -> 0 | DK25: =$J25*DH25 -> 0 | DL25: 0 | DM25: =$K25*DL25 -> 0 | DN25: =$I25*DL25 -> 0 | DO25: =$J25*DL25 -> 0 | DP25: 0 | DQ25: =$K25*DP25 -> 0 | DR25: =$I25*DP25 -> 0 | DS25: =$J25*DP25 -> 0 | DT25: 0 | DU25: =$K25*DT25 -> 0 | DV25: =$I25*DT25 -> 0 | DW25: =$J25*DT25 -> 0 | DX25: 0 | DY25: =$K25*DX25 -> 0 | DZ25: =$I25*DX25 -> 0 | EA25: =$J25*DX25 -> 0 | EB25: 0 | EC25: =$K25*EB25 -> 0 | ED25: =$I25*EB25 -> 0 | EE25: =$J25*EB25 -> 0 | EF25: 0 | EG25: =$K25*EF25 -> 0 | EH25: =$I25*EF25 -> 0 | EI25: =$J25*EF25 -> 0 | EJ25: 0 | EK25: =$K25*EJ25 -> 0 | EL25: =$I25*EJ25 -> 0 | EM25: =$J25*EJ25 -> 0 | EN25: 0 | EO25: =$K25*EN25 -> 0 | EP25: =$I25*EN25 -> 0 | EQ25: =$J25*EN25 -> 0 | ER25: 0 | ES25: =$K25*ER25 -> 0 | ET25: =$I25*ER25 -> 0 | EU25: =$J25*ER25 -> 0 | EV25: 0 | EW25: =$K25*EV25 -> 0 | EX25: =$I25*EV25 -> 0 | EY25: =$J25*EV25 -> 0 | EZ25: 0 | FA25: =$K25*EZ25 -> 0 | FB25: =$I25*EZ25 -> 0 | FC25: =$J25*EZ25 -> 0 | FD25: 0 | FE25: =$K25*FD25 -> 0 | FF25: =$I25*FD25 -> 0 | FG25: =$J25*FD25 -> 0 | FH25: 0 | FI25: =$K25*FH25 -> 0 | FJ25: =$I25*FH25 -> 0 | FK25: =$J25*FH25 -> 0 | FL25: 0 | FM25: =$K25*FL25 -> 0 | FN25: =$I25*FL25 -> 0 | FO25: =$J25*FL25 -> 0 | FP25: 0 | FQ25: =$K25*FP25 -> 0 | FR25: =$I25*FP25 -> 0 | FS25: =$J25*FP25 -> 0 | FT25: 0 | FU25: =$K25*FT25 -> 0 | FV25: =$I25*FT25 -> 0 | FW25: =$J25*FT25 -> 0 | FX25: 0 | FY25: =$K25*FX25 -> 0 | FZ25: =$I25*FX25 -> 0 | GA25: =$J25*FX25 -> 0 | GB25: 0 | GC25: =$K25*GB25 -> 0 | GD25: =$I25*GB25 -> 0 | GE25: =$J25*GB25 -> 0 | GF25: 0 | GG25: =$K25*GF25 -> 0 | GH25: =$I25*GF25 -> 0 | GI25: =$J25*GF25 -> 0 | GJ25: 0 | GK25: =$K25*GJ25 -> 0 | GL25: =$I25*GJ25 -> 0 | GM25: =$J25*GJ25 -> 0 | GN25: 0 | GO25: =$K25*GN25 -> 0 | GP25: =$I25*GN25 -> 0 | GQ25: =$J25*GN25 -> 0 | GR25: 0 | GS25: =$K25*GR25 -> 0 | GT25: =$I25*GR25 -> 0 | GU25: =$J25*GR25 -> 0 | GV25: 0 | GW25: =$K25*GV25 -> 0 | GX25: =$I25*GV25 -> 0 | GY25: =$J25*GV25 -> 0 | GZ25: 0 | HA25: =$K25*GZ25 -> 0 | HB25: =$I25*GZ25 -> 0 | HC25: =$J25*GZ25 -> 0 | HD25: 0 | HE25: =$K25*HD25 -> 0 | HF25: =$I25*HD25 -> 0 | HG25: =$J25*HD25 -> 0 | HI25: =L25+P25+T25+X25+AB25+AF25+AJ25+AN25+AR25+AV25+AZ25+BD25+BH25+BL25+BP25+BT25+BX25+CB25+CF25+CJ25+CN25+CR25+CV25+CZ25+DD25+DH25+DL25+DP25+DT25+DX25+EB25+EF25+EJ25+EN25+ER25+EV25+EZ25+FD25+FH25+FL25+FP25+FT25+FX25+GB25+GF25+GJ25+GN25+GR25+GV25+GZ25+HD25 -> 0 | HJ25: =M25+Q25+U25+Y25+AC25+AG25+AK25+AO25+AS25+AW25+BA25+BE25+BI25+BM25+BQ25+BU25+BY25+CC25+CG25+CK25+CO25+CS25+CW25+DA25+DE25+DI25+DM25+DQ25+DU25+DY25+EC25+EG25+EK25+EO25+ES25+EW25+FA25+FE25+FI25+FM25+FQ25+FU25+FY25+GC25+GG25+GK25+GO25+GS25+GW25+HA25+HE25 -> 0 | HK25: =HJ25-K25 -> 0
F26: =E26*12 -> 0 | G26: =IF(C26="",0,IF(C26="50000",$G$4,IF(C26="50010",$G$5,IF(C26="50020",$G$6,IF(C26="50030",$G$7,IF(C26="50040",$G$8,IF(C26="50050",$G$9,IF(C26="50060",$G$10,IF(C26="50090",$G$11,IF(C26="50100",$G$12,IF(C26="50110",$G$13))))))))))) -> 0 | H26: 0 | I26: =F26*H26 -> 0 | J26: =F26*G26*H26 -> 0 | K26: =F26*(1+G26)*H26 -> 0 | L26: 0 | M26: =$K26*L26 -> 0 | N26: =$I26*L26 -> 0 | O26: =$J26*L26 -> 0 | P26: 0 | Q26: =$K26*P26 -> 0 | R26: =$I26*P26 -> 0 | S26: =$J26*P26 -> 0 | T26: 0 | U26: =$K26*T26 -> 0 | V26: =$I26*T26 -> 0 | W26: =$J26*T26 -> 0 | X26: 0 | Y26: =$K26*X26 -> 0 | Z26: =$I26*X26 -> 0 | AA26: =$J26*X26 -> 0 | AB26: 0 | AC26: =$K26*AB26 -> 0 | AD26: =$I26*AB26 -> 0 | AE26: =$J26*AB26 -> 0 | AF26: 0 | AG26: =$K26*AF26 -> 0 | AH26: =$I26*AF26 -> 0 | AI26: =$J26*AF26 -> 0 | AJ26: 0 | AK26: =$K26*AJ26 -> 0 | AL26: =$I26*AJ26 -> 0 | AM26: =$J26*AJ26 -> 0 | AN26: 0 | AO26: =$K26*AN26 -> 0 | AP26: =$I26*AN26 -> 0 | AQ26: =$J26*AN26 -> 0 | AR26: 0 | AS26: =$K26*AR26 -> 0 | AT26: =$I26*AR26 -> 0 | AU26: =$J26*AR26 -> 0 | AV26: 0 | AW26: =$K26*AV26 -> 0 | AX26: =$I26*AV26 -> 0 | AY26: =$J26*AV26 -> 0 | AZ26: 0 | BA26: =$K26*AZ26 -> 0 | BB26: =$I26*AZ26 -> 0 | BC26: =$J26*AZ26 -> 0 | BD26: 0 | BE26: =$K26*BD26 -> 0 | BF26: =$I26*BD26 -> 0 | BG26: =$J26*BD26 -> 0 | BH26: 0 | BI26: =$K26*BH26 -> 0 | BJ26: =$I26*BH26 -> 0 | BK26: =$J26*BH26 -> 0 | BL26: 0 | BM26: =$K26*BL26 -> 0 | BN26: =$I26*BL26 -> 0 | BO26: =$J26*BL26 -> 0 | BP26: 0 | BQ26: =$K26*BP26 -> 0 | BR26: =$I26*BP26 -> 0 | BS26: =$J26*BP26 -> 0 | BT26: 0 | BU26: =$K26*BT26 -> 0 | BV26: =$I26*BT26 -> 0 | BW26: =$J26*BT26 -> 0 | BX26: 0 | BY26: =$K26*BX26 -> 0 | BZ26: =$I26*BX26 -> 0 | CA26: =$J26*BX26 -> 0 | CB26: 0 | CC26: =$K26*CB26 -> 0 | CD26: =$I26*CB26 -> 0 | CE26: =$J26*CB26 -> 0 | CF26: 0 | CG26: =$K26*CF26 -> 0 | CH26: =$I26*CF26 -> 0 | CI26: =$J26*CF26 -> 0 | CJ26: 0 | CK26: =$K26*CJ26 -> 0 | CL26: =$I26*CJ26 -> 0 | CM26: =$J26*CJ26 -> 0 | CN26: 0 | CO26: =$K26*CN26 -> 0 | CP26: =$I26*CN26 -> 0 | CQ26: =$J26*CN26 -> 0 | CR26: 0 | CS26: =$K26*CR26 -> 0 | CT26: =$I26*CR26 -> 0 | CU26: =$J26*CR26 -> 0 | CV26: 0 | CW26: =$K26*CV26 -> 0 | CX26: =$I26*CV26 -> 0 | CY26: =$J26*CV26 -> 0 | CZ26: 0 | DA26: =$K26*CZ26 -> 0 | DB26: =$I26*CZ26 -> 0 | DC26: =$J26*CZ26 -> 0 | DD26: 0 | DE26: =$K26*DD26 -> 0 | DF26: =$I26*DD26 -> 0 | DG26: =$J26*DD26 -> 0 | DH26: 0 | DI26: =$K26*DH26 -> 0 | DJ26: =$I26*DH26 -> 0 | DK26: =$J26*DH26 -> 0 | DL26: 0 | DM26: =$K26*DL26 -> 0 | DN26: =$I26*DL26 -> 0 | DO26: =$J26*DL26 -> 0 | DP26: 0 | DQ26: =$K26*DP26 -> 0 | DR26: =$I26*DP26 -> 0 | DS26: =$J26*DP26 -> 0 | DT26: 0 | DU26: =$K26*DT26 -> 0 | DV26: =$I26*DT26 -> 0 | DW26: =$J26*DT26 -> 0 | DX26: 0 | DY26: =$K26*DX26 -> 0 | DZ26: =$I26*DX26 -> 0 | EA26: =$J26*DX26 -> 0 | EB26: 0 | EC26: =$K26*EB26 -> 0 | ED26: =$I26*EB26 -> 0 | EE26: =$J26*EB26 -> 0 | EF26: 0 | EG26: =$K26*EF26 -> 0 | EH26: =$I26*EF26 -> 0 | EI26: =$J26*EF26 -> 0 | EJ26: 0 | EK26: =$K26*EJ26 -> 0 | EL26: =$I26*EJ26 -> 0 | EM26: =$J26*EJ26 -> 0 | EN26: 0 | EO26: =$K26*EN26 -> 0 | EP26: =$I26*EN26 -> 0 | EQ26: =$J26*EN26 -> 0 | ER26: 0 | ES26: =$K26*ER26 -> 0 | ET26: =$I26*ER26 -> 0 | EU26: =$J26*ER26 -> 0 | EV26: 0 | EW26: =$K26*EV26 -> 0 | EX26: =$I26*EV26 -> 0 | EY26: =$J26*EV26 -> 0 | EZ26: 0 | FA26: =$K26*EZ26 -> 0 | FB26: =$I26*EZ26 -> 0 | FC26: =$J26*EZ26 -> 0 | FD26: 0 | FE26: =$K26*FD26 -> 0 | FF26: =$I26*FD26 -> 0 | FG26: =$J26*FD26 -> 0 | FH26: 0 | FI26: =$K26*FH26 -> 0 | FJ26: =$I26*FH26 -> 0 | FK26: =$J26*FH26 -> 0 | FL26: 0 | FM26: =$K26*FL26 -> 0 | FN26: =$I26*FL26 -> 0 | FO26: =$J26*FL26 -> 0 | FP26: 0 | FQ26: =$K26*FP26 -> 0 | FR26: =$I26*FP26 -> 0 | FS26: =$J26*FP26 -> 0 | FT26: 0 | FU26: =$K26*FT26 -> 0 | FV26: =$I26*FT26 -> 0 | FW26: =$J26*FT26 -> 0 | FX26: 0 | FY26: =$K26*FX26 -> 0 | FZ26: =$I26*FX26 -> 0 | GA26: =$J26*FX26 -> 0 | GB26: 0 | GC26: =$K26*GB26 -> 0 | GD26: =$I26*GB26 -> 0 | GE26: =$J26*GB26 -> 0 | GF26: 0 | GG26: =$K26*GF26 -> 0 | GH26: =$I26*GF26 -> 0 | GI26: =$J26*GF26 -> 0 | GJ26: 0 | GK26: =$K26*GJ26 -> 0 | GL26: =$I26*GJ26 -> 0 | GM26: =$J26*GJ26 -> 0 | GN26: 0 | GO26: =$K26*GN26 -> 0 | GP26: =$I26*GN26 -> 0 | GQ26: =$J26*GN26 -> 0 | GR26: 0 | GS26: =$K26*GR26 -> 0 | GT26: =$I26*GR26 -> 0 | GU26: =$J26*GR26 -> 0 | GV26: 0 | GW26: =$K26*GV26 -> 0 | GX26: =$I26*GV26 -> 0 | GY26: =$J26*GV26 -> 0 | GZ26: 0 | HA26: =$K26*GZ26 -> 0 | HB26: =$I26*GZ26 -> 0 | HC26: =$J26*GZ26 -> 0 | HD26: 0 | HE26: =$K26*HD26 -> 0 | HF26: =$I26*HD26 -> 0 | HG26: =$J26*HD26 -> 0 | HI26: =L26+P26+T26+X26+AB26+AF26+AJ26+AN26+AR26+AV26+AZ26+BD26+BH26+BL26+BP26+BT26+BX26+CB26+CF26+CJ26+CN26+CR26+CV26+CZ26+DD26+DH26+DL26+DP26+DT26+DX26+EB26+EF26+EJ26+EN26+ER26+EV26+EZ26+FD26+FH26+FL26+FP26+FT26+FX26+GB26+GF26+GJ26+GN26+GR26+GV26+GZ26+HD26 -> 0 | HJ26: =M26+Q26+U26+Y26+AC26+AG26+AK26+AO26+AS26+AW26+BA26+BE26+BI26+BM26+BQ26+BU26+BY26+CC26+CG26+CK26+CO26+CS26+CW26+DA26+DE26+DI26+DM26+DQ26+DU26+DY26+EC26+EG26+EK26+EO26+ES26+EW26+FA26+FE26+FI26+FM26+FQ26+FU26+FY26+GC26+GG26+GK26+GO26+GS26+GW26+HA26+HE26 -> 0 | HK26: =HJ26-K26 -> 0
