Workbook
Name In_Out_Both_No: '[1]Selection Options'!$A$15:$A$18
Name Yes_No: '[1]Selection Options'!$A$4:$A$5

Sheet Change Log
A1: File Version (Web Publish Date) | B1: Tab(s) | C1: Description | D1: Purpose | E1: Did change impact caclulations? | F1: Change incorporated? | G1: Initials & Date Performed
A2: 44256 | B2: Rate File | C2: Add this change log, as first tab (hidden from users) | D2: Maintain configuation control primarily for data | E2: No | F2: Yes | G2: DP - 3/3/21
A3: 44256 | B3: Space | C3: Add back Space tab into overall file | D3: Provide information helpful to SoM | E3: No | F3: Yes | G3: DP - 3/3/21
A4: 44256 | B4: All | C4: Unlock all cells | D4: To ensure overall ability for cell updates | E4: No | F4: Yes | G4: DP - 3/3/21
A5: 44256 | B5: Depreciation | C5: Add more rows for total of 50 | D5: Provide analysts more input capability | E5: Yes? | F5: Yes | G5: DP - 3/3/21
A6: 44256 | B6: Usage | C6: Add cell in column N for total prior year revenue | D6: Provide analysts automatic calculation | E6: Yes? | F6: Yes | G6: DP - 3/3/21
A7: 44276 | B7: Summary Yr 1& 2 | C7: Add comment to subsidy tab “Value for Subsidy Received should match the Add’l Costs tab, In Proposal column”. | D7: Clarify use of the Add'l cost sheet for analysts | E7: No | F7: Yes | G7: DP - 3/3/21
A8: 44256 | B8: Usage | C8: Lock ONLY calculation cells (highlighted purple) with appropriate password for this configuration, as documented on OneDoc | D8: Allow analysts flexibility to use other cells, as needed | E8: No | F8: Yes | G8: DP - 3/4/21
A9: 44256 | B9: Salaries | C9: Lock ONLY calculation cells (highlighted purple) with appropriate password for this configuration, as documented on OneDoc | D9: Allow analysts flexibility to use other cells, as needed | E9: No | F9: Yes | G9: DP - 3/4/21
A10: 44256 | B10: Depreciation | C10: Lock ONLY calculation cells (highlighted purple) with appropriate password for this configuration, as documented on OneDoc | D10: Allow analysts flexibility to use other cells, as needed | E10: No | F10: Yes | G10: DP - 3/4/21
A11: 44256 | B11: Other Costs | C11: Lock ONLY calculation cells (highlighted purple) with appropriate password for this configuration, as documented on OneDoc | D11: Allow analysts flexibility to use other cells, as needed | E11: No | F11: Yes | G11: DP - 3/4/21
A12: 44256 | B12: Summary Year 1 | C12: Lock ONLY calculation cells (highlighted purple) with appropriate password for this configuration, as documented on OneDoc | D12: Allow analysts flexibility to use other cells, as needed | E12: No | F12: Yes | G12: DP - 3/4/21
A13: 44256 | B13: Summary Year 1 | C13: Validate Subsidy Calculation; should be reduction to Internal Rate only. Enabling Internal with Subsidy (subtracted from) and without Subsidy (fully costed) | D13: Ensure calcuation consistent among templates | E13: No | F13: Yes | G13: DP - 3/10/21
... A17: 45911 | B17: Multiple | C17: Added Salary cap worksheet. Deleted not in use tabs | D17: Salary cap compliance and to reduce bloat | E17: No | F17: Yes | G17: RF - 9/11/25
A18: Future | B18: Usage | C18: On Usage tab, add cell for time window & MyFD

Sheet Instructions and Guidance
A1: Instructions & Guidance | K1: Template updated by Cross Functional Team as of: | L1: 46010
K2: Version: | L2: 4
A3: Color Index
A4: Yellow | B4: Filled in by the Center
A5: Purple | B5: Filled in via Formulas
A6: Green | B6: Tips & Guidance
D10: Instructions
D34: Guidance

Sheet General Information
A1: Note: Worksheet contains Workday terminology and Workday Worktags.
A2: General Information
A4: Center Information
A5: Cost Center (CC) Name:
A6: Cost Center (CC) Number:
A7: Internal Service Provider (ISP):
A8: Location:
A9: Year 1 Rate Begin Date:
A10: Year 1 Rate End Date:
A11: Year 2 Rate Begin Date:
A12: Year 2 Rate End Date:
A13: Institutional Overhead Rate: | B13: 0.156
A15: Contact Information
A16: Name:
A17: Email
A18: Box#:
A19: Phone #:
A20: If your center has a web page, what is the URL?
A22: General Description of Services
A23: Please provide a one paragraph description of the overall activities of the center and methodology used in the proposal. This can be done in the Excel workbook, or submitted as a separate attachment.
A28: General Questions
A29: Question | B29: Answer
A30: 1) Will the activities/services of your center generate external revenues?
A31: 2) How often will you sell goods/services to external users?
A32: 3) Do the activities/services offered by your center support the primary mission of the University, aside from generating revenue? If yes, please explain how the activity supports the University mission:
A33: 4) If your center provides services that generate external revenue, have you conducted a marketplace analysis? Please explain.1
A34: 5) Do you have faculty/staff over the current NIH salary cap? | B34: If yes, please use "Salary Cap Worksheet" to determine allowable salary.
A35: 1 Please see RCW 28B.63 or reach out to MAA for more information

Sheet Usage
A1: Usage & Description of Rates
A2: Purpose: Provide a short description of the services for each rate and the number of units expected to be sold.
A6: Rate | B6: Name | C6: Short Description | D6: Unit Base* | E6: Prior Year Estimate | F6: Units Sold | L6: Prior Year Revenue | Q6: Year 1 | V6: Year 2
F7: Prior Year Actual Internal | G7: Prior Year Actual External | H7: Proposal Estimate Yr-1 Internal | I7: Proposal Estimate Yr-1 External | J7: Proposal Estimate Yr-2 Internal | K7: Proposal Estimate Yr-2 External | L7: Prior Year Internal Rates | M7: Prior Year External Rates | N7: Prior Year's Total Revenue | P7: Difference between Prior Year Estimate and Actual (Internal + External) | Q7: Est Chg Pr Yr Actual vs Year 1 Proposal INTERNAL | R7: % Chg INTERNAL | S7: Est Chg Pr Yr Actual vs Year 1 Proposal EXTERNAL | T7: % Chg EXTERNAL | U7: Explanation | V7: Est Chg Pr Yr Actual vs Year 2 Proposal INTERNAL | W7: % Chg INTERNAL | X7: Est Chg Pr Yr Actual vs Year 2 Proposal EXTERNAL | Y7: % Chg EXTERNAL | Z7: Explanation
A8: Center Overhead | B8: Center Overhead
A9: Rate 1 | N9: =(F9*L9)+(G9*M9) -> 0 | P9: =(F9+G9)-E9 -> 0 | Q9: =H9-F9 -> 0 | R9: =IFERROR(IF(H9+F9<>0,((H9-F9)/F9),0),"Null if Zero Value") -> 0 | S9: =I9-G9 -> 0 | T9: =IFERROR(IF(I9+G9<>0,((I9-G9)/G9),0),"Null if Zero Value") -> 0 | V9: =J9-F9 -> 0 | W9: =IFERROR(IF(J9+F9<>0,((J9-F9)/F9),0),"Null if Zero Value") -> 0 | X9: =K9-G9 -> 0 | Y9: =IFERROR(IF(K9+G9<>0,((K9-G9)/G9),0),"Null if Zero Value") -> 0
A10: Rate 2 | N10: =(F10*L10)+(G10*M10) -> 0 | P10: =(F10+G10)-E10 -> 0 | Q10: =H10-F10 -> 0 | R10: =IFERROR(IF(H10+F10<>0,((H10-F10)/F10),0),"Null if Zero Value") -> 0 | S10: =I10-G10 -> 0 | T10: =IFERROR(IF(I10+G10<>0,((I10-G10)/G10),0),"Null if Zero Value") -> 0 | V10: =J10-F10 -> 0 | W10: =IFERROR(IF(J10+F10<>0,((J10-F10)/F10),0),"Null if Zero Value") -> 0 | X10: =K10-G10 -> 0 | Y10: =IFERROR(IF(K10+G10<>0,((K10-G10)/G10),0),"Null if Zero Value") -> 0
A11: Rate 3 | N11: =(F11*L11)+(G11*M11) -> 0 | P11: =(F11+G11)-E11 -> 0 | Q11: =H11-F11 -> 0 | R11: =IFERROR(IF(H11+F11<>0,((H11-F11)/F11),0),"Null if Zero Value") -> 0 | S11: =I11-G11 -> 0 | T11: =IFERROR(IF(I11+G11<>0,((I11-G11)/G11),0),"Null if Zero Value") -> 0 | V11: =J11-F11 -> 0 | W11: =IFERROR(IF(J11+F11<>0,((J11-F11)/F11),0),"Null if Zero Value") -> 0 | X11: =K11-G11 -> 0 | Y11: =IFERROR(IF(K11+G11<>0,((K11-G11)/G11),0),"Null if Zero Value") -> 0
A12: Rate 4 | N12: =(F12*L12)+(G12*M12) -> 0 | P12: =(F12+G12)-E12 -> 0 | Q12: =H12-F12 -> 0 | R12: =IFERROR(IF(H12+F12<>0,((H12-F12)/F12),0),"Null if Zero Value") -> 0 | S12: =I12-G12 -> 0 | T12: =IFERROR(IF(I12+G12<>0,((I12-G12)/G12),0),"Null if Zero Value") -> 0 | V12: =J12-F12 -> 0 | W12: =IFERROR(IF(J12+F12<>0,((J12-F12)/F12),0),"Null if Zero Value") -> 0 | X12: =K12-G12 -> 0 | Y12: =IFERROR(IF(K12+G12<>0,((K12-G12)/G12),0),"Null if Zero Value") -> 0
A13: Rate 5 | N13: =(F13*L13)+(G13*M13) -> 0 | P13: =(F13+G13)-E13 -> 0 | Q13: =H13-F13 -> 0 | R13: =IFERROR(IF(H13+F13<>0,((H13-F13)/F13),0),"Null if Zero Value") -> 0 | S13: =I13-G13 -> 0 | T13: =IFERROR(IF(I13+G13<>0,((I13-G13)/G13),0),"Null if Zero Value") -> 0 | V13: =J13-F13 -> 0 | W13: =IFERROR(IF(J13+F13<>0,((J13-F13)/F13),0),"Null if Zero Value") -> 0 | X13: =K13-G13 -> 0 | Y13: =IFERROR(IF(K13+G13<>0,((K13-G13)/G13),0),"Null if Zero Value") -> 0
B15: *This is the Unit by which the center bills users. For example, per hour, per sample, etc.. | M15: Total Prior Year's Revenue | N15: =SUM(N9:N13) -> 0
B16: *If your rates require time from staff, please ensure usage is covered by the implied FTE available from the salaries tab. See hours available below
B18: Maximum Billable Hours
B19: Available Hours | D19: 2080 | E19: 40 hours/week * 52 weeks
B20: Less Holidays | D20: 88 | E20: 11 days paid * 8 hours/day
B21: Less Vacation | D21: 80 | E21: Approx # of vacation days/year (in hours)
B22: Less Sick | D22: 40 | E22: Approx # of sick days/year (in hours)
B23: Less Other Down Time | D23: 300 | E23: Approx # of other down time hours (ex. # of meeting or lab management hours per month x 12)
B24: Max Total Billable Hours per FTE | D24: =D19-SUM(D20:D23) -> 1572
C26: FTE from Salaries Tab - Year 1 | D26: =Salaries!H53+SUM(Salaries!H59:H74) -> 0
C27: Hours available for rates - Year 1 | D27: =D26*D24 -> 0
C28: FTE from Salaries Tab - Year 2 | D28: =Salaries!H122+SUM(Salaries!H128:H143) -> 0
C29: Hours available for rates - Year 2 | D29: =D28*D24 -> 0
A32: Notes:

Sheet Salaries
A1: Year 1 Salaries & Benefits | K1: Annual Salary Proration ( Merit/COLA Increase)
A2: Purpose: List personnel paid on the center and allocated S&B to each rate. | E2: Provide the salary increase for each employee type. For example, a COLA increase for classified staff and a merit increase for pro staff. | G2: Provide the actual benefit percentages for each employee type in year 1 below: | I2: Provide the proposed benefit percentages for each employee type in year 2 below: | K2: Year 1 | M2: Year 2
A3: Enter Hourly Employees, Grad Students, Students in separate section below. | E3: Employee Type | F3: Salary Growth Factor % | G3: Fringe Benefit % Yr. 1 | I3: Fringe Benefit % Yr. 2 | K3: Current | L3: Increased | M3: Current | N3: Increased
A4: 100% of the FTE% on center needs to be allocated to the various rates. | E4: Instruction and Research Faculty (50000) | K4: 12 | L4: =IF(K4="","",12-K4) -> 0 | M4: 12 | N4: =IF(M4="","",12-M4) -> 0 | AP4: 50000
A5: Necessary benefit percentages and growth factors are taken from the table to the right. | E5: Medical Residents (50010) | K5: 12 | L5: =IF(K5="","",12-K5) -> 0 | M5: 12 | N5: =IF(M5="","",12-M5) -> 0 | AP5: 50010
A6: Do not include step increases in the growth factor %. | E6: Residents and Chief Residents (50020) | K6: 12 | L6: =IF(K6="","",12-K6) -> 0 | M6: 12 | N6: =IF(M6="","",12-M6) -> 0 | AP6: 50020
E7: Graduate Student Appointments (50030) | K7: 12 | L7: =IF(K7="","",12-K7) -> 0 | M7: 12 | N7: =IF(M7="","",12-M7) -> 0 | AP7: 50030
E8: Post-Doctoral Trainees (50040) | K8: 12 | L8: =IF(K8="","",12-K8) -> 0 | M8: 12 | N8: =IF(M8="","",12-M8) -> 0 | AP8: 50040
E9: Classified Staff (50050) | K9: 12 | L9: =IF(K9="","",12-K9) -> 0 | M9: 12 | N9: =IF(M9="","",12-M9) -> 0 | AP9: 50050
E10: Professional Staff (50060) | K10: 12 | L10: =IF(K10="","",12-K10) -> 0 | M10: 12 | N10: =IF(M10="","",12-M10) -> 0 | AP10: 50060
E11: Hourly, Visiting Scientists, and Overtime (50100) | K11: 12 | L11: =IF(K11="","",12-K11) -> 0 | M11: 12 | N11: =IF(M11="","",12-M11) -> 0 | AP11: 50100
E12: Pre-Doctoral Fellows and Trainees (50110) | K12: 12 | L12: =IF(K12="","",12-K12) -> 0 | M12: 12 | N12: =IF(M12="","",12-M12) -> 0 | AP12: 50110
A15: =IF('General Information'!B9=0, "Please Enter Start Date On General Information Sheet", "Year 1: "&TEXT('General Information'!B9,"mm/dd/yy")&" to "&TEXT('General Information'!B10, "mm/dd/yy")) -> Please Enter Start Date On General Information Sheet | H15: Use Costing allocations (see screen shot on report tab). FTE% should match salary on Service Center in Workday. Can't include salary unless the salary is being paid for by the service or recharge center
A16: NAME | B16: EMPLOYEE ID | C16: Job Family Ledger | D16: Business Title | E16: Full Time Rate Monthly | F16: BASE SALARY (AT 100% FTE) | G16: BEN % | H16: FTE ON CENTER | I16: TOTAL SALARY | J16: TOTAL BENEFITS | K16: TOTAL SAL & BEN ON CTR | L16: Center Overhead Yr. 1 | P16: Rate 1 Yr. 1 | T16: Rate 2 Yr. 1 | X16: Rate 3 Yr. 1 | AB16: Rate 4 Yr. 1 | AF16: Rate 5 Yr. 1 | AK16: Percent Check | AL16: Dollar Check | AM16: Difference between allocated dollar and total dollar
L17: =IF(Usage!$B$8=0, "", Usage!$B$8) -> Center Overhead | P17: =IF(Usage!$B$9=0, "", Usage!$B$9) | T17: =IF(Usage!$B$10=0, "", Usage!$B$10) | X17: =IF(Usage!$B$11=0, "", Usage!$B$11) | AB17: =IF(Usage!$B$12=0, "", Usage!$B$12) | AF17: =IF(Usage!$B$13=0, "", Usage!$B$13) | AK17: (should add up to 100%)
A18: Salaries of All Faculty and Staff and vacant position approved by management | L18: FTE % | M18: Amount | N18: Sal | O18: Ben | P18: FTE % | Q18: Amount | R18: Sal | S18: Ben | T18: FTE % | U18: Amount | V18: Sal | W18: Ben | X18: FTE % | Y18: Amount | Z18: Sal | AA18: Ben | AB18: FTE % | AC18: Amount | AD18: Sal | AE18: Ben | AF18: FTE % | AG18: Amount | AH18: Sal | AI18: Ben
F19: =E19*(IF(C19="",0,IF(C19="50000",$K$4,IF(C19="50010",$K$5,IF(C19="50020",$K$6,IF(C19="50030",$K$7,IF(C19="50040",$K$8,IF(C19="50050",$K$9,IF(C19="50060",$K$10,IF(C19="50100",$K$11,IF(C19="50110",$K$12)))))))))))+(IF(C19="",0,IF(C19="50000",E19*(1+$F$4),IF(C19="50010",E19*(1+$F$5),IF(C19="50020",E19*(1+$F$6),IF(C19="50030",E19*(1+$F$7),IF(C19="50040",E19*(1+$F$8),IF(C19="50050",E19*(1+$F$9),IF(C19="50060",E19*(1+$F$10),IF(C19="50100",E19*(1+$F$11),IF(C19="50110",E19*(1+$F$12))))))))))))*IF(C19="",0,IF(C19="50000",$L$4,IF(C19="50010",$L$5,IF(C19="50020",$L$6,IF(C19="50030",$L$7,IF(C19="50040",$L$8,IF(C19="50050",$L$9,IF(C19="50060",$L$10,IF(C19="50100",$L$11,IF(C19="50110",$L$12)))))))))) -> 0 | G19: =IF(C19="",0,IF(C19="50000",$G$4,IF(C19="50010",$G$5,IF(C19="50020",$G$6,IF(C19="50030",$G$7,IF(C19="50040",$G$8,IF(C19="50050",$G$9,IF(C19="50060",$G$10,IF(C19="50100",$G$11,IF(C19="50110",$G$12)))))))))) -> 0 | I19: =F19*H19 -> 0 | J19: =F19*G19*H19 -> 0 | K19: =F19*(1+G19)*H19 -> 0 | M19: =$K19*L19 -> 0 | N19: =$I19*L19 -> 0 | O19: =$J19*L19 -> 0 | Q19: =$K19*P19 -> 0 | R19: =$I19*P19 -> 0 | S19: =$J19*P19 -> 0 | U19: =$K19*T19 -> 0 | V19: =$I19*T19 -> 0 | W19: =$J19*T19 -> 0 | Y19: =$K19*X19 -> 0 | Z19: =$I19*X19 -> 0 | AA19: =$J19*X19 -> 0 | AC19: =$K19*AB19 -> 0 | AD19: =$I19*AB19 -> 0 | AE19: =$J19*AB19 -> 0 | AG19: =$K19*AF19 -> 0 | AH19: =$I19*AF19 -> 0 | AI19: =$J19*AF19 -> 0 | AK19: =L19+P19+T19+X19+AB19+AF19 -> 0 | AL19: =M19+Q19+U19+Y19+AC19+AG19 -> 0 | AM19: =AL19-K19 -> 0
F20: =E20*(IF(C20="",0,IF(C20="50000",$K$4,IF(C20="50010",$K$5,IF(C20="50020",$K$6,IF(C20="50030",$K$7,IF(C20="50040",$K$8,IF(C20="50050",$K$9,IF(C20="50060",$K$10,IF(C20="50100",$K$11,IF(C20="50110",$K$12)))))))))))+(IF(C20="",0,IF(C20="50000",E20*(1+$F$4),IF(C20="50010",E20*(1+$F$5),IF(C20="50020",E20*(1+$F$6),IF(C20="50030",E20*(1+$F$7),IF(C20="50040",E20*(1+$F$8),IF(C20="50050",E20*(1+$F$9),IF(C20="50060",E20*(1+$F$10),IF(C20="50100",E20*(1+$F$11),IF(C20="50110",E20*(1+$F$12))))))))))))*IF(C20="",0,IF(C20="50000",$L$4,IF(C20="50010",$L$5,IF(C20="50020",$L$6,IF(C20="50030",$L$7,IF(C20="50040",$L$8,IF(C20="50050",$L$9,IF(C20="50060",$L$10,IF(C20="50100",$L$11,IF(C20="50110",$L$12)))))))))) -> 0 | G20: =IF(C20="",0,IF(C20="50000",$G$4,IF(C20="50010",$G$5,IF(C20="50020",$G$6,IF(C20="50030",$G$7,IF(C20="50040",$G$8,IF(C20="50050",$G$9,IF(C20="50060",$G$10,IF(C20="50100",$G$11,IF(C20="50110",$G$12)))))))))) -> 0 | I20: =F20*H20 -> 0 | J20: =F20*G20*H20 -> 0 | K20: =F20*(1+G20)*H20 -> 0 | M20: =$K20*L20 -> 0 | N20: =$I20*L20 -> 0 | O20: =$J20*L20 -> 0 | Q20: =$K20*P20 -> 0 | R20: =$I20*P20 -> 0 | S20: =$J20*P20 -> 0 | U20: =$K20*T20 -> 0 | V20: =$I20*T20 -> 0 | W20: =$J20*T20 -> 0 | Y20: =$K20*X20 -> 0 | Z20: =$I20*X20 -> 0 | AA20: =$J20*X20 -> 0 | AC20: =$K20*AB20 -> 0 | AD20: =$I20*AB20 -> 0 | AE20: =$J20*AB20 -> 0 | AG20: =$K20*AF20 -> 0 | AH20: =$I20*AF20 -> 0 | AI20: =$J20*AF20 -> 0 | AK20: =L20+P20+T20+X20+AB20+AF20 -> 0 | AL20: =M20+Q20+U20+Y20+AC20+AG20 -> 0 | AM20: =AL20-K20 -> 0
F21: =E21*(IF(C21="",0,IF(C21="50000",$K$4,IF(C21="50010",$K$5,IF(C21="50020",$K$6,IF(C21="50030",$K$7,IF(C21="50040",$K$8,IF(C21="50050",$K$9,IF(C21="50060",$K$10,IF(C21="50100",$K$11,IF(C21="50110",$K$12)))))))))))+(IF(C21="",0,IF(C21="50000",E21*(1+$F$4),IF(C21="50010",E21*(1+$F$5),IF(C21="50020",E21*(1+$F$6),IF(C21="50030",E21*(1+$F$7),IF(C21="50040",E21*(1+$F$8),IF(C21="50050",E21*(1+$F$9),IF(C21="50060",E21*(1+$F$10),IF(C21="50100",E21*(1+$F$11),IF(C21="50110",E21*(1+$F$12))))))))))))*IF(C21="",0,IF(C21="50000",$L$4,IF(C21="50010",$L$5,IF(C21="50020",$L$6,IF(C21="50030",$L$7,IF(C21="50040",$L$8,IF(C21="50050",$L$9,IF(C21="50060",$L$10,IF(C21="50100",$L$11,IF(C21="50110",$L$12)))))))))) -> 0 | G21: =IF(C21="",0,IF(C21="50000",$G$4,IF(C21="50010",$G$5,IF(C21="50020",$G$6,IF(C21="50030",$G$7,IF(C21="50040",$G$8,IF(C21="50050",$G$9,IF(C21="50060",$G$10,IF(C21="50100",$G$11,IF(C21="50110",$G$12)))))))))) -> 0 | I21: =F21*H21 -> 0 | J21: =F21*G21*H21 -> 0 | K21: =F21*(1+G21)*H21 -> 0 | M21: =$K21*L21 -> 0 | N21: =$I21*L21 -> 0 | O21: =$J21*L21 -> 0 | Q21: =$K21*P21 -> 0 | R21: =$I21*P21 -> 0 | S21: =$J21*P21 -> 0 | U21: =$K21*T21 -> 0 | V21: =$I21*T21 -> 0 | W21: =$J21*T21 -> 0 | Y21: =$K21*X21 -> 0 | Z21: =$I21*X21 -> 0 | AA21: =$J21*X21 -> 0 | AC21: =$K21*AB21 -> 0 | AD21: =$I21*AB21 -> 0 | AE21: =$J21*AB21 -> 0 | AG21: =$K21*AF21 -> 0 | AH21: =$I21*AF21 -> 0 | AI21: =$J21*AF21 -> 0 | AK21: =L21+P21+T21+X21+AB21+AF21 -> 0 | AL21: =M21+Q21+U21+Y21+AC21+AG21 -> 0 | AM21: =AL21-K21 -> 0
F22: =E22*(IF(C22="",0,IF(C22="50000",$K$4,IF(C22="50010",$K$5,IF(C22="50020",$K$6,IF(C22="50030",$K$7,IF(C22="50040",$K$8,IF(C22="50050",$K$9,IF(C22="50060",$K$10,IF(C22="50100",$K$11,IF(C22="50110",$K$12)))))))))))+(IF(C22="",0,IF(C22="50000",E22*(1+$F$4),IF(C22="50010",E22*(1+$F$5),IF(C22="50020",E22*(1+$F$6),IF(C22="50030",E22*(1+$F$7),IF(C22="50040",E22*(1+$F$8),IF(C22="50050",E22*(1+$F$9),IF(C22="50060",E22*(1+$F$10),IF(C22="50100",E22*(1+$F$11),IF(C22="50110",E22*(1+$F$12))))))))))))*IF(C22="",0,IF(C22="50000",$L$4,IF(C22="50010",$L$5,IF(C22="50020",$L$6,IF(C22="50030",$L$7,IF(C22="50040",$L$8,IF(C22="50050",$L$9,IF(C22="50060",$L$10,IF(C22="50100",$L$11,IF(C22="50110",$L$12)))))))))) -> 0 | G22: =IF(C22="",0,IF(C22="50000",$G$4,IF(C22="50010",$G$5,IF(C22="50020",$G$6,IF(C22="50030",$G$7,IF(C22="50040",$G$8,IF(C22="50050",$G$9,IF(C22="50060",$G$10,IF(C22="50100",$G$11,IF(C22="50110",$G$12)))))))))) -> 0 | I22: =F22*H22 -> 0 | J22: =F22*G22*H22 -> 0 | K22: =F22*(1+G22)*H22 -> 0 | M22: =$K22*L22 -> 0 | N22: =$I22*L22 -> 0 | O22: =$J22*L22 -> 0 | Q22: =$K22*P22 -> 0 | R22: =$I22*P22 -> 0 | S22: =$J22*P22 -> 0 | U22: =$K22*T22 -> 0 | V22: =$I22*T22 -> 0 | W22: =$J22*T22 -> 0 | Y22: =$K22*X22 -> 0 | Z22: =$I22*X22 -> 0 | AA22: =$J22*X22 -> 0 | AC22: =$K22*AB22 -> 0 | AD22: =$I22*AB22 -> 0 | AE22: =$J22*AB22 -> 0 | AG22: =$K22*AF22 -> 0 | AH22: =$I22*AF22 -> 0 | AI22: =$J22*AF22 -> 0 | AK22: =L22+P22+T22+X22+AB22+AF22 -> 0 | AL22: =M22+Q22+U22+Y22+AC22+AG22 -> 0 | AM22: =AL22-K22 -> 0
F23: =E23*(IF(C23="",0,IF(C23="50000",$K$4,IF(C23="50010",$K$5,IF(C23="50020",$K$6,IF(C23="50030",$K$7,IF(C23="50040",$K$8,IF(C23="50050",$K$9,IF(C23="50060",$K$10,IF(C23="50100",$K$11,IF(C23="50110",$K$12)))))))))))+(IF(C23="",0,IF(C23="50000",E23*(1+$F$4),IF(C23="50010",E23*(1+$F$5),IF(C23="50020",E23*(1+$F$6),IF(C23="50030",E23*(1+$F$7),IF(C23="50040",E23*(1+$F$8),IF(C23="50050",E23*(1+$F$9),IF(C23="50060",E23*(1+$F$10),IF(C23="50100",E23*(1+$F$11),IF(C23="50110",E23*(1+$F$12))))))))))))*IF(C23="",0,IF(C23="50000",$L$4,IF(C23="50010",$L$5,IF(C23="50020",$L$6,IF(C23="50030",$L$7,IF(C23="50040",$L$8,IF(C23="50050",$L$9,IF(C23="50060",$L$10,IF(C23="50100",$L$11,IF(C23="50110",$L$12)))))))))) -> 0 | G23: =IF(C23="",0,IF(C23="50000",$G$4,IF(C23="50010",$G$5,IF(C23="50020",$G$6,IF(C23="50030",$G$7,IF(C23="50040",$G$8,IF(C23="50050",$G$9,IF(C23="50060",$G$10,IF(C23="50100",$G$11,IF(C23="50110",$G$12)))))))))) -> 0 | I23: =F23*H23 -> 0 | J23: =F23*G23*H23 -> 0 | K23: =F23*(1+G23)*H23 -> 0 | M23: =$K23*L23 -> 0 | N23: =$I23*L23 -> 0 | O23: =$J23*L23 -> 0 | Q23: =$K23*P23 -> 0 | R23: =$I23*P23 -> 0 | S23: =$J23*P23 -> 0 | U23: =$K23*T23 -> 0 | V23: =$I23*T23 -> 0 | W23: =$J23*T23 -> 0 | Y23: =$K23*X23 -> 0 | Z23: =$I23*X23 -> 0 | AA23: =$J23*X23 -> 0 | AC23: =$K23*AB23 -> 0 | AD23: =$I23*AB23 -> 0 | AE23: =$J23*AB23 -> 0 | AG23: =$K23*AF23 -> 0 | AH23: =$I23*AF23 -> 0 | AI23: =$J23*AF23 -> 0 | AK23: =L23+P23+T23+X23+AB23+AF23 -> 0 | AL23: =M23+Q23+U23+Y23+AC23+AG23 -> 0 | AM23: =AL23-K23 -> 0
F24: =E24*(IF(C24="",0,IF(C24="50000",$K$4,IF(C24="50010",$K$5,IF(C24="50020",$K$6,IF(C24="50030",$K$7,IF(C24="50040",$K$8,IF(C24="50050",$K$9,IF(C24="50060",$K$10,IF(C24="50100",$K$11,IF(C24="50110",$K$12)))))))))))+(IF(C24="",0,IF(C24="50000",E24*(1+$F$4),IF(C24="50010",E24*(1+$F$5),IF(C24="50020",E24*(1+$F$6),IF(C24="50030",E24*(1+$F$7),IF(C24="50040",E24*(1+$F$8),IF(C24="50050",E24*(1+$F$9),IF(C24="50060",E24*(1+$F$10),IF(C24="50100",E24*(1+$F$11),IF(C24="50110",E24*(1+$F$12))))))))))))*IF(C24="",0,IF(C24="50000",$L$4,IF(C24="50010",$L$5,IF(C24="50020",$L$6,IF(C24="50030",$L$7,IF(C24="50040",$L$8,IF(C24="50050",$L$9,IF(C24="50060",$L$10,IF(C24="50100",$L$11,IF(C24="50110",$L$12)))))))))) -> 0 | G24: =IF(C24="",0,IF(C24="50000",$G$4,IF(C24="50010",$G$5,IF(C24="50020",$G$6,IF(C24="50030",$G$7,IF(C24="50040",$G$8,IF(C24="50050",$G$9,IF(C24="50060",$G$10,IF(C24="50100",$G$11,IF(C24="50110",$G$12)))))))))) -> 0 | I24: =F24*H24 -> 0 | J24: =F24*G24*H24 -> 0 | K24: =F24*(1+G24)*H24 -> 0 | M24: =$K24*L24 -> 0 | N24: =$I24*L24 -> 0 | O24: =$J24*L24 -> 0 | Q24: =$K24*P24 -> 0 | R24: =$I24*P24 -> 0 | S24: =$J24*P24 -> 0 | U24: =$K24*T24 -> 0 | V24: =$I24*T24 -> 0 | W24: =$J24*T24 -> 0 | Y24: =$K24*X24 -> 0 | Z24: =$I24*X24 -> 0 | AA24: =$J24*X24 -> 0 | AC24: =$K24*AB24 -> 0 | AD24: =$I24*AB24 -> 0 | AE24: =$J24*AB24 -> 0 | AG24: =$K24*AF24 -> 0 | AH24: =$I24*AF24 -> 0 | AI24: =$J24*AF24 -> 0 | AK24: =L24+P24+T24+X24+AB24+AF24 -> 0 | AL24: =M24+Q24+U24+Y24+AC24+AG24 -> 0 | AM24: =AL24-K24 -> 0
F25: =E25*(IF(C25="",0,IF(C25="50000",$K$4,IF(C25="50010",$K$5,IF(C25="50020",$K$6,IF(C25="50030",$K$7,IF(C25="50040",$K$8,IF(C25="50050",$K$9,IF(C25="50060",$K$10,IF(C25="50100",$K$11,IF(C25="50110",$K$12)))))))))))+(IF(C25="",0,IF(C25="50000",E25*(1+$F$4),IF(C25="50010",E25*(1+$F$5),IF(C25="50020",E25*(1+$F$6),IF(C25="50030",E25*(1+$F$7),IF(C25="50040",E25*(1+$F$8),IF(C25="50050",E25*(1+$F$9),IF(C25="50060",E25*(1+$F$10),IF(C25="50100",E25*(1+$F$11),IF(C25="50110",E25*(1+$F$12))))))))))))*IF(C25="",0,IF(C25="50000",$L$4,IF(C25="50010",$L$5,IF(C25="50020",$L$6,IF(C25="50030",$L$7,IF(C25="50040",$L$8,IF(C25="50050",$L$9,IF(C25="50060",$L$10,IF(C25="50100",$L$11,IF(C25="50110",$L$12)))))))))) -> 0 | G25: =IF(C25="",0,IF(C25="50000",$G$4,IF(C25="50010",$G$5,IF(C25="50020",$G$6,IF(C25="50030",$G$7,IF(C25="50040",$G$8,IF(C25="50050",$G$9,IF(C25="50060",$G$10,IF(C25="50100",$G$11,IF(C25="50110",$G$12)))))))))) -> 0 | I25: =F25*H25 -> 0 | J25: =F25*G25*H25 -> 0 | K25: =F25*(1+G25)*H25 -> 0 | M25: =$K25*L25 -> 0 | N25: =$I25*L25 -> 0 | O25: =$J25*L25 -> 0 | Q25: =$K25*P25 -> 0 | R25: =$I25*P25 -> 0 | S25: =$J25*P25 -> 0 | U25: =$K25*T25 -> 0 | V25: =$I25*T25 -> 0 | W25: =$J25*T25 -> 0 | Y25: =$K25*X25 -> 0 | Z25: =$I25*X25 -> 0 | AA25: =$J25*X25 -> 0 | AC25: =$K25*AB25 -> 0 | AD25: =$I25*AB25 -> 0 | AE25: =$J25*AB25 -> 0 | AG25: =$K25*AF25 -> 0 | AH25: =$I25*AF25 -> 0 | AI25: =$J25*AF25 -> 0 | AK25: =L25+P25+T25+X25+AB25+AF25 -> 0 | AL25: =M25+Q25+U25+Y25+AC25+AG25 -> 0 | AM25: =AL25-K25 -> 0
F26: =E26*(IF(C26="",0,IF(C26="50000",$K$4,IF(C26="50010",$K$5,IF(C26="50020",$K$6,IF(C26="50030",$K$7,IF(C26="50040",$K$8,IF(C26="50050",$K$9,IF(C26="50060",$K$10,IF(C26="50100",$K$11,IF(C26="50110",$K$12)))))))))))+(IF(C26="",0,IF(C26="50000",E26*(1+$F$4),IF(C26="50010",E26*(1+$F$5),IF(C26="50020",E26*(1+$F$6),IF(C26="50030",E26*(1+$F$7),IF(C26="50040",E26*(1+$F$8),IF(C26="50050",E26*(1+$F$9),IF(C26="50060",E26*(1+$F$10),IF(C26="50100",E26*(1+$F$11),IF(C26="50110",E26*(1+$F$12))))))))))))*IF(C26="",0,IF(C26="50000",$L$4,IF(C26="50010",$L$5,IF(C26="50020",$L$6,IF(C26="50030",$L$7,IF(C26="50040",$L$8,IF(C26="50050",$L$9,IF(C26="50060",$L$10,IF(C26="50100",$L$11,IF(C26="50110",$L$12)))))))))) -> 0 | G26: =IF(C26="",0,IF(C26="50000",$G$4,IF(C26="50010",$G$5,IF(C26="50020",$G$6,IF(C26="50030",$G$7,IF(C26="50040",$G$8,IF(C26="50050",$G$9,IF(C26="50060",$G$10,IF(C26="50100",$G$11,IF(C26="50110",$G$12)))))))))) -> 0 | I26: =F26*H26 -> 0 | J26: =F26*G26*H26 -> 0 | K26: =F26*(1+G26)*H26 -> 0 | M26: =$K26*L26 -> 0 | N26: =$I26*L26 -> 0 | O26: =$J26*L26 -> 0 | Q26: =$K26*P26 -> 0 | R26: =$I26*P26 -> 0 | S26: =$J26*P26 -> 0 | U26: =$K26*T26 -> 0 | V26: =$I26*T26 -> 0 | W26: =$J26*T26 -> 0 | Y26: =$K26*X26 -> 0 | Z26: =$I26*X26 -> 0 | AA26: =$J26*X26 -> 0 | AC26: =$K26*AB26 -> 0 | AD26: =$I26*AB26 -> 0 | AE26: =$J26*AB26 -> 0 | AG26: =$K26*AF26 -> 0 | AH26: =$I26*AF26 -> 0 | AI26: =$J26*AF26 -> 0 | AK26: =L26+P26+T26+X26+AB26+AF26 -> 0 | AL26: =M26+Q26+U26+Y26+AC26+AG26 -> 0 | AM26: =AL26-K26 -> 0
F27: =E27*(IF(C27="",0,IF(C27="50000",$K$4,IF(C27="50010",$K$5,IF(C27="50020",$K$6,IF(C27="50030",$K$7,IF(C27="50040",$K$8,IF(C27="50050",$K$9,IF(C27="50060",$K$10,IF(C27="50100",$K$11,IF(C27="50110",$K$12)))))))))))+(IF(C27="",0,IF(C27="50000",E27*(1+$F$4),IF(C27="50010",E27*(1+$F$5),IF(C27="50020",E27*(1+$F$6),IF(C27="50030",E27*(1+$F$7),IF(C27="50040",E27*(1+$F$8),IF(C27="50050",E27*(1+$F$9),IF(C27="50060",E27*(1+$F$10),IF(C27="50100",E27*(1+$F$11),IF(C27="50110",E27*(1+$F$12))))))))))))*IF(C27="",0,IF(C27="50000",$L$4,IF(C27="50010",$L$5,IF(C27="50020",$L$6,IF(C27="50030",$L$7,IF(C27="50040",$L$8,IF(C27="50050",$L$9,IF(C27="50060",$L$10,IF(C27="50100",$L$11,IF(C27="50110",$L$12)))))))))) -> 0 | G27: =IF(C27="",0,IF(C27="50000",$G$4,IF(C27="50010",$G$5,IF(C27="50020",$G$6,IF(C27="50030",$G$7,IF(C27="50040",$G$8,IF(C27="50050",$G$9,IF(C27="50060",$G$10,IF(C27="50100",$G$11,IF(C27="50110",$G$12)))))))))) -> 0 | I27: =F27*H27 -> 0 | J27: =F27*G27*H27 -> 0 | K27: =F27*(1+G27)*H27 -> 0 | M27: =$K27*L27 -> 0 | N27: =$I27*L27 -> 0 | O27: =$J27*L27 -> 0 | Q27: =$K27*P27 -> 0 | R27: =$I27*P27 -> 0 | S27: =$J27*P27 -> 0 | U27: =$K27*T27 -> 0 | V27: =$I27*T27 -> 0 | W27: =$J27*T27 -> 0 | Y27: =$K27*X27 -> 0 | Z27: =$I27*X27 -> 0 | AA27: =$J27*X27 -> 0 | AC27: =$K27*AB27 -> 0 | AD27: =$I27*AB27 -> 0 | AE27: =$J27*AB27 -> 0 | AG27: =$K27*AF27 -> 0 | AH27: =$I27*AF27 -> 0 | AI27: =$J27*AF27 -> 0 | AK27: =L27+P27+T27+X27+AB27+AF27 -> 0 | AL27: =M27+Q27+U27+Y27+AC27+AG27 -> 0 | AM27: =AL27-K27 -> 0
F28: =E28*(IF(C28="",0,IF(C28="50000",$K$4,IF(C28="50010",$K$5,IF(C28="50020",$K$6,IF(C28="50030",$K$7,IF(C28="50040",$K$8,IF(C28="50050",$K$9,IF(C28="50060",$K$10,IF(C28="50100",$K$11,IF(C28="50110",$K$12)))))))))))+(IF(C28="",0,IF(C28="50000",E28*(1+$F$4),IF(C28="50010",E28*(1+$F$5),IF(C28="50020",E28*(1+$F$6),IF(C28="50030",E28*(1+$F$7),IF(C28="50040",E28*(1+$F$8),IF(C28="50050",E28*(1+$F$9),IF(C28="50060",E28*(1+$F$10),IF(C28="50100",E28*(1+$F$11),IF(C28="50110",E28*(1+$F$12))))))))))))*IF(C28="",0,IF(C28="50000",$L$4,IF(C28="50010",$L$5,IF(C28="50020",$L$6,IF(C28="50030",$L$7,IF(C28="50040",$L$8,IF(C28="50050",$L$9,IF(C28="50060",$L$10,IF(C28="50100",$L$11,IF(C28="50110",$L$12)))))))))) -> 0 | G28: =IF(C28="",0,IF(C28="50000",$G$4,IF(C28="50010",$G$5,IF(C28="50020",$G$6,IF(C28="50030",$G$7,IF(C28="50040",$G$8,IF(C28="50050",$G$9,IF(C28="50060",$G$10,IF(C28="50100",$G$11,IF(C28="50110",$G$12)))))))))) -> 0 | I28: =F28*H28 -> 0 | J28: =F28*G28*H28 -> 0 | K28: =F28*(1+G28)*H28 -> 0 | M28: =$K28*L28 -> 0 | N28: =$I28*L28 -> 0 | O28: =$J28*L28 -> 0 | Q28: =$K28*P28 -> 0 | R28: =$I28*P28 -> 0 | S28: =$J28*P28 -> 0 | U28: =$K28*T28 -> 0 | V28: =$I28*T28 -> 0 | W28: =$J28*T28 -> 0 | Y28: =$K28*X28 -> 0 | Z28: =$I28*X28 -> 0 | AA28: =$J28*X28 -> 0 | AC28: =$K28*AB28 -> 0 | AD28: =$I28*AB28 -> 0 | AE28: =$J28*AB28 -> 0 | AG28: =$K28*AF28 -> 0 | AH28: =$I28*AF28 -> 0 | AI28: =$J28*AF28 -> 0 | AK28: =L28+P28+T28+X28+AB28+AF28 -> 0 | AL28: =M28+Q28+U28+Y28+AC28+AG28 -> 0 | AM28: =AL28-K28 -> 0
F29: =E29*(IF(C29="",0,IF(C29="50000",$K$4,IF(C29="50010",$K$5,IF(C29="50020",$K$6,IF(C29="50030",$K$7,IF(C29="50040",$K$8,IF(C29="50050",$K$9,IF(C29="50060",$K$10,IF(C29="50100",$K$11,IF(C29="50110",$K$12)))))))))))+(IF(C29="",0,IF(C29="50000",E29*(1+$F$4),IF(C29="50010",E29*(1+$F$5),IF(C29="50020",E29*(1+$F$6),IF(C29="50030",E29*(1+$F$7),IF(C29="50040",E29*(1+$F$8),IF(C29="50050",E29*(1+$F$9),IF(C29="50060",E29*(1+$F$10),IF(C29="50100",E29*(1+$F$11),IF(C29="50110",E29*(1+$F$12))))))))))))*IF(C29="",0,IF(C29="50000",$L$4,IF(C29="50010",$L$5,IF(C29="50020",$L$6,IF(C29="50030",$L$7,IF(C29="50040",$L$8,IF(C29="50050",$L$9,IF(C29="50060",$L$10,IF(C29="50100",$L$11,IF(C29="50110",$L$12)))))))))) -> 0 | G29: =IF(C29="",0,IF(C29="50000",$G$4,IF(C29="50010",$G$5,IF(C29="50020",$G$6,IF(C29="50030",$G$7,IF(C29="50040",$G$8,IF(C29="50050",$G$9,IF(C29="50060",$G$10,IF(C29="50100",$G$11,IF(C29="50110",$G$12)))))))))) -> 0 | I29: =F29*H29 -> 0 | J29: =F29*G29*H29 -> 0 | K29: =F29*(1+G29)*H29 -> 0 | M29: =$K29*L29 -> 0 | N29: =$I29*L29 -> 0 | O29: =$J29*L29 -> 0 | Q29: =$K29*P29 -> 0 | R29: =$I29*P29 -> 0 | S29: =$J29*P29 -> 0 | U29: =$K29*T29 -> 0 | V29: =$I29*T29 -> 0 | W29: =$J29*T29 -> 0 | Y29: =$K29*X29 -> 0 | Z29: =$I29*X29 -> 0 | AA29: =$J29*X29 -> 0 | AC29: =$K29*AB29 -> 0 | AD29: =$I29*AB29 -> 0 | AE29: =$J29*AB29 -> 0 | AG29: =$K29*AF29 -> 0 | AH29: =$I29*AF29 -> 0 | AI29: =$J29*AF29 -> 0 | AK29: =L29+P29+T29+X29+AB29+AF29 -> 0 | AL29: =M29+Q29+U29+Y29+AC29+AG29 -> 0 | AM29: =AL29-K29 -> 0
F30: =E30*(IF(C30="",0,IF(C30="50000",$K$4,IF(C30="50010",$K$5,IF(C30="50020",$K$6,IF(C30="50030",$K$7,IF(C30="50040",$K$8,IF(C30="50050",$K$9,IF(C30="50060",$K$10,IF(C30="50100",$K$11,IF(C30="50110",$K$12)))))))))))+(IF(C30="",0,IF(C30="50000",E30*(1+$F$4),IF(C30="50010",E30*(1+$F$5),IF(C30="50020",E30*(1+$F$6),IF(C30="50030",E30*(1+$F$7),IF(C30="50040",E30*(1+$F$8),IF(C30="50050",E30*(1+$F$9),IF(C30="50060",E30*(1+$F$10),IF(C30="50100",E30*(1+$F$11),IF(C30="50110",E30*(1+$F$12))))))))))))*IF(C30="",0,IF(C30="50000",$L$4,IF(C30="50010",$L$5,IF(C30="50020",$L$6,IF(C30="50030",$L$7,IF(C30="50040",$L$8,IF(C30="50050",$L$9,IF(C30="50060",$L$10,IF(C30="50100",$L$11,IF(C30="50110",$L$12)))))))))) -> 0 | G30: =IF(C30="",0,IF(C30="50000",$G$4,IF(C30="50010",$G$5,IF(C30="50020",$G$6,IF(C30="50030",$G$7,IF(C30="50040",$G$8,IF(C30="50050",$G$9,IF(C30="50060",$G$10,IF(C30="50100",$G$11,IF(C30="50110",$G$12)))))))))) -> 0 | I30: =F30*H30 -> 0 | J30: =F30*G30*H30 -> 0 | K30: =F30*(1+G30)*H30 -> 0 | M30: =$K30*L30 -> 0 | N30: =$I30*L30 -> 0 | O30: =$J30*L30 -> 0 | Q30: =$K30*P30 -> 0 | R30: =$I30*P30 -> 0 | S30: =$J30*P30 -> 0 | U30: =$K30*T30 -> 0 | V30: =$I30*T30 -> 0 | W30: =$J30*T30 -> 0 | Y30: =$K30*X30 -> 0 | Z30: =$I30*X30 -> 0 | AA30: =$J30*X30 -> 0 | AC30: =$K30*AB30 -> 0 | AD30: =$I30*AB30 -> 0 | AE30: =$J30*AB30 -> 0 | AG30: =$K30*AF30 -> 0 | AH30: =$I30*AF30 -> 0 | AI30: =$J30*AF30 -> 0 | AK30: =L30+P30+T30+X30+AB30+AF30 -> 0 | AL30: =M30+Q30+U30+Y30+AC30+AG30 -> 0 | AM30: =AL30-K30 -> 0
... F49: =E49*(IF(C49="",0,IF(C49="50000",$K$4,IF(C49="50010",$K$5,IF(C49="50020",$K$6,IF(C49="50030",$K$7,IF(C49="50040",$K$8,IF(C49="50050",$K$9,IF(C49="50060",$K$10,IF(C49="50100",$K$11,IF(C49="50110",$K$12)))))))))))+(IF(C49="",0,IF(C49="50000",E49*(1+$F$4),IF(C49="50010",E49*(1+$F$5),IF(C49="50020",E49*(1+$F$6),IF(C49="50030",E49*(1+$F$7),IF(C49="50040",E49*(1+$F$8),IF(C49="50050",E49*(1+$F$9),IF(C49="50060",E49*(1+$F$10),IF(C49="50100",E49*(1+$F$11),IF(C49="50110",E49*(1+$F$12))))))))))))*IF(C49="",0,IF(C49="50000",$L$4,IF(C49="50010",$L$5,IF(C49="50020",$L$6,IF(C49="50030",$L$7,IF(C49="50040",$L$8,IF(C49="50050",$L$9,IF(C49="50060",$L$10,IF(C49="50100",$L$11,IF(C49="50110",$L$12)))))))))) -> 0 | G49: =IF(C49="",0,IF(C49="50000",$G$4,IF(C49="50010",$G$5,IF(C49="50020",$G$6,IF(C49="50030",$G$7,IF(C49="50040",$G$8,IF(C49="50050",$G$9,IF(C49="50060",$G$10,IF(C49="50100",$G$11,IF(C49="50110",$G$12)))))))))) -> 0 | I49: =F49*H49 -> 0 | J49: =F49*G49*H49 -> 0 | K49: =F49*(1+G49)*H49 -> 0 | M49: =$K49*L49 -> 0 | N49: =$I49*L49 -> 0 | O49: =$J49*L49 -> 0 | Q49: =$K49*P49 -> 0 | R49: =$I49*P49 -> 0 | S49: =$J49*P49 -> 0 | U49: =$K49*T49 -> 0 | V49: =$I49*T49 -> 0 | W49: =$J49*T49 -> 0 | Y49: =$K49*X49 -> 0 | Z49: =$I49*X49 -> 0 | AA49: =$J49*X49 -> 0 | AC49: =$K49*AB49 -> 0 | AD49: =$I49*AB49 -> 0 | AE49: =$J49*AB49 -> 0 | AG49: =$K49*AF49 -> 0 | AH49: =$I49*AF49 -> 0 | AI49: =$J49*AF49 -> 0 | AK49: =L49+P49+T49+X49+AB49+AF49 -> 0 | AL49: =M49+Q49+U49+Y49+AC49+AG49 -> 0 | AM49: =AL49-K49 -> 0
A51: Direct Salaries-Faculty and Staff | F51: =SUM(F19:F49) -> 0 | I51: =SUM(I19:I49) -> 0 | J51: =SUM(J19:J49) -> 0 | K51: =SUM(K19:K49) -> 0 | M51: =SUM(M19:M49) -> 0 | N51: =SUM(N19:N49) -> 0 | O51: =SUM(O19:O49) -> 0 | Q51: =SUM(Q19:Q49) -> 0 | R51: =SUM(R19:R49) -> 0 | S51: =SUM(S19:S49) -> 0 | U51: =SUM(U19:U49) -> 0 | V51: =SUM(V19:V49) -> 0 | W51: =SUM(W19:W49) -> 0 | Y51: =SUM(Y19:Y49) -> 0 | Z51: =SUM(Z19:Z49) -> 0 | AA51: =SUM(AA19:AA49) -> 0 | AC51: =SUM(AC19:AC49) -> 0 | AD51: =SUM(AD19:AD49) -> 0 | AE51: =SUM(AE19:AE49) -> 0 | AG51: =SUM(AG19:AG49) -> 0 | AH51: =SUM(AH19:AH49) -> 0 | AI51: =SUM(AI19:AI49) -> 0 | AL51: =M51+Q51+U51+Y51+AC51+AG51 -> 0 | AM51: =AL51-K51 -> 0
A53: FTE Per Rate (for cost proposal information only) | H53: =SUM(H19:H49) -> 0 | L53: =($H$19*L19)+($H$20*L20)+($H$21*L21)+($H$22*L22)+($H$23*L23)+($H$24*L24)+($H$25*L25)+($H$26*L26)+($H$27*L27)+($H$28*L28)+($H$29*L29)+($H$30*L30)+($H$31*L31)+($H$32*L32)+($H$33*L33)+($H$34*L34)+($H$35*L35)+($H$36*L36)+($H$37*L37)+($H$38*L38)+($H$39*L39)+($H$40*L40)+($H$41*L41)+($H$42*L42)+($H$43*L43)+($H$44*L44)+($H$45*L45)+($H$46*L46)+($H$47*L47)+($H$48*L48)+($H$49*L49) -> 0 | P53: =($H$19*P19)+($H$20*P20)+($H$21*P21)+($H$22*P22)+($H$23*P23)+($H$24*P24)+($H$25*P25)+($H$26*P26)+($H$27*P27)+($H$28*P28)+($H$29*P29)+($H$30*P30)+($H$31*P31)+($H$32*P32)+($H$33*P33)+($H$34*P34)+($H$35*P35)+($H$36*P36)+($H$37*P37)+($H$38*P38)+($H$39*P39)+($H$40*P40)+($H$41*P41)+($H$42*P42)+($H$43*P43)+($H$44*P44)+($H$45*P45)+($H$46*P46)+($H$47*P47)+($H$48*P48)+($H$49*P49) -> 0 | T53: =($H$19*T19)+($H$20*T20)+($H$21*T21)+($H$22*T22)+($H$23*T23)+($H$24*T24)+($H$25*T25)+($H$26*T26)+($H$27*T27)+($H$28*T28)+($H$29*T29)+($H$30*T30)+($H$31*T31)+($H$32*T32)+($H$33*T33)+($H$34*T34)+($H$35*T35)+($H$36*T36)+($H$37*T37)+($H$38*T38)+($H$39*T39)+($H$40*T40)+($H$41*T41)+($H$42*T42)+($H$43*T43)+($H$44*T44)+($H$45*T45)+($H$46*T46)+($H$47*T47)+($H$48*T48)+($H$49*T49) -> 0 | X53: =($H$19*X19)+($H$20*X20)+($H$21*X21)+($H$22*X22)+($H$23*X23)+($H$24*X24)+($H$25*X25)+($H$26*X26)+($H$27*X27)+($H$28*X28)+($H$29*X29)+($H$30*X30)+($H$31*X31)+($H$32*X32)+($H$33*X33)+($H$34*X34)+($H$35*X35)+($H$36*X36)+($H$37*X37)+($H$38*X38)+($H$39*X39)+($H$40*X40)+($H$41*X41)+($H$42*X42)+($H$43*X43)+($H$44*X44)+($H$45*X45)+($H$46*X46)+($H$47*X47)+($H$48*X48)+($H$49*X49) -> 0 | AB53: =($H$19*AB19)+($H$20*AB20)+($H$21*AB21)+($H$22*AB22)+($H$23*AB23)+($H$24*AB24)+($H$25*AB25)+($H$26*AB26)+($H$27*AB27)+($H$28*AB28)+($H$29*AB29)+($H$30*AB30)+($H$31*AB31)+($H$32*AB32)+($H$33*AB33)+($H$34*AB34)+($H$35*AB35)+($H$36*AB36)+($H$37*AB37)+($H$38*AB38)+($H$39*AB39)+($H$40*AB40)+($H$41*AB41)+($H$42*AB42)+($H$43*AB43)+($H$44*AB44)+($H$45*AB45)+($H$46*AB46)+($H$47*AB47)+($H$48*AB48)+($H$49*AB49) -> 0 | AF53: =($H$19*AF19)+($H$20*AF20)+($H$21*AF21)+($H$22*AF22)+($H$23*AF23)+($H$24*AF24)+($H$25*AF25)+($H$26*AF26)+($H$27*AF27)+($H$28*AF28)+($H$29*AF29)+($H$30*AF30)+($H$31*AF31)+($H$32*AF32)+($H$33*AF33)+($H$34*AF34)+($H$35*AF35)+($H$36*AF36)+($H$37*AF37)+($H$38*AF38)+($H$39*AF39)+($H$40*AF40)+($H$41*AF41)+($H$42*AF42)+($H$43*AF43)+($H$44*AF44)+($H$45*AF45)+($H$46*AF46)+($H$47*AF47)+($H$48*AF48)+($H$49*AF49) -> 0
A56: NAME | B56: EMPLOYEE ID NUMBER | C56: Job Family Ledger | D56: TITLE | E56: FULL TIME RATE MONTHLY | F56: BASE SALARY (AT 100% FTE) | G56: BEN % | H56: FTE ON CENTER | I56: TOTAL SALARY | J56: TOTAL BENEFITS | K56: TOTAL SAL & BEN ON CTR | L56: Center Overhead Yr. 1 | P56: Rate 1 Yr. 1 | T56: Rate 2 Yr. 1 | X56: Rate 3 Yr. 1 | AB56: Rate 4 Yr. 1 | AF56: Rate 5 Yr. 1 | AK56: Percent Check | AL56: Dollar Check | AM56: Difference between allocated dollar and total dollar
L57: =IF(Usage!$B$8=0, "", Usage!$B$8) -> Center Overhead | P57: =IF(Usage!$B$9=0, "", Usage!$B$9) | T57: =IF(Usage!$B$10=0, "", Usage!$B$10) | X57: =IF(Usage!$B$11=0, "", Usage!$B$11) | AB57: =IF(Usage!$B$12=0, "", Usage!$B$12) | AF57: =IF(Usage!$B$13=0, "", Usage!$B$13) | AK57: (should add up to 100%)
A58: Salaries of Graduate Students, Students, and Hourly Employees | L58: FTE % | M58: Amount | N58: Sal | O58: Ben | P58: FTE % | Q58: Amount | R58: Sal | S58: Ben | T58: FTE % | U58: Amount | V58: Sal | W58: Ben | X58: FTE % | Y58: Amount | Z58: Sal | AA58: Ben | AB58: FTE % | AC58: Amount | AD58: Sal | AE58: Ben | AF58: FTE % | AG58: Amount | AH58: Sal | AI58: Ben
F59: =E59*(IF(C59="",0,IF(C59="50000",$K$4,IF(C59="50010",$K$5,IF(C59="50020",$K$6,IF(C59="50030",$K$7,IF(C59="50040",$K$8,IF(C59="50050",$K$9,IF(C59="50060",$K$10,IF(C59="50100",$K$11,IF(C59="50110",$K$12)))))))))))+(IF(C59="",0,IF(C59="50000",E59*(1+$F$4),IF(C59="50010",E59*(1+$F$5),IF(C59="50020",E59*(1+$F$6),IF(C59="50030",E59*(1+$F$7),IF(C59="50040",E59*(1+$F$8),IF(C59="50050",E59*(1+$F$9),IF(C59="50060",E59*(1+$F$10),IF(C59="50100",E59*(1+$F$11),IF(C59="50110",E59*(1+$F$12))))))))))))*IF(C59="",0,IF(C59="50000",$L$4,IF(C59="50010",$L$5,IF(C59="50020",$L$6,IF(C59="50030",$L$7,IF(C59="50040",$L$8,IF(C59="50050",$L$9,IF(C59="50060",$L$10,IF(C59="50100",$L$11,IF(C59="50110",$L$12)))))))))) -> 0 | G59: =IF(C59="",0,IF(C59="50000",$G$4,IF(C59="50010",$G$5,IF(C59="50020",$G$6,IF(C59="50030",$G$7,IF(C59="50040",$G$8,IF(C59="50050",$G$9,IF(C59="50060",$G$10,IF(C59="50100",$G$11,IF(C59="50110",$G$12)))))))))) -> 0 | I59: =F59*H59 -> 0 | J59: =F59*G59*H59 -> 0 | K59: =F59*(1+G59)*H59 -> 0 | M59: =$K59*L59 -> 0 | N59: =$I59*L59 -> 0 | O59: =$J59*L59 -> 0 | Q59: =$K59*P59 -> 0 | R59: =$I59*P59 -> 0 | S59: =$J59*P59 -> 0 | U59: =$K59*T59 -> 0 | V59: =$I59*T59 -> 0 | W59: =$J59*T59 -> 0 | Y59: =$K59*X59 -> 0 | Z59: =$I59*X59 -> 0 | AA59: =$J59*X59 -> 0 | AC59: =$K59*AB59 -> 0 | AD59: =$I59*AB59 -> 0 | AE59: =$J59*AB59 -> 0 | AG59: =$K59*AF59 -> 0 | AH59: =$I59*AF59 -> 0 | AI59: =$J59*AF59 -> 0 | AK59: =L59+P59+T59+X59+AB59+AF59 -> 0 | AL59: =M59+Q59+U59+Y59+AC59+AG59 -> 0 | AM59: =AL59-K59 -> 0
F60: =E60*(IF(C60="",0,IF(C60="50000",$K$4,IF(C60="50010",$K$5,IF(C60="50020",$K$6,IF(C60="50030",$K$7,IF(C60="50040",$K$8,IF(C60="50050",$K$9,IF(C60="50060",$K$10,IF(C60="50100",$K$11,IF(C60="50110",$K$12)))))))))))+(IF(C60="",0,IF(C60="50000",E60*(1+$F$4),IF(C60="50010",E60*(1+$F$5),IF(C60="50020",E60*(1+$F$6),IF(C60="50030",E60*(1+$F$7),IF(C60="50040",E60*(1+$F$8),IF(C60="50050",E60*(1+$F$9),IF(C60="50060",E60*(1+$F$10),IF(C60="50100",E60*(1+$F$11),IF(C60="50110",E60*(1+$F$12))))))))))))*IF(C60="",0,IF(C60="50000",$L$4,IF(C60="50010",$L$5,IF(C60="50020",$L$6,IF(C60="50030",$L$7,IF(C60="50040",$L$8,IF(C60="50050",$L$9,IF(C60="50060",$L$10,IF(C60="50100",$L$11,IF(C60="50110",$L$12)))))))))) -> 0 | G60: =IF(C60="",0,IF(C60="50000",$G$4,IF(C60="50010",$G$5,IF(C60="50020",$G$6,IF(C60="50030",$G$7,IF(C60="50040",$G$8,IF(C60="50050",$G$9,IF(C60="50060",$G$10,IF(C60="50100",$G$11,IF(C60="50110",$G$12)))))))))) -> 0 | I60: =F60*H60 -> 0 | J60: =F60*G60*H60 -> 0 | K60: =F60*(1+G60)*H60 -> 0 | M60: =$K60*L60 -> 0 | N60: =$I60*L60 -> 0 | O60: =$J60*L60 -> 0 | Q60: =$K60*P60 -> 0 | R60: =$I60*P60 -> 0 | S60: =$J60*P60 -> 0 | U60: =$K60*T60 -> 0 | V60: =$I60*T60 -> 0 | W60: =$J60*T60 -> 0 | Y60: =$K60*X60 -> 0 | Z60: =$I60*X60 -> 0 | AA60: =$J60*X60 -> 0 | AC60: =$K60*AB60 -> 0 | AD60: =$I60*AB60 -> 0 | AE60: =$J60*AB60 -> 0 | AG60: =$K60*AF60 -> 0 | AH60: =$I60*AF60 -> 0 | AI60: =$J60*AF60 -> 0 | AK60: =L60+P60+T60+X60+AB60+AF60 -> 0 | AL60: =M60+Q60+U60+Y60+AC60+AG60 -> 0 | AM60: =AL60-K60 -> 0
F61: =E61*(IF(C61="",0,IF(C61="50000",$K$4,IF(C61="50010",$K$5,IF(C61="50020",$K$6,IF(C61="50030",$K$7,IF(C61="50040",$K$8,IF(C61="50050",$K$9,IF(C61="50060",$K$10,IF(C61="50100",$K$11,IF(C61="50110",$K$12)))))))))))+(IF(C61="",0,IF(C61="50000",E61*(1+$F$4),IF(C61="50010",E61*(1+$F$5),IF(C61="50020",E61*(1+$F$6),IF(C61="50030",E61*(1+$F$7),IF(C61="50040",E61*(1+$F$8),IF(C61="50050",E61*(1+$F$9),IF(C61="50060",E61*(1+$F$10),IF(C61="50100",E61*(1+$F$11),IF(C61="50110",E61*(1+$F$12))))))))))))*IF(C61="",0,IF(C61="50000",$L$4,IF(C61="50010",$L$5,IF(C61="50020",$L$6,IF(C61="50030",$L$7,IF(C61="50040",$L$8,IF(C61="50050",$L$9,IF(C61="50060",$L$10,IF(C61="50100",$L$11,IF(C61="50110",$L$12)))))))))) -> 0 | G61: =IF(C61="",0,IF(C61="50000",$G$4,IF(C61="50010",$G$5,IF(C61="50020",$G$6,IF(C61="50030",$G$7,IF(C61="50040",$G$8,IF(C61="50050",$G$9,IF(C61="50060",$G$10,IF(C61="50100",$G$11,IF(C61="50110",$G$12)))))))))) -> 0 | I61: =F61*H61 -> 0 | J61: =F61*G61*H61 -> 0 | K61: =F61*(1+G61)*H61 -> 0 | M61: =$K61*L61 -> 0 | N61: =$I61*L61 -> 0 | O61: =$J61*L61 -> 0 | Q61: =$K61*P61 -> 0 | R61: =$I61*P61 -> 0 | S61: =$J61*P61 -> 0 | U61: =$K61*T61 -> 0 | V61: =$I61*T61 -> 0 | W61: =$J61*T61 -> 0 | Y61: =$K61*X61 -> 0 | Z61: =$I61*X61 -> 0 | AA61: =$J61*X61 -> 0 | AC61: =$K61*AB61 -> 0 | AD61: =$I61*AB61 -> 0 | AE61: =$J61*AB61 -> 0 | AG61: =$K61*AF61 -> 0 | AH61: =$I61*AF61 -> 0 | AI61: =$J61*AF61 -> 0 | AK61: =L61+P61+T61+X61+AB61+AF61 -> 0 | AL61: =M61+Q61+U61+Y61+AC61+AG61 -> 0 | AM61: =AL61-K61 -> 0
F62: =E62*(IF(C62="",0,IF(C62="50000",$K$4,IF(C62="50010",$K$5,IF(C62="50020",$K$6,IF(C62="50030",$K$7,IF(C62="50040",$K$8,IF(C62="50050",$K$9,IF(C62="50060",$K$10,IF(C62="50100",$K$11,IF(C62="50110",$K$12)))))))))))+(IF(C62="",0,IF(C62="50000",E62*(1+$F$4),IF(C62="50010",E62*(1+$F$5),IF(C62="50020",E62*(1+$F$6),IF(C62="50030",E62*(1+$F$7),IF(C62="50040",E62*(1+$F$8),IF(C62="50050",E62*(1+$F$9),IF(C62="50060",E62*(1+$F$10),IF(C62="50100",E62*(1+$F$11),IF(C62="50110",E62*(1+$F$12))))))))))))*IF(C62="",0,IF(C62="50000",$L$4,IF(C62="50010",$L$5,IF(C62="50020",$L$6,IF(C62="50030",$L$7,IF(C62="50040",$L$8,IF(C62="50050",$L$9,IF(C62="50060",$L$10,IF(C62="50100",$L$11,IF(C62="50110",$L$12)))))))))) -> 0 | G62: =IF(C62="",0,IF(C62="50000",$G$4,IF(C62="50010",$G$5,IF(C62="50020",$G$6,IF(C62="50030",$G$7,IF(C62="50040",$G$8,IF(C62="50050",$G$9,IF(C62="50060",$G$10,IF(C62="50100",$G$11,IF(C62="50110",$G$12)))))))))) -> 0 | I62: =F62*H62 -> 0 | J62: =F62*G62*H62 -> 0 | K62: =F62*(1+G62)*H62 -> 0 | M62: =$K62*L62 -> 0 | N62: =$I62*L62 -> 0 | O62: =$J62*L62 -> 0 | Q62: =$K62*P62 -> 0 | R62: =$I62*P62 -> 0 | S62: =$J62*P62 -> 0 | U62: =$K62*T62 -> 0 | V62: =$I62*T62 -> 0 | W62: =$J62*T62 -> 0 | Y62: =$K62*X62 -> 0 | Z62: =$I62*X62 -> 0 | AA62: =$J62*X62 -> 0 | AC62: =$K62*AB62 -> 0 | AD62: =$I62*AB62 -> 0 | AE62: =$J62*AB62 -> 0 | AG62: =$K62*AF62 -> 0 | AH62: =$I62*AF62 -> 0 | AI62: =$J62*AF62 -> 0 | AK62: =L62+P62+T62+X62+AB62+AF62 -> 0 | AL62: =M62+Q62+U62+Y62+AC62+AG62 -> 0 | AM62: =AL62-K62 -> 0
F63: =E63*(IF(C63="",0,IF(C63="50000",$K$4,IF(C63="50010",$K$5,IF(C63="50020",$K$6,IF(C63="50030",$K$7,IF(C63="50040",$K$8,IF(C63="50050",$K$9,IF(C63="50060",$K$10,IF(C63="50100",$K$11,IF(C63="50110",$K$12)))))))))))+(IF(C63="",0,IF(C63="50000",E63*(1+$F$4),IF(C63="50010",E63*(1+$F$5),IF(C63="50020",E63*(1+$F$6),IF(C63="50030",E63*(1+$F$7),IF(C63="50040",E63*(1+$F$8),IF(C63="50050",E63*(1+$F$9),IF(C63="50060",E63*(1+$F$10),IF(C63="50100",E63*(1+$F$11),IF(C63="50110",E63*(1+$F$12))))))))))))*IF(C63="",0,IF(C63="50000",$L$4,IF(C63="50010",$L$5,IF(C63="50020",$L$6,IF(C63="50030",$L$7,IF(C63="50040",$L$8,IF(C63="50050",$L$9,IF(C63="50060",$L$10,IF(C63="50100",$L$11,IF(C63="50110",$L$12)))))))))) -> 0 | G63: =IF(C63="",0,IF(C63="50000",$G$4,IF(C63="50010",$G$5,IF(C63="50020",$G$6,IF(C63="50030",$G$7,IF(C63="50040",$G$8,IF(C63="50050",$G$9,IF(C63="50060",$G$10,IF(C63="50100",$G$11,IF(C63="50110",$G$12)))))))))) -> 0 | I63: =F63*H63 -> 0 | J63: =F63*G63*H63 -> 0 | K63: =F63*(1+G63)*H63 -> 0 | M63: =$K63*L63 -> 0 | N63: =$I63*L63 -> 0 | O63: =$J63*L63 -> 0 | Q63: =$K63*P63 -> 0 | R63: =$I63*P63 -> 0 | S63: =$J63*P63 -> 0 | U63: =$K63*T63 -> 0 | V63: =$I63*T63 -> 0 | W63: =$J63*T63 -> 0 | Y63: =$K63*X63 -> 0 | Z63: =$I63*X63 -> 0 | AA63: =$J63*X63 -> 0 | AC63: =$K63*AB63 -> 0 | AD63: =$I63*AB63 -> 0 | AE63: =$J63*AB63 -> 0 | AG63: =$K63*AF63 -> 0 | AH63: =$I63*AF63 -> 0 | AI63: =$J63*AF63 -> 0 | AK63: =L63+P63+T63+X63+AB63+AF63 -> 0 | AL63: =M63+Q63+U63+Y63+AC63+AG63 -> 0 | AM63: =AL63-K63 -> 0
F64: =E64*(IF(C64="",0,IF(C64="50000",$K$4,IF(C64="50010",$K$5,IF(C64="50020",$K$6,IF(C64="50030",$K$7,IF(C64="50040",$K$8,IF(C64="50050",$K$9,IF(C64="50060",$K$10,IF(C64="50100",$K$11,IF(C64="50110",$K$12)))))))))))+(IF(C64="",0,IF(C64="50000",E64*(1+$F$4),IF(C64="50010",E64*(1+$F$5),IF(C64="50020",E64*(1+$F$6),IF(C64="50030",E64*(1+$F$7),IF(C64="50040",E64*(1+$F$8),IF(C64="50050",E64*(1+$F$9),IF(C64="50060",E64*(1+$F$10),IF(C64="50100",E64*(1+$F$11),IF(C64="50110",E64*(1+$F$12))))))))))))*IF(C64="",0,IF(C64="50000",$L$4,IF(C64="50010",$L$5,IF(C64="50020",$L$6,IF(C64="50030",$L$7,IF(C64="50040",$L$8,IF(C64="50050",$L$9,IF(C64="50060",$L$10,IF(C64="50100",$L$11,IF(C64="50110",$L$12)))))))))) -> 0 | G64: =IF(C64="",0,IF(C64="50000",$G$4,IF(C64="50010",$G$5,IF(C64="50020",$G$6,IF(C64="50030",$G$7,IF(C64="50040",$G$8,IF(C64="50050",$G$9,IF(C64="50060",$G$10,IF(C64="50100",$G$11,IF(C64="50110",$G$12)))))))))) -> 0 | I64: =F64*H64 -> 0 | J64: =F64*G64*H64 -> 0 | K64: =F64*(1+G64)*H64 -> 0 | M64: =$K64*L64 -> 0 | N64: =$I64*L64 -> 0 | O64: =$J64*L64 -> 0 | Q64: =$K64*P64 -> 0 | R64: =$I64*P64 -> 0 | S64: =$J64*P64 -> 0 | U64: =$K64*T64 -> 0 | V64: =$I64*T64 -> 0 | W64: =$J64*T64 -> 0 | Y64: =$K64*X64 -> 0 | Z64: =$I64*X64 -> 0 | AA64: =$J64*X64 -> 0 | AC64: =$K64*AB64 -> 0 | AD64: =$I64*AB64 -> 0 | AE64: =$J64*AB64 -> 0 | AG64: =$K64*AF64 -> 0 | AH64: =$I64*AF64 -> 0 | AI64: =$J64*AF64 -> 0 | AK64: =L64+P64+T64+X64+AB64+AF64 -> 0 | AL64: =M64+Q64+U64+Y64+AC64+AG64 -> 0 | AM64: =AL64-K64 -> 0
...

Sheet Salary Cap Worksheet
A1: Salary Cap Summary
A13: Link
A15: Directions: Identify salaries in rate over current cap
B16: Employee 1 | C16: Employee 2 | D16: Employee 3
A17: Annual Salary | B17: 250000
A18: Current Salary Cap | B18: 228000 | C18: 228000 | D18: 22800
A19: FTE on Center Rate | B19: 0.1
A20: Allowable Annual Salary on Rate Proposal | B20: =B18*B19 -> 22800 | C20: =C18*C19 -> 0 | D20: =D18*D19 -> 0
A21: Allowable Monthly Salary on Rate Proposal | B21: =B20/12 -> 1900 | C21: =C20/12 -> 0 | D21: =D20/12 -> 0

Sheet Depreciation
A1: Year 1 Depreciation | N1: Year 1 Allocation Schedule
A2: Purpose: Calculate depreciation for equipment that costs more than $5,000 per individual item. | N2: Purpose: Allocate depreciation to the different rates
N3: Center Overhead Yr. 1 | P3: Rate 1 Yr. 1 | R3: Rate 2 Yr. 1 | T3: Rate 3 Yr. 1 | V3: Rate 4 Yr. 1 | X3: Rate 5 Yr. 1 | AA3: Percent Check | AB3: Dollar Check | AC3: Difference between allocated dollar and total dollar
A4: =IF('General Information'!B9=0, "Please Enter Start Date On General Information Sheet", "Year 1: "&TEXT('General Information'!B9,"mm/dd/yy")&" to "&TEXT('General Information'!B10, "mm/dd/yy")) -> Please Enter Start Date On General Information Sheet | N4: =IF(Usage!$B$8=0, "", Usage!$B$8) -> Center Overhead | P4: =IF(Usage!$B$9=0, "", Usage!$B$9) | R4: =IF(Usage!$B$10=0, "", Usage!$B$10) | T4: =IF(Usage!$B$11=0, "", Usage!$B$11) | V4: =IF(Usage!$B$12=0, "", Usage!$B$12) | X4: =IF(Usage!$B$13=0, "", Usage!$B$13) | AA4: (should add up to 100%)
A5: Desc./Type of Equipment | B5: UW Tag No. | C5: Cost Center | D5: Status | E5: Title | F5: Date Received (Acquisition Date (UW)) | G5: Depr. Start Date | H5: Depr. End Date | I5: Acquisition Cost | J5: Amount Not Recoverable | K5: Total Recoverable Acquisition Cost | L5: Useful Life (years) | M5: Depr. In Proposal | N5: % | O5: Amount | P5: % | Q5: Amount | R5: % | S5: Amount | T5: % | U5: Amount | V5: % | W5: Amount | X5: % | Y5: Amount
K6: =I6-J6 -> 0 | M6: =IF(L6<>0,K6/L6,0) -> 0 | O6: =$M6*N6 -> 0 | Q6: =$M6*P6 -> 0 | S6: =$M6*R6 -> 0 | U6: =$M6*T6 -> 0 | W6: =$M6*V6 -> 0 | Y6: =$M6*X6 -> 0 | AA6: =N6+P6+R6+T6+V6+X6 -> 0 | AB6: =O6+Q6+S6+U6+W6+Y6 -> 0 | AC6: =AB6-M6 -> 0
K7: =I7-J7 -> 0 | M7: =IF(L7<>0,K7/L7,0) -> 0 | O7: =$M7*N7 -> 0 | Q7: =$M7*P7 -> 0 | S7: =$M7*R7 -> 0 | U7: =$M7*T7 -> 0 | W7: =$M7*V7 -> 0 | Y7: =$M7*X7 -> 0 | AA7: =N7+P7+R7+T7+V7+X7 -> 0 | AB7: =O7+Q7+S7+U7+W7+Y7 -> 0 | AC7: =AB7-M7 -> 0
K8: =I8-J8 -> 0 | M8: =IF(L8<>0,K8/L8,0) -> 0 | O8: =$M8*N8 -> 0 | Q8: =$M8*P8 -> 0 | S8: =$M8*R8 -> 0 | U8: =$M8*T8 -> 0 | W8: =$M8*V8 -> 0 | Y8: =$M8*X8 -> 0 | AA8: =N8+P8+R8+T8+V8+X8 -> 0 | AB8: =O8+Q8+S8+U8+W8+Y8 -> 0 | AC8: =AB8-M8 -> 0
K9: =I9-J9 -> 0 | M9: =IF(L9<>0,K9/L9,0) -> 0 | O9: =$M9*N9 -> 0 | Q9: =$M9*P9 -> 0 | S9: =$M9*R9 -> 0 | U9: =$M9*T9 -> 0 | W9: =$M9*V9 -> 0 | Y9: =$M9*X9 -> 0 | AA9: =N9+P9+R9+T9+V9+X9 -> 0 | AB9: =O9+Q9+S9+U9+W9+Y9 -> 0 | AC9: =AB9-M9 -> 0
K10: =I10-J10 -> 0 | M10: =IF(L10<>0,K10/L10,0) -> 0 | O10: =$M10*N10 -> 0 | Q10: =$M10*P10 -> 0 | S10: =$M10*R10 -> 0 | U10: =$M10*T10 -> 0 | W10: =$M10*V10 -> 0 | Y10: =$M10*X10 -> 0 | AA10: =N10+P10+R10+T10+V10+X10 -> 0 | AB10: =O10+Q10+S10+U10+W10+Y10 -> 0 | AC10: =AB10-M10 -> 0
K11: =I11-J11 -> 0 | M11: =IF(L11<>0,K11/L11,0) -> 0 | O11: =$M11*N11 -> 0 | Q11: =$M11*P11 -> 0 | S11: =$M11*R11 -> 0 | U11: =$M11*T11 -> 0 | W11: =$M11*V11 -> 0 | Y11: =$M11*X11 -> 0 | AA11: =N11+P11+R11+T11+V11+X11 -> 0 | AB11: =O11+Q11+S11+U11+W11+Y11 -> 0 | AC11: =AB11-M11 -> 0
K12: =I12-J12 -> 0 | M12: =IF(L12<>0,K12/L12,0) -> 0 | O12: =$M12*N12 -> 0 | Q12: =$M12*P12 -> 0 | S12: =$M12*R12 -> 0 | U12: =$M12*T12 -> 0 | W12: =$M12*V12 -> 0 | Y12: =$M12*X12 -> 0 | AA12: =N12+P12+R12+T12+V12+X12 -> 0 | AB12: =O12+Q12+S12+U12+W12+Y12 -> 0 | AC12: =AB12-M12 -> 0
K13: =I13-J13 -> 0 | M13: =IF(L13<>0,K13/L13,0) -> 0 | O13: =$M13*N13 -> 0 | Q13: =$M13*P13 -> 0 | S13: =$M13*R13 -> 0 | U13: =$M13*T13 -> 0 | W13: =$M13*V13 -> 0 | Y13: =$M13*X13 -> 0 | AA13: =N13+P13+R13+T13+V13+X13 -> 0 | AB13: =O13+Q13+S13+U13+W13+Y13 -> 0 | AC13: =AB13-M13 -> 0
K14: =I14-J14 -> 0 | M14: =IF(L14<>0,K14/L14,0) -> 0 | O14: =$M14*N14 -> 0 | Q14: =$M14*P14 -> 0 | S14: =$M14*R14 -> 0 | U14: =$M14*T14 -> 0 | W14: =$M14*V14 -> 0 | Y14: =$M14*X14 -> 0 | AA14: =N14+P14+R14+T14+V14+X14 -> 0 | AB14: =O14+Q14+S14+U14+W14+Y14 -> 0 | AC14: =AB14-M14 -> 0
K15: =I15-J15 -> 0 | M15: =IF(L15<>0,K15/L15,0) -> 0 | O15: =$M15*N15 -> 0 | Q15: =$M15*P15 -> 0 | S15: =$M15*R15 -> 0 | U15: =$M15*T15 -> 0 | W15: =$M15*V15 -> 0 | Y15: =$M15*X15 -> 0 | AA15: =N15+P15+R15+T15+V15+X15 -> 0 | AB15: =O15+Q15+S15+U15+W15+Y15 -> 0 | AC15: =AB15-M15 -> 0
K16: =I16-J16 -> 0 | M16: =IF(L16<>0,K16/L16,0) -> 0 | O16: =$M16*N16 -> 0 | Q16: =$M16*P16 -> 0 | S16: =$M16*R16 -> 0 | U16: =$M16*T16 -> 0 | W16: =$M16*V16 -> 0 | Y16: =$M16*X16 -> 0 | AA16: =N16+P16+R16+T16+V16+X16 -> 0 | AB16: =O16+Q16+S16+U16+W16+Y16 -> 0 | AC16: =AB16-M16 -> 0
K17: =I17-J17 -> 0 | M17: =IF(L17<>0,K17/L17,0) -> 0 | O17: =$M17*N17 -> 0 | Q17: =$M17*P17 -> 0 | S17: =$M17*R17 -> 0 | U17: =$M17*T17 -> 0 | W17: =$M17*V17 -> 0 | Y17: =$M17*X17 -> 0 | AA17: =N17+P17+R17+T17+V17+X17 -> 0 | AB17: =O17+Q17+S17+U17+W17+Y17 -> 0 | AC17: =AB17-M17 -> 0
... K41: =I41-J41 -> 0 | M41: =IF(L41<>0,K41/L41,0) -> 0 | O41: =$M41*N41 -> 0 | Q41: =$M41*P41 -> 0 | S41: =$M41*R41 -> 0 | U41: =$M41*T41 -> 0 | W41: =$M41*V41 -> 0 | Y41: =$M41*X41 -> 0 | AA41: =N41+P41+R41+T41+V41+X41 -> 0 | AB41: =O41+Q41+S41+U41+W41+Y41 -> 0 | AC41: =AB41-M41 -> 0
K42: =I42-J42 -> 0 | L42: 0 | M42: =IF(L42<>0,K42/L42,0) -> 0 | N42: 0 | O42: =$M42*N42 -> 0 | P42: 0 | Q42: =$M42*P42 -> 0 | R42: 0 | S42: =$M42*R42 -> 0 | T42: 0 | U42: =$M42*T42 -> 0 | V42: 0 | W42: =$M42*V42 -> 0 | X42: 0 | Y42: =$M42*X42 -> 0 | AA42: =N42+P42+R42+T42+V42+X42 -> 0 | AB42: =O42+Q42+S42+U42+W42+Y42 -> 0 | AC42: =AB42-M42 -> 0
K43: =I43-J43 -> 0 | L43: 0 | M43: =IF(L43<>0,K43/L43,0) -> 0 | N43: 0 | O43: =$M43*N43 -> 0 | P43: 0 | Q43: =$M43*P43 -> 0 | R43: 0 | S43: =$M43*R43 -> 0 | T43: 0 | U43: =$M43*T43 -> 0 | V43: 0 | W43: =$M43*V43 -> 0 | X43: 0 | Y43: =$M43*X43 -> 0 | AA43: =N43+P43+R43+T43+V43+X43 -> 0 | AB43: =O43+Q43+S43+U43+W43+Y43 -> 0 | AC43: =AB43-M43 -> 0
K44: =I44-J44 -> 0 | L44: 0 | M44: =IF(L44<>0,K44/L44,0) -> 0 | N44: 0 | O44: =$M44*N44 -> 0 | P44: 0 | Q44: =$M44*P44 -> 0 | R44: 0 | S44: =$M44*R44 -> 0 | T44: 0 | U44: =$M44*T44 -> 0 | V44: 0 | W44: =$M44*V44 -> 0 | X44: 0 | Y44: =$M44*X44 -> 0 | AA44: =N44+P44+R44+T44+V44+X44 -> 0 | AB44: =O44+Q44+S44+U44+W44+Y44 -> 0 | AC44: =AB44-M44 -> 0
K45: =I45-J45 -> 0 | L45: 0 | M45: =IF(L45<>0,K45/L45,0) -> 0 | N45: 0 | O45: =$M45*N45 -> 0 | P45: 0 | Q45: =$M45*P45 -> 0 | R45: 0 | S45: =$M45*R45 -> 0 | T45: 0 | U45: =$M45*T45 -> 0 | V45: 0 | W45: =$M45*V45 -> 0 | X45: 0 | Y45: =$M45*X45 -> 0 | AA45: =N45+P45+R45+T45+V45+X45 -> 0 | AB45: =O45+Q45+S45+U45+W45+Y45 -> 0 | AC45: =AB45-M45 -> 0
K46: =I46-J46 -> 0 | L46: 0 | M46: =IF(L46<>0,K46/L46,0) -> 0 | N46: 0 | O46: =$M46*N46 -> 0 | P46: 0 | Q46: =$M46*P46 -> 0 | R46: 0 | S46: =$M46*R46 -> 0 | T46: 0 | U46: =$M46*T46 -> 0 | V46: 0 | W46: =$M46*V46 -> 0 | X46: 0 | Y46: =$M46*X46 -> 0 | AA46: =N46+P46+R46+T46+V46+X46 -> 0 | AB46: =O46+Q46+S46+U46+W46+Y46 -> 0 | AC46: =AB46-M46 -> 0
K47: =I47-J47 -> 0 | L47: 0 | M47: =IF(L47<>0,K47/L47,0) -> 0 | N47: 0 | O47: =$M47*N47 -> 0 | P47: 0 | Q47: =$M47*P47 -> 0 | R47: 0 | S47: =$M47*R47 -> 0 | T47: 0 | U47: =$M47*T47 -> 0 | V47: 0 | W47: =$M47*V47 -> 0 | X47: 0 | Y47: =$M47*X47 -> 0 | AA47: =N47+P47+R47+T47+V47+X47 -> 0 | AB47: =O47+Q47+S47+U47+W47+Y47 -> 0 | AC47: =AB47-M47 -> 0
K48: =I48-J48 -> 0 | L48: 0 | M48: =IF(L48<>0,K48/L48,0) -> 0 | N48: 0 | O48: =$M48*N48 -> 0 | P48: 0 | Q48: =$M48*P48 -> 0 | R48: 0 | S48: =$M48*R48 -> 0 | T48: 0 | U48: =$M48*T48 -> 0 | V48: 0 | W48: =$M48*V48 -> 0 | X48: 0 | Y48: =$M48*X48 -> 0 | AA48: =N48+P48+R48+T48+V48+X48 -> 0 | AB48: =O48+Q48+S48+U48+W48+Y48 -> 0 | AC48: =AB48-M48 -> 0
K49: =I49-J49 -> 0 | L49: 0 | M49: =IF(L49<>0,K49/L49,0) -> 0 | N49: 0 | O49: =$M49*N49 -> 0 | P49: 0 | Q49: =$M49*P49 -> 0 | R49: 0 | S49: =$M49*R49 -> 0 | T49: 0 | U49: =$M49*T49 -> 0 | V49: 0 | W49: =$M49*V49 -> 0 | X49: 0 | Y49: =$M49*X49 -> 0 | AA49: =N49+P49+R49+T49+V49+X49 -> 0 | AB49: =O49+Q49+S49+U49+W49+Y49 -> 0 | AC49: =AB49-M49 -> 0
K50: =I50-J50 -> 0 | L50: 0 | M50: =IF(L50<>0,K50/L50,0) -> 0 | N50: 0 | O50: =$M50*N50 -> 0 | P50: 0 | Q50: =$M50*P50 -> 0 | R50: 0 | S50: =$M50*R50 -> 0 | T50: 0 | U50: =$M50*T50 -> 0 | V50: 0 | W50: =$M50*V50 -> 0 | X50: 0 | Y50: =$M50*X50 -> 0 | AA50: =N50+P50+R50+T50+V50+X50 -> 0 | AB50: =O50+Q50+S50+U50+W50+Y50 -> 0 | AC50: =AB50-M50 -> 0
K51: =I51-J51 -> 0 | L51: 0 | M51: =IF(L51<>0,K51/L51,0) -> 0 | N51: 0 | O51: =$M51*N51 -> 0 | P51: 0 | Q51: =$M51*P51 -> 0 | R51: 0 | S51: =$M51*R51 -> 0 | T51: 0 | U51: =$M51*T51 -> 0 | V51: 0 | W51: =$M51*V51 -> 0 | X51: 0 | Y51: =$M51*X51 -> 0 | AA51: =N51+P51+R51+T51+V51+X51 -> 0 | AB51: =O51+Q51+S51+U51+W51+Y51 -> 0 | AC51: =AB51-M51 -> 0
K52: =I52-J52 -> 0 | L52: 0 | M52: =IF(L52<>0,K52/L52,0) -> 0 | N52: 0 | O52: =$M52*N52 -> 0 | P52: 0 | Q52: =$M52*P52 -> 0 | R52: 0 | S52: =$M52*R52 -> 0 | T52: 0 | U52: =$M52*T52 -> 0 | V52: 0 | W52: =$M52*V52 -> 0 | X52: 0 | Y52: =$M52*X52 -> 0 | AA52: =N52+P52+R52+T52+V52+X52 -> 0 | AB52: =O52+Q52+S52+U52+W52+Y52 -> 0 | AC52: =AB52-M52 -> 0
K53: =I53-J53 -> 0 | L53: 0 | M53: =IF(L53<>0,K53/L53,0) -> 0 | N53: 0 | O53: =$M53*N53 -> 0 | P53: 0 | Q53: =$M53*P53 -> 0 | R53: 0 | S53: =$M53*R53 -> 0 | T53: 0 | U53: =$M53*T53 -> 0 | V53: 0 | W53: =$M53*V53 -> 0 | X53: 0 | Y53: =$M53*X53 -> 0 | AA53: =N53+P53+R53+T53+V53+X53 -> 0 | AB53: =O53+Q53+S53+U53+W53+Y53 -> 0 | AC53: =AB53-M53 -> 0
... K55: =I55-J55 -> 0 | L55: 0 | M55: =IF(L55<>0,K55/L55,0) -> 0 | N55: 0 | O55: =$M55*N55 -> 0 | P55: 0 | Q55: =$M55*P55 -> 0 | R55: 0 | S55: =$M55*R55 -> 0 | T55: 0 | U55: =$M55*T55 -> 0 | V55: 0 | W55: =$M55*V55 -> 0 | X55: 0 | Y55: =$M55*X55 -> 0 | AA55: =N55+P55+R55+T55+V55+X55 -> 0 | AB55: =O55+Q55+S55+U55+W55+Y55 -> 0 | AC55: =AB55-M55 -> 0
A57: Year 1 Totals | I57: =SUM(I6:I55) -> 0 | M57: =SUM(M6:M55) -> 0 | O57: =SUM(O6:O55) -> 0 | Q57: =SUM(Q6:Q55) -> 0 | S57: =SUM(S6:S55) -> 0 | U57: =SUM(U6:U55) -> 0 | W57: =SUM(W6:W55) -> 0 | Y57: =SUM(Y6:Y55) -> 0 | AB57: =O57+Q57+S57+U57+W57+Y57 -> 0 | AC57: =AB57-M57 -> 0
M58: 9
A59: Year 2 Depreciation | N59: Year 2 Allocation Schedule
N61: Center Overhead Yr. 2 | P61: Rate 1 Yr. 2 | R61: Rate 2 Yr. 2 | T61: Rate 3 Yr. 2 | V61: Rate 4 Yr. 2 | X61: Rate 5 Yr. 2 | AA61: Percent Check | AB61: Dollar Check | AC61: Difference between allocated dollar and total dollar
A62: =IF('General Information'!B10=0, "Please Enter End Date On General Information Sheet", "Year 2: "&TEXT('General Information'!B11,"mm/dd/yy")&" to "&TEXT('General Information'!B12, "mm/dd/yy")) -> Please Enter End Date On General Information Sheet | N62: =IF(Usage!$B$8=0, "", Usage!$B$8) -> Center Overhead | P62: =IF(Usage!$B$9=0, "", Usage!$B$9) | R62: =IF(Usage!$B$10=0, "", Usage!$B$10) | T62: =IF(Usage!$B$11=0, "", Usage!$B$11) | V62: =IF(Usage!$B$12=0, "", Usage!$B$12) | X62: =IF(Usage!$B$13=0, "", Usage!$B$13) | AA62: (should add up to 100%)
A63: Desc./Type of Equipment | B63: UW Tag No. | C63: Cost Center | D63: Status | E63: Title | F63: Date Received (Acquisition Date (UW)) | G63: Depr. Start Date | H63: Depr. End Date | I63: Acquisition Cost | J63: Amount Not Recoverable | K63: Total Recoverable Acquisition Cost | L63: Useful Life (years) | M63: Depr. In Proposal | N63: % | O63: Amount | P63: % | Q63: Amount | R63: % | S63: Amount | T63: % | U63: Amount | V63: % | W63: Amount | X63: % | Y63: Amount
A64: =IF(A6=0, "", A6) | B64: =IF(B6=0, "", B6) | C64: =IF(C6=0, "", C6) | D64: =IF(D6=0, "", D6) | E64: =IF(E6=0, "", E6) | F64: =IF(F6=0, "", F6) | G64: =IF(G6=0, "",G6) | H64: =IF(H6=0, "",H6) | I64: =I6 -> 0 | J64: =J6 -> 0 | K64: =I64-J64 -> 0 | L64: =L6 -> 0 | M64: =IF(L64<>0,K64/L64,0) -> 0 | N64: =N6 -> 0 | O64: =$M64*N64 -> 0 | P64: =P6 -> 0 | Q64: =$M64*P64 -> 0 | R64: =R6 -> 0 | S64: =$M64*R64 -> 0 | T64: =T6 -> 0 | U64: =$M64*T64 -> 0 | V64: =V6 -> 0 | W64: =$M64*V64 -> 0 | X64: =X6 -> 0 | Y64: =$M64*X64 -> 0 | AA64: =N64+P64+R64+T64+V64+X64 -> 0 | AB64: =O64+Q64+S64+U64+W64+Y64 -> 0 | AC64: =AB64-M64 -> 0
A65: =IF(A7=0, "", A7) | B65: =IF(B7=0, "", B7) | C65: =IF(C7=0, "", C7) | D65: =IF(D7=0, "", D7) | E65: =IF(E7=0, "", E7) | F65: =IF(F7=0, "", F7) | G65: =IF(G7=0, "",G7) | H65: =IF(H7=0, "",H7) | I65: =I7 -> 0 | J65: =J7 -> 0 | K65: =I65-J65 -> 0 | L65: =L7 -> 0 | M65: =IF(L65<>0,K65/L65,0) -> 0 | N65: =N7 -> 0 | O65: =$M65*N65 -> 0 | P65: =P7 -> 0 | Q65: =$M65*P65 -> 0 | R65: =R7 -> 0 | S65: =$M65*R65 -> 0 | T65: =T7 -> 0 | U65: =$M65*T65 -> 0 | V65: =V7 -> 0 | W65: =$M65*V65 -> 0 | X65: =X7 -> 0 | Y65: =$M65*X65 -> 0 | AA65: =N65+P65+R65+T65+V65+X65 -> 0 | AB65: =O65+Q65+S65+U65+W65+Y65 -> 0 | AC65: =AB65-M65 -> 0
A66: =IF(A8=0, "", A8) | B66: =IF(B8=0, "", B8) | C66: =IF(C8=0, "", C8) | D66: =IF(D8=0, "", D8) | E66: =IF(E8=0, "", E8) | F66: =IF(F8=0, "", F8) | G66: =IF(G8=0, "",G8) | H66: =IF(H8=0, "",H8) | I66: =I8 -> 0 | J66: =J8 -> 0 | K66: =I66-J66 -> 0 | L66: =L8 -> 0 | M66: =IF(L66<>0,K66/L66,0) -> 0 | N66: =N8 -> 0 | O66: =$M66*N66 -> 0 | P66: =P8 -> 0 | Q66: =$M66*P66 -> 0 | R66: =R8 -> 0 | S66: =$M66*R66 -> 0 | T66: =T8 -> 0 | U66: =$M66*T66 -> 0 | V66: =V8 -> 0 | W66: =$M66*V66 -> 0 | X66: =X8 -> 0 | Y66: =$M66*X66 -> 0 | AA66: =N66+P66+R66+T66+V66+X66 -> 0 | AB66: =O66+Q66+S66+U66+W66+Y66 -> 0 | AC66: =AB66-M66 -> 0
...

Sheet Other Costs
A1: Year 1 Other Non-Salary & Non-Equipment Costs
A2: Purpose: To detail non-salary and non-equipment costs in rates.
